{"text_format":"1","workbook":"xlsx","n_sheets":6,"sheets":["Anleitung","Eingabe","bKV_FONL","bKV_Online","bAV_FONL","AMIS-ALMS"],"not_rendered":{"charts":0,"images":8,"macros":1,"external_links":0,"defined_names":1,"comments":5,"pivot_tables":0},"unopened":[],"bounds":{"document_bytes":16777216,"sheet_cells":100000,"rows_first":2000,"rows_last":500,"rows_between":2000,"halvings":0,"cell_chars":16384,"cell_head_chars":4096},"cells_cut":0,"cells_raw":0,"read":"whole","date_system":"1900"}

{"sheet":"Anleitung","index":0,"n_rows":42,"n_cols":1,"rows_kept":42,"cut":false,"hidden":false,"merged":[]}
[]
[]
[]
[]
[]
[]
[]
[]
[]
[]
[]
[]
[]
[]
[]
[]
[]
[]
[]
[]
[]
[]
[]
[]
[]
[]
[]
[]
[]
[]
[]
[]
[]
[]
[]
[]
[]
[]
[]
[]
[]
["Version 06/23"]

{"sheet":"Eingabe","index":1,"n_rows":7,"n_cols":24,"rows_kept":7,"cut":false,"hidden":false,"merged":[]}
[]
[null,null,null,null,"Pflichtfeld ","Pflichtfeld bKV","Pflichtfeld bAV"]
[]
["Firmenname","Personalnummer","Anrede","Titel","Vorname","Nachname","Geburtsdatum","Strasse","Hausnummer","PLZ","Ort","Land","Tarifierungsgruppennummer/GV-Nummer","Versicherungsart ","Berufsstatus","Versicherungsbeginn","Gruppenvertragsnummer","Firmeneintritt","Versicherungsbeginn","Tarifierungsgruppe Amis","Personengruppennummer FONL","Beitrag","Endalter","Anmerkungen/Kommentare"]
["Allianz Lebensversicherungs AG",1337,"Herr","Dr.","Maxmilian","Musterperson","1988-05-23","Reinsburgstr.",19,70178,"Stuttgart","Deutschland","AK-3456789123006","GKVP","angestellt","2024-01-01","5/123456","2005-01-01","2024-01-01","TG_11","2",50,67]
["Allianz Lebensversicherungs AG",1338,"Frau",null,"Edeltraud","Musterfrau","1999-02-01","Königstr.",113,70174,"Stuttgart","Deutschland",null,null,null,null,"5/123456","2005-01-01","2024-01-01","TG_11","3",50,67]
["Allianz Lebensversicherungs AG",1339,"Herr",null,"Friedbert","Muster","1977-11-11","Silberburgstr.",55,70178,"Stuttgart","Deutschland","AK-3456789123006","GKVP","angestellt","2024-01-01"]

{"sheet":"bKV_FONL","index":2,"n_rows":300,"n_cols":16,"rows_kept":300,"cut":false,"hidden":false,"merged":[[0,0,0,36],[1,0,1,10]]}
["Pflichtfelder sind blau hinterlegt. "]
["Personendaten",null,null,null,null,null,null,null,null,null,null,"Versicherungsdaten"]
["Anrede","Titel","Nachname","Vorname","Geburtsdatum","Personalnummer","Straße","Hausnummer","PLZ","Ort","Land","Tarifierungsgruppennummer","Versicherungsart ","Berufsstatus","Versicherungsbeginn","Agenturmitarbeiternummer (optional)"]
[{"$f":"IF(Eingabe!C5<>\"\",Eingabe!C5,\"\")","v":"Herr"},{"$f":"IF(Eingabe!D5<>\"\",Eingabe!D5,\"\")","v":"Dr."},{"$f":"IF(Eingabe!F5<>\"\",Eingabe!F5,\"\")","v":"Musterperson"},{"$f":"IF(Eingabe!E5<>\"\",Eingabe!E5,\"\")","v":"Maxmilian"},{"$f":"IF(Eingabe!G5<>\"\",Eingabe!G5,\"\")","v":"1988-05-23"},{"$f":"IF(Eingabe!B5<>\"\",Eingabe!B5,\"\")","v":1337},{"$f":"IF(Eingabe!H5<>\"\",Eingabe!H5,\"\")","v":"Reinsburgstr."},{"$f":"IF(Eingabe!I5<>\"\",Eingabe!I5,\"\")","v":19},{"$f":"IF(Eingabe!J5<>\"\",Eingabe!J5,\"\")","v":70178},{"$f":"IF(Eingabe!K5<>\"\",Eingabe!K5,\"\")","v":"Stuttgart"},{"$f":"IF(Eingabe!L5<>\"\",Eingabe!L5,\"\")","v":"Deutschland"},{"$f":"IF(Eingabe!M5<>\"\",Eingabe!M5,\"\")","v":"AK-3456789123006"},{"$f":"IF(Eingabe!N5<>\"\",Eingabe!N5,\"\")","v":"GKVP"},{"$f":"IF(Eingabe!O5<>\"\",Eingabe!O5,\"\")","v":"angestellt"},{"$f":"IF(Eingabe!P5<>\"\",Eingabe!P5,\"\")","v":"2024-01-01"}]
[{"$f":"IF(Eingabe!C6<>\"\",Eingabe!C6,\"\")","v":"Frau"},{"$f":"IF(Eingabe!D6<>\"\",Eingabe!D6,\"\")","v":""},{"$f":"IF(Eingabe!F6<>\"\",Eingabe!F6,\"\")","v":"Musterfrau"},{"$f":"IF(Eingabe!E6<>\"\",Eingabe!E6,\"\")","v":"Edeltraud"},{"$f":"IF(Eingabe!G6<>\"\",Eingabe!G6,\"\")","v":"1999-02-01"},{"$f":"IF(Eingabe!B6<>\"\",Eingabe!B6,\"\")","v":1338},{"$f":"IF(Eingabe!H6<>\"\",Eingabe!H6,\"\")","v":"Königstr."},{"$f":"IF(Eingabe!I6<>\"\",Eingabe!I6,\"\")","v":113},{"$f":"IF(Eingabe!J6<>\"\",Eingabe!J6,\"\")","v":70174},{"$f":"IF(Eingabe!K6<>\"\",Eingabe!K6,\"\")","v":"Stuttgart"},{"$f":"IF(Eingabe!L6<>\"\",Eingabe!L6,\"\")","v":"Deutschland"},{"$f":"IF(Eingabe!M6<>\"\",Eingabe!M6,\"\")","v":""},{"$f":"IF(Eingabe!N6<>\"\",Eingabe!N6,\"\")","v":""},{"$f":"IF(Eingabe!O6<>\"\",Eingabe!O6,\"\")","v":""},{"$f":"IF(Eingabe!P6<>\"\",Eingabe!P6,\"\")","v":""}]
[{"$f":"IF(Eingabe!C7<>\"\",Eingabe!C7,\"\")","v":"Herr"},{"$f":"IF(Eingabe!D7<>\"\",Eingabe!D7,\"\")","v":""},{"$f":"IF(Eingabe!F7<>\"\",Eingabe!F7,\"\")","v":"Muster"},{"$f":"IF(Eingabe!E7<>\"\",Eingabe!E7,\"\")","v":"Friedbert"},{"$f":"IF(Eingabe!G7<>\"\",Eingabe!G7,\"\")","v":"1977-11-11"},{"$f":"IF(Eingabe!B7<>\"\",Eingabe!B7,\"\")","v":1339},{"$f":"IF(Eingabe!H7<>\"\",Eingabe!H7,\"\")","v":"Silberburgstr."},{"$f":"IF(Eingabe!I7<>\"\",Eingabe!I7,\"\")","v":55},{"$f":"IF(Eingabe!J7<>\"\",Eingabe!J7,\"\")","v":70178},{"$f":"IF(Eingabe!K7<>\"\",Eingabe!K7,\"\")","v":"Stuttgart"},{"$f":"IF(Eingabe!L7<>\"\",Eingabe!L7,\"\")","v":"Deutschland"},{"$f":"IF(Eingabe!M7<>\"\",Eingabe!M7,\"\")","v":"AK-3456789123006"},{"$f":"IF(Eingabe!N7<>\"\",Eingabe!N7,\"\")","v":"GKVP"},{"$f":"IF(Eingabe!O7<>\"\",Eingabe!O7,\"\")","v":"angestellt"},{"$f":"IF(Eingabe!P7<>\"\",Eingabe!P7,\"\")","v":"2024-01-01"}]
[{"$f":"IF(Eingabe!C8<>\"\",Eingabe!C8,\"\")","v":""},{"$f":"IF(Eingabe!D8<>\"\",Eingabe!D8,\"\")","v":""},{"$f":"IF(Eingabe!F8<>\"\",Eingabe!F8,\"\")","v":""},{"$f":"IF(Eingabe!E8<>\"\",Eingabe!E8,\"\")","v":""},{"$f":"IF(Eingabe!G8<>\"\",Eingabe!G8,\"\")","v":""},{"$f":"IF(Eingabe!B8<>\"\",Eingabe!B8,\"\")","v":""},{"$f":"IF(Eingabe!H8<>\"\",Eingabe!H8,\"\")","v":""},{"$f":"IF(Eingabe!I8<>\"\",Eingabe!I8,\"\")","v":""},{"$f":"IF(Eingabe!J8<>\"\",Eingabe!J8,\"\")","v":""},{"$f":"IF(Eingabe!K8<>\"\",Eingabe!K8,\"\")","v":""},{"$f":"IF(Eingabe!L8<>\"\",Eingabe!L8,\"\")","v":""},{"$f":"IF(Eingabe!M8<>\"\",Eingabe!M8,\"\")","v":""},{"$f":"IF(Eingabe!N8<>\"\",Eingabe!N8,\"\")","v":""},{"$f":"IF(Eingabe!O8<>\"\",Eingabe!O8,\"\")","v":""},{"$f":"IF(Eingabe!P8<>\"\",Eingabe!P8,\"\")","v":""}]
[{"$f":"IF(Eingabe!C9<>\"\",Eingabe!C9,\"\")","v":""},{"$f":"IF(Eingabe!D9<>\"\",Eingabe!D9,\"\")","v":""},{"$f":"IF(Eingabe!F9<>\"\",Eingabe!F9,\"\")","v":""},{"$f":"IF(Eingabe!E9<>\"\",Eingabe!E9,\"\")","v":""},{"$f":"IF(Eingabe!G9<>\"\",Eingabe!G9,\"\")","v":""},{"$f":"IF(Eingabe!B9<>\"\",Eingabe!B9,\"\")","v":""},{"$f":"IF(Eingabe!H9<>\"\",Eingabe!H9,\"\")","v":""},{"$f":"IF(Eingabe!I9<>\"\",Eingabe!I9,\"\")","v":""},{"$f":"IF(Eingabe!J9<>\"\",Eingabe!J9,\"\")","v":""},{"$f":"IF(Eingabe!K9<>\"\",Eingabe!K9,\"\")","v":""},{"$f":"IF(Eingabe!L9<>\"\",Eingabe!L9,\"\")","v":""},{"$f":"IF(Eingabe!M9<>\"\",Eingabe!M9,\"\")","v":""},{"$f":"IF(Eingabe!N9<>\"\",Eingabe!N9,\"\")","v":""},{"$f":"IF(Eingabe!O9<>\"\",Eingabe!O9,\"\")","v":""},{"$f":"IF(Eingabe!P9<>\"\",Eingabe!P9,\"\")","v":""}]
[{"$f":"IF(Eingabe!C10<>\"\",Eingabe!C10,\"\")","v":""},{"$f":"IF(Eingabe!D10<>\"\",Eingabe!D10,\"\")","v":""},{"$f":"IF(Eingabe!F10<>\"\",Eingabe!F10,\"\")","v":""},{"$f":"IF(Eingabe!E10<>\"\",Eingabe!E10,\"\")","v":""},{"$f":"IF(Eingabe!G10<>\"\",Eingabe!G10,\"\")","v":""},{"$f":"IF(Eingabe!B10<>\"\",Eingabe!B10,\"\")","v":""},{"$f":"IF(Eingabe!H10<>\"\",Eingabe!H10,\"\")","v":""},{"$f":"IF(Eingabe!I10<>\"\",Eingabe!I10,\"\")","v":""},{"$f":"IF(Eingabe!J10<>\"\",Eingabe!J10,\"\")","v":""},{"$f":"IF(Eingabe!K10<>\"\",Eingabe!K10,\"\")","v":""},{"$f":"IF(Eingabe!L10<>\"\",Eingabe!L10,\"\")","v":""},{"$f":"IF(Eingabe!M10<>\"\",Eingabe!M10,\"\")","v":""},{"$f":"IF(Eingabe!N10<>\"\",Eingabe!N10,\"\")","v":""},{"$f":"IF(Eingabe!O10<>\"\",Eingabe!O10,\"\")","v":""},{"$f":"IF(Eingabe!P10<>\"\",Eingabe!P10,\"\")","v":""}]
[{"$f":"IF(Eingabe!C11<>\"\",Eingabe!C11,\"\")","v":""},{"$f":"IF(Eingabe!D11<>\"\",Eingabe!D11,\"\")","v":""},{"$f":"IF(Eingabe!F11<>\"\",Eingabe!F11,\"\")","v":""},{"$f":"IF(Eingabe!E11<>\"\",Eingabe!E11,\"\")","v":""},{"$f":"IF(Eingabe!G11<>\"\",Eingabe!G11,\"\")","v":""},{"$f":"IF(Eingabe!B11<>\"\",Eingabe!B11,\"\")","v":""},{"$f":"IF(Eingabe!H11<>\"\",Eingabe!H11,\"\")","v":""},{"$f":"IF(Eingabe!I11<>\"\",Eingabe!I11,\"\")","v":""},{"$f":"IF(Eingabe!J11<>\"\",Eingabe!J11,\"\")","v":""},{"$f":"IF(Eingabe!K11<>\"\",Eingabe!K11,\"\")","v":""},{"$f":"IF(Eingabe!L11<>\"\",Eingabe!L11,\"\")","v":""},{"$f":"IF(Eingabe!M11<>\"\",Eingabe!M11,\"\")","v":""},{"$f":"IF(Eingabe!N11<>\"\",Eingabe!N11,\"\")","v":""},{"$f":"IF(Eingabe!O11<>\"\",Eingabe!O11,\"\")","v":""},{"$f":"IF(Eingabe!P11<>\"\",Eingabe!P11,\"\")","v":""}]
[{"$f":"IF(Eingabe!C12<>\"\",Eingabe!C12,\"\")","v":""},{"$f":"IF(Eingabe!D12<>\"\",Eingabe!D12,\"\")","v":""},{"$f":"IF(Eingabe!F12<>\"\",Eingabe!F12,\"\")","v":""},{"$f":"IF(Eingabe!E12<>\"\",Eingabe!E12,\"\")","v":""},{"$f":"IF(Eingabe!G12<>\"\",Eingabe!G12,\"\")","v":""},{"$f":"IF(Eingabe!B12<>\"\",Eingabe!B12,\"\")","v":""},{"$f":"IF(Eingabe!H12<>\"\",Eingabe!H12,\"\")","v":""},{"$f":"IF(Eingabe!I12<>\"\",Eingabe!I12,\"\")","v":""},{"$f":"IF(Eingabe!J12<>\"\",Eingabe!J12,\"\")","v":""},{"$f":"IF(Eingabe!K12<>\"\",Eingabe!K12,\"\")","v":""},{"$f":"IF(Eingabe!L12<>\"\",Eingabe!L12,\"\")","v":""},{"$f":"IF(Eingabe!M12<>\"\",Eingabe!M12,\"\")","v":""},{"$f":"IF(Eingabe!N12<>\"\",Eingabe!N12,\"\")","v":""},{"$f":"IF(Eingabe!O12<>\"\",Eingabe!O12,\"\")","v":""},{"$f":"IF(Eingabe!P12<>\"\",Eingabe!P12,\"\")","v":""}]
[{"$f":"IF(Eingabe!C13<>\"\",Eingabe!C13,\"\")","v":""},{"$f":"IF(Eingabe!D13<>\"\",Eingabe!D13,\"\")","v":""},{"$f":"IF(Eingabe!F13<>\"\",Eingabe!F13,\"\")","v":""},{"$f":"IF(Eingabe!E13<>\"\",Eingabe!E13,\"\")","v":""},{"$f":"IF(Eingabe!G13<>\"\",Eingabe!G13,\"\")","v":""},{"$f":"IF(Eingabe!B13<>\"\",Eingabe!B13,\"\")","v":""},{"$f":"IF(Eingabe!H13<>\"\",Eingabe!H13,\"\")","v":""},{"$f":"IF(Eingabe!I13<>\"\",Eingabe!I13,\"\")","v":""},{"$f":"IF(Eingabe!J13<>\"\",Eingabe!J13,\"\")","v":""},{"$f":"IF(Eingabe!K13<>\"\",Eingabe!K13,\"\")","v":""},{"$f":"IF(Eingabe!L13<>\"\",Eingabe!L13,\"\")","v":""},{"$f":"IF(Eingabe!M13<>\"\",Eingabe!M13,\"\")","v":""},{"$f":"IF(Eingabe!N13<>\"\",Eingabe!N13,\"\")","v":""},{"$f":"IF(Eingabe!O13<>\"\",Eingabe!O13,\"\")","v":""},{"$f":"IF(Eingabe!P13<>\"\",Eingabe!P13,\"\")","v":""}]
[{"$f":"IF(Eingabe!C14<>\"\",Eingabe!C14,\"\")","v":""},{"$f":"IF(Eingabe!D14<>\"\",Eingabe!D14,\"\")","v":""},{"$f":"IF(Eingabe!F14<>\"\",Eingabe!F14,\"\")","v":""},{"$f":"IF(Eingabe!E14<>\"\",Eingabe!E14,\"\")","v":""},{"$f":"IF(Eingabe!G14<>\"\",Eingabe!G14,\"\")","v":""},{"$f":"IF(Eingabe!B14<>\"\",Eingabe!B14,\"\")","v":""},{"$f":"IF(Eingabe!H14<>\"\",Eingabe!H14,\"\")","v":""},{"$f":"IF(Eingabe!I14<>\"\",Eingabe!I14,\"\")","v":""},{"$f":"IF(Eingabe!J14<>\"\",Eingabe!J14,\"\")","v":""},{"$f":"IF(Eingabe!K14<>\"\",Eingabe!K14,\"\")","v":""},{"$f":"IF(Eingabe!L14<>\"\",Eingabe!L14,\"\")","v":""},{"$f":"IF(Eingabe!M14<>\"\",Eingabe!M14,\"\")","v":""},{"$f":"IF(Eingabe!N14<>\"\",Eingabe!N14,\"\")","v":""},{"$f":"IF(Eingabe!O14<>\"\",Eingabe!O14,\"\")","v":""},{"$f":"IF(Eingabe!P14<>\"\",Eingabe!P14,\"\")","v":""}]
[{"$f":"IF(Eingabe!C15<>\"\",Eingabe!C15,\"\")","v":""},{"$f":"IF(Eingabe!D15<>\"\",Eingabe!D15,\"\")","v":""},{"$f":"IF(Eingabe!F15<>\"\",Eingabe!F15,\"\")","v":""},{"$f":"IF(Eingabe!E15<>\"\",Eingabe!E15,\"\")","v":""},{"$f":"IF(Eingabe!G15<>\"\",Eingabe!G15,\"\")","v":""},{"$f":"IF(Eingabe!B15<>\"\",Eingabe!B15,\"\")","v":""},{"$f":"IF(Eingabe!H15<>\"\",Eingabe!H15,\"\")","v":""},{"$f":"IF(Eingabe!I15<>\"\",Eingabe!I15,\"\")","v":""},{"$f":"IF(Eingabe!J15<>\"\",Eingabe!J15,\"\")","v":""},{"$f":"IF(Eingabe!K15<>\"\",Eingabe!K15,\"\")","v":""},{"$f":"IF(Eingabe!L15<>\"\",Eingabe!L15,\"\")","v":""},{"$f":"IF(Eingabe!M15<>\"\",Eingabe!M15,\"\")","v":""},{"$f":"IF(Eingabe!N15<>\"\",Eingabe!N15,\"\")","v":""},{"$f":"IF(Eingabe!O15<>\"\",Eingabe!O15,\"\")","v":""},{"$f":"IF(Eingabe!P15<>\"\",Eingabe!P15,\"\")","v":""}]
[{"$f":"IF(Eingabe!C16<>\"\",Eingabe!C16,\"\")","v":""},{"$f":"IF(Eingabe!D16<>\"\",Eingabe!D16,\"\")","v":""},{"$f":"IF(Eingabe!F16<>\"\",Eingabe!F16,\"\")","v":""},{"$f":"IF(Eingabe!E16<>\"\",Eingabe!E16,\"\")","v":""},{"$f":"IF(Eingabe!G16<>\"\",Eingabe!G16,\"\")","v":""},{"$f":"IF(Eingabe!B16<>\"\",Eingabe!B16,\"\")","v":""},{"$f":"IF(Eingabe!H16<>\"\",Eingabe!H16,\"\")","v":""},{"$f":"IF(Eingabe!I16<>\"\",Eingabe!I16,\"\")","v":""},{"$f":"IF(Eingabe!J16<>\"\",Eingabe!J16,\"\")","v":""},{"$f":"IF(Eingabe!K16<>\"\",Eingabe!K16,\"\")","v":""},{"$f":"IF(Eingabe!L16<>\"\",Eingabe!L16,\"\")","v":""},{"$f":"IF(Eingabe!M16<>\"\",Eingabe!M16,\"\")","v":""},{"$f":"IF(Eingabe!N16<>\"\",Eingabe!N16,\"\")","v":""},{"$f":"IF(Eingabe!O16<>\"\",Eingabe!O16,\"\")","v":""},{"$f":"IF(Eingabe!P16<>\"\",Eingabe!P16,\"\")","v":""}]
[{"$f":"IF(Eingabe!C17<>\"\",Eingabe!C17,\"\")","v":""},{"$f":"IF(Eingabe!D17<>\"\",Eingabe!D17,\"\")","v":""},{"$f":"IF(Eingabe!F17<>\"\",Eingabe!F17,\"\")","v":""},{"$f":"IF(Eingabe!E17<>\"\",Eingabe!E17,\"\")","v":""},{"$f":"IF(Eingabe!G17<>\"\",Eingabe!G17,\"\")","v":""},{"$f":"IF(Eingabe!B17<>\"\",Eingabe!B17,\"\")","v":""},{"$f":"IF(Eingabe!H17<>\"\",Eingabe!H17,\"\")","v":""},{"$f":"IF(Eingabe!I17<>\"\",Eingabe!I17,\"\")","v":""},{"$f":"IF(Eingabe!J17<>\"\",Eingabe!J17,\"\")","v":""},{"$f":"IF(Eingabe!K17<>\"\",Eingabe!K17,\"\")","v":""},{"$f":"IF(Eingabe!L17<>\"\",Eingabe!L17,\"\")","v":""},{"$f":"IF(Eingabe!M17<>\"\",Eingabe!M17,\"\")","v":""},{"$f":"IF(Eingabe!N17<>\"\",Eingabe!N17,\"\")","v":""},{"$f":"IF(Eingabe!O17<>\"\",Eingabe!O17,\"\")","v":""},{"$f":"IF(Eingabe!P17<>\"\",Eingabe!P17,\"\")","v":""}]
[{"$f":"IF(Eingabe!C18<>\"\",Eingabe!C18,\"\")","v":""},{"$f":"IF(Eingabe!D18<>\"\",Eingabe!D18,\"\")","v":""},{"$f":"IF(Eingabe!F18<>\"\",Eingabe!F18,\"\")","v":""},{"$f":"IF(Eingabe!E18<>\"\",Eingabe!E18,\"\")","v":""},{"$f":"IF(Eingabe!G18<>\"\",Eingabe!G18,\"\")","v":""},{"$f":"IF(Eingabe!B18<>\"\",Eingabe!B18,\"\")","v":""},{"$f":"IF(Eingabe!H18<>\"\",Eingabe!H18,\"\")","v":""},{"$f":"IF(Eingabe!I18<>\"\",Eingabe!I18,\"\")","v":""},{"$f":"IF(Eingabe!J18<>\"\",Eingabe!J18,\"\")","v":""},{"$f":"IF(Eingabe!K18<>\"\",Eingabe!K18,\"\")","v":""},{"$f":"IF(Eingabe!L18<>\"\",Eingabe!L18,\"\")","v":""},{"$f":"IF(Eingabe!M18<>\"\",Eingabe!M18,\"\")","v":""},{"$f":"IF(Eingabe!N18<>\"\",Eingabe!N18,\"\")","v":""},{"$f":"IF(Eingabe!O18<>\"\",Eingabe!O18,\"\")","v":""},{"$f":"IF(Eingabe!P18<>\"\",Eingabe!P18,\"\")","v":""}]
[{"$f":"IF(Eingabe!C19<>\"\",Eingabe!C19,\"\")","v":""},{"$f":"IF(Eingabe!D19<>\"\",Eingabe!D19,\"\")","v":""},{"$f":"IF(Eingabe!F19<>\"\",Eingabe!F19,\"\")","v":""},{"$f":"IF(Eingabe!E19<>\"\",Eingabe!E19,\"\")","v":""},{"$f":"IF(Eingabe!G19<>\"\",Eingabe!G19,\"\")","v":""},{"$f":"IF(Eingabe!B19<>\"\",Eingabe!B19,\"\")","v":""},{"$f":"IF(Eingabe!H19<>\"\",Eingabe!H19,\"\")","v":""},{"$f":"IF(Eingabe!I19<>\"\",Eingabe!I19,\"\")","v":""},{"$f":"IF(Eingabe!J19<>\"\",Eingabe!J19,\"\")","v":""},{"$f":"IF(Eingabe!K19<>\"\",Eingabe!K19,\"\")","v":""},{"$f":"IF(Eingabe!L19<>\"\",Eingabe!L19,\"\")","v":""},{"$f":"IF(Eingabe!M19<>\"\",Eingabe!M19,\"\")","v":""},{"$f":"IF(Eingabe!N19<>\"\",Eingabe!N19,\"\")","v":""},{"$f":"IF(Eingabe!O19<>\"\",Eingabe!O19,\"\")","v":""},{"$f":"IF(Eingabe!P19<>\"\",Eingabe!P19,\"\")","v":""}]
[{"$f":"IF(Eingabe!C20<>\"\",Eingabe!C20,\"\")","v":""},{"$f":"IF(Eingabe!D20<>\"\",Eingabe!D20,\"\")","v":""},{"$f":"IF(Eingabe!F20<>\"\",Eingabe!F20,\"\")","v":""},{"$f":"IF(Eingabe!E20<>\"\",Eingabe!E20,\"\")","v":""},{"$f":"IF(Eingabe!G20<>\"\",Eingabe!G20,\"\")","v":""},{"$f":"IF(Eingabe!B20<>\"\",Eingabe!B20,\"\")","v":""},{"$f":"IF(Eingabe!H20<>\"\",Eingabe!H20,\"\")","v":""},{"$f":"IF(Eingabe!I20<>\"\",Eingabe!I20,\"\")","v":""},{"$f":"IF(Eingabe!J20<>\"\",Eingabe!J20,\"\")","v":""},{"$f":"IF(Eingabe!K20<>\"\",Eingabe!K20,\"\")","v":""},{"$f":"IF(Eingabe!L20<>\"\",Eingabe!L20,\"\")","v":""},{"$f":"IF(Eingabe!M20<>\"\",Eingabe!M20,\"\")","v":""},{"$f":"IF(Eingabe!N20<>\"\",Eingabe!N20,\"\")","v":""},{"$f":"IF(Eingabe!O20<>\"\",Eingabe!O20,\"\")","v":""},{"$f":"IF(Eingabe!P20<>\"\",Eingabe!P20,\"\")","v":""}]
[{"$f":"IF(Eingabe!C21<>\"\",Eingabe!C21,\"\")","v":""},{"$f":"IF(Eingabe!D21<>\"\",Eingabe!D21,\"\")","v":""},{"$f":"IF(Eingabe!F21<>\"\",Eingabe!F21,\"\")","v":""},{"$f":"IF(Eingabe!E21<>\"\",Eingabe!E21,\"\")","v":""},{"$f":"IF(Eingabe!G21<>\"\",Eingabe!G21,\"\")","v":""},{"$f":"IF(Eingabe!B21<>\"\",Eingabe!B21,\"\")","v":""},{"$f":"IF(Eingabe!H21<>\"\",Eingabe!H21,\"\")","v":""},{"$f":"IF(Eingabe!I21<>\"\",Eingabe!I21,\"\")","v":""},{"$f":"IF(Eingabe!J21<>\"\",Eingabe!J21,\"\")","v":""},{"$f":"IF(Eingabe!K21<>\"\",Eingabe!K21,\"\")","v":""},{"$f":"IF(Eingabe!L21<>\"\",Eingabe!L21,\"\")","v":""},{"$f":"IF(Eingabe!M21<>\"\",Eingabe!M21,\"\")","v":""},{"$f":"IF(Eingabe!N21<>\"\",Eingabe!N21,\"\")","v":""},{"$f":"IF(Eingabe!O21<>\"\",Eingabe!O21,\"\")","v":""},{"$f":"IF(Eingabe!P21<>\"\",Eingabe!P21,\"\")","v":""}]
[{"$f":"IF(Eingabe!C22<>\"\",Eingabe!C22,\"\")","v":""},{"$f":"IF(Eingabe!D22<>\"\",Eingabe!D22,\"\")","v":""},{"$f":"IF(Eingabe!F22<>\"\",Eingabe!F22,\"\")","v":""},{"$f":"IF(Eingabe!E22<>\"\",Eingabe!E22,\"\")","v":""},{"$f":"IF(Eingabe!G22<>\"\",Eingabe!G22,\"\")","v":""},{"$f":"IF(Eingabe!B22<>\"\",Eingabe!B22,\"\")","v":""},{"$f":"IF(Eingabe!H22<>\"\",Eingabe!H22,\"\")","v":""},{"$f":"IF(Eingabe!I22<>\"\",Eingabe!I22,\"\")","v":""},{"$f":"IF(Eingabe!J22<>\"\",Eingabe!J22,\"\")","v":""},{"$f":"IF(Eingabe!K22<>\"\",Eingabe!K22,\"\")","v":""},{"$f":"IF(Eingabe!L22<>\"\",Eingabe!L22,\"\")","v":""},{"$f":"IF(Eingabe!M22<>\"\",Eingabe!M22,\"\")","v":""},{"$f":"IF(Eingabe!N22<>\"\",Eingabe!N22,\"\")","v":""},{"$f":"IF(Eingabe!O22<>\"\",Eingabe!O22,\"\")","v":""},{"$f":"IF(Eingabe!P22<>\"\",Eingabe!P22,\"\")","v":""}]
[{"$f":"IF(Eingabe!C23<>\"\",Eingabe!C23,\"\")","v":""},{"$f":"IF(Eingabe!D23<>\"\",Eingabe!D23,\"\")","v":""},{"$f":"IF(Eingabe!F23<>\"\",Eingabe!F23,\"\")","v":""},{"$f":"IF(Eingabe!E23<>\"\",Eingabe!E23,\"\")","v":""},{"$f":"IF(Eingabe!G23<>\"\",Eingabe!G23,\"\")","v":""},{"$f":"IF(Eingabe!B23<>\"\",Eingabe!B23,\"\")","v":""},{"$f":"IF(Eingabe!H23<>\"\",Eingabe!H23,\"\")","v":""},{"$f":"IF(Eingabe!I23<>\"\",Eingabe!I23,\"\")","v":""},{"$f":"IF(Eingabe!J23<>\"\",Eingabe!J23,\"\")","v":""},{"$f":"IF(Eingabe!K23<>\"\",Eingabe!K23,\"\")","v":""},{"$f":"IF(Eingabe!L23<>\"\",Eingabe!L23,\"\")","v":""},{"$f":"IF(Eingabe!M23<>\"\",Eingabe!M23,\"\")","v":""},{"$f":"IF(Eingabe!N23<>\"\",Eingabe!N23,\"\")","v":""},{"$f":"IF(Eingabe!O23<>\"\",Eingabe!O23,\"\")","v":""},{"$f":"IF(Eingabe!P23<>\"\",Eingabe!P23,\"\")","v":""}]
[{"$f":"IF(Eingabe!C24<>\"\",Eingabe!C24,\"\")","v":""},{"$f":"IF(Eingabe!D24<>\"\",Eingabe!D24,\"\")","v":""},{"$f":"IF(Eingabe!F24<>\"\",Eingabe!F24,\"\")","v":""},{"$f":"IF(Eingabe!E24<>\"\",Eingabe!E24,\"\")","v":""},{"$f":"IF(Eingabe!G24<>\"\",Eingabe!G24,\"\")","v":""},{"$f":"IF(Eingabe!B24<>\"\",Eingabe!B24,\"\")","v":""},{"$f":"IF(Eingabe!H24<>\"\",Eingabe!H24,\"\")","v":""},{"$f":"IF(Eingabe!I24<>\"\",Eingabe!I24,\"\")","v":""},{"$f":"IF(Eingabe!J24<>\"\",Eingabe!J24,\"\")","v":""},{"$f":"IF(Eingabe!K24<>\"\",Eingabe!K24,\"\")","v":""},{"$f":"IF(Eingabe!L24<>\"\",Eingabe!L24,\"\")","v":""},{"$f":"IF(Eingabe!M24<>\"\",Eingabe!M24,\"\")","v":""},{"$f":"IF(Eingabe!N24<>\"\",Eingabe!N24,\"\")","v":""},{"$f":"IF(Eingabe!O24<>\"\",Eingabe!O24,\"\")","v":""},{"$f":"IF(Eingabe!P24<>\"\",Eingabe!P24,\"\")","v":""}]
[{"$f":"IF(Eingabe!C25<>\"\",Eingabe!C25,\"\")","v":""},{"$f":"IF(Eingabe!D25<>\"\",Eingabe!D25,\"\")","v":""},{"$f":"IF(Eingabe!F25<>\"\",Eingabe!F25,\"\")","v":""},{"$f":"IF(Eingabe!E25<>\"\",Eingabe!E25,\"\")","v":""},{"$f":"IF(Eingabe!G25<>\"\",Eingabe!G25,\"\")","v":""},{"$f":"IF(Eingabe!B25<>\"\",Eingabe!B25,\"\")","v":""},{"$f":"IF(Eingabe!H25<>\"\",Eingabe!H25,\"\")","v":""},{"$f":"IF(Eingabe!I25<>\"\",Eingabe!I25,\"\")","v":""},{"$f":"IF(Eingabe!J25<>\"\",Eingabe!J25,\"\")","v":""},{"$f":"IF(Eingabe!K25<>\"\",Eingabe!K25,\"\")","v":""},{"$f":"IF(Eingabe!L25<>\"\",Eingabe!L25,\"\")","v":""},{"$f":"IF(Eingabe!M25<>\"\",Eingabe!M25,\"\")","v":""},{"$f":"IF(Eingabe!N25<>\"\",Eingabe!N25,\"\")","v":""},{"$f":"IF(Eingabe!O25<>\"\",Eingabe!O25,\"\")","v":""},{"$f":"IF(Eingabe!P25<>\"\",Eingabe!P25,\"\")","v":""}]
[{"$f":"IF(Eingabe!C26<>\"\",Eingabe!C26,\"\")","v":""},{"$f":"IF(Eingabe!D26<>\"\",Eingabe!D26,\"\")","v":""},{"$f":"IF(Eingabe!F26<>\"\",Eingabe!F26,\"\")","v":""},{"$f":"IF(Eingabe!E26<>\"\",Eingabe!E26,\"\")","v":""},{"$f":"IF(Eingabe!G26<>\"\",Eingabe!G26,\"\")","v":""},{"$f":"IF(Eingabe!B26<>\"\",Eingabe!B26,\"\")","v":""},{"$f":"IF(Eingabe!H26<>\"\",Eingabe!H26,\"\")","v":""},{"$f":"IF(Eingabe!I26<>\"\",Eingabe!I26,\"\")","v":""},{"$f":"IF(Eingabe!J26<>\"\",Eingabe!J26,\"\")","v":""},{"$f":"IF(Eingabe!K26<>\"\",Eingabe!K26,\"\")","v":""},{"$f":"IF(Eingabe!L26<>\"\",Eingabe!L26,\"\")","v":""},{"$f":"IF(Eingabe!M26<>\"\",Eingabe!M26,\"\")","v":""},{"$f":"IF(Eingabe!N26<>\"\",Eingabe!N26,\"\")","v":""},{"$f":"IF(Eingabe!O26<>\"\",Eingabe!O26,\"\")","v":""},{"$f":"IF(Eingabe!P26<>\"\",Eingabe!P26,\"\")","v":""}]
[{"$f":"IF(Eingabe!C27<>\"\",Eingabe!C27,\"\")","v":""},{"$f":"IF(Eingabe!D27<>\"\",Eingabe!D27,\"\")","v":""},{"$f":"IF(Eingabe!F27<>\"\",Eingabe!F27,\"\")","v":""},{"$f":"IF(Eingabe!E27<>\"\",Eingabe!E27,\"\")","v":""},{"$f":"IF(Eingabe!G27<>\"\",Eingabe!G27,\"\")","v":""},{"$f":"IF(Eingabe!B27<>\"\",Eingabe!B27,\"\")","v":""},{"$f":"IF(Eingabe!H27<>\"\",Eingabe!H27,\"\")","v":""},{"$f":"IF(Eingabe!I27<>\"\",Eingabe!I27,\"\")","v":""},{"$f":"IF(Eingabe!J27<>\"\",Eingabe!J27,\"\")","v":""},{"$f":"IF(Eingabe!K27<>\"\",Eingabe!K27,\"\")","v":""},{"$f":"IF(Eingabe!L27<>\"\",Eingabe!L27,\"\")","v":""},{"$f":"IF(Eingabe!M27<>\"\",Eingabe!M27,\"\")","v":""},{"$f":"IF(Eingabe!N27<>\"\",Eingabe!N27,\"\")","v":""},{"$f":"IF(Eingabe!O27<>\"\",Eingabe!O27,\"\")","v":""},{"$f":"IF(Eingabe!P27<>\"\",Eingabe!P27,\"\")","v":""}]
[{"$f":"IF(Eingabe!C28<>\"\",Eingabe!C28,\"\")","v":""},{"$f":"IF(Eingabe!D28<>\"\",Eingabe!D28,\"\")","v":""},{"$f":"IF(Eingabe!F28<>\"\",Eingabe!F28,\"\")","v":""},{"$f":"IF(Eingabe!E28<>\"\",Eingabe!E28,\"\")","v":""},{"$f":"IF(Eingabe!G28<>\"\",Eingabe!G28,\"\")","v":""},{"$f":"IF(Eingabe!B28<>\"\",Eingabe!B28,\"\")","v":""},{"$f":"IF(Eingabe!H28<>\"\",Eingabe!H28,\"\")","v":""},{"$f":"IF(Eingabe!I28<>\"\",Eingabe!I28,\"\")","v":""},{"$f":"IF(Eingabe!J28<>\"\",Eingabe!J28,\"\")","v":""},{"$f":"IF(Eingabe!K28<>\"\",Eingabe!K28,\"\")","v":""},{"$f":"IF(Eingabe!L28<>\"\",Eingabe!L28,\"\")","v":""},{"$f":"IF(Eingabe!M28<>\"\",Eingabe!M28,\"\")","v":""},{"$f":"IF(Eingabe!N28<>\"\",Eingabe!N28,\"\")","v":""},{"$f":"IF(Eingabe!O28<>\"\",Eingabe!O28,\"\")","v":""},{"$f":"IF(Eingabe!P28<>\"\",Eingabe!P28,\"\")","v":""}]
[{"$f":"IF(Eingabe!C29<>\"\",Eingabe!C29,\"\")","v":""},{"$f":"IF(Eingabe!D29<>\"\",Eingabe!D29,\"\")","v":""},{"$f":"IF(Eingabe!F29<>\"\",Eingabe!F29,\"\")","v":""},{"$f":"IF(Eingabe!E29<>\"\",Eingabe!E29,\"\")","v":""},{"$f":"IF(Eingabe!G29<>\"\",Eingabe!G29,\"\")","v":""},{"$f":"IF(Eingabe!B29<>\"\",Eingabe!B29,\"\")","v":""},{"$f":"IF(Eingabe!H29<>\"\",Eingabe!H29,\"\")","v":""},{"$f":"IF(Eingabe!I29<>\"\",Eingabe!I29,\"\")","v":""},{"$f":"IF(Eingabe!J29<>\"\",Eingabe!J29,\"\")","v":""},{"$f":"IF(Eingabe!K29<>\"\",Eingabe!K29,\"\")","v":""},{"$f":"IF(Eingabe!L29<>\"\",Eingabe!L29,\"\")","v":""},{"$f":"IF(Eingabe!M29<>\"\",Eingabe!M29,\"\")","v":""},{"$f":"IF(Eingabe!N29<>\"\",Eingabe!N29,\"\")","v":""},{"$f":"IF(Eingabe!O29<>\"\",Eingabe!O29,\"\")","v":""},{"$f":"IF(Eingabe!P29<>\"\",Eingabe!P29,\"\")","v":""}]
[{"$f":"IF(Eingabe!C30<>\"\",Eingabe!C30,\"\")","v":""},{"$f":"IF(Eingabe!D30<>\"\",Eingabe!D30,\"\")","v":""},{"$f":"IF(Eingabe!F30<>\"\",Eingabe!F30,\"\")","v":""},{"$f":"IF(Eingabe!E30<>\"\",Eingabe!E30,\"\")","v":""},{"$f":"IF(Eingabe!G30<>\"\",Eingabe!G30,\"\")","v":""},{"$f":"IF(Eingabe!B30<>\"\",Eingabe!B30,\"\")","v":""},{"$f":"IF(Eingabe!H30<>\"\",Eingabe!H30,\"\")","v":""},{"$f":"IF(Eingabe!I30<>\"\",Eingabe!I30,\"\")","v":""},{"$f":"IF(Eingabe!J30<>\"\",Eingabe!J30,\"\")","v":""},{"$f":"IF(Eingabe!K30<>\"\",Eingabe!K30,\"\")","v":""},{"$f":"IF(Eingabe!L30<>\"\",Eingabe!L30,\"\")","v":""},{"$f":"IF(Eingabe!M30<>\"\",Eingabe!M30,\"\")","v":""},{"$f":"IF(Eingabe!N30<>\"\",Eingabe!N30,\"\")","v":""},{"$f":"IF(Eingabe!O30<>\"\",Eingabe!O30,\"\")","v":""},{"$f":"IF(Eingabe!P30<>\"\",Eingabe!P30,\"\")","v":""}]
[{"$f":"IF(Eingabe!C31<>\"\",Eingabe!C31,\"\")","v":""},{"$f":"IF(Eingabe!D31<>\"\",Eingabe!D31,\"\")","v":""},{"$f":"IF(Eingabe!F31<>\"\",Eingabe!F31,\"\")","v":""},{"$f":"IF(Eingabe!E31<>\"\",Eingabe!E31,\"\")","v":""},{"$f":"IF(Eingabe!G31<>\"\",Eingabe!G31,\"\")","v":""},{"$f":"IF(Eingabe!B31<>\"\",Eingabe!B31,\"\")","v":""},{"$f":"IF(Eingabe!H31<>\"\",Eingabe!H31,\"\")","v":""},{"$f":"IF(Eingabe!I31<>\"\",Eingabe!I31,\"\")","v":""},{"$f":"IF(Eingabe!J31<>\"\",Eingabe!J31,\"\")","v":""},{"$f":"IF(Eingabe!K31<>\"\",Eingabe!K31,\"\")","v":""},{"$f":"IF(Eingabe!L31<>\"\",Eingabe!L31,\"\")","v":""},{"$f":"IF(Eingabe!M31<>\"\",Eingabe!M31,\"\")","v":""},{"$f":"IF(Eingabe!N31<>\"\",Eingabe!N31,\"\")","v":""},{"$f":"IF(Eingabe!O31<>\"\",Eingabe!O31,\"\")","v":""},{"$f":"IF(Eingabe!P31<>\"\",Eingabe!P31,\"\")","v":""}]
[{"$f":"IF(Eingabe!C32<>\"\",Eingabe!C32,\"\")","v":""},{"$f":"IF(Eingabe!D32<>\"\",Eingabe!D32,\"\")","v":""},{"$f":"IF(Eingabe!F32<>\"\",Eingabe!F32,\"\")","v":""},{"$f":"IF(Eingabe!E32<>\"\",Eingabe!E32,\"\")","v":""},{"$f":"IF(Eingabe!G32<>\"\",Eingabe!G32,\"\")","v":""},{"$f":"IF(Eingabe!B32<>\"\",Eingabe!B32,\"\")","v":""},{"$f":"IF(Eingabe!H32<>\"\",Eingabe!H32,\"\")","v":""},{"$f":"IF(Eingabe!I32<>\"\",Eingabe!I32,\"\")","v":""},{"$f":"IF(Eingabe!J32<>\"\",Eingabe!J32,\"\")","v":""},{"$f":"IF(Eingabe!K32<>\"\",Eingabe!K32,\"\")","v":""},{"$f":"IF(Eingabe!L32<>\"\",Eingabe!L32,\"\")","v":""},{"$f":"IF(Eingabe!M32<>\"\",Eingabe!M32,\"\")","v":""},{"$f":"IF(Eingabe!N32<>\"\",Eingabe!N32,\"\")","v":""},{"$f":"IF(Eingabe!O32<>\"\",Eingabe!O32,\"\")","v":""},{"$f":"IF(Eingabe!P32<>\"\",Eingabe!P32,\"\")","v":""}]
[{"$f":"IF(Eingabe!C33<>\"\",Eingabe!C33,\"\")","v":""},{"$f":"IF(Eingabe!D33<>\"\",Eingabe!D33,\"\")","v":""},{"$f":"IF(Eingabe!F33<>\"\",Eingabe!F33,\"\")","v":""},{"$f":"IF(Eingabe!E33<>\"\",Eingabe!E33,\"\")","v":""},{"$f":"IF(Eingabe!G33<>\"\",Eingabe!G33,\"\")","v":""},{"$f":"IF(Eingabe!B33<>\"\",Eingabe!B33,\"\")","v":""},{"$f":"IF(Eingabe!H33<>\"\",Eingabe!H33,\"\")","v":""},{"$f":"IF(Eingabe!I33<>\"\",Eingabe!I33,\"\")","v":""},{"$f":"IF(Eingabe!J33<>\"\",Eingabe!J33,\"\")","v":""},{"$f":"IF(Eingabe!K33<>\"\",Eingabe!K33,\"\")","v":""},{"$f":"IF(Eingabe!L33<>\"\",Eingabe!L33,\"\")","v":""},{"$f":"IF(Eingabe!M33<>\"\",Eingabe!M33,\"\")","v":""},{"$f":"IF(Eingabe!N33<>\"\",Eingabe!N33,\"\")","v":""},{"$f":"IF(Eingabe!O33<>\"\",Eingabe!O33,\"\")","v":""},{"$f":"IF(Eingabe!P33<>\"\",Eingabe!P33,\"\")","v":""}]
[{"$f":"IF(Eingabe!C34<>\"\",Eingabe!C34,\"\")","v":""},{"$f":"IF(Eingabe!D34<>\"\",Eingabe!D34,\"\")","v":""},{"$f":"IF(Eingabe!F34<>\"\",Eingabe!F34,\"\")","v":""},{"$f":"IF(Eingabe!E34<>\"\",Eingabe!E34,\"\")","v":""},{"$f":"IF(Eingabe!G34<>\"\",Eingabe!G34,\"\")","v":""},{"$f":"IF(Eingabe!B34<>\"\",Eingabe!B34,\"\")","v":""},{"$f":"IF(Eingabe!H34<>\"\",Eingabe!H34,\"\")","v":""},{"$f":"IF(Eingabe!I34<>\"\",Eingabe!I34,\"\")","v":""},{"$f":"IF(Eingabe!J34<>\"\",Eingabe!J34,\"\")","v":""},{"$f":"IF(Eingabe!K34<>\"\",Eingabe!K34,\"\")","v":""},{"$f":"IF(Eingabe!L34<>\"\",Eingabe!L34,\"\")","v":""},{"$f":"IF(Eingabe!M34<>\"\",Eingabe!M34,\"\")","v":""},{"$f":"IF(Eingabe!N34<>\"\",Eingabe!N34,\"\")","v":""},{"$f":"IF(Eingabe!O34<>\"\",Eingabe!O34,\"\")","v":""},{"$f":"IF(Eingabe!P34<>\"\",Eingabe!P34,\"\")","v":""}]
[{"$f":"IF(Eingabe!C35<>\"\",Eingabe!C35,\"\")","v":""},{"$f":"IF(Eingabe!D35<>\"\",Eingabe!D35,\"\")","v":""},{"$f":"IF(Eingabe!F35<>\"\",Eingabe!F35,\"\")","v":""},{"$f":"IF(Eingabe!E35<>\"\",Eingabe!E35,\"\")","v":""},{"$f":"IF(Eingabe!G35<>\"\",Eingabe!G35,\"\")","v":""},{"$f":"IF(Eingabe!B35<>\"\",Eingabe!B35,\"\")","v":""},{"$f":"IF(Eingabe!H35<>\"\",Eingabe!H35,\"\")","v":""},{"$f":"IF(Eingabe!I35<>\"\",Eingabe!I35,\"\")","v":""},{"$f":"IF(Eingabe!J35<>\"\",Eingabe!J35,\"\")","v":""},{"$f":"IF(Eingabe!K35<>\"\",Eingabe!K35,\"\")","v":""},{"$f":"IF(Eingabe!L35<>\"\",Eingabe!L35,\"\")","v":""},{"$f":"IF(Eingabe!M35<>\"\",Eingabe!M35,\"\")","v":""},{"$f":"IF(Eingabe!N35<>\"\",Eingabe!N35,\"\")","v":""},{"$f":"IF(Eingabe!O35<>\"\",Eingabe!O35,\"\")","v":""},{"$f":"IF(Eingabe!P35<>\"\",Eingabe!P35,\"\")","v":""}]
[{"$f":"IF(Eingabe!C36<>\"\",Eingabe!C36,\"\")","v":""},{"$f":"IF(Eingabe!D36<>\"\",Eingabe!D36,\"\")","v":""},{"$f":"IF(Eingabe!F36<>\"\",Eingabe!F36,\"\")","v":""},{"$f":"IF(Eingabe!E36<>\"\",Eingabe!E36,\"\")","v":""},{"$f":"IF(Eingabe!G36<>\"\",Eingabe!G36,\"\")","v":""},{"$f":"IF(Eingabe!B36<>\"\",Eingabe!B36,\"\")","v":""},{"$f":"IF(Eingabe!H36<>\"\",Eingabe!H36,\"\")","v":""},{"$f":"IF(Eingabe!I36<>\"\",Eingabe!I36,\"\")","v":""},{"$f":"IF(Eingabe!J36<>\"\",Eingabe!J36,\"\")","v":""},{"$f":"IF(Eingabe!K36<>\"\",Eingabe!K36,\"\")","v":""},{"$f":"IF(Eingabe!L36<>\"\",Eingabe!L36,\"\")","v":""},{"$f":"IF(Eingabe!M36<>\"\",Eingabe!M36,\"\")","v":""},{"$f":"IF(Eingabe!N36<>\"\",Eingabe!N36,\"\")","v":""},{"$f":"IF(Eingabe!O36<>\"\",Eingabe!O36,\"\")","v":""},{"$f":"IF(Eingabe!P36<>\"\",Eingabe!P36,\"\")","v":""}]
[{"$f":"IF(Eingabe!C37<>\"\",Eingabe!C37,\"\")","v":""},{"$f":"IF(Eingabe!D37<>\"\",Eingabe!D37,\"\")","v":""},{"$f":"IF(Eingabe!F37<>\"\",Eingabe!F37,\"\")","v":""},{"$f":"IF(Eingabe!E37<>\"\",Eingabe!E37,\"\")","v":""},{"$f":"IF(Eingabe!G37<>\"\",Eingabe!G37,\"\")","v":""},{"$f":"IF(Eingabe!B37<>\"\",Eingabe!B37,\"\")","v":""},{"$f":"IF(Eingabe!H37<>\"\",Eingabe!H37,\"\")","v":""},{"$f":"IF(Eingabe!I37<>\"\",Eingabe!I37,\"\")","v":""},{"$f":"IF(Eingabe!J37<>\"\",Eingabe!J37,\"\")","v":""},{"$f":"IF(Eingabe!K37<>\"\",Eingabe!K37,\"\")","v":""},{"$f":"IF(Eingabe!L37<>\"\",Eingabe!L37,\"\")","v":""},{"$f":"IF(Eingabe!M37<>\"\",Eingabe!M37,\"\")","v":""},{"$f":"IF(Eingabe!N37<>\"\",Eingabe!N37,\"\")","v":""},{"$f":"IF(Eingabe!O37<>\"\",Eingabe!O37,\"\")","v":""},{"$f":"IF(Eingabe!P37<>\"\",Eingabe!P37,\"\")","v":""}]
[{"$f":"IF(Eingabe!C38<>\"\",Eingabe!C38,\"\")","v":""},{"$f":"IF(Eingabe!D38<>\"\",Eingabe!D38,\"\")","v":""},{"$f":"IF(Eingabe!F38<>\"\",Eingabe!F38,\"\")","v":""},{"$f":"IF(Eingabe!E38<>\"\",Eingabe!E38,\"\")","v":""},{"$f":"IF(Eingabe!G38<>\"\",Eingabe!G38,\"\")","v":""},{"$f":"IF(Eingabe!B38<>\"\",Eingabe!B38,\"\")","v":""},{"$f":"IF(Eingabe!H38<>\"\",Eingabe!H38,\"\")","v":""},{"$f":"IF(Eingabe!I38<>\"\",Eingabe!I38,\"\")","v":""},{"$f":"IF(Eingabe!J38<>\"\",Eingabe!J38,\"\")","v":""},{"$f":"IF(Eingabe!K38<>\"\",Eingabe!K38,\"\")","v":""},{"$f":"IF(Eingabe!L38<>\"\",Eingabe!L38,\"\")","v":""},{"$f":"IF(Eingabe!M38<>\"\",Eingabe!M38,\"\")","v":""},{"$f":"IF(Eingabe!N38<>\"\",Eingabe!N38,\"\")","v":""},{"$f":"IF(Eingabe!O38<>\"\",Eingabe!O38,\"\")","v":""},{"$f":"IF(Eingabe!P38<>\"\",Eingabe!P38,\"\")","v":""}]
[{"$f":"IF(Eingabe!C39<>\"\",Eingabe!C39,\"\")","v":""},{"$f":"IF(Eingabe!D39<>\"\",Eingabe!D39,\"\")","v":""},{"$f":"IF(Eingabe!F39<>\"\",Eingabe!F39,\"\")","v":""},{"$f":"IF(Eingabe!E39<>\"\",Eingabe!E39,\"\")","v":""},{"$f":"IF(Eingabe!G39<>\"\",Eingabe!G39,\"\")","v":""},{"$f":"IF(Eingabe!B39<>\"\",Eingabe!B39,\"\")","v":""},{"$f":"IF(Eingabe!H39<>\"\",Eingabe!H39,\"\")","v":""},{"$f":"IF(Eingabe!I39<>\"\",Eingabe!I39,\"\")","v":""},{"$f":"IF(Eingabe!J39<>\"\",Eingabe!J39,\"\")","v":""},{"$f":"IF(Eingabe!K39<>\"\",Eingabe!K39,\"\")","v":""},{"$f":"IF(Eingabe!L39<>\"\",Eingabe!L39,\"\")","v":""},{"$f":"IF(Eingabe!M39<>\"\",Eingabe!M39,\"\")","v":""},{"$f":"IF(Eingabe!N39<>\"\",Eingabe!N39,\"\")","v":""},{"$f":"IF(Eingabe!O39<>\"\",Eingabe!O39,\"\")","v":""},{"$f":"IF(Eingabe!P39<>\"\",Eingabe!P39,\"\")","v":""}]
[{"$f":"IF(Eingabe!C40<>\"\",Eingabe!C40,\"\")","v":""},{"$f":"IF(Eingabe!D40<>\"\",Eingabe!D40,\"\")","v":""},{"$f":"IF(Eingabe!F40<>\"\",Eingabe!F40,\"\")","v":""},{"$f":"IF(Eingabe!E40<>\"\",Eingabe!E40,\"\")","v":""},{"$f":"IF(Eingabe!G40<>\"\",Eingabe!G40,\"\")","v":""},{"$f":"IF(Eingabe!B40<>\"\",Eingabe!B40,\"\")","v":""},{"$f":"IF(Eingabe!H40<>\"\",Eingabe!H40,\"\")","v":""},{"$f":"IF(Eingabe!I40<>\"\",Eingabe!I40,\"\")","v":""},{"$f":"IF(Eingabe!J40<>\"\",Eingabe!J40,\"\")","v":""},{"$f":"IF(Eingabe!K40<>\"\",Eingabe!K40,\"\")","v":""},{"$f":"IF(Eingabe!L40<>\"\",Eingabe!L40,\"\")","v":""},{"$f":"IF(Eingabe!M40<>\"\",Eingabe!M40,\"\")","v":""},{"$f":"IF(Eingabe!N40<>\"\",Eingabe!N40,\"\")","v":""},{"$f":"IF(Eingabe!O40<>\"\",Eingabe!O40,\"\")","v":""},{"$f":"IF(Eingabe!P40<>\"\",Eingabe!P40,\"\")","v":""}]
[{"$f":"IF(Eingabe!C41<>\"\",Eingabe!C41,\"\")","v":""},{"$f":"IF(Eingabe!D41<>\"\",Eingabe!D41,\"\")","v":""},{"$f":"IF(Eingabe!F41<>\"\",Eingabe!F41,\"\")","v":""},{"$f":"IF(Eingabe!E41<>\"\",Eingabe!E41,\"\")","v":""},{"$f":"IF(Eingabe!G41<>\"\",Eingabe!G41,\"\")","v":""},{"$f":"IF(Eingabe!B41<>\"\",Eingabe!B41,\"\")","v":""},{"$f":"IF(Eingabe!H41<>\"\",Eingabe!H41,\"\")","v":""},{"$f":"IF(Eingabe!I41<>\"\",Eingabe!I41,\"\")","v":""},{"$f":"IF(Eingabe!J41<>\"\",Eingabe!J41,\"\")","v":""},{"$f":"IF(Eingabe!K41<>\"\",Eingabe!K41,\"\")","v":""},{"$f":"IF(Eingabe!L41<>\"\",Eingabe!L41,\"\")","v":""},{"$f":"IF(Eingabe!M41<>\"\",Eingabe!M41,\"\")","v":""},{"$f":"IF(Eingabe!N41<>\"\",Eingabe!N41,\"\")","v":""},{"$f":"IF(Eingabe!O41<>\"\",Eingabe!O41,\"\")","v":""},{"$f":"IF(Eingabe!P41<>\"\",Eingabe!P41,\"\")","v":""}]
[{"$f":"IF(Eingabe!C42<>\"\",Eingabe!C42,\"\")","v":""},{"$f":"IF(Eingabe!D42<>\"\",Eingabe!D42,\"\")","v":""},{"$f":"IF(Eingabe!F42<>\"\",Eingabe!F42,\"\")","v":""},{"$f":"IF(Eingabe!E42<>\"\",Eingabe!E42,\"\")","v":""},{"$f":"IF(Eingabe!G42<>\"\",Eingabe!G42,\"\")","v":""},{"$f":"IF(Eingabe!B42<>\"\",Eingabe!B42,\"\")","v":""},{"$f":"IF(Eingabe!H42<>\"\",Eingabe!H42,\"\")","v":""},{"$f":"IF(Eingabe!I42<>\"\",Eingabe!I42,\"\")","v":""},{"$f":"IF(Eingabe!J42<>\"\",Eingabe!J42,\"\")","v":""},{"$f":"IF(Eingabe!K42<>\"\",Eingabe!K42,\"\")","v":""},{"$f":"IF(Eingabe!L42<>\"\",Eingabe!L42,\"\")","v":""},{"$f":"IF(Eingabe!M42<>\"\",Eingabe!M42,\"\")","v":""},{"$f":"IF(Eingabe!N42<>\"\",Eingabe!N42,\"\")","v":""},{"$f":"IF(Eingabe!O42<>\"\",Eingabe!O42,\"\")","v":""},{"$f":"IF(Eingabe!P42<>\"\",Eingabe!P42,\"\")","v":""}]
[{"$f":"IF(Eingabe!C43<>\"\",Eingabe!C43,\"\")","v":""},{"$f":"IF(Eingabe!D43<>\"\",Eingabe!D43,\"\")","v":""},{"$f":"IF(Eingabe!F43<>\"\",Eingabe!F43,\"\")","v":""},{"$f":"IF(Eingabe!E43<>\"\",Eingabe!E43,\"\")","v":""},{"$f":"IF(Eingabe!G43<>\"\",Eingabe!G43,\"\")","v":""},{"$f":"IF(Eingabe!B43<>\"\",Eingabe!B43,\"\")","v":""},{"$f":"IF(Eingabe!H43<>\"\",Eingabe!H43,\"\")","v":""},{"$f":"IF(Eingabe!I43<>\"\",Eingabe!I43,\"\")","v":""},{"$f":"IF(Eingabe!J43<>\"\",Eingabe!J43,\"\")","v":""},{"$f":"IF(Eingabe!K43<>\"\",Eingabe!K43,\"\")","v":""},{"$f":"IF(Eingabe!L43<>\"\",Eingabe!L43,\"\")","v":""},{"$f":"IF(Eingabe!M43<>\"\",Eingabe!M43,\"\")","v":""},{"$f":"IF(Eingabe!N43<>\"\",Eingabe!N43,\"\")","v":""},{"$f":"IF(Eingabe!O43<>\"\",Eingabe!O43,\"\")","v":""},{"$f":"IF(Eingabe!P43<>\"\",Eingabe!P43,\"\")","v":""}]
[{"$f":"IF(Eingabe!C44<>\"\",Eingabe!C44,\"\")","v":""},{"$f":"IF(Eingabe!D44<>\"\",Eingabe!D44,\"\")","v":""},{"$f":"IF(Eingabe!F44<>\"\",Eingabe!F44,\"\")","v":""},{"$f":"IF(Eingabe!E44<>\"\",Eingabe!E44,\"\")","v":""},{"$f":"IF(Eingabe!G44<>\"\",Eingabe!G44,\"\")","v":""},{"$f":"IF(Eingabe!B44<>\"\",Eingabe!B44,\"\")","v":""},{"$f":"IF(Eingabe!H44<>\"\",Eingabe!H44,\"\")","v":""},{"$f":"IF(Eingabe!I44<>\"\",Eingabe!I44,\"\")","v":""},{"$f":"IF(Eingabe!J44<>\"\",Eingabe!J44,\"\")","v":""},{"$f":"IF(Eingabe!K44<>\"\",Eingabe!K44,\"\")","v":""},{"$f":"IF(Eingabe!L44<>\"\",Eingabe!L44,\"\")","v":""},{"$f":"IF(Eingabe!M44<>\"\",Eingabe!M44,\"\")","v":""},{"$f":"IF(Eingabe!N44<>\"\",Eingabe!N44,\"\")","v":""},{"$f":"IF(Eingabe!O44<>\"\",Eingabe!O44,\"\")","v":""},{"$f":"IF(Eingabe!P44<>\"\",Eingabe!P44,\"\")","v":""}]
[{"$f":"IF(Eingabe!C45<>\"\",Eingabe!C45,\"\")","v":""},{"$f":"IF(Eingabe!D45<>\"\",Eingabe!D45,\"\")","v":""},{"$f":"IF(Eingabe!F45<>\"\",Eingabe!F45,\"\")","v":""},{"$f":"IF(Eingabe!E45<>\"\",Eingabe!E45,\"\")","v":""},{"$f":"IF(Eingabe!G45<>\"\",Eingabe!G45,\"\")","v":""},{"$f":"IF(Eingabe!B45<>\"\",Eingabe!B45,\"\")","v":""},{"$f":"IF(Eingabe!H45<>\"\",Eingabe!H45,\"\")","v":""},{"$f":"IF(Eingabe!I45<>\"\",Eingabe!I45,\"\")","v":""},{"$f":"IF(Eingabe!J45<>\"\",Eingabe!J45,\"\")","v":""},{"$f":"IF(Eingabe!K45<>\"\",Eingabe!K45,\"\")","v":""},{"$f":"IF(Eingabe!L45<>\"\",Eingabe!L45,\"\")","v":""},{"$f":"IF(Eingabe!M45<>\"\",Eingabe!M45,\"\")","v":""},{"$f":"IF(Eingabe!N45<>\"\",Eingabe!N45,\"\")","v":""},{"$f":"IF(Eingabe!O45<>\"\",Eingabe!O45,\"\")","v":""},{"$f":"IF(Eingabe!P45<>\"\",Eingabe!P45,\"\")","v":""}]
[{"$f":"IF(Eingabe!C46<>\"\",Eingabe!C46,\"\")","v":""},{"$f":"IF(Eingabe!D46<>\"\",Eingabe!D46,\"\")","v":""},{"$f":"IF(Eingabe!F46<>\"\",Eingabe!F46,\"\")","v":""},{"$f":"IF(Eingabe!E46<>\"\",Eingabe!E46,\"\")","v":""},{"$f":"IF(Eingabe!G46<>\"\",Eingabe!G46,\"\")","v":""},{"$f":"IF(Eingabe!B46<>\"\",Eingabe!B46,\"\")","v":""},{"$f":"IF(Eingabe!H46<>\"\",Eingabe!H46,\"\")","v":""},{"$f":"IF(Eingabe!I46<>\"\",Eingabe!I46,\"\")","v":""},{"$f":"IF(Eingabe!J46<>\"\",Eingabe!J46,\"\")","v":""},{"$f":"IF(Eingabe!K46<>\"\",Eingabe!K46,\"\")","v":""},{"$f":"IF(Eingabe!L46<>\"\",Eingabe!L46,\"\")","v":""},{"$f":"IF(Eingabe!M46<>\"\",Eingabe!M46,\"\")","v":""},{"$f":"IF(Eingabe!N46<>\"\",Eingabe!N46,\"\")","v":""},{"$f":"IF(Eingabe!O46<>\"\",Eingabe!O46,\"\")","v":""},{"$f":"IF(Eingabe!P46<>\"\",Eingabe!P46,\"\")","v":""}]
[{"$f":"IF(Eingabe!C47<>\"\",Eingabe!C47,\"\")","v":""},{"$f":"IF(Eingabe!D47<>\"\",Eingabe!D47,\"\")","v":""},{"$f":"IF(Eingabe!F47<>\"\",Eingabe!F47,\"\")","v":""},{"$f":"IF(Eingabe!E47<>\"\",Eingabe!E47,\"\")","v":""},{"$f":"IF(Eingabe!G47<>\"\",Eingabe!G47,\"\")","v":""},{"$f":"IF(Eingabe!B47<>\"\",Eingabe!B47,\"\")","v":""},{"$f":"IF(Eingabe!H47<>\"\",Eingabe!H47,\"\")","v":""},{"$f":"IF(Eingabe!I47<>\"\",Eingabe!I47,\"\")","v":""},{"$f":"IF(Eingabe!J47<>\"\",Eingabe!J47,\"\")","v":""},{"$f":"IF(Eingabe!K47<>\"\",Eingabe!K47,\"\")","v":""},{"$f":"IF(Eingabe!L47<>\"\",Eingabe!L47,\"\")","v":""},{"$f":"IF(Eingabe!M47<>\"\",Eingabe!M47,\"\")","v":""},{"$f":"IF(Eingabe!N47<>\"\",Eingabe!N47,\"\")","v":""},{"$f":"IF(Eingabe!O47<>\"\",Eingabe!O47,\"\")","v":""},{"$f":"IF(Eingabe!P47<>\"\",Eingabe!P47,\"\")","v":""}]
[{"$f":"IF(Eingabe!C48<>\"\",Eingabe!C48,\"\")","v":""},{"$f":"IF(Eingabe!D48<>\"\",Eingabe!D48,\"\")","v":""},{"$f":"IF(Eingabe!F48<>\"\",Eingabe!F48,\"\")","v":""},{"$f":"IF(Eingabe!E48<>\"\",Eingabe!E48,\"\")","v":""},{"$f":"IF(Eingabe!G48<>\"\",Eingabe!G48,\"\")","v":""},{"$f":"IF(Eingabe!B48<>\"\",Eingabe!B48,\"\")","v":""},{"$f":"IF(Eingabe!H48<>\"\",Eingabe!H48,\"\")","v":""},{"$f":"IF(Eingabe!I48<>\"\",Eingabe!I48,\"\")","v":""},{"$f":"IF(Eingabe!J48<>\"\",Eingabe!J48,\"\")","v":""},{"$f":"IF(Eingabe!K48<>\"\",Eingabe!K48,\"\")","v":""},{"$f":"IF(Eingabe!L48<>\"\",Eingabe!L48,\"\")","v":""},{"$f":"IF(Eingabe!M48<>\"\",Eingabe!M48,\"\")","v":""},{"$f":"IF(Eingabe!N48<>\"\",Eingabe!N48,\"\")","v":""},{"$f":"IF(Eingabe!O48<>\"\",Eingabe!O48,\"\")","v":""},{"$f":"IF(Eingabe!P48<>\"\",Eingabe!P48,\"\")","v":""}]
[{"$f":"IF(Eingabe!C49<>\"\",Eingabe!C49,\"\")","v":""},{"$f":"IF(Eingabe!D49<>\"\",Eingabe!D49,\"\")","v":""},{"$f":"IF(Eingabe!F49<>\"\",Eingabe!F49,\"\")","v":""},{"$f":"IF(Eingabe!E49<>\"\",Eingabe!E49,\"\")","v":""},{"$f":"IF(Eingabe!G49<>\"\",Eingabe!G49,\"\")","v":""},{"$f":"IF(Eingabe!B49<>\"\",Eingabe!B49,\"\")","v":""},{"$f":"IF(Eingabe!H49<>\"\",Eingabe!H49,\"\")","v":""},{"$f":"IF(Eingabe!I49<>\"\",Eingabe!I49,\"\")","v":""},{"$f":"IF(Eingabe!J49<>\"\",Eingabe!J49,\"\")","v":""},{"$f":"IF(Eingabe!K49<>\"\",Eingabe!K49,\"\")","v":""},{"$f":"IF(Eingabe!L49<>\"\",Eingabe!L49,\"\")","v":""},{"$f":"IF(Eingabe!M49<>\"\",Eingabe!M49,\"\")","v":""},{"$f":"IF(Eingabe!N49<>\"\",Eingabe!N49,\"\")","v":""},{"$f":"IF(Eingabe!O49<>\"\",Eingabe!O49,\"\")","v":""},{"$f":"IF(Eingabe!P49<>\"\",Eingabe!P49,\"\")","v":""}]
[{"$f":"IF(Eingabe!C50<>\"\",Eingabe!C50,\"\")","v":""},{"$f":"IF(Eingabe!D50<>\"\",Eingabe!D50,\"\")","v":""},{"$f":"IF(Eingabe!F50<>\"\",Eingabe!F50,\"\")","v":""},{"$f":"IF(Eingabe!E50<>\"\",Eingabe!E50,\"\")","v":""},{"$f":"IF(Eingabe!G50<>\"\",Eingabe!G50,\"\")","v":""},{"$f":"IF(Eingabe!B50<>\"\",Eingabe!B50,\"\")","v":""},{"$f":"IF(Eingabe!H50<>\"\",Eingabe!H50,\"\")","v":""},{"$f":"IF(Eingabe!I50<>\"\",Eingabe!I50,\"\")","v":""},{"$f":"IF(Eingabe!J50<>\"\",Eingabe!J50,\"\")","v":""},{"$f":"IF(Eingabe!K50<>\"\",Eingabe!K50,\"\")","v":""},{"$f":"IF(Eingabe!L50<>\"\",Eingabe!L50,\"\")","v":""},{"$f":"IF(Eingabe!M50<>\"\",Eingabe!M50,\"\")","v":""},{"$f":"IF(Eingabe!N50<>\"\",Eingabe!N50,\"\")","v":""},{"$f":"IF(Eingabe!O50<>\"\",Eingabe!O50,\"\")","v":""},{"$f":"IF(Eingabe!P50<>\"\",Eingabe!P50,\"\")","v":""}]
[{"$f":"IF(Eingabe!C51<>\"\",Eingabe!C51,\"\")","v":""},{"$f":"IF(Eingabe!D51<>\"\",Eingabe!D51,\"\")","v":""},{"$f":"IF(Eingabe!F51<>\"\",Eingabe!F51,\"\")","v":""},{"$f":"IF(Eingabe!E51<>\"\",Eingabe!E51,\"\")","v":""},{"$f":"IF(Eingabe!G51<>\"\",Eingabe!G51,\"\")","v":""},{"$f":"IF(Eingabe!B51<>\"\",Eingabe!B51,\"\")","v":""},{"$f":"IF(Eingabe!H51<>\"\",Eingabe!H51,\"\")","v":""},{"$f":"IF(Eingabe!I51<>\"\",Eingabe!I51,\"\")","v":""},{"$f":"IF(Eingabe!J51<>\"\",Eingabe!J51,\"\")","v":""},{"$f":"IF(Eingabe!K51<>\"\",Eingabe!K51,\"\")","v":""},{"$f":"IF(Eingabe!L51<>\"\",Eingabe!L51,\"\")","v":""},{"$f":"IF(Eingabe!M51<>\"\",Eingabe!M51,\"\")","v":""},{"$f":"IF(Eingabe!N51<>\"\",Eingabe!N51,\"\")","v":""},{"$f":"IF(Eingabe!O51<>\"\",Eingabe!O51,\"\")","v":""},{"$f":"IF(Eingabe!P51<>\"\",Eingabe!P51,\"\")","v":""}]
[{"$f":"IF(Eingabe!C52<>\"\",Eingabe!C52,\"\")","v":""},{"$f":"IF(Eingabe!D52<>\"\",Eingabe!D52,\"\")","v":""},{"$f":"IF(Eingabe!F52<>\"\",Eingabe!F52,\"\")","v":""},{"$f":"IF(Eingabe!E52<>\"\",Eingabe!E52,\"\")","v":""},{"$f":"IF(Eingabe!G52<>\"\",Eingabe!G52,\"\")","v":""},{"$f":"IF(Eingabe!B52<>\"\",Eingabe!B52,\"\")","v":""},{"$f":"IF(Eingabe!H52<>\"\",Eingabe!H52,\"\")","v":""},{"$f":"IF(Eingabe!I52<>\"\",Eingabe!I52,\"\")","v":""},{"$f":"IF(Eingabe!J52<>\"\",Eingabe!J52,\"\")","v":""},{"$f":"IF(Eingabe!K52<>\"\",Eingabe!K52,\"\")","v":""},{"$f":"IF(Eingabe!L52<>\"\",Eingabe!L52,\"\")","v":""},{"$f":"IF(Eingabe!M52<>\"\",Eingabe!M52,\"\")","v":""},{"$f":"IF(Eingabe!N52<>\"\",Eingabe!N52,\"\")","v":""},{"$f":"IF(Eingabe!O52<>\"\",Eingabe!O52,\"\")","v":""},{"$f":"IF(Eingabe!P52<>\"\",Eingabe!P52,\"\")","v":""}]
[{"$f":"IF(Eingabe!C53<>\"\",Eingabe!C53,\"\")","v":""},{"$f":"IF(Eingabe!D53<>\"\",Eingabe!D53,\"\")","v":""},{"$f":"IF(Eingabe!F53<>\"\",Eingabe!F53,\"\")","v":""},{"$f":"IF(Eingabe!E53<>\"\",Eingabe!E53,\"\")","v":""},{"$f":"IF(Eingabe!G53<>\"\",Eingabe!G53,\"\")","v":""},{"$f":"IF(Eingabe!B53<>\"\",Eingabe!B53,\"\")","v":""},{"$f":"IF(Eingabe!H53<>\"\",Eingabe!H53,\"\")","v":""},{"$f":"IF(Eingabe!I53<>\"\",Eingabe!I53,\"\")","v":""},{"$f":"IF(Eingabe!J53<>\"\",Eingabe!J53,\"\")","v":""},{"$f":"IF(Eingabe!K53<>\"\",Eingabe!K53,\"\")","v":""},{"$f":"IF(Eingabe!L53<>\"\",Eingabe!L53,\"\")","v":""},{"$f":"IF(Eingabe!M53<>\"\",Eingabe!M53,\"\")","v":""},{"$f":"IF(Eingabe!N53<>\"\",Eingabe!N53,\"\")","v":""},{"$f":"IF(Eingabe!O53<>\"\",Eingabe!O53,\"\")","v":""},{"$f":"IF(Eingabe!P53<>\"\",Eingabe!P53,\"\")","v":""}]
[{"$f":"IF(Eingabe!C54<>\"\",Eingabe!C54,\"\")","v":""},{"$f":"IF(Eingabe!D54<>\"\",Eingabe!D54,\"\")","v":""},{"$f":"IF(Eingabe!F54<>\"\",Eingabe!F54,\"\")","v":""},{"$f":"IF(Eingabe!E54<>\"\",Eingabe!E54,\"\")","v":""},{"$f":"IF(Eingabe!G54<>\"\",Eingabe!G54,\"\")","v":""},{"$f":"IF(Eingabe!B54<>\"\",Eingabe!B54,\"\")","v":""},{"$f":"IF(Eingabe!H54<>\"\",Eingabe!H54,\"\")","v":""},{"$f":"IF(Eingabe!I54<>\"\",Eingabe!I54,\"\")","v":""},{"$f":"IF(Eingabe!J54<>\"\",Eingabe!J54,\"\")","v":""},{"$f":"IF(Eingabe!K54<>\"\",Eingabe!K54,\"\")","v":""},{"$f":"IF(Eingabe!L54<>\"\",Eingabe!L54,\"\")","v":""},{"$f":"IF(Eingabe!M54<>\"\",Eingabe!M54,\"\")","v":""},{"$f":"IF(Eingabe!N54<>\"\",Eingabe!N54,\"\")","v":""},{"$f":"IF(Eingabe!O54<>\"\",Eingabe!O54,\"\")","v":""},{"$f":"IF(Eingabe!P54<>\"\",Eingabe!P54,\"\")","v":""}]
[{"$f":"IF(Eingabe!C55<>\"\",Eingabe!C55,\"\")","v":""},{"$f":"IF(Eingabe!D55<>\"\",Eingabe!D55,\"\")","v":""},{"$f":"IF(Eingabe!F55<>\"\",Eingabe!F55,\"\")","v":""},{"$f":"IF(Eingabe!E55<>\"\",Eingabe!E55,\"\")","v":""},{"$f":"IF(Eingabe!G55<>\"\",Eingabe!G55,\"\")","v":""},{"$f":"IF(Eingabe!B55<>\"\",Eingabe!B55,\"\")","v":""},{"$f":"IF(Eingabe!H55<>\"\",Eingabe!H55,\"\")","v":""},{"$f":"IF(Eingabe!I55<>\"\",Eingabe!I55,\"\")","v":""},{"$f":"IF(Eingabe!J55<>\"\",Eingabe!J55,\"\")","v":""},{"$f":"IF(Eingabe!K55<>\"\",Eingabe!K55,\"\")","v":""},{"$f":"IF(Eingabe!L55<>\"\",Eingabe!L55,\"\")","v":""},{"$f":"IF(Eingabe!M55<>\"\",Eingabe!M55,\"\")","v":""},{"$f":"IF(Eingabe!N55<>\"\",Eingabe!N55,\"\")","v":""},{"$f":"IF(Eingabe!O55<>\"\",Eingabe!O55,\"\")","v":""},{"$f":"IF(Eingabe!P55<>\"\",Eingabe!P55,\"\")","v":""}]
[{"$f":"IF(Eingabe!C56<>\"\",Eingabe!C56,\"\")","v":""},{"$f":"IF(Eingabe!D56<>\"\",Eingabe!D56,\"\")","v":""},{"$f":"IF(Eingabe!F56<>\"\",Eingabe!F56,\"\")","v":""},{"$f":"IF(Eingabe!E56<>\"\",Eingabe!E56,\"\")","v":""},{"$f":"IF(Eingabe!G56<>\"\",Eingabe!G56,\"\")","v":""},{"$f":"IF(Eingabe!B56<>\"\",Eingabe!B56,\"\")","v":""},{"$f":"IF(Eingabe!H56<>\"\",Eingabe!H56,\"\")","v":""},{"$f":"IF(Eingabe!I56<>\"\",Eingabe!I56,\"\")","v":""},{"$f":"IF(Eingabe!J56<>\"\",Eingabe!J56,\"\")","v":""},{"$f":"IF(Eingabe!K56<>\"\",Eingabe!K56,\"\")","v":""},{"$f":"IF(Eingabe!L56<>\"\",Eingabe!L56,\"\")","v":""},{"$f":"IF(Eingabe!M56<>\"\",Eingabe!M56,\"\")","v":""},{"$f":"IF(Eingabe!N56<>\"\",Eingabe!N56,\"\")","v":""},{"$f":"IF(Eingabe!O56<>\"\",Eingabe!O56,\"\")","v":""},{"$f":"IF(Eingabe!P56<>\"\",Eingabe!P56,\"\")","v":""}]
[{"$f":"IF(Eingabe!C57<>\"\",Eingabe!C57,\"\")","v":""},{"$f":"IF(Eingabe!D57<>\"\",Eingabe!D57,\"\")","v":""},{"$f":"IF(Eingabe!F57<>\"\",Eingabe!F57,\"\")","v":""},{"$f":"IF(Eingabe!E57<>\"\",Eingabe!E57,\"\")","v":""},{"$f":"IF(Eingabe!G57<>\"\",Eingabe!G57,\"\")","v":""},{"$f":"IF(Eingabe!B57<>\"\",Eingabe!B57,\"\")","v":""},{"$f":"IF(Eingabe!H57<>\"\",Eingabe!H57,\"\")","v":""},{"$f":"IF(Eingabe!I57<>\"\",Eingabe!I57,\"\")","v":""},{"$f":"IF(Eingabe!J57<>\"\",Eingabe!J57,\"\")","v":""},{"$f":"IF(Eingabe!K57<>\"\",Eingabe!K57,\"\")","v":""},{"$f":"IF(Eingabe!L57<>\"\",Eingabe!L57,\"\")","v":""},{"$f":"IF(Eingabe!M57<>\"\",Eingabe!M57,\"\")","v":""},{"$f":"IF(Eingabe!N57<>\"\",Eingabe!N57,\"\")","v":""},{"$f":"IF(Eingabe!O57<>\"\",Eingabe!O57,\"\")","v":""},{"$f":"IF(Eingabe!P57<>\"\",Eingabe!P57,\"\")","v":""}]
[{"$f":"IF(Eingabe!C58<>\"\",Eingabe!C58,\"\")","v":""},{"$f":"IF(Eingabe!D58<>\"\",Eingabe!D58,\"\")","v":""},{"$f":"IF(Eingabe!F58<>\"\",Eingabe!F58,\"\")","v":""},{"$f":"IF(Eingabe!E58<>\"\",Eingabe!E58,\"\")","v":""},{"$f":"IF(Eingabe!G58<>\"\",Eingabe!G58,\"\")","v":""},{"$f":"IF(Eingabe!B58<>\"\",Eingabe!B58,\"\")","v":""},{"$f":"IF(Eingabe!H58<>\"\",Eingabe!H58,\"\")","v":""},{"$f":"IF(Eingabe!I58<>\"\",Eingabe!I58,\"\")","v":""},{"$f":"IF(Eingabe!J58<>\"\",Eingabe!J58,\"\")","v":""},{"$f":"IF(Eingabe!K58<>\"\",Eingabe!K58,\"\")","v":""},{"$f":"IF(Eingabe!L58<>\"\",Eingabe!L58,\"\")","v":""},{"$f":"IF(Eingabe!M58<>\"\",Eingabe!M58,\"\")","v":""},{"$f":"IF(Eingabe!N58<>\"\",Eingabe!N58,\"\")","v":""},{"$f":"IF(Eingabe!O58<>\"\",Eingabe!O58,\"\")","v":""},{"$f":"IF(Eingabe!P58<>\"\",Eingabe!P58,\"\")","v":""}]
[{"$f":"IF(Eingabe!C59<>\"\",Eingabe!C59,\"\")","v":""},{"$f":"IF(Eingabe!D59<>\"\",Eingabe!D59,\"\")","v":""},{"$f":"IF(Eingabe!F59<>\"\",Eingabe!F59,\"\")","v":""},{"$f":"IF(Eingabe!E59<>\"\",Eingabe!E59,\"\")","v":""},{"$f":"IF(Eingabe!G59<>\"\",Eingabe!G59,\"\")","v":""},{"$f":"IF(Eingabe!B59<>\"\",Eingabe!B59,\"\")","v":""},{"$f":"IF(Eingabe!H59<>\"\",Eingabe!H59,\"\")","v":""},{"$f":"IF(Eingabe!I59<>\"\",Eingabe!I59,\"\")","v":""},{"$f":"IF(Eingabe!J59<>\"\",Eingabe!J59,\"\")","v":""},{"$f":"IF(Eingabe!K59<>\"\",Eingabe!K59,\"\")","v":""},{"$f":"IF(Eingabe!L59<>\"\",Eingabe!L59,\"\")","v":""},{"$f":"IF(Eingabe!M59<>\"\",Eingabe!M59,\"\")","v":""},{"$f":"IF(Eingabe!N59<>\"\",Eingabe!N59,\"\")","v":""},{"$f":"IF(Eingabe!O59<>\"\",Eingabe!O59,\"\")","v":""},{"$f":"IF(Eingabe!P59<>\"\",Eingabe!P59,\"\")","v":""}]
[{"$f":"IF(Eingabe!C60<>\"\",Eingabe!C60,\"\")","v":""},{"$f":"IF(Eingabe!D60<>\"\",Eingabe!D60,\"\")","v":""},{"$f":"IF(Eingabe!F60<>\"\",Eingabe!F60,\"\")","v":""},{"$f":"IF(Eingabe!E60<>\"\",Eingabe!E60,\"\")","v":""},{"$f":"IF(Eingabe!G60<>\"\",Eingabe!G60,\"\")","v":""},{"$f":"IF(Eingabe!B60<>\"\",Eingabe!B60,\"\")","v":""},{"$f":"IF(Eingabe!H60<>\"\",Eingabe!H60,\"\")","v":""},{"$f":"IF(Eingabe!I60<>\"\",Eingabe!I60,\"\")","v":""},{"$f":"IF(Eingabe!J60<>\"\",Eingabe!J60,\"\")","v":""},{"$f":"IF(Eingabe!K60<>\"\",Eingabe!K60,\"\")","v":""},{"$f":"IF(Eingabe!L60<>\"\",Eingabe!L60,\"\")","v":""},{"$f":"IF(Eingabe!M60<>\"\",Eingabe!M60,\"\")","v":""},{"$f":"IF(Eingabe!N60<>\"\",Eingabe!N60,\"\")","v":""},{"$f":"IF(Eingabe!O60<>\"\",Eingabe!O60,\"\")","v":""},{"$f":"IF(Eingabe!P60<>\"\",Eingabe!P60,\"\")","v":""}]
[{"$f":"IF(Eingabe!C61<>\"\",Eingabe!C61,\"\")","v":""},{"$f":"IF(Eingabe!D61<>\"\",Eingabe!D61,\"\")","v":""},{"$f":"IF(Eingabe!F61<>\"\",Eingabe!F61,\"\")","v":""},{"$f":"IF(Eingabe!E61<>\"\",Eingabe!E61,\"\")","v":""},{"$f":"IF(Eingabe!G61<>\"\",Eingabe!G61,\"\")","v":""},{"$f":"IF(Eingabe!B61<>\"\",Eingabe!B61,\"\")","v":""},{"$f":"IF(Eingabe!H61<>\"\",Eingabe!H61,\"\")","v":""},{"$f":"IF(Eingabe!I61<>\"\",Eingabe!I61,\"\")","v":""},{"$f":"IF(Eingabe!J61<>\"\",Eingabe!J61,\"\")","v":""},{"$f":"IF(Eingabe!K61<>\"\",Eingabe!K61,\"\")","v":""},{"$f":"IF(Eingabe!L61<>\"\",Eingabe!L61,\"\")","v":""},{"$f":"IF(Eingabe!M61<>\"\",Eingabe!M61,\"\")","v":""},{"$f":"IF(Eingabe!N61<>\"\",Eingabe!N61,\"\")","v":""},{"$f":"IF(Eingabe!O61<>\"\",Eingabe!O61,\"\")","v":""},{"$f":"IF(Eingabe!P61<>\"\",Eingabe!P61,\"\")","v":""}]
[{"$f":"IF(Eingabe!C62<>\"\",Eingabe!C62,\"\")","v":""},{"$f":"IF(Eingabe!D62<>\"\",Eingabe!D62,\"\")","v":""},{"$f":"IF(Eingabe!F62<>\"\",Eingabe!F62,\"\")","v":""},{"$f":"IF(Eingabe!E62<>\"\",Eingabe!E62,\"\")","v":""},{"$f":"IF(Eingabe!G62<>\"\",Eingabe!G62,\"\")","v":""},{"$f":"IF(Eingabe!B62<>\"\",Eingabe!B62,\"\")","v":""},{"$f":"IF(Eingabe!H62<>\"\",Eingabe!H62,\"\")","v":""},{"$f":"IF(Eingabe!I62<>\"\",Eingabe!I62,\"\")","v":""},{"$f":"IF(Eingabe!J62<>\"\",Eingabe!J62,\"\")","v":""},{"$f":"IF(Eingabe!K62<>\"\",Eingabe!K62,\"\")","v":""},{"$f":"IF(Eingabe!L62<>\"\",Eingabe!L62,\"\")","v":""},{"$f":"IF(Eingabe!M62<>\"\",Eingabe!M62,\"\")","v":""},{"$f":"IF(Eingabe!N62<>\"\",Eingabe!N62,\"\")","v":""},{"$f":"IF(Eingabe!O62<>\"\",Eingabe!O62,\"\")","v":""},{"$f":"IF(Eingabe!P62<>\"\",Eingabe!P62,\"\")","v":""}]
[{"$f":"IF(Eingabe!C63<>\"\",Eingabe!C63,\"\")","v":""},{"$f":"IF(Eingabe!D63<>\"\",Eingabe!D63,\"\")","v":""},{"$f":"IF(Eingabe!F63<>\"\",Eingabe!F63,\"\")","v":""},{"$f":"IF(Eingabe!E63<>\"\",Eingabe!E63,\"\")","v":""},{"$f":"IF(Eingabe!G63<>\"\",Eingabe!G63,\"\")","v":""},{"$f":"IF(Eingabe!B63<>\"\",Eingabe!B63,\"\")","v":""},{"$f":"IF(Eingabe!H63<>\"\",Eingabe!H63,\"\")","v":""},{"$f":"IF(Eingabe!I63<>\"\",Eingabe!I63,\"\")","v":""},{"$f":"IF(Eingabe!J63<>\"\",Eingabe!J63,\"\")","v":""},{"$f":"IF(Eingabe!K63<>\"\",Eingabe!K63,\"\")","v":""},{"$f":"IF(Eingabe!L63<>\"\",Eingabe!L63,\"\")","v":""},{"$f":"IF(Eingabe!M63<>\"\",Eingabe!M63,\"\")","v":""},{"$f":"IF(Eingabe!N63<>\"\",Eingabe!N63,\"\")","v":""},{"$f":"IF(Eingabe!O63<>\"\",Eingabe!O63,\"\")","v":""},{"$f":"IF(Eingabe!P63<>\"\",Eingabe!P63,\"\")","v":""}]
[{"$f":"IF(Eingabe!C64<>\"\",Eingabe!C64,\"\")","v":""},{"$f":"IF(Eingabe!D64<>\"\",Eingabe!D64,\"\")","v":""},{"$f":"IF(Eingabe!F64<>\"\",Eingabe!F64,\"\")","v":""},{"$f":"IF(Eingabe!E64<>\"\",Eingabe!E64,\"\")","v":""},{"$f":"IF(Eingabe!G64<>\"\",Eingabe!G64,\"\")","v":""},{"$f":"IF(Eingabe!B64<>\"\",Eingabe!B64,\"\")","v":""},{"$f":"IF(Eingabe!H64<>\"\",Eingabe!H64,\"\")","v":""},{"$f":"IF(Eingabe!I64<>\"\",Eingabe!I64,\"\")","v":""},{"$f":"IF(Eingabe!J64<>\"\",Eingabe!J64,\"\")","v":""},{"$f":"IF(Eingabe!K64<>\"\",Eingabe!K64,\"\")","v":""},{"$f":"IF(Eingabe!L64<>\"\",Eingabe!L64,\"\")","v":""},{"$f":"IF(Eingabe!M64<>\"\",Eingabe!M64,\"\")","v":""},{"$f":"IF(Eingabe!N64<>\"\",Eingabe!N64,\"\")","v":""},{"$f":"IF(Eingabe!O64<>\"\",Eingabe!O64,\"\")","v":""},{"$f":"IF(Eingabe!P64<>\"\",Eingabe!P64,\"\")","v":""}]
[{"$f":"IF(Eingabe!C65<>\"\",Eingabe!C65,\"\")","v":""},{"$f":"IF(Eingabe!D65<>\"\",Eingabe!D65,\"\")","v":""},{"$f":"IF(Eingabe!F65<>\"\",Eingabe!F65,\"\")","v":""},{"$f":"IF(Eingabe!E65<>\"\",Eingabe!E65,\"\")","v":""},{"$f":"IF(Eingabe!G65<>\"\",Eingabe!G65,\"\")","v":""},{"$f":"IF(Eingabe!B65<>\"\",Eingabe!B65,\"\")","v":""},{"$f":"IF(Eingabe!H65<>\"\",Eingabe!H65,\"\")","v":""},{"$f":"IF(Eingabe!I65<>\"\",Eingabe!I65,\"\")","v":""},{"$f":"IF(Eingabe!J65<>\"\",Eingabe!J65,\"\")","v":""},{"$f":"IF(Eingabe!K65<>\"\",Eingabe!K65,\"\")","v":""},{"$f":"IF(Eingabe!L65<>\"\",Eingabe!L65,\"\")","v":""},{"$f":"IF(Eingabe!M65<>\"\",Eingabe!M65,\"\")","v":""},{"$f":"IF(Eingabe!N65<>\"\",Eingabe!N65,\"\")","v":""},{"$f":"IF(Eingabe!O65<>\"\",Eingabe!O65,\"\")","v":""},{"$f":"IF(Eingabe!P65<>\"\",Eingabe!P65,\"\")","v":""}]
[{"$f":"IF(Eingabe!C66<>\"\",Eingabe!C66,\"\")","v":""},{"$f":"IF(Eingabe!D66<>\"\",Eingabe!D66,\"\")","v":""},{"$f":"IF(Eingabe!F66<>\"\",Eingabe!F66,\"\")","v":""},{"$f":"IF(Eingabe!E66<>\"\",Eingabe!E66,\"\")","v":""},{"$f":"IF(Eingabe!G66<>\"\",Eingabe!G66,\"\")","v":""},{"$f":"IF(Eingabe!B66<>\"\",Eingabe!B66,\"\")","v":""},{"$f":"IF(Eingabe!H66<>\"\",Eingabe!H66,\"\")","v":""},{"$f":"IF(Eingabe!I66<>\"\",Eingabe!I66,\"\")","v":""},{"$f":"IF(Eingabe!J66<>\"\",Eingabe!J66,\"\")","v":""},{"$f":"IF(Eingabe!K66<>\"\",Eingabe!K66,\"\")","v":""},{"$f":"IF(Eingabe!L66<>\"\",Eingabe!L66,\"\")","v":""},{"$f":"IF(Eingabe!M66<>\"\",Eingabe!M66,\"\")","v":""},{"$f":"IF(Eingabe!N66<>\"\",Eingabe!N66,\"\")","v":""},{"$f":"IF(Eingabe!O66<>\"\",Eingabe!O66,\"\")","v":""},{"$f":"IF(Eingabe!P66<>\"\",Eingabe!P66,\"\")","v":""}]
[{"$f":"IF(Eingabe!C67<>\"\",Eingabe!C67,\"\")","v":""},{"$f":"IF(Eingabe!D67<>\"\",Eingabe!D67,\"\")","v":""},{"$f":"IF(Eingabe!F67<>\"\",Eingabe!F67,\"\")","v":""},{"$f":"IF(Eingabe!E67<>\"\",Eingabe!E67,\"\")","v":""},{"$f":"IF(Eingabe!G67<>\"\",Eingabe!G67,\"\")","v":""},{"$f":"IF(Eingabe!B67<>\"\",Eingabe!B67,\"\")","v":""},{"$f":"IF(Eingabe!H67<>\"\",Eingabe!H67,\"\")","v":""},{"$f":"IF(Eingabe!I67<>\"\",Eingabe!I67,\"\")","v":""},{"$f":"IF(Eingabe!J67<>\"\",Eingabe!J67,\"\")","v":""},{"$f":"IF(Eingabe!K67<>\"\",Eingabe!K67,\"\")","v":""},{"$f":"IF(Eingabe!L67<>\"\",Eingabe!L67,\"\")","v":""},{"$f":"IF(Eingabe!M67<>\"\",Eingabe!M67,\"\")","v":""},{"$f":"IF(Eingabe!N67<>\"\",Eingabe!N67,\"\")","v":""},{"$f":"IF(Eingabe!O67<>\"\",Eingabe!O67,\"\")","v":""},{"$f":"IF(Eingabe!P67<>\"\",Eingabe!P67,\"\")","v":""}]
[{"$f":"IF(Eingabe!C68<>\"\",Eingabe!C68,\"\")","v":""},{"$f":"IF(Eingabe!D68<>\"\",Eingabe!D68,\"\")","v":""},{"$f":"IF(Eingabe!F68<>\"\",Eingabe!F68,\"\")","v":""},{"$f":"IF(Eingabe!E68<>\"\",Eingabe!E68,\"\")","v":""},{"$f":"IF(Eingabe!G68<>\"\",Eingabe!G68,\"\")","v":""},{"$f":"IF(Eingabe!B68<>\"\",Eingabe!B68,\"\")","v":""},{"$f":"IF(Eingabe!H68<>\"\",Eingabe!H68,\"\")","v":""},{"$f":"IF(Eingabe!I68<>\"\",Eingabe!I68,\"\")","v":""},{"$f":"IF(Eingabe!J68<>\"\",Eingabe!J68,\"\")","v":""},{"$f":"IF(Eingabe!K68<>\"\",Eingabe!K68,\"\")","v":""},{"$f":"IF(Eingabe!L68<>\"\",Eingabe!L68,\"\")","v":""},{"$f":"IF(Eingabe!M68<>\"\",Eingabe!M68,\"\")","v":""},{"$f":"IF(Eingabe!N68<>\"\",Eingabe!N68,\"\")","v":""},{"$f":"IF(Eingabe!O68<>\"\",Eingabe!O68,\"\")","v":""},{"$f":"IF(Eingabe!P68<>\"\",Eingabe!P68,\"\")","v":""}]
[{"$f":"IF(Eingabe!C69<>\"\",Eingabe!C69,\"\")","v":""},{"$f":"IF(Eingabe!D69<>\"\",Eingabe!D69,\"\")","v":""},{"$f":"IF(Eingabe!F69<>\"\",Eingabe!F69,\"\")","v":""},{"$f":"IF(Eingabe!E69<>\"\",Eingabe!E69,\"\")","v":""},{"$f":"IF(Eingabe!G69<>\"\",Eingabe!G69,\"\")","v":""},{"$f":"IF(Eingabe!B69<>\"\",Eingabe!B69,\"\")","v":""},{"$f":"IF(Eingabe!H69<>\"\",Eingabe!H69,\"\")","v":""},{"$f":"IF(Eingabe!I69<>\"\",Eingabe!I69,\"\")","v":""},{"$f":"IF(Eingabe!J69<>\"\",Eingabe!J69,\"\")","v":""},{"$f":"IF(Eingabe!K69<>\"\",Eingabe!K69,\"\")","v":""},{"$f":"IF(Eingabe!L69<>\"\",Eingabe!L69,\"\")","v":""},{"$f":"IF(Eingabe!M69<>\"\",Eingabe!M69,\"\")","v":""},{"$f":"IF(Eingabe!N69<>\"\",Eingabe!N69,\"\")","v":""},{"$f":"IF(Eingabe!O69<>\"\",Eingabe!O69,\"\")","v":""},{"$f":"IF(Eingabe!P69<>\"\",Eingabe!P69,\"\")","v":""}]
[{"$f":"IF(Eingabe!C70<>\"\",Eingabe!C70,\"\")","v":""},{"$f":"IF(Eingabe!D70<>\"\",Eingabe!D70,\"\")","v":""},{"$f":"IF(Eingabe!F70<>\"\",Eingabe!F70,\"\")","v":""},{"$f":"IF(Eingabe!E70<>\"\",Eingabe!E70,\"\")","v":""},{"$f":"IF(Eingabe!G70<>\"\",Eingabe!G70,\"\")","v":""},{"$f":"IF(Eingabe!B70<>\"\",Eingabe!B70,\"\")","v":""},{"$f":"IF(Eingabe!H70<>\"\",Eingabe!H70,\"\")","v":""},{"$f":"IF(Eingabe!I70<>\"\",Eingabe!I70,\"\")","v":""},{"$f":"IF(Eingabe!J70<>\"\",Eingabe!J70,\"\")","v":""},{"$f":"IF(Eingabe!K70<>\"\",Eingabe!K70,\"\")","v":""},{"$f":"IF(Eingabe!L70<>\"\",Eingabe!L70,\"\")","v":""},{"$f":"IF(Eingabe!M70<>\"\",Eingabe!M70,\"\")","v":""},{"$f":"IF(Eingabe!N70<>\"\",Eingabe!N70,\"\")","v":""},{"$f":"IF(Eingabe!O70<>\"\",Eingabe!O70,\"\")","v":""},{"$f":"IF(Eingabe!P70<>\"\",Eingabe!P70,\"\")","v":""}]
[{"$f":"IF(Eingabe!C71<>\"\",Eingabe!C71,\"\")","v":""},{"$f":"IF(Eingabe!D71<>\"\",Eingabe!D71,\"\")","v":""},{"$f":"IF(Eingabe!F71<>\"\",Eingabe!F71,\"\")","v":""},{"$f":"IF(Eingabe!E71<>\"\",Eingabe!E71,\"\")","v":""},{"$f":"IF(Eingabe!G71<>\"\",Eingabe!G71,\"\")","v":""},{"$f":"IF(Eingabe!B71<>\"\",Eingabe!B71,\"\")","v":""},{"$f":"IF(Eingabe!H71<>\"\",Eingabe!H71,\"\")","v":""},{"$f":"IF(Eingabe!I71<>\"\",Eingabe!I71,\"\")","v":""},{"$f":"IF(Eingabe!J71<>\"\",Eingabe!J71,\"\")","v":""},{"$f":"IF(Eingabe!K71<>\"\",Eingabe!K71,\"\")","v":""},{"$f":"IF(Eingabe!L71<>\"\",Eingabe!L71,\"\")","v":""},{"$f":"IF(Eingabe!M71<>\"\",Eingabe!M71,\"\")","v":""},{"$f":"IF(Eingabe!N71<>\"\",Eingabe!N71,\"\")","v":""},{"$f":"IF(Eingabe!O71<>\"\",Eingabe!O71,\"\")","v":""},{"$f":"IF(Eingabe!P71<>\"\",Eingabe!P71,\"\")","v":""}]
[{"$f":"IF(Eingabe!C72<>\"\",Eingabe!C72,\"\")","v":""},{"$f":"IF(Eingabe!D72<>\"\",Eingabe!D72,\"\")","v":""},{"$f":"IF(Eingabe!F72<>\"\",Eingabe!F72,\"\")","v":""},{"$f":"IF(Eingabe!E72<>\"\",Eingabe!E72,\"\")","v":""},{"$f":"IF(Eingabe!G72<>\"\",Eingabe!G72,\"\")","v":""},{"$f":"IF(Eingabe!B72<>\"\",Eingabe!B72,\"\")","v":""},{"$f":"IF(Eingabe!H72<>\"\",Eingabe!H72,\"\")","v":""},{"$f":"IF(Eingabe!I72<>\"\",Eingabe!I72,\"\")","v":""},{"$f":"IF(Eingabe!J72<>\"\",Eingabe!J72,\"\")","v":""},{"$f":"IF(Eingabe!K72<>\"\",Eingabe!K72,\"\")","v":""},{"$f":"IF(Eingabe!L72<>\"\",Eingabe!L72,\"\")","v":""},{"$f":"IF(Eingabe!M72<>\"\",Eingabe!M72,\"\")","v":""},{"$f":"IF(Eingabe!N72<>\"\",Eingabe!N72,\"\")","v":""},{"$f":"IF(Eingabe!O72<>\"\",Eingabe!O72,\"\")","v":""},{"$f":"IF(Eingabe!P72<>\"\",Eingabe!P72,\"\")","v":""}]
[{"$f":"IF(Eingabe!C73<>\"\",Eingabe!C73,\"\")","v":""},{"$f":"IF(Eingabe!D73<>\"\",Eingabe!D73,\"\")","v":""},{"$f":"IF(Eingabe!F73<>\"\",Eingabe!F73,\"\")","v":""},{"$f":"IF(Eingabe!E73<>\"\",Eingabe!E73,\"\")","v":""},{"$f":"IF(Eingabe!G73<>\"\",Eingabe!G73,\"\")","v":""},{"$f":"IF(Eingabe!B73<>\"\",Eingabe!B73,\"\")","v":""},{"$f":"IF(Eingabe!H73<>\"\",Eingabe!H73,\"\")","v":""},{"$f":"IF(Eingabe!I73<>\"\",Eingabe!I73,\"\")","v":""},{"$f":"IF(Eingabe!J73<>\"\",Eingabe!J73,\"\")","v":""},{"$f":"IF(Eingabe!K73<>\"\",Eingabe!K73,\"\")","v":""},{"$f":"IF(Eingabe!L73<>\"\",Eingabe!L73,\"\")","v":""},{"$f":"IF(Eingabe!M73<>\"\",Eingabe!M73,\"\")","v":""},{"$f":"IF(Eingabe!N73<>\"\",Eingabe!N73,\"\")","v":""},{"$f":"IF(Eingabe!O73<>\"\",Eingabe!O73,\"\")","v":""},{"$f":"IF(Eingabe!P73<>\"\",Eingabe!P73,\"\")","v":""}]
[{"$f":"IF(Eingabe!C74<>\"\",Eingabe!C74,\"\")","v":""},{"$f":"IF(Eingabe!D74<>\"\",Eingabe!D74,\"\")","v":""},{"$f":"IF(Eingabe!F74<>\"\",Eingabe!F74,\"\")","v":""},{"$f":"IF(Eingabe!E74<>\"\",Eingabe!E74,\"\")","v":""},{"$f":"IF(Eingabe!G74<>\"\",Eingabe!G74,\"\")","v":""},{"$f":"IF(Eingabe!B74<>\"\",Eingabe!B74,\"\")","v":""},{"$f":"IF(Eingabe!H74<>\"\",Eingabe!H74,\"\")","v":""},{"$f":"IF(Eingabe!I74<>\"\",Eingabe!I74,\"\")","v":""},{"$f":"IF(Eingabe!J74<>\"\",Eingabe!J74,\"\")","v":""},{"$f":"IF(Eingabe!K74<>\"\",Eingabe!K74,\"\")","v":""},{"$f":"IF(Eingabe!L74<>\"\",Eingabe!L74,\"\")","v":""},{"$f":"IF(Eingabe!M74<>\"\",Eingabe!M74,\"\")","v":""},{"$f":"IF(Eingabe!N74<>\"\",Eingabe!N74,\"\")","v":""},{"$f":"IF(Eingabe!O74<>\"\",Eingabe!O74,\"\")","v":""},{"$f":"IF(Eingabe!P74<>\"\",Eingabe!P74,\"\")","v":""}]
[{"$f":"IF(Eingabe!C75<>\"\",Eingabe!C75,\"\")","v":""},{"$f":"IF(Eingabe!D75<>\"\",Eingabe!D75,\"\")","v":""},{"$f":"IF(Eingabe!F75<>\"\",Eingabe!F75,\"\")","v":""},{"$f":"IF(Eingabe!E75<>\"\",Eingabe!E75,\"\")","v":""},{"$f":"IF(Eingabe!G75<>\"\",Eingabe!G75,\"\")","v":""},{"$f":"IF(Eingabe!B75<>\"\",Eingabe!B75,\"\")","v":""},{"$f":"IF(Eingabe!H75<>\"\",Eingabe!H75,\"\")","v":""},{"$f":"IF(Eingabe!I75<>\"\",Eingabe!I75,\"\")","v":""},{"$f":"IF(Eingabe!J75<>\"\",Eingabe!J75,\"\")","v":""},{"$f":"IF(Eingabe!K75<>\"\",Eingabe!K75,\"\")","v":""},{"$f":"IF(Eingabe!L75<>\"\",Eingabe!L75,\"\")","v":""},{"$f":"IF(Eingabe!M75<>\"\",Eingabe!M75,\"\")","v":""},{"$f":"IF(Eingabe!N75<>\"\",Eingabe!N75,\"\")","v":""},{"$f":"IF(Eingabe!O75<>\"\",Eingabe!O75,\"\")","v":""},{"$f":"IF(Eingabe!P75<>\"\",Eingabe!P75,\"\")","v":""}]
[{"$f":"IF(Eingabe!C76<>\"\",Eingabe!C76,\"\")","v":""},{"$f":"IF(Eingabe!D76<>\"\",Eingabe!D76,\"\")","v":""},{"$f":"IF(Eingabe!F76<>\"\",Eingabe!F76,\"\")","v":""},{"$f":"IF(Eingabe!E76<>\"\",Eingabe!E76,\"\")","v":""},{"$f":"IF(Eingabe!G76<>\"\",Eingabe!G76,\"\")","v":""},{"$f":"IF(Eingabe!B76<>\"\",Eingabe!B76,\"\")","v":""},{"$f":"IF(Eingabe!H76<>\"\",Eingabe!H76,\"\")","v":""},{"$f":"IF(Eingabe!I76<>\"\",Eingabe!I76,\"\")","v":""},{"$f":"IF(Eingabe!J76<>\"\",Eingabe!J76,\"\")","v":""},{"$f":"IF(Eingabe!K76<>\"\",Eingabe!K76,\"\")","v":""},{"$f":"IF(Eingabe!L76<>\"\",Eingabe!L76,\"\")","v":""},{"$f":"IF(Eingabe!M76<>\"\",Eingabe!M76,\"\")","v":""},{"$f":"IF(Eingabe!N76<>\"\",Eingabe!N76,\"\")","v":""},{"$f":"IF(Eingabe!O76<>\"\",Eingabe!O76,\"\")","v":""},{"$f":"IF(Eingabe!P76<>\"\",Eingabe!P76,\"\")","v":""}]
[{"$f":"IF(Eingabe!C77<>\"\",Eingabe!C77,\"\")","v":""},{"$f":"IF(Eingabe!D77<>\"\",Eingabe!D77,\"\")","v":""},{"$f":"IF(Eingabe!F77<>\"\",Eingabe!F77,\"\")","v":""},{"$f":"IF(Eingabe!E77<>\"\",Eingabe!E77,\"\")","v":""},{"$f":"IF(Eingabe!G77<>\"\",Eingabe!G77,\"\")","v":""},{"$f":"IF(Eingabe!B77<>\"\",Eingabe!B77,\"\")","v":""},{"$f":"IF(Eingabe!H77<>\"\",Eingabe!H77,\"\")","v":""},{"$f":"IF(Eingabe!I77<>\"\",Eingabe!I77,\"\")","v":""},{"$f":"IF(Eingabe!J77<>\"\",Eingabe!J77,\"\")","v":""},{"$f":"IF(Eingabe!K77<>\"\",Eingabe!K77,\"\")","v":""},{"$f":"IF(Eingabe!L77<>\"\",Eingabe!L77,\"\")","v":""},{"$f":"IF(Eingabe!M77<>\"\",Eingabe!M77,\"\")","v":""},{"$f":"IF(Eingabe!N77<>\"\",Eingabe!N77,\"\")","v":""},{"$f":"IF(Eingabe!O77<>\"\",Eingabe!O77,\"\")","v":""},{"$f":"IF(Eingabe!P77<>\"\",Eingabe!P77,\"\")","v":""}]
[{"$f":"IF(Eingabe!C78<>\"\",Eingabe!C78,\"\")","v":""},{"$f":"IF(Eingabe!D78<>\"\",Eingabe!D78,\"\")","v":""},{"$f":"IF(Eingabe!F78<>\"\",Eingabe!F78,\"\")","v":""},{"$f":"IF(Eingabe!E78<>\"\",Eingabe!E78,\"\")","v":""},{"$f":"IF(Eingabe!G78<>\"\",Eingabe!G78,\"\")","v":""},{"$f":"IF(Eingabe!B78<>\"\",Eingabe!B78,\"\")","v":""},{"$f":"IF(Eingabe!H78<>\"\",Eingabe!H78,\"\")","v":""},{"$f":"IF(Eingabe!I78<>\"\",Eingabe!I78,\"\")","v":""},{"$f":"IF(Eingabe!J78<>\"\",Eingabe!J78,\"\")","v":""},{"$f":"IF(Eingabe!K78<>\"\",Eingabe!K78,\"\")","v":""},{"$f":"IF(Eingabe!L78<>\"\",Eingabe!L78,\"\")","v":""},{"$f":"IF(Eingabe!M78<>\"\",Eingabe!M78,\"\")","v":""},{"$f":"IF(Eingabe!N78<>\"\",Eingabe!N78,\"\")","v":""},{"$f":"IF(Eingabe!O78<>\"\",Eingabe!O78,\"\")","v":""},{"$f":"IF(Eingabe!P78<>\"\",Eingabe!P78,\"\")","v":""}]
[{"$f":"IF(Eingabe!C79<>\"\",Eingabe!C79,\"\")","v":""},{"$f":"IF(Eingabe!D79<>\"\",Eingabe!D79,\"\")","v":""},{"$f":"IF(Eingabe!F79<>\"\",Eingabe!F79,\"\")","v":""},{"$f":"IF(Eingabe!E79<>\"\",Eingabe!E79,\"\")","v":""},{"$f":"IF(Eingabe!G79<>\"\",Eingabe!G79,\"\")","v":""},{"$f":"IF(Eingabe!B79<>\"\",Eingabe!B79,\"\")","v":""},{"$f":"IF(Eingabe!H79<>\"\",Eingabe!H79,\"\")","v":""},{"$f":"IF(Eingabe!I79<>\"\",Eingabe!I79,\"\")","v":""},{"$f":"IF(Eingabe!J79<>\"\",Eingabe!J79,\"\")","v":""},{"$f":"IF(Eingabe!K79<>\"\",Eingabe!K79,\"\")","v":""},{"$f":"IF(Eingabe!L79<>\"\",Eingabe!L79,\"\")","v":""},{"$f":"IF(Eingabe!M79<>\"\",Eingabe!M79,\"\")","v":""},{"$f":"IF(Eingabe!N79<>\"\",Eingabe!N79,\"\")","v":""},{"$f":"IF(Eingabe!O79<>\"\",Eingabe!O79,\"\")","v":""},{"$f":"IF(Eingabe!P79<>\"\",Eingabe!P79,\"\")","v":""}]
[{"$f":"IF(Eingabe!C80<>\"\",Eingabe!C80,\"\")","v":""},{"$f":"IF(Eingabe!D80<>\"\",Eingabe!D80,\"\")","v":""},{"$f":"IF(Eingabe!F80<>\"\",Eingabe!F80,\"\")","v":""},{"$f":"IF(Eingabe!E80<>\"\",Eingabe!E80,\"\")","v":""},{"$f":"IF(Eingabe!G80<>\"\",Eingabe!G80,\"\")","v":""},{"$f":"IF(Eingabe!B80<>\"\",Eingabe!B80,\"\")","v":""},{"$f":"IF(Eingabe!H80<>\"\",Eingabe!H80,\"\")","v":""},{"$f":"IF(Eingabe!I80<>\"\",Eingabe!I80,\"\")","v":""},{"$f":"IF(Eingabe!J80<>\"\",Eingabe!J80,\"\")","v":""},{"$f":"IF(Eingabe!K80<>\"\",Eingabe!K80,\"\")","v":""},{"$f":"IF(Eingabe!L80<>\"\",Eingabe!L80,\"\")","v":""},{"$f":"IF(Eingabe!M80<>\"\",Eingabe!M80,\"\")","v":""},{"$f":"IF(Eingabe!N80<>\"\",Eingabe!N80,\"\")","v":""},{"$f":"IF(Eingabe!O80<>\"\",Eingabe!O80,\"\")","v":""},{"$f":"IF(Eingabe!P80<>\"\",Eingabe!P80,\"\")","v":""}]
[{"$f":"IF(Eingabe!C81<>\"\",Eingabe!C81,\"\")","v":""},{"$f":"IF(Eingabe!D81<>\"\",Eingabe!D81,\"\")","v":""},{"$f":"IF(Eingabe!F81<>\"\",Eingabe!F81,\"\")","v":""},{"$f":"IF(Eingabe!E81<>\"\",Eingabe!E81,\"\")","v":""},{"$f":"IF(Eingabe!G81<>\"\",Eingabe!G81,\"\")","v":""},{"$f":"IF(Eingabe!B81<>\"\",Eingabe!B81,\"\")","v":""},{"$f":"IF(Eingabe!H81<>\"\",Eingabe!H81,\"\")","v":""},{"$f":"IF(Eingabe!I81<>\"\",Eingabe!I81,\"\")","v":""},{"$f":"IF(Eingabe!J81<>\"\",Eingabe!J81,\"\")","v":""},{"$f":"IF(Eingabe!K81<>\"\",Eingabe!K81,\"\")","v":""},{"$f":"IF(Eingabe!L81<>\"\",Eingabe!L81,\"\")","v":""},{"$f":"IF(Eingabe!M81<>\"\",Eingabe!M81,\"\")","v":""},{"$f":"IF(Eingabe!N81<>\"\",Eingabe!N81,\"\")","v":""},{"$f":"IF(Eingabe!O81<>\"\",Eingabe!O81,\"\")","v":""},{"$f":"IF(Eingabe!P81<>\"\",Eingabe!P81,\"\")","v":""}]
[{"$f":"IF(Eingabe!C82<>\"\",Eingabe!C82,\"\")","v":""},{"$f":"IF(Eingabe!D82<>\"\",Eingabe!D82,\"\")","v":""},{"$f":"IF(Eingabe!F82<>\"\",Eingabe!F82,\"\")","v":""},{"$f":"IF(Eingabe!E82<>\"\",Eingabe!E82,\"\")","v":""},{"$f":"IF(Eingabe!G82<>\"\",Eingabe!G82,\"\")","v":""},{"$f":"IF(Eingabe!B82<>\"\",Eingabe!B82,\"\")","v":""},{"$f":"IF(Eingabe!H82<>\"\",Eingabe!H82,\"\")","v":""},{"$f":"IF(Eingabe!I82<>\"\",Eingabe!I82,\"\")","v":""},{"$f":"IF(Eingabe!J82<>\"\",Eingabe!J82,\"\")","v":""},{"$f":"IF(Eingabe!K82<>\"\",Eingabe!K82,\"\")","v":""},{"$f":"IF(Eingabe!L82<>\"\",Eingabe!L82,\"\")","v":""},{"$f":"IF(Eingabe!M82<>\"\",Eingabe!M82,\"\")","v":""},{"$f":"IF(Eingabe!N82<>\"\",Eingabe!N82,\"\")","v":""},{"$f":"IF(Eingabe!O82<>\"\",Eingabe!O82,\"\")","v":""},{"$f":"IF(Eingabe!P82<>\"\",Eingabe!P82,\"\")","v":""}]
[{"$f":"IF(Eingabe!C83<>\"\",Eingabe!C83,\"\")","v":""},{"$f":"IF(Eingabe!D83<>\"\",Eingabe!D83,\"\")","v":""},{"$f":"IF(Eingabe!F83<>\"\",Eingabe!F83,\"\")","v":""},{"$f":"IF(Eingabe!E83<>\"\",Eingabe!E83,\"\")","v":""},{"$f":"IF(Eingabe!G83<>\"\",Eingabe!G83,\"\")","v":""},{"$f":"IF(Eingabe!B83<>\"\",Eingabe!B83,\"\")","v":""},{"$f":"IF(Eingabe!H83<>\"\",Eingabe!H83,\"\")","v":""},{"$f":"IF(Eingabe!I83<>\"\",Eingabe!I83,\"\")","v":""},{"$f":"IF(Eingabe!J83<>\"\",Eingabe!J83,\"\")","v":""},{"$f":"IF(Eingabe!K83<>\"\",Eingabe!K83,\"\")","v":""},{"$f":"IF(Eingabe!L83<>\"\",Eingabe!L83,\"\")","v":""},{"$f":"IF(Eingabe!M83<>\"\",Eingabe!M83,\"\")","v":""},{"$f":"IF(Eingabe!N83<>\"\",Eingabe!N83,\"\")","v":""},{"$f":"IF(Eingabe!O83<>\"\",Eingabe!O83,\"\")","v":""},{"$f":"IF(Eingabe!P83<>\"\",Eingabe!P83,\"\")","v":""}]
[{"$f":"IF(Eingabe!C84<>\"\",Eingabe!C84,\"\")","v":""},{"$f":"IF(Eingabe!D84<>\"\",Eingabe!D84,\"\")","v":""},{"$f":"IF(Eingabe!F84<>\"\",Eingabe!F84,\"\")","v":""},{"$f":"IF(Eingabe!E84<>\"\",Eingabe!E84,\"\")","v":""},{"$f":"IF(Eingabe!G84<>\"\",Eingabe!G84,\"\")","v":""},{"$f":"IF(Eingabe!B84<>\"\",Eingabe!B84,\"\")","v":""},{"$f":"IF(Eingabe!H84<>\"\",Eingabe!H84,\"\")","v":""},{"$f":"IF(Eingabe!I84<>\"\",Eingabe!I84,\"\")","v":""},{"$f":"IF(Eingabe!J84<>\"\",Eingabe!J84,\"\")","v":""},{"$f":"IF(Eingabe!K84<>\"\",Eingabe!K84,\"\")","v":""},{"$f":"IF(Eingabe!L84<>\"\",Eingabe!L84,\"\")","v":""},{"$f":"IF(Eingabe!M84<>\"\",Eingabe!M84,\"\")","v":""},{"$f":"IF(Eingabe!N84<>\"\",Eingabe!N84,\"\")","v":""},{"$f":"IF(Eingabe!O84<>\"\",Eingabe!O84,\"\")","v":""},{"$f":"IF(Eingabe!P84<>\"\",Eingabe!P84,\"\")","v":""}]
[{"$f":"IF(Eingabe!C85<>\"\",Eingabe!C85,\"\")","v":""},{"$f":"IF(Eingabe!D85<>\"\",Eingabe!D85,\"\")","v":""},{"$f":"IF(Eingabe!F85<>\"\",Eingabe!F85,\"\")","v":""},{"$f":"IF(Eingabe!E85<>\"\",Eingabe!E85,\"\")","v":""},{"$f":"IF(Eingabe!G85<>\"\",Eingabe!G85,\"\")","v":""},{"$f":"IF(Eingabe!B85<>\"\",Eingabe!B85,\"\")","v":""},{"$f":"IF(Eingabe!H85<>\"\",Eingabe!H85,\"\")","v":""},{"$f":"IF(Eingabe!I85<>\"\",Eingabe!I85,\"\")","v":""},{"$f":"IF(Eingabe!J85<>\"\",Eingabe!J85,\"\")","v":""},{"$f":"IF(Eingabe!K85<>\"\",Eingabe!K85,\"\")","v":""},{"$f":"IF(Eingabe!L85<>\"\",Eingabe!L85,\"\")","v":""},{"$f":"IF(Eingabe!M85<>\"\",Eingabe!M85,\"\")","v":""},{"$f":"IF(Eingabe!N85<>\"\",Eingabe!N85,\"\")","v":""},{"$f":"IF(Eingabe!O85<>\"\",Eingabe!O85,\"\")","v":""},{"$f":"IF(Eingabe!P85<>\"\",Eingabe!P85,\"\")","v":""}]
[{"$f":"IF(Eingabe!C86<>\"\",Eingabe!C86,\"\")","v":""},{"$f":"IF(Eingabe!D86<>\"\",Eingabe!D86,\"\")","v":""},{"$f":"IF(Eingabe!F86<>\"\",Eingabe!F86,\"\")","v":""},{"$f":"IF(Eingabe!E86<>\"\",Eingabe!E86,\"\")","v":""},{"$f":"IF(Eingabe!G86<>\"\",Eingabe!G86,\"\")","v":""},{"$f":"IF(Eingabe!B86<>\"\",Eingabe!B86,\"\")","v":""},{"$f":"IF(Eingabe!H86<>\"\",Eingabe!H86,\"\")","v":""},{"$f":"IF(Eingabe!I86<>\"\",Eingabe!I86,\"\")","v":""},{"$f":"IF(Eingabe!J86<>\"\",Eingabe!J86,\"\")","v":""},{"$f":"IF(Eingabe!K86<>\"\",Eingabe!K86,\"\")","v":""},{"$f":"IF(Eingabe!L86<>\"\",Eingabe!L86,\"\")","v":""},{"$f":"IF(Eingabe!M86<>\"\",Eingabe!M86,\"\")","v":""},{"$f":"IF(Eingabe!N86<>\"\",Eingabe!N86,\"\")","v":""},{"$f":"IF(Eingabe!O86<>\"\",Eingabe!O86,\"\")","v":""},{"$f":"IF(Eingabe!P86<>\"\",Eingabe!P86,\"\")","v":""}]
[{"$f":"IF(Eingabe!C87<>\"\",Eingabe!C87,\"\")","v":""},{"$f":"IF(Eingabe!D87<>\"\",Eingabe!D87,\"\")","v":""},{"$f":"IF(Eingabe!F87<>\"\",Eingabe!F87,\"\")","v":""},{"$f":"IF(Eingabe!E87<>\"\",Eingabe!E87,\"\")","v":""},{"$f":"IF(Eingabe!G87<>\"\",Eingabe!G87,\"\")","v":""},{"$f":"IF(Eingabe!B87<>\"\",Eingabe!B87,\"\")","v":""},{"$f":"IF(Eingabe!H87<>\"\",Eingabe!H87,\"\")","v":""},{"$f":"IF(Eingabe!I87<>\"\",Eingabe!I87,\"\")","v":""},{"$f":"IF(Eingabe!J87<>\"\",Eingabe!J87,\"\")","v":""},{"$f":"IF(Eingabe!K87<>\"\",Eingabe!K87,\"\")","v":""},{"$f":"IF(Eingabe!L87<>\"\",Eingabe!L87,\"\")","v":""},{"$f":"IF(Eingabe!M87<>\"\",Eingabe!M87,\"\")","v":""},{"$f":"IF(Eingabe!N87<>\"\",Eingabe!N87,\"\")","v":""},{"$f":"IF(Eingabe!O87<>\"\",Eingabe!O87,\"\")","v":""},{"$f":"IF(Eingabe!P87<>\"\",Eingabe!P87,\"\")","v":""}]
[{"$f":"IF(Eingabe!C88<>\"\",Eingabe!C88,\"\")","v":""},{"$f":"IF(Eingabe!D88<>\"\",Eingabe!D88,\"\")","v":""},{"$f":"IF(Eingabe!F88<>\"\",Eingabe!F88,\"\")","v":""},{"$f":"IF(Eingabe!E88<>\"\",Eingabe!E88,\"\")","v":""},{"$f":"IF(Eingabe!G88<>\"\",Eingabe!G88,\"\")","v":""},{"$f":"IF(Eingabe!B88<>\"\",Eingabe!B88,\"\")","v":""},{"$f":"IF(Eingabe!H88<>\"\",Eingabe!H88,\"\")","v":""},{"$f":"IF(Eingabe!I88<>\"\",Eingabe!I88,\"\")","v":""},{"$f":"IF(Eingabe!J88<>\"\",Eingabe!J88,\"\")","v":""},{"$f":"IF(Eingabe!K88<>\"\",Eingabe!K88,\"\")","v":""},{"$f":"IF(Eingabe!L88<>\"\",Eingabe!L88,\"\")","v":""},{"$f":"IF(Eingabe!M88<>\"\",Eingabe!M88,\"\")","v":""},{"$f":"IF(Eingabe!N88<>\"\",Eingabe!N88,\"\")","v":""},{"$f":"IF(Eingabe!O88<>\"\",Eingabe!O88,\"\")","v":""},{"$f":"IF(Eingabe!P88<>\"\",Eingabe!P88,\"\")","v":""}]
[{"$f":"IF(Eingabe!C89<>\"\",Eingabe!C89,\"\")","v":""},{"$f":"IF(Eingabe!D89<>\"\",Eingabe!D89,\"\")","v":""},{"$f":"IF(Eingabe!F89<>\"\",Eingabe!F89,\"\")","v":""},{"$f":"IF(Eingabe!E89<>\"\",Eingabe!E89,\"\")","v":""},{"$f":"IF(Eingabe!G89<>\"\",Eingabe!G89,\"\")","v":""},{"$f":"IF(Eingabe!B89<>\"\",Eingabe!B89,\"\")","v":""},{"$f":"IF(Eingabe!H89<>\"\",Eingabe!H89,\"\")","v":""},{"$f":"IF(Eingabe!I89<>\"\",Eingabe!I89,\"\")","v":""},{"$f":"IF(Eingabe!J89<>\"\",Eingabe!J89,\"\")","v":""},{"$f":"IF(Eingabe!K89<>\"\",Eingabe!K89,\"\")","v":""},{"$f":"IF(Eingabe!L89<>\"\",Eingabe!L89,\"\")","v":""},{"$f":"IF(Eingabe!M89<>\"\",Eingabe!M89,\"\")","v":""},{"$f":"IF(Eingabe!N89<>\"\",Eingabe!N89,\"\")","v":""},{"$f":"IF(Eingabe!O89<>\"\",Eingabe!O89,\"\")","v":""},{"$f":"IF(Eingabe!P89<>\"\",Eingabe!P89,\"\")","v":""}]
[{"$f":"IF(Eingabe!C90<>\"\",Eingabe!C90,\"\")","v":""},{"$f":"IF(Eingabe!D90<>\"\",Eingabe!D90,\"\")","v":""},{"$f":"IF(Eingabe!F90<>\"\",Eingabe!F90,\"\")","v":""},{"$f":"IF(Eingabe!E90<>\"\",Eingabe!E90,\"\")","v":""},{"$f":"IF(Eingabe!G90<>\"\",Eingabe!G90,\"\")","v":""},{"$f":"IF(Eingabe!B90<>\"\",Eingabe!B90,\"\")","v":""},{"$f":"IF(Eingabe!H90<>\"\",Eingabe!H90,\"\")","v":""},{"$f":"IF(Eingabe!I90<>\"\",Eingabe!I90,\"\")","v":""},{"$f":"IF(Eingabe!J90<>\"\",Eingabe!J90,\"\")","v":""},{"$f":"IF(Eingabe!K90<>\"\",Eingabe!K90,\"\")","v":""},{"$f":"IF(Eingabe!L90<>\"\",Eingabe!L90,\"\")","v":""},{"$f":"IF(Eingabe!M90<>\"\",Eingabe!M90,\"\")","v":""},{"$f":"IF(Eingabe!N90<>\"\",Eingabe!N90,\"\")","v":""},{"$f":"IF(Eingabe!O90<>\"\",Eingabe!O90,\"\")","v":""},{"$f":"IF(Eingabe!P90<>\"\",Eingabe!P90,\"\")","v":""}]
[{"$f":"IF(Eingabe!C91<>\"\",Eingabe!C91,\"\")","v":""},{"$f":"IF(Eingabe!D91<>\"\",Eingabe!D91,\"\")","v":""},{"$f":"IF(Eingabe!F91<>\"\",Eingabe!F91,\"\")","v":""},{"$f":"IF(Eingabe!E91<>\"\",Eingabe!E91,\"\")","v":""},{"$f":"IF(Eingabe!G91<>\"\",Eingabe!G91,\"\")","v":""},{"$f":"IF(Eingabe!B91<>\"\",Eingabe!B91,\"\")","v":""},{"$f":"IF(Eingabe!H91<>\"\",Eingabe!H91,\"\")","v":""},{"$f":"IF(Eingabe!I91<>\"\",Eingabe!I91,\"\")","v":""},{"$f":"IF(Eingabe!J91<>\"\",Eingabe!J91,\"\")","v":""},{"$f":"IF(Eingabe!K91<>\"\",Eingabe!K91,\"\")","v":""},{"$f":"IF(Eingabe!L91<>\"\",Eingabe!L91,\"\")","v":""},{"$f":"IF(Eingabe!M91<>\"\",Eingabe!M91,\"\")","v":""},{"$f":"IF(Eingabe!N91<>\"\",Eingabe!N91,\"\")","v":""},{"$f":"IF(Eingabe!O91<>\"\",Eingabe!O91,\"\")","v":""},{"$f":"IF(Eingabe!P91<>\"\",Eingabe!P91,\"\")","v":""}]
[{"$f":"IF(Eingabe!C92<>\"\",Eingabe!C92,\"\")","v":""},{"$f":"IF(Eingabe!D92<>\"\",Eingabe!D92,\"\")","v":""},{"$f":"IF(Eingabe!F92<>\"\",Eingabe!F92,\"\")","v":""},{"$f":"IF(Eingabe!E92<>\"\",Eingabe!E92,\"\")","v":""},{"$f":"IF(Eingabe!G92<>\"\",Eingabe!G92,\"\")","v":""},{"$f":"IF(Eingabe!B92<>\"\",Eingabe!B92,\"\")","v":""},{"$f":"IF(Eingabe!H92<>\"\",Eingabe!H92,\"\")","v":""},{"$f":"IF(Eingabe!I92<>\"\",Eingabe!I92,\"\")","v":""},{"$f":"IF(Eingabe!J92<>\"\",Eingabe!J92,\"\")","v":""},{"$f":"IF(Eingabe!K92<>\"\",Eingabe!K92,\"\")","v":""},{"$f":"IF(Eingabe!L92<>\"\",Eingabe!L92,\"\")","v":""},{"$f":"IF(Eingabe!M92<>\"\",Eingabe!M92,\"\")","v":""},{"$f":"IF(Eingabe!N92<>\"\",Eingabe!N92,\"\")","v":""},{"$f":"IF(Eingabe!O92<>\"\",Eingabe!O92,\"\")","v":""},{"$f":"IF(Eingabe!P92<>\"\",Eingabe!P92,\"\")","v":""}]
[{"$f":"IF(Eingabe!C93<>\"\",Eingabe!C93,\"\")","v":""},{"$f":"IF(Eingabe!D93<>\"\",Eingabe!D93,\"\")","v":""},{"$f":"IF(Eingabe!F93<>\"\",Eingabe!F93,\"\")","v":""},{"$f":"IF(Eingabe!E93<>\"\",Eingabe!E93,\"\")","v":""},{"$f":"IF(Eingabe!G93<>\"\",Eingabe!G93,\"\")","v":""},{"$f":"IF(Eingabe!B93<>\"\",Eingabe!B93,\"\")","v":""},{"$f":"IF(Eingabe!H93<>\"\",Eingabe!H93,\"\")","v":""},{"$f":"IF(Eingabe!I93<>\"\",Eingabe!I93,\"\")","v":""},{"$f":"IF(Eingabe!J93<>\"\",Eingabe!J93,\"\")","v":""},{"$f":"IF(Eingabe!K93<>\"\",Eingabe!K93,\"\")","v":""},{"$f":"IF(Eingabe!L93<>\"\",Eingabe!L93,\"\")","v":""},{"$f":"IF(Eingabe!M93<>\"\",Eingabe!M93,\"\")","v":""},{"$f":"IF(Eingabe!N93<>\"\",Eingabe!N93,\"\")","v":""},{"$f":"IF(Eingabe!O93<>\"\",Eingabe!O93,\"\")","v":""},{"$f":"IF(Eingabe!P93<>\"\",Eingabe!P93,\"\")","v":""}]
[{"$f":"IF(Eingabe!C94<>\"\",Eingabe!C94,\"\")","v":""},{"$f":"IF(Eingabe!D94<>\"\",Eingabe!D94,\"\")","v":""},{"$f":"IF(Eingabe!F94<>\"\",Eingabe!F94,\"\")","v":""},{"$f":"IF(Eingabe!E94<>\"\",Eingabe!E94,\"\")","v":""},{"$f":"IF(Eingabe!G94<>\"\",Eingabe!G94,\"\")","v":""},{"$f":"IF(Eingabe!B94<>\"\",Eingabe!B94,\"\")","v":""},{"$f":"IF(Eingabe!H94<>\"\",Eingabe!H94,\"\")","v":""},{"$f":"IF(Eingabe!I94<>\"\",Eingabe!I94,\"\")","v":""},{"$f":"IF(Eingabe!J94<>\"\",Eingabe!J94,\"\")","v":""},{"$f":"IF(Eingabe!K94<>\"\",Eingabe!K94,\"\")","v":""},{"$f":"IF(Eingabe!L94<>\"\",Eingabe!L94,\"\")","v":""},{"$f":"IF(Eingabe!M94<>\"\",Eingabe!M94,\"\")","v":""},{"$f":"IF(Eingabe!N94<>\"\",Eingabe!N94,\"\")","v":""},{"$f":"IF(Eingabe!O94<>\"\",Eingabe!O94,\"\")","v":""},{"$f":"IF(Eingabe!P94<>\"\",Eingabe!P94,\"\")","v":""}]
[{"$f":"IF(Eingabe!C95<>\"\",Eingabe!C95,\"\")","v":""},{"$f":"IF(Eingabe!D95<>\"\",Eingabe!D95,\"\")","v":""},{"$f":"IF(Eingabe!F95<>\"\",Eingabe!F95,\"\")","v":""},{"$f":"IF(Eingabe!E95<>\"\",Eingabe!E95,\"\")","v":""},{"$f":"IF(Eingabe!G95<>\"\",Eingabe!G95,\"\")","v":""},{"$f":"IF(Eingabe!B95<>\"\",Eingabe!B95,\"\")","v":""},{"$f":"IF(Eingabe!H95<>\"\",Eingabe!H95,\"\")","v":""},{"$f":"IF(Eingabe!I95<>\"\",Eingabe!I95,\"\")","v":""},{"$f":"IF(Eingabe!J95<>\"\",Eingabe!J95,\"\")","v":""},{"$f":"IF(Eingabe!K95<>\"\",Eingabe!K95,\"\")","v":""},{"$f":"IF(Eingabe!L95<>\"\",Eingabe!L95,\"\")","v":""},{"$f":"IF(Eingabe!M95<>\"\",Eingabe!M95,\"\")","v":""},{"$f":"IF(Eingabe!N95<>\"\",Eingabe!N95,\"\")","v":""},{"$f":"IF(Eingabe!O95<>\"\",Eingabe!O95,\"\")","v":""},{"$f":"IF(Eingabe!P95<>\"\",Eingabe!P95,\"\")","v":""}]
[{"$f":"IF(Eingabe!C96<>\"\",Eingabe!C96,\"\")","v":""},{"$f":"IF(Eingabe!D96<>\"\",Eingabe!D96,\"\")","v":""},{"$f":"IF(Eingabe!F96<>\"\",Eingabe!F96,\"\")","v":""},{"$f":"IF(Eingabe!E96<>\"\",Eingabe!E96,\"\")","v":""},{"$f":"IF(Eingabe!G96<>\"\",Eingabe!G96,\"\")","v":""},{"$f":"IF(Eingabe!B96<>\"\",Eingabe!B96,\"\")","v":""},{"$f":"IF(Eingabe!H96<>\"\",Eingabe!H96,\"\")","v":""},{"$f":"IF(Eingabe!I96<>\"\",Eingabe!I96,\"\")","v":""},{"$f":"IF(Eingabe!J96<>\"\",Eingabe!J96,\"\")","v":""},{"$f":"IF(Eingabe!K96<>\"\",Eingabe!K96,\"\")","v":""},{"$f":"IF(Eingabe!L96<>\"\",Eingabe!L96,\"\")","v":""},{"$f":"IF(Eingabe!M96<>\"\",Eingabe!M96,\"\")","v":""},{"$f":"IF(Eingabe!N96<>\"\",Eingabe!N96,\"\")","v":""},{"$f":"IF(Eingabe!O96<>\"\",Eingabe!O96,\"\")","v":""},{"$f":"IF(Eingabe!P96<>\"\",Eingabe!P96,\"\")","v":""}]
[{"$f":"IF(Eingabe!C97<>\"\",Eingabe!C97,\"\")","v":""},{"$f":"IF(Eingabe!D97<>\"\",Eingabe!D97,\"\")","v":""},{"$f":"IF(Eingabe!F97<>\"\",Eingabe!F97,\"\")","v":""},{"$f":"IF(Eingabe!E97<>\"\",Eingabe!E97,\"\")","v":""},{"$f":"IF(Eingabe!G97<>\"\",Eingabe!G97,\"\")","v":""},{"$f":"IF(Eingabe!B97<>\"\",Eingabe!B97,\"\")","v":""},{"$f":"IF(Eingabe!H97<>\"\",Eingabe!H97,\"\")","v":""},{"$f":"IF(Eingabe!I97<>\"\",Eingabe!I97,\"\")","v":""},{"$f":"IF(Eingabe!J97<>\"\",Eingabe!J97,\"\")","v":""},{"$f":"IF(Eingabe!K97<>\"\",Eingabe!K97,\"\")","v":""},{"$f":"IF(Eingabe!L97<>\"\",Eingabe!L97,\"\")","v":""},{"$f":"IF(Eingabe!M97<>\"\",Eingabe!M97,\"\")","v":""},{"$f":"IF(Eingabe!N97<>\"\",Eingabe!N97,\"\")","v":""},{"$f":"IF(Eingabe!O97<>\"\",Eingabe!O97,\"\")","v":""},{"$f":"IF(Eingabe!P97<>\"\",Eingabe!P97,\"\")","v":""}]
[{"$f":"IF(Eingabe!C98<>\"\",Eingabe!C98,\"\")","v":""},{"$f":"IF(Eingabe!D98<>\"\",Eingabe!D98,\"\")","v":""},{"$f":"IF(Eingabe!F98<>\"\",Eingabe!F98,\"\")","v":""},{"$f":"IF(Eingabe!E98<>\"\",Eingabe!E98,\"\")","v":""},{"$f":"IF(Eingabe!G98<>\"\",Eingabe!G98,\"\")","v":""},{"$f":"IF(Eingabe!B98<>\"\",Eingabe!B98,\"\")","v":""},{"$f":"IF(Eingabe!H98<>\"\",Eingabe!H98,\"\")","v":""},{"$f":"IF(Eingabe!I98<>\"\",Eingabe!I98,\"\")","v":""},{"$f":"IF(Eingabe!J98<>\"\",Eingabe!J98,\"\")","v":""},{"$f":"IF(Eingabe!K98<>\"\",Eingabe!K98,\"\")","v":""},{"$f":"IF(Eingabe!L98<>\"\",Eingabe!L98,\"\")","v":""},{"$f":"IF(Eingabe!M98<>\"\",Eingabe!M98,\"\")","v":""},{"$f":"IF(Eingabe!N98<>\"\",Eingabe!N98,\"\")","v":""},{"$f":"IF(Eingabe!O98<>\"\",Eingabe!O98,\"\")","v":""},{"$f":"IF(Eingabe!P98<>\"\",Eingabe!P98,\"\")","v":""}]
[{"$f":"IF(Eingabe!C99<>\"\",Eingabe!C99,\"\")","v":""},{"$f":"IF(Eingabe!D99<>\"\",Eingabe!D99,\"\")","v":""},{"$f":"IF(Eingabe!F99<>\"\",Eingabe!F99,\"\")","v":""},{"$f":"IF(Eingabe!E99<>\"\",Eingabe!E99,\"\")","v":""},{"$f":"IF(Eingabe!G99<>\"\",Eingabe!G99,\"\")","v":""},{"$f":"IF(Eingabe!B99<>\"\",Eingabe!B99,\"\")","v":""},{"$f":"IF(Eingabe!H99<>\"\",Eingabe!H99,\"\")","v":""},{"$f":"IF(Eingabe!I99<>\"\",Eingabe!I99,\"\")","v":""},{"$f":"IF(Eingabe!J99<>\"\",Eingabe!J99,\"\")","v":""},{"$f":"IF(Eingabe!K99<>\"\",Eingabe!K99,\"\")","v":""},{"$f":"IF(Eingabe!L99<>\"\",Eingabe!L99,\"\")","v":""},{"$f":"IF(Eingabe!M99<>\"\",Eingabe!M99,\"\")","v":""},{"$f":"IF(Eingabe!N99<>\"\",Eingabe!N99,\"\")","v":""},{"$f":"IF(Eingabe!O99<>\"\",Eingabe!O99,\"\")","v":""},{"$f":"IF(Eingabe!P99<>\"\",Eingabe!P99,\"\")","v":""}]
[{"$f":"IF(Eingabe!C100<>\"\",Eingabe!C100,\"\")","v":""},{"$f":"IF(Eingabe!D100<>\"\",Eingabe!D100,\"\")","v":""},{"$f":"IF(Eingabe!F100<>\"\",Eingabe!F100,\"\")","v":""},{"$f":"IF(Eingabe!E100<>\"\",Eingabe!E100,\"\")","v":""},{"$f":"IF(Eingabe!G100<>\"\",Eingabe!G100,\"\")","v":""},{"$f":"IF(Eingabe!B100<>\"\",Eingabe!B100,\"\")","v":""},{"$f":"IF(Eingabe!H100<>\"\",Eingabe!H100,\"\")","v":""},{"$f":"IF(Eingabe!I100<>\"\",Eingabe!I100,\"\")","v":""},{"$f":"IF(Eingabe!J100<>\"\",Eingabe!J100,\"\")","v":""},{"$f":"IF(Eingabe!K100<>\"\",Eingabe!K100,\"\")","v":""},{"$f":"IF(Eingabe!L100<>\"\",Eingabe!L100,\"\")","v":""},{"$f":"IF(Eingabe!M100<>\"\",Eingabe!M100,\"\")","v":""},{"$f":"IF(Eingabe!N100<>\"\",Eingabe!N100,\"\")","v":""},{"$f":"IF(Eingabe!O100<>\"\",Eingabe!O100,\"\")","v":""},{"$f":"IF(Eingabe!P100<>\"\",Eingabe!P100,\"\")","v":""}]
[{"$f":"IF(Eingabe!C101<>\"\",Eingabe!C101,\"\")","v":""},{"$f":"IF(Eingabe!D101<>\"\",Eingabe!D101,\"\")","v":""},{"$f":"IF(Eingabe!F101<>\"\",Eingabe!F101,\"\")","v":""},{"$f":"IF(Eingabe!E101<>\"\",Eingabe!E101,\"\")","v":""},{"$f":"IF(Eingabe!G101<>\"\",Eingabe!G101,\"\")","v":""},{"$f":"IF(Eingabe!B101<>\"\",Eingabe!B101,\"\")","v":""},{"$f":"IF(Eingabe!H101<>\"\",Eingabe!H101,\"\")","v":""},{"$f":"IF(Eingabe!I101<>\"\",Eingabe!I101,\"\")","v":""},{"$f":"IF(Eingabe!J101<>\"\",Eingabe!J101,\"\")","v":""},{"$f":"IF(Eingabe!K101<>\"\",Eingabe!K101,\"\")","v":""},{"$f":"IF(Eingabe!L101<>\"\",Eingabe!L101,\"\")","v":""},{"$f":"IF(Eingabe!M101<>\"\",Eingabe!M101,\"\")","v":""},{"$f":"IF(Eingabe!N101<>\"\",Eingabe!N101,\"\")","v":""},{"$f":"IF(Eingabe!O101<>\"\",Eingabe!O101,\"\")","v":""},{"$f":"IF(Eingabe!P101<>\"\",Eingabe!P101,\"\")","v":""}]
[{"$f":"IF(Eingabe!C102<>\"\",Eingabe!C102,\"\")","v":""},{"$f":"IF(Eingabe!D102<>\"\",Eingabe!D102,\"\")","v":""},{"$f":"IF(Eingabe!F102<>\"\",Eingabe!F102,\"\")","v":""},{"$f":"IF(Eingabe!E102<>\"\",Eingabe!E102,\"\")","v":""},{"$f":"IF(Eingabe!G102<>\"\",Eingabe!G102,\"\")","v":""},{"$f":"IF(Eingabe!B102<>\"\",Eingabe!B102,\"\")","v":""},{"$f":"IF(Eingabe!H102<>\"\",Eingabe!H102,\"\")","v":""},{"$f":"IF(Eingabe!I102<>\"\",Eingabe!I102,\"\")","v":""},{"$f":"IF(Eingabe!J102<>\"\",Eingabe!J102,\"\")","v":""},{"$f":"IF(Eingabe!K102<>\"\",Eingabe!K102,\"\")","v":""},{"$f":"IF(Eingabe!L102<>\"\",Eingabe!L102,\"\")","v":""},{"$f":"IF(Eingabe!M102<>\"\",Eingabe!M102,\"\")","v":""},{"$f":"IF(Eingabe!N102<>\"\",Eingabe!N102,\"\")","v":""},{"$f":"IF(Eingabe!O102<>\"\",Eingabe!O102,\"\")","v":""},{"$f":"IF(Eingabe!P102<>\"\",Eingabe!P102,\"\")","v":""}]
[{"$f":"IF(Eingabe!C103<>\"\",Eingabe!C103,\"\")","v":""},{"$f":"IF(Eingabe!D103<>\"\",Eingabe!D103,\"\")","v":""},{"$f":"IF(Eingabe!F103<>\"\",Eingabe!F103,\"\")","v":""},{"$f":"IF(Eingabe!E103<>\"\",Eingabe!E103,\"\")","v":""},{"$f":"IF(Eingabe!G103<>\"\",Eingabe!G103,\"\")","v":""},{"$f":"IF(Eingabe!B103<>\"\",Eingabe!B103,\"\")","v":""},{"$f":"IF(Eingabe!H103<>\"\",Eingabe!H103,\"\")","v":""},{"$f":"IF(Eingabe!I103<>\"\",Eingabe!I103,\"\")","v":""},{"$f":"IF(Eingabe!J103<>\"\",Eingabe!J103,\"\")","v":""},{"$f":"IF(Eingabe!K103<>\"\",Eingabe!K103,\"\")","v":""},{"$f":"IF(Eingabe!L103<>\"\",Eingabe!L103,\"\")","v":""},{"$f":"IF(Eingabe!M103<>\"\",Eingabe!M103,\"\")","v":""},{"$f":"IF(Eingabe!N103<>\"\",Eingabe!N103,\"\")","v":""},{"$f":"IF(Eingabe!O103<>\"\",Eingabe!O103,\"\")","v":""},{"$f":"IF(Eingabe!P103<>\"\",Eingabe!P103,\"\")","v":""}]
[{"$f":"IF(Eingabe!C104<>\"\",Eingabe!C104,\"\")","v":""},{"$f":"IF(Eingabe!D104<>\"\",Eingabe!D104,\"\")","v":""},{"$f":"IF(Eingabe!F104<>\"\",Eingabe!F104,\"\")","v":""},{"$f":"IF(Eingabe!E104<>\"\",Eingabe!E104,\"\")","v":""},{"$f":"IF(Eingabe!G104<>\"\",Eingabe!G104,\"\")","v":""},{"$f":"IF(Eingabe!B104<>\"\",Eingabe!B104,\"\")","v":""},{"$f":"IF(Eingabe!H104<>\"\",Eingabe!H104,\"\")","v":""},{"$f":"IF(Eingabe!I104<>\"\",Eingabe!I104,\"\")","v":""},{"$f":"IF(Eingabe!J104<>\"\",Eingabe!J104,\"\")","v":""},{"$f":"IF(Eingabe!K104<>\"\",Eingabe!K104,\"\")","v":""},{"$f":"IF(Eingabe!L104<>\"\",Eingabe!L104,\"\")","v":""},{"$f":"IF(Eingabe!M104<>\"\",Eingabe!M104,\"\")","v":""},{"$f":"IF(Eingabe!N104<>\"\",Eingabe!N104,\"\")","v":""},{"$f":"IF(Eingabe!O104<>\"\",Eingabe!O104,\"\")","v":""},{"$f":"IF(Eingabe!P104<>\"\",Eingabe!P104,\"\")","v":""}]
[{"$f":"IF(Eingabe!C105<>\"\",Eingabe!C105,\"\")","v":""},{"$f":"IF(Eingabe!D105<>\"\",Eingabe!D105,\"\")","v":""},{"$f":"IF(Eingabe!F105<>\"\",Eingabe!F105,\"\")","v":""},{"$f":"IF(Eingabe!E105<>\"\",Eingabe!E105,\"\")","v":""},{"$f":"IF(Eingabe!G105<>\"\",Eingabe!G105,\"\")","v":""},{"$f":"IF(Eingabe!B105<>\"\",Eingabe!B105,\"\")","v":""},{"$f":"IF(Eingabe!H105<>\"\",Eingabe!H105,\"\")","v":""},{"$f":"IF(Eingabe!I105<>\"\",Eingabe!I105,\"\")","v":""},{"$f":"IF(Eingabe!J105<>\"\",Eingabe!J105,\"\")","v":""},{"$f":"IF(Eingabe!K105<>\"\",Eingabe!K105,\"\")","v":""},{"$f":"IF(Eingabe!L105<>\"\",Eingabe!L105,\"\")","v":""},{"$f":"IF(Eingabe!M105<>\"\",Eingabe!M105,\"\")","v":""},{"$f":"IF(Eingabe!N105<>\"\",Eingabe!N105,\"\")","v":""},{"$f":"IF(Eingabe!O105<>\"\",Eingabe!O105,\"\")","v":""},{"$f":"IF(Eingabe!P105<>\"\",Eingabe!P105,\"\")","v":""}]
[{"$f":"IF(Eingabe!C106<>\"\",Eingabe!C106,\"\")","v":""},{"$f":"IF(Eingabe!D106<>\"\",Eingabe!D106,\"\")","v":""},{"$f":"IF(Eingabe!F106<>\"\",Eingabe!F106,\"\")","v":""},{"$f":"IF(Eingabe!E106<>\"\",Eingabe!E106,\"\")","v":""},{"$f":"IF(Eingabe!G106<>\"\",Eingabe!G106,\"\")","v":""},{"$f":"IF(Eingabe!B106<>\"\",Eingabe!B106,\"\")","v":""},{"$f":"IF(Eingabe!H106<>\"\",Eingabe!H106,\"\")","v":""},{"$f":"IF(Eingabe!I106<>\"\",Eingabe!I106,\"\")","v":""},{"$f":"IF(Eingabe!J106<>\"\",Eingabe!J106,\"\")","v":""},{"$f":"IF(Eingabe!K106<>\"\",Eingabe!K106,\"\")","v":""},{"$f":"IF(Eingabe!L106<>\"\",Eingabe!L106,\"\")","v":""},{"$f":"IF(Eingabe!M106<>\"\",Eingabe!M106,\"\")","v":""},{"$f":"IF(Eingabe!N106<>\"\",Eingabe!N106,\"\")","v":""},{"$f":"IF(Eingabe!O106<>\"\",Eingabe!O106,\"\")","v":""},{"$f":"IF(Eingabe!P106<>\"\",Eingabe!P106,\"\")","v":""}]
[{"$f":"IF(Eingabe!C107<>\"\",Eingabe!C107,\"\")","v":""},{"$f":"IF(Eingabe!D107<>\"\",Eingabe!D107,\"\")","v":""},{"$f":"IF(Eingabe!F107<>\"\",Eingabe!F107,\"\")","v":""},{"$f":"IF(Eingabe!E107<>\"\",Eingabe!E107,\"\")","v":""},{"$f":"IF(Eingabe!G107<>\"\",Eingabe!G107,\"\")","v":""},{"$f":"IF(Eingabe!B107<>\"\",Eingabe!B107,\"\")","v":""},{"$f":"IF(Eingabe!H107<>\"\",Eingabe!H107,\"\")","v":""},{"$f":"IF(Eingabe!I107<>\"\",Eingabe!I107,\"\")","v":""},{"$f":"IF(Eingabe!J107<>\"\",Eingabe!J107,\"\")","v":""},{"$f":"IF(Eingabe!K107<>\"\",Eingabe!K107,\"\")","v":""},{"$f":"IF(Eingabe!L107<>\"\",Eingabe!L107,\"\")","v":""},{"$f":"IF(Eingabe!M107<>\"\",Eingabe!M107,\"\")","v":""},{"$f":"IF(Eingabe!N107<>\"\",Eingabe!N107,\"\")","v":""},{"$f":"IF(Eingabe!O107<>\"\",Eingabe!O107,\"\")","v":""},{"$f":"IF(Eingabe!P107<>\"\",Eingabe!P107,\"\")","v":""}]
[{"$f":"IF(Eingabe!C108<>\"\",Eingabe!C108,\"\")","v":""},{"$f":"IF(Eingabe!D108<>\"\",Eingabe!D108,\"\")","v":""},{"$f":"IF(Eingabe!F108<>\"\",Eingabe!F108,\"\")","v":""},{"$f":"IF(Eingabe!E108<>\"\",Eingabe!E108,\"\")","v":""},{"$f":"IF(Eingabe!G108<>\"\",Eingabe!G108,\"\")","v":""},{"$f":"IF(Eingabe!B108<>\"\",Eingabe!B108,\"\")","v":""},{"$f":"IF(Eingabe!H108<>\"\",Eingabe!H108,\"\")","v":""},{"$f":"IF(Eingabe!I108<>\"\",Eingabe!I108,\"\")","v":""},{"$f":"IF(Eingabe!J108<>\"\",Eingabe!J108,\"\")","v":""},{"$f":"IF(Eingabe!K108<>\"\",Eingabe!K108,\"\")","v":""},{"$f":"IF(Eingabe!L108<>\"\",Eingabe!L108,\"\")","v":""},{"$f":"IF(Eingabe!M108<>\"\",Eingabe!M108,\"\")","v":""},{"$f":"IF(Eingabe!N108<>\"\",Eingabe!N108,\"\")","v":""},{"$f":"IF(Eingabe!O108<>\"\",Eingabe!O108,\"\")","v":""},{"$f":"IF(Eingabe!P108<>\"\",Eingabe!P108,\"\")","v":""}]
[{"$f":"IF(Eingabe!C109<>\"\",Eingabe!C109,\"\")","v":""},{"$f":"IF(Eingabe!D109<>\"\",Eingabe!D109,\"\")","v":""},{"$f":"IF(Eingabe!F109<>\"\",Eingabe!F109,\"\")","v":""},{"$f":"IF(Eingabe!E109<>\"\",Eingabe!E109,\"\")","v":""},{"$f":"IF(Eingabe!G109<>\"\",Eingabe!G109,\"\")","v":""},{"$f":"IF(Eingabe!B109<>\"\",Eingabe!B109,\"\")","v":""},{"$f":"IF(Eingabe!H109<>\"\",Eingabe!H109,\"\")","v":""},{"$f":"IF(Eingabe!I109<>\"\",Eingabe!I109,\"\")","v":""},{"$f":"IF(Eingabe!J109<>\"\",Eingabe!J109,\"\")","v":""},{"$f":"IF(Eingabe!K109<>\"\",Eingabe!K109,\"\")","v":""},{"$f":"IF(Eingabe!L109<>\"\",Eingabe!L109,\"\")","v":""},{"$f":"IF(Eingabe!M109<>\"\",Eingabe!M109,\"\")","v":""},{"$f":"IF(Eingabe!N109<>\"\",Eingabe!N109,\"\")","v":""},{"$f":"IF(Eingabe!O109<>\"\",Eingabe!O109,\"\")","v":""},{"$f":"IF(Eingabe!P109<>\"\",Eingabe!P109,\"\")","v":""}]
[{"$f":"IF(Eingabe!C110<>\"\",Eingabe!C110,\"\")","v":""},{"$f":"IF(Eingabe!D110<>\"\",Eingabe!D110,\"\")","v":""},{"$f":"IF(Eingabe!F110<>\"\",Eingabe!F110,\"\")","v":""},{"$f":"IF(Eingabe!E110<>\"\",Eingabe!E110,\"\")","v":""},{"$f":"IF(Eingabe!G110<>\"\",Eingabe!G110,\"\")","v":""},{"$f":"IF(Eingabe!B110<>\"\",Eingabe!B110,\"\")","v":""},{"$f":"IF(Eingabe!H110<>\"\",Eingabe!H110,\"\")","v":""},{"$f":"IF(Eingabe!I110<>\"\",Eingabe!I110,\"\")","v":""},{"$f":"IF(Eingabe!J110<>\"\",Eingabe!J110,\"\")","v":""},{"$f":"IF(Eingabe!K110<>\"\",Eingabe!K110,\"\")","v":""},{"$f":"IF(Eingabe!L110<>\"\",Eingabe!L110,\"\")","v":""},{"$f":"IF(Eingabe!M110<>\"\",Eingabe!M110,\"\")","v":""},{"$f":"IF(Eingabe!N110<>\"\",Eingabe!N110,\"\")","v":""},{"$f":"IF(Eingabe!O110<>\"\",Eingabe!O110,\"\")","v":""},{"$f":"IF(Eingabe!P110<>\"\",Eingabe!P110,\"\")","v":""}]
[{"$f":"IF(Eingabe!C111<>\"\",Eingabe!C111,\"\")","v":""},{"$f":"IF(Eingabe!D111<>\"\",Eingabe!D111,\"\")","v":""},{"$f":"IF(Eingabe!F111<>\"\",Eingabe!F111,\"\")","v":""},{"$f":"IF(Eingabe!E111<>\"\",Eingabe!E111,\"\")","v":""},{"$f":"IF(Eingabe!G111<>\"\",Eingabe!G111,\"\")","v":""},{"$f":"IF(Eingabe!B111<>\"\",Eingabe!B111,\"\")","v":""},{"$f":"IF(Eingabe!H111<>\"\",Eingabe!H111,\"\")","v":""},{"$f":"IF(Eingabe!I111<>\"\",Eingabe!I111,\"\")","v":""},{"$f":"IF(Eingabe!J111<>\"\",Eingabe!J111,\"\")","v":""},{"$f":"IF(Eingabe!K111<>\"\",Eingabe!K111,\"\")","v":""},{"$f":"IF(Eingabe!L111<>\"\",Eingabe!L111,\"\")","v":""},{"$f":"IF(Eingabe!M111<>\"\",Eingabe!M111,\"\")","v":""},{"$f":"IF(Eingabe!N111<>\"\",Eingabe!N111,\"\")","v":""},{"$f":"IF(Eingabe!O111<>\"\",Eingabe!O111,\"\")","v":""},{"$f":"IF(Eingabe!P111<>\"\",Eingabe!P111,\"\")","v":""}]
[{"$f":"IF(Eingabe!C112<>\"\",Eingabe!C112,\"\")","v":""},{"$f":"IF(Eingabe!D112<>\"\",Eingabe!D112,\"\")","v":""},{"$f":"IF(Eingabe!F112<>\"\",Eingabe!F112,\"\")","v":""},{"$f":"IF(Eingabe!E112<>\"\",Eingabe!E112,\"\")","v":""},{"$f":"IF(Eingabe!G112<>\"\",Eingabe!G112,\"\")","v":""},{"$f":"IF(Eingabe!B112<>\"\",Eingabe!B112,\"\")","v":""},{"$f":"IF(Eingabe!H112<>\"\",Eingabe!H112,\"\")","v":""},{"$f":"IF(Eingabe!I112<>\"\",Eingabe!I112,\"\")","v":""},{"$f":"IF(Eingabe!J112<>\"\",Eingabe!J112,\"\")","v":""},{"$f":"IF(Eingabe!K112<>\"\",Eingabe!K112,\"\")","v":""},{"$f":"IF(Eingabe!L112<>\"\",Eingabe!L112,\"\")","v":""},{"$f":"IF(Eingabe!M112<>\"\",Eingabe!M112,\"\")","v":""},{"$f":"IF(Eingabe!N112<>\"\",Eingabe!N112,\"\")","v":""},{"$f":"IF(Eingabe!O112<>\"\",Eingabe!O112,\"\")","v":""},{"$f":"IF(Eingabe!P112<>\"\",Eingabe!P112,\"\")","v":""}]
[{"$f":"IF(Eingabe!C113<>\"\",Eingabe!C113,\"\")","v":""},{"$f":"IF(Eingabe!D113<>\"\",Eingabe!D113,\"\")","v":""},{"$f":"IF(Eingabe!F113<>\"\",Eingabe!F113,\"\")","v":""},{"$f":"IF(Eingabe!E113<>\"\",Eingabe!E113,\"\")","v":""},{"$f":"IF(Eingabe!G113<>\"\",Eingabe!G113,\"\")","v":""},{"$f":"IF(Eingabe!B113<>\"\",Eingabe!B113,\"\")","v":""},{"$f":"IF(Eingabe!H113<>\"\",Eingabe!H113,\"\")","v":""},{"$f":"IF(Eingabe!I113<>\"\",Eingabe!I113,\"\")","v":""},{"$f":"IF(Eingabe!J113<>\"\",Eingabe!J113,\"\")","v":""},{"$f":"IF(Eingabe!K113<>\"\",Eingabe!K113,\"\")","v":""},{"$f":"IF(Eingabe!L113<>\"\",Eingabe!L113,\"\")","v":""},{"$f":"IF(Eingabe!M113<>\"\",Eingabe!M113,\"\")","v":""},{"$f":"IF(Eingabe!N113<>\"\",Eingabe!N113,\"\")","v":""},{"$f":"IF(Eingabe!O113<>\"\",Eingabe!O113,\"\")","v":""},{"$f":"IF(Eingabe!P113<>\"\",Eingabe!P113,\"\")","v":""}]
[{"$f":"IF(Eingabe!C114<>\"\",Eingabe!C114,\"\")","v":""},{"$f":"IF(Eingabe!D114<>\"\",Eingabe!D114,\"\")","v":""},{"$f":"IF(Eingabe!F114<>\"\",Eingabe!F114,\"\")","v":""},{"$f":"IF(Eingabe!E114<>\"\",Eingabe!E114,\"\")","v":""},{"$f":"IF(Eingabe!G114<>\"\",Eingabe!G114,\"\")","v":""},{"$f":"IF(Eingabe!B114<>\"\",Eingabe!B114,\"\")","v":""},{"$f":"IF(Eingabe!H114<>\"\",Eingabe!H114,\"\")","v":""},{"$f":"IF(Eingabe!I114<>\"\",Eingabe!I114,\"\")","v":""},{"$f":"IF(Eingabe!J114<>\"\",Eingabe!J114,\"\")","v":""},{"$f":"IF(Eingabe!K114<>\"\",Eingabe!K114,\"\")","v":""},{"$f":"IF(Eingabe!L114<>\"\",Eingabe!L114,\"\")","v":""},{"$f":"IF(Eingabe!M114<>\"\",Eingabe!M114,\"\")","v":""},{"$f":"IF(Eingabe!N114<>\"\",Eingabe!N114,\"\")","v":""},{"$f":"IF(Eingabe!O114<>\"\",Eingabe!O114,\"\")","v":""},{"$f":"IF(Eingabe!P114<>\"\",Eingabe!P114,\"\")","v":""}]
[{"$f":"IF(Eingabe!C115<>\"\",Eingabe!C115,\"\")","v":""},{"$f":"IF(Eingabe!D115<>\"\",Eingabe!D115,\"\")","v":""},{"$f":"IF(Eingabe!F115<>\"\",Eingabe!F115,\"\")","v":""},{"$f":"IF(Eingabe!E115<>\"\",Eingabe!E115,\"\")","v":""},{"$f":"IF(Eingabe!G115<>\"\",Eingabe!G115,\"\")","v":""},{"$f":"IF(Eingabe!B115<>\"\",Eingabe!B115,\"\")","v":""},{"$f":"IF(Eingabe!H115<>\"\",Eingabe!H115,\"\")","v":""},{"$f":"IF(Eingabe!I115<>\"\",Eingabe!I115,\"\")","v":""},{"$f":"IF(Eingabe!J115<>\"\",Eingabe!J115,\"\")","v":""},{"$f":"IF(Eingabe!K115<>\"\",Eingabe!K115,\"\")","v":""},{"$f":"IF(Eingabe!L115<>\"\",Eingabe!L115,\"\")","v":""},{"$f":"IF(Eingabe!M115<>\"\",Eingabe!M115,\"\")","v":""},{"$f":"IF(Eingabe!N115<>\"\",Eingabe!N115,\"\")","v":""},{"$f":"IF(Eingabe!O115<>\"\",Eingabe!O115,\"\")","v":""},{"$f":"IF(Eingabe!P115<>\"\",Eingabe!P115,\"\")","v":""}]
[{"$f":"IF(Eingabe!C116<>\"\",Eingabe!C116,\"\")","v":""},{"$f":"IF(Eingabe!D116<>\"\",Eingabe!D116,\"\")","v":""},{"$f":"IF(Eingabe!F116<>\"\",Eingabe!F116,\"\")","v":""},{"$f":"IF(Eingabe!E116<>\"\",Eingabe!E116,\"\")","v":""},{"$f":"IF(Eingabe!G116<>\"\",Eingabe!G116,\"\")","v":""},{"$f":"IF(Eingabe!B116<>\"\",Eingabe!B116,\"\")","v":""},{"$f":"IF(Eingabe!H116<>\"\",Eingabe!H116,\"\")","v":""},{"$f":"IF(Eingabe!I116<>\"\",Eingabe!I116,\"\")","v":""},{"$f":"IF(Eingabe!J116<>\"\",Eingabe!J116,\"\")","v":""},{"$f":"IF(Eingabe!K116<>\"\",Eingabe!K116,\"\")","v":""},{"$f":"IF(Eingabe!L116<>\"\",Eingabe!L116,\"\")","v":""},{"$f":"IF(Eingabe!M116<>\"\",Eingabe!M116,\"\")","v":""},{"$f":"IF(Eingabe!N116<>\"\",Eingabe!N116,\"\")","v":""},{"$f":"IF(Eingabe!O116<>\"\",Eingabe!O116,\"\")","v":""},{"$f":"IF(Eingabe!P116<>\"\",Eingabe!P116,\"\")","v":""}]
[{"$f":"IF(Eingabe!C117<>\"\",Eingabe!C117,\"\")","v":""},{"$f":"IF(Eingabe!D117<>\"\",Eingabe!D117,\"\")","v":""},{"$f":"IF(Eingabe!F117<>\"\",Eingabe!F117,\"\")","v":""},{"$f":"IF(Eingabe!E117<>\"\",Eingabe!E117,\"\")","v":""},{"$f":"IF(Eingabe!G117<>\"\",Eingabe!G117,\"\")","v":""},{"$f":"IF(Eingabe!B117<>\"\",Eingabe!B117,\"\")","v":""},{"$f":"IF(Eingabe!H117<>\"\",Eingabe!H117,\"\")","v":""},{"$f":"IF(Eingabe!I117<>\"\",Eingabe!I117,\"\")","v":""},{"$f":"IF(Eingabe!J117<>\"\",Eingabe!J117,\"\")","v":""},{"$f":"IF(Eingabe!K117<>\"\",Eingabe!K117,\"\")","v":""},{"$f":"IF(Eingabe!L117<>\"\",Eingabe!L117,\"\")","v":""},{"$f":"IF(Eingabe!M117<>\"\",Eingabe!M117,\"\")","v":""},{"$f":"IF(Eingabe!N117<>\"\",Eingabe!N117,\"\")","v":""},{"$f":"IF(Eingabe!O117<>\"\",Eingabe!O117,\"\")","v":""},{"$f":"IF(Eingabe!P117<>\"\",Eingabe!P117,\"\")","v":""}]
[{"$f":"IF(Eingabe!C118<>\"\",Eingabe!C118,\"\")","v":""},{"$f":"IF(Eingabe!D118<>\"\",Eingabe!D118,\"\")","v":""},{"$f":"IF(Eingabe!F118<>\"\",Eingabe!F118,\"\")","v":""},{"$f":"IF(Eingabe!E118<>\"\",Eingabe!E118,\"\")","v":""},{"$f":"IF(Eingabe!G118<>\"\",Eingabe!G118,\"\")","v":""},{"$f":"IF(Eingabe!B118<>\"\",Eingabe!B118,\"\")","v":""},{"$f":"IF(Eingabe!H118<>\"\",Eingabe!H118,\"\")","v":""},{"$f":"IF(Eingabe!I118<>\"\",Eingabe!I118,\"\")","v":""},{"$f":"IF(Eingabe!J118<>\"\",Eingabe!J118,\"\")","v":""},{"$f":"IF(Eingabe!K118<>\"\",Eingabe!K118,\"\")","v":""},{"$f":"IF(Eingabe!L118<>\"\",Eingabe!L118,\"\")","v":""},{"$f":"IF(Eingabe!M118<>\"\",Eingabe!M118,\"\")","v":""},{"$f":"IF(Eingabe!N118<>\"\",Eingabe!N118,\"\")","v":""},{"$f":"IF(Eingabe!O118<>\"\",Eingabe!O118,\"\")","v":""},{"$f":"IF(Eingabe!P118<>\"\",Eingabe!P118,\"\")","v":""}]
[{"$f":"IF(Eingabe!C119<>\"\",Eingabe!C119,\"\")","v":""},{"$f":"IF(Eingabe!D119<>\"\",Eingabe!D119,\"\")","v":""},{"$f":"IF(Eingabe!F119<>\"\",Eingabe!F119,\"\")","v":""},{"$f":"IF(Eingabe!E119<>\"\",Eingabe!E119,\"\")","v":""},{"$f":"IF(Eingabe!G119<>\"\",Eingabe!G119,\"\")","v":""},{"$f":"IF(Eingabe!B119<>\"\",Eingabe!B119,\"\")","v":""},{"$f":"IF(Eingabe!H119<>\"\",Eingabe!H119,\"\")","v":""},{"$f":"IF(Eingabe!I119<>\"\",Eingabe!I119,\"\")","v":""},{"$f":"IF(Eingabe!J119<>\"\",Eingabe!J119,\"\")","v":""},{"$f":"IF(Eingabe!K119<>\"\",Eingabe!K119,\"\")","v":""},{"$f":"IF(Eingabe!L119<>\"\",Eingabe!L119,\"\")","v":""},{"$f":"IF(Eingabe!M119<>\"\",Eingabe!M119,\"\")","v":""},{"$f":"IF(Eingabe!N119<>\"\",Eingabe!N119,\"\")","v":""},{"$f":"IF(Eingabe!O119<>\"\",Eingabe!O119,\"\")","v":""},{"$f":"IF(Eingabe!P119<>\"\",Eingabe!P119,\"\")","v":""}]
[{"$f":"IF(Eingabe!C120<>\"\",Eingabe!C120,\"\")","v":""},{"$f":"IF(Eingabe!D120<>\"\",Eingabe!D120,\"\")","v":""},{"$f":"IF(Eingabe!F120<>\"\",Eingabe!F120,\"\")","v":""},{"$f":"IF(Eingabe!E120<>\"\",Eingabe!E120,\"\")","v":""},{"$f":"IF(Eingabe!G120<>\"\",Eingabe!G120,\"\")","v":""},{"$f":"IF(Eingabe!B120<>\"\",Eingabe!B120,\"\")","v":""},{"$f":"IF(Eingabe!H120<>\"\",Eingabe!H120,\"\")","v":""},{"$f":"IF(Eingabe!I120<>\"\",Eingabe!I120,\"\")","v":""},{"$f":"IF(Eingabe!J120<>\"\",Eingabe!J120,\"\")","v":""},{"$f":"IF(Eingabe!K120<>\"\",Eingabe!K120,\"\")","v":""},{"$f":"IF(Eingabe!L120<>\"\",Eingabe!L120,\"\")","v":""},{"$f":"IF(Eingabe!M120<>\"\",Eingabe!M120,\"\")","v":""},{"$f":"IF(Eingabe!N120<>\"\",Eingabe!N120,\"\")","v":""},{"$f":"IF(Eingabe!O120<>\"\",Eingabe!O120,\"\")","v":""},{"$f":"IF(Eingabe!P120<>\"\",Eingabe!P120,\"\")","v":""}]
[{"$f":"IF(Eingabe!C121<>\"\",Eingabe!C121,\"\")","v":""},{"$f":"IF(Eingabe!D121<>\"\",Eingabe!D121,\"\")","v":""},{"$f":"IF(Eingabe!F121<>\"\",Eingabe!F121,\"\")","v":""},{"$f":"IF(Eingabe!E121<>\"\",Eingabe!E121,\"\")","v":""},{"$f":"IF(Eingabe!G121<>\"\",Eingabe!G121,\"\")","v":""},{"$f":"IF(Eingabe!B121<>\"\",Eingabe!B121,\"\")","v":""},{"$f":"IF(Eingabe!H121<>\"\",Eingabe!H121,\"\")","v":""},{"$f":"IF(Eingabe!I121<>\"\",Eingabe!I121,\"\")","v":""},{"$f":"IF(Eingabe!J121<>\"\",Eingabe!J121,\"\")","v":""},{"$f":"IF(Eingabe!K121<>\"\",Eingabe!K121,\"\")","v":""},{"$f":"IF(Eingabe!L121<>\"\",Eingabe!L121,\"\")","v":""},{"$f":"IF(Eingabe!M121<>\"\",Eingabe!M121,\"\")","v":""},{"$f":"IF(Eingabe!N121<>\"\",Eingabe!N121,\"\")","v":""},{"$f":"IF(Eingabe!O121<>\"\",Eingabe!O121,\"\")","v":""},{"$f":"IF(Eingabe!P121<>\"\",Eingabe!P121,\"\")","v":""}]
[{"$f":"IF(Eingabe!C122<>\"\",Eingabe!C122,\"\")","v":""},{"$f":"IF(Eingabe!D122<>\"\",Eingabe!D122,\"\")","v":""},{"$f":"IF(Eingabe!F122<>\"\",Eingabe!F122,\"\")","v":""},{"$f":"IF(Eingabe!E122<>\"\",Eingabe!E122,\"\")","v":""},{"$f":"IF(Eingabe!G122<>\"\",Eingabe!G122,\"\")","v":""},{"$f":"IF(Eingabe!B122<>\"\",Eingabe!B122,\"\")","v":""},{"$f":"IF(Eingabe!H122<>\"\",Eingabe!H122,\"\")","v":""},{"$f":"IF(Eingabe!I122<>\"\",Eingabe!I122,\"\")","v":""},{"$f":"IF(Eingabe!J122<>\"\",Eingabe!J122,\"\")","v":""},{"$f":"IF(Eingabe!K122<>\"\",Eingabe!K122,\"\")","v":""},{"$f":"IF(Eingabe!L122<>\"\",Eingabe!L122,\"\")","v":""},{"$f":"IF(Eingabe!M122<>\"\",Eingabe!M122,\"\")","v":""},{"$f":"IF(Eingabe!N122<>\"\",Eingabe!N122,\"\")","v":""},{"$f":"IF(Eingabe!O122<>\"\",Eingabe!O122,\"\")","v":""},{"$f":"IF(Eingabe!P122<>\"\",Eingabe!P122,\"\")","v":""}]
[{"$f":"IF(Eingabe!C123<>\"\",Eingabe!C123,\"\")","v":""},{"$f":"IF(Eingabe!D123<>\"\",Eingabe!D123,\"\")","v":""},{"$f":"IF(Eingabe!F123<>\"\",Eingabe!F123,\"\")","v":""},{"$f":"IF(Eingabe!E123<>\"\",Eingabe!E123,\"\")","v":""},{"$f":"IF(Eingabe!G123<>\"\",Eingabe!G123,\"\")","v":""},{"$f":"IF(Eingabe!B123<>\"\",Eingabe!B123,\"\")","v":""},{"$f":"IF(Eingabe!H123<>\"\",Eingabe!H123,\"\")","v":""},{"$f":"IF(Eingabe!I123<>\"\",Eingabe!I123,\"\")","v":""},{"$f":"IF(Eingabe!J123<>\"\",Eingabe!J123,\"\")","v":""},{"$f":"IF(Eingabe!K123<>\"\",Eingabe!K123,\"\")","v":""},{"$f":"IF(Eingabe!L123<>\"\",Eingabe!L123,\"\")","v":""},{"$f":"IF(Eingabe!M123<>\"\",Eingabe!M123,\"\")","v":""},{"$f":"IF(Eingabe!N123<>\"\",Eingabe!N123,\"\")","v":""},{"$f":"IF(Eingabe!O123<>\"\",Eingabe!O123,\"\")","v":""},{"$f":"IF(Eingabe!P123<>\"\",Eingabe!P123,\"\")","v":""}]
[{"$f":"IF(Eingabe!C124<>\"\",Eingabe!C124,\"\")","v":""},{"$f":"IF(Eingabe!D124<>\"\",Eingabe!D124,\"\")","v":""},{"$f":"IF(Eingabe!F124<>\"\",Eingabe!F124,\"\")","v":""},{"$f":"IF(Eingabe!E124<>\"\",Eingabe!E124,\"\")","v":""},{"$f":"IF(Eingabe!G124<>\"\",Eingabe!G124,\"\")","v":""},{"$f":"IF(Eingabe!B124<>\"\",Eingabe!B124,\"\")","v":""},{"$f":"IF(Eingabe!H124<>\"\",Eingabe!H124,\"\")","v":""},{"$f":"IF(Eingabe!I124<>\"\",Eingabe!I124,\"\")","v":""},{"$f":"IF(Eingabe!J124<>\"\",Eingabe!J124,\"\")","v":""},{"$f":"IF(Eingabe!K124<>\"\",Eingabe!K124,\"\")","v":""},{"$f":"IF(Eingabe!L124<>\"\",Eingabe!L124,\"\")","v":""},{"$f":"IF(Eingabe!M124<>\"\",Eingabe!M124,\"\")","v":""},{"$f":"IF(Eingabe!N124<>\"\",Eingabe!N124,\"\")","v":""},{"$f":"IF(Eingabe!O124<>\"\",Eingabe!O124,\"\")","v":""},{"$f":"IF(Eingabe!P124<>\"\",Eingabe!P124,\"\")","v":""}]
[{"$f":"IF(Eingabe!C125<>\"\",Eingabe!C125,\"\")","v":""},{"$f":"IF(Eingabe!D125<>\"\",Eingabe!D125,\"\")","v":""},{"$f":"IF(Eingabe!F125<>\"\",Eingabe!F125,\"\")","v":""},{"$f":"IF(Eingabe!E125<>\"\",Eingabe!E125,\"\")","v":""},{"$f":"IF(Eingabe!G125<>\"\",Eingabe!G125,\"\")","v":""},{"$f":"IF(Eingabe!B125<>\"\",Eingabe!B125,\"\")","v":""},{"$f":"IF(Eingabe!H125<>\"\",Eingabe!H125,\"\")","v":""},{"$f":"IF(Eingabe!I125<>\"\",Eingabe!I125,\"\")","v":""},{"$f":"IF(Eingabe!J125<>\"\",Eingabe!J125,\"\")","v":""},{"$f":"IF(Eingabe!K125<>\"\",Eingabe!K125,\"\")","v":""},{"$f":"IF(Eingabe!L125<>\"\",Eingabe!L125,\"\")","v":""},{"$f":"IF(Eingabe!M125<>\"\",Eingabe!M125,\"\")","v":""},{"$f":"IF(Eingabe!N125<>\"\",Eingabe!N125,\"\")","v":""},{"$f":"IF(Eingabe!O125<>\"\",Eingabe!O125,\"\")","v":""},{"$f":"IF(Eingabe!P125<>\"\",Eingabe!P125,\"\")","v":""}]
[{"$f":"IF(Eingabe!C126<>\"\",Eingabe!C126,\"\")","v":""},{"$f":"IF(Eingabe!D126<>\"\",Eingabe!D126,\"\")","v":""},{"$f":"IF(Eingabe!F126<>\"\",Eingabe!F126,\"\")","v":""},{"$f":"IF(Eingabe!E126<>\"\",Eingabe!E126,\"\")","v":""},{"$f":"IF(Eingabe!G126<>\"\",Eingabe!G126,\"\")","v":""},{"$f":"IF(Eingabe!B126<>\"\",Eingabe!B126,\"\")","v":""},{"$f":"IF(Eingabe!H126<>\"\",Eingabe!H126,\"\")","v":""},{"$f":"IF(Eingabe!I126<>\"\",Eingabe!I126,\"\")","v":""},{"$f":"IF(Eingabe!J126<>\"\",Eingabe!J126,\"\")","v":""},{"$f":"IF(Eingabe!K126<>\"\",Eingabe!K126,\"\")","v":""},{"$f":"IF(Eingabe!L126<>\"\",Eingabe!L126,\"\")","v":""},{"$f":"IF(Eingabe!M126<>\"\",Eingabe!M126,\"\")","v":""},{"$f":"IF(Eingabe!N126<>\"\",Eingabe!N126,\"\")","v":""},{"$f":"IF(Eingabe!O126<>\"\",Eingabe!O126,\"\")","v":""},{"$f":"IF(Eingabe!P126<>\"\",Eingabe!P126,\"\")","v":""}]
[{"$f":"IF(Eingabe!C127<>\"\",Eingabe!C127,\"\")","v":""},{"$f":"IF(Eingabe!D127<>\"\",Eingabe!D127,\"\")","v":""},{"$f":"IF(Eingabe!F127<>\"\",Eingabe!F127,\"\")","v":""},{"$f":"IF(Eingabe!E127<>\"\",Eingabe!E127,\"\")","v":""},{"$f":"IF(Eingabe!G127<>\"\",Eingabe!G127,\"\")","v":""},{"$f":"IF(Eingabe!B127<>\"\",Eingabe!B127,\"\")","v":""},{"$f":"IF(Eingabe!H127<>\"\",Eingabe!H127,\"\")","v":""},{"$f":"IF(Eingabe!I127<>\"\",Eingabe!I127,\"\")","v":""},{"$f":"IF(Eingabe!J127<>\"\",Eingabe!J127,\"\")","v":""},{"$f":"IF(Eingabe!K127<>\"\",Eingabe!K127,\"\")","v":""},{"$f":"IF(Eingabe!L127<>\"\",Eingabe!L127,\"\")","v":""},{"$f":"IF(Eingabe!M127<>\"\",Eingabe!M127,\"\")","v":""},{"$f":"IF(Eingabe!N127<>\"\",Eingabe!N127,\"\")","v":""},{"$f":"IF(Eingabe!O127<>\"\",Eingabe!O127,\"\")","v":""},{"$f":"IF(Eingabe!P127<>\"\",Eingabe!P127,\"\")","v":""}]
[{"$f":"IF(Eingabe!C128<>\"\",Eingabe!C128,\"\")","v":""},{"$f":"IF(Eingabe!D128<>\"\",Eingabe!D128,\"\")","v":""},{"$f":"IF(Eingabe!F128<>\"\",Eingabe!F128,\"\")","v":""},{"$f":"IF(Eingabe!E128<>\"\",Eingabe!E128,\"\")","v":""},{"$f":"IF(Eingabe!G128<>\"\",Eingabe!G128,\"\")","v":""},{"$f":"IF(Eingabe!B128<>\"\",Eingabe!B128,\"\")","v":""},{"$f":"IF(Eingabe!H128<>\"\",Eingabe!H128,\"\")","v":""},{"$f":"IF(Eingabe!I128<>\"\",Eingabe!I128,\"\")","v":""},{"$f":"IF(Eingabe!J128<>\"\",Eingabe!J128,\"\")","v":""},{"$f":"IF(Eingabe!K128<>\"\",Eingabe!K128,\"\")","v":""},{"$f":"IF(Eingabe!L128<>\"\",Eingabe!L128,\"\")","v":""},{"$f":"IF(Eingabe!M128<>\"\",Eingabe!M128,\"\")","v":""},{"$f":"IF(Eingabe!N128<>\"\",Eingabe!N128,\"\")","v":""},{"$f":"IF(Eingabe!O128<>\"\",Eingabe!O128,\"\")","v":""},{"$f":"IF(Eingabe!P128<>\"\",Eingabe!P128,\"\")","v":""}]
[{"$f":"IF(Eingabe!C129<>\"\",Eingabe!C129,\"\")","v":""},{"$f":"IF(Eingabe!D129<>\"\",Eingabe!D129,\"\")","v":""},{"$f":"IF(Eingabe!F129<>\"\",Eingabe!F129,\"\")","v":""},{"$f":"IF(Eingabe!E129<>\"\",Eingabe!E129,\"\")","v":""},{"$f":"IF(Eingabe!G129<>\"\",Eingabe!G129,\"\")","v":""},{"$f":"IF(Eingabe!B129<>\"\",Eingabe!B129,\"\")","v":""},{"$f":"IF(Eingabe!H129<>\"\",Eingabe!H129,\"\")","v":""},{"$f":"IF(Eingabe!I129<>\"\",Eingabe!I129,\"\")","v":""},{"$f":"IF(Eingabe!J129<>\"\",Eingabe!J129,\"\")","v":""},{"$f":"IF(Eingabe!K129<>\"\",Eingabe!K129,\"\")","v":""},{"$f":"IF(Eingabe!L129<>\"\",Eingabe!L129,\"\")","v":""},{"$f":"IF(Eingabe!M129<>\"\",Eingabe!M129,\"\")","v":""},{"$f":"IF(Eingabe!N129<>\"\",Eingabe!N129,\"\")","v":""},{"$f":"IF(Eingabe!O129<>\"\",Eingabe!O129,\"\")","v":""},{"$f":"IF(Eingabe!P129<>\"\",Eingabe!P129,\"\")","v":""}]
[{"$f":"IF(Eingabe!C130<>\"\",Eingabe!C130,\"\")","v":""},{"$f":"IF(Eingabe!D130<>\"\",Eingabe!D130,\"\")","v":""},{"$f":"IF(Eingabe!F130<>\"\",Eingabe!F130,\"\")","v":""},{"$f":"IF(Eingabe!E130<>\"\",Eingabe!E130,\"\")","v":""},{"$f":"IF(Eingabe!G130<>\"\",Eingabe!G130,\"\")","v":""},{"$f":"IF(Eingabe!B130<>\"\",Eingabe!B130,\"\")","v":""},{"$f":"IF(Eingabe!H130<>\"\",Eingabe!H130,\"\")","v":""},{"$f":"IF(Eingabe!I130<>\"\",Eingabe!I130,\"\")","v":""},{"$f":"IF(Eingabe!J130<>\"\",Eingabe!J130,\"\")","v":""},{"$f":"IF(Eingabe!K130<>\"\",Eingabe!K130,\"\")","v":""},{"$f":"IF(Eingabe!L130<>\"\",Eingabe!L130,\"\")","v":""},{"$f":"IF(Eingabe!M130<>\"\",Eingabe!M130,\"\")","v":""},{"$f":"IF(Eingabe!N130<>\"\",Eingabe!N130,\"\")","v":""},{"$f":"IF(Eingabe!O130<>\"\",Eingabe!O130,\"\")","v":""},{"$f":"IF(Eingabe!P130<>\"\",Eingabe!P130,\"\")","v":""}]
[{"$f":"IF(Eingabe!C131<>\"\",Eingabe!C131,\"\")","v":""},{"$f":"IF(Eingabe!D131<>\"\",Eingabe!D131,\"\")","v":""},{"$f":"IF(Eingabe!F131<>\"\",Eingabe!F131,\"\")","v":""},{"$f":"IF(Eingabe!E131<>\"\",Eingabe!E131,\"\")","v":""},{"$f":"IF(Eingabe!G131<>\"\",Eingabe!G131,\"\")","v":""},{"$f":"IF(Eingabe!B131<>\"\",Eingabe!B131,\"\")","v":""},{"$f":"IF(Eingabe!H131<>\"\",Eingabe!H131,\"\")","v":""},{"$f":"IF(Eingabe!I131<>\"\",Eingabe!I131,\"\")","v":""},{"$f":"IF(Eingabe!J131<>\"\",Eingabe!J131,\"\")","v":""},{"$f":"IF(Eingabe!K131<>\"\",Eingabe!K131,\"\")","v":""},{"$f":"IF(Eingabe!L131<>\"\",Eingabe!L131,\"\")","v":""},{"$f":"IF(Eingabe!M131<>\"\",Eingabe!M131,\"\")","v":""},{"$f":"IF(Eingabe!N131<>\"\",Eingabe!N131,\"\")","v":""},{"$f":"IF(Eingabe!O131<>\"\",Eingabe!O131,\"\")","v":""},{"$f":"IF(Eingabe!P131<>\"\",Eingabe!P131,\"\")","v":""}]
[{"$f":"IF(Eingabe!C132<>\"\",Eingabe!C132,\"\")","v":""},{"$f":"IF(Eingabe!D132<>\"\",Eingabe!D132,\"\")","v":""},{"$f":"IF(Eingabe!F132<>\"\",Eingabe!F132,\"\")","v":""},{"$f":"IF(Eingabe!E132<>\"\",Eingabe!E132,\"\")","v":""},{"$f":"IF(Eingabe!G132<>\"\",Eingabe!G132,\"\")","v":""},{"$f":"IF(Eingabe!B132<>\"\",Eingabe!B132,\"\")","v":""},{"$f":"IF(Eingabe!H132<>\"\",Eingabe!H132,\"\")","v":""},{"$f":"IF(Eingabe!I132<>\"\",Eingabe!I132,\"\")","v":""},{"$f":"IF(Eingabe!J132<>\"\",Eingabe!J132,\"\")","v":""},{"$f":"IF(Eingabe!K132<>\"\",Eingabe!K132,\"\")","v":""},{"$f":"IF(Eingabe!L132<>\"\",Eingabe!L132,\"\")","v":""},{"$f":"IF(Eingabe!M132<>\"\",Eingabe!M132,\"\")","v":""},{"$f":"IF(Eingabe!N132<>\"\",Eingabe!N132,\"\")","v":""},{"$f":"IF(Eingabe!O132<>\"\",Eingabe!O132,\"\")","v":""},{"$f":"IF(Eingabe!P132<>\"\",Eingabe!P132,\"\")","v":""}]
[{"$f":"IF(Eingabe!C133<>\"\",Eingabe!C133,\"\")","v":""},{"$f":"IF(Eingabe!D133<>\"\",Eingabe!D133,\"\")","v":""},{"$f":"IF(Eingabe!F133<>\"\",Eingabe!F133,\"\")","v":""},{"$f":"IF(Eingabe!E133<>\"\",Eingabe!E133,\"\")","v":""},{"$f":"IF(Eingabe!G133<>\"\",Eingabe!G133,\"\")","v":""},{"$f":"IF(Eingabe!B133<>\"\",Eingabe!B133,\"\")","v":""},{"$f":"IF(Eingabe!H133<>\"\",Eingabe!H133,\"\")","v":""},{"$f":"IF(Eingabe!I133<>\"\",Eingabe!I133,\"\")","v":""},{"$f":"IF(Eingabe!J133<>\"\",Eingabe!J133,\"\")","v":""},{"$f":"IF(Eingabe!K133<>\"\",Eingabe!K133,\"\")","v":""},{"$f":"IF(Eingabe!L133<>\"\",Eingabe!L133,\"\")","v":""},{"$f":"IF(Eingabe!M133<>\"\",Eingabe!M133,\"\")","v":""},{"$f":"IF(Eingabe!N133<>\"\",Eingabe!N133,\"\")","v":""},{"$f":"IF(Eingabe!O133<>\"\",Eingabe!O133,\"\")","v":""},{"$f":"IF(Eingabe!P133<>\"\",Eingabe!P133,\"\")","v":""}]
[{"$f":"IF(Eingabe!C134<>\"\",Eingabe!C134,\"\")","v":""},{"$f":"IF(Eingabe!D134<>\"\",Eingabe!D134,\"\")","v":""},{"$f":"IF(Eingabe!F134<>\"\",Eingabe!F134,\"\")","v":""},{"$f":"IF(Eingabe!E134<>\"\",Eingabe!E134,\"\")","v":""},{"$f":"IF(Eingabe!G134<>\"\",Eingabe!G134,\"\")","v":""},{"$f":"IF(Eingabe!B134<>\"\",Eingabe!B134,\"\")","v":""},{"$f":"IF(Eingabe!H134<>\"\",Eingabe!H134,\"\")","v":""},{"$f":"IF(Eingabe!I134<>\"\",Eingabe!I134,\"\")","v":""},{"$f":"IF(Eingabe!J134<>\"\",Eingabe!J134,\"\")","v":""},{"$f":"IF(Eingabe!K134<>\"\",Eingabe!K134,\"\")","v":""},{"$f":"IF(Eingabe!L134<>\"\",Eingabe!L134,\"\")","v":""},{"$f":"IF(Eingabe!M134<>\"\",Eingabe!M134,\"\")","v":""},{"$f":"IF(Eingabe!N134<>\"\",Eingabe!N134,\"\")","v":""},{"$f":"IF(Eingabe!O134<>\"\",Eingabe!O134,\"\")","v":""},{"$f":"IF(Eingabe!P134<>\"\",Eingabe!P134,\"\")","v":""}]
[{"$f":"IF(Eingabe!C135<>\"\",Eingabe!C135,\"\")","v":""},{"$f":"IF(Eingabe!D135<>\"\",Eingabe!D135,\"\")","v":""},{"$f":"IF(Eingabe!F135<>\"\",Eingabe!F135,\"\")","v":""},{"$f":"IF(Eingabe!E135<>\"\",Eingabe!E135,\"\")","v":""},{"$f":"IF(Eingabe!G135<>\"\",Eingabe!G135,\"\")","v":""},{"$f":"IF(Eingabe!B135<>\"\",Eingabe!B135,\"\")","v":""},{"$f":"IF(Eingabe!H135<>\"\",Eingabe!H135,\"\")","v":""},{"$f":"IF(Eingabe!I135<>\"\",Eingabe!I135,\"\")","v":""},{"$f":"IF(Eingabe!J135<>\"\",Eingabe!J135,\"\")","v":""},{"$f":"IF(Eingabe!K135<>\"\",Eingabe!K135,\"\")","v":""},{"$f":"IF(Eingabe!L135<>\"\",Eingabe!L135,\"\")","v":""},{"$f":"IF(Eingabe!M135<>\"\",Eingabe!M135,\"\")","v":""},{"$f":"IF(Eingabe!N135<>\"\",Eingabe!N135,\"\")","v":""},{"$f":"IF(Eingabe!O135<>\"\",Eingabe!O135,\"\")","v":""},{"$f":"IF(Eingabe!P135<>\"\",Eingabe!P135,\"\")","v":""}]
[{"$f":"IF(Eingabe!C136<>\"\",Eingabe!C136,\"\")","v":""},{"$f":"IF(Eingabe!D136<>\"\",Eingabe!D136,\"\")","v":""},{"$f":"IF(Eingabe!F136<>\"\",Eingabe!F136,\"\")","v":""},{"$f":"IF(Eingabe!E136<>\"\",Eingabe!E136,\"\")","v":""},{"$f":"IF(Eingabe!G136<>\"\",Eingabe!G136,\"\")","v":""},{"$f":"IF(Eingabe!B136<>\"\",Eingabe!B136,\"\")","v":""},{"$f":"IF(Eingabe!H136<>\"\",Eingabe!H136,\"\")","v":""},{"$f":"IF(Eingabe!I136<>\"\",Eingabe!I136,\"\")","v":""},{"$f":"IF(Eingabe!J136<>\"\",Eingabe!J136,\"\")","v":""},{"$f":"IF(Eingabe!K136<>\"\",Eingabe!K136,\"\")","v":""},{"$f":"IF(Eingabe!L136<>\"\",Eingabe!L136,\"\")","v":""},{"$f":"IF(Eingabe!M136<>\"\",Eingabe!M136,\"\")","v":""},{"$f":"IF(Eingabe!N136<>\"\",Eingabe!N136,\"\")","v":""},{"$f":"IF(Eingabe!O136<>\"\",Eingabe!O136,\"\")","v":""},{"$f":"IF(Eingabe!P136<>\"\",Eingabe!P136,\"\")","v":""}]
[{"$f":"IF(Eingabe!C137<>\"\",Eingabe!C137,\"\")","v":""},{"$f":"IF(Eingabe!D137<>\"\",Eingabe!D137,\"\")","v":""},{"$f":"IF(Eingabe!F137<>\"\",Eingabe!F137,\"\")","v":""},{"$f":"IF(Eingabe!E137<>\"\",Eingabe!E137,\"\")","v":""},{"$f":"IF(Eingabe!G137<>\"\",Eingabe!G137,\"\")","v":""},{"$f":"IF(Eingabe!B137<>\"\",Eingabe!B137,\"\")","v":""},{"$f":"IF(Eingabe!H137<>\"\",Eingabe!H137,\"\")","v":""},{"$f":"IF(Eingabe!I137<>\"\",Eingabe!I137,\"\")","v":""},{"$f":"IF(Eingabe!J137<>\"\",Eingabe!J137,\"\")","v":""},{"$f":"IF(Eingabe!K137<>\"\",Eingabe!K137,\"\")","v":""},{"$f":"IF(Eingabe!L137<>\"\",Eingabe!L137,\"\")","v":""},{"$f":"IF(Eingabe!M137<>\"\",Eingabe!M137,\"\")","v":""},{"$f":"IF(Eingabe!N137<>\"\",Eingabe!N137,\"\")","v":""},{"$f":"IF(Eingabe!O137<>\"\",Eingabe!O137,\"\")","v":""},{"$f":"IF(Eingabe!P137<>\"\",Eingabe!P137,\"\")","v":""}]
[{"$f":"IF(Eingabe!C138<>\"\",Eingabe!C138,\"\")","v":""},{"$f":"IF(Eingabe!D138<>\"\",Eingabe!D138,\"\")","v":""},{"$f":"IF(Eingabe!F138<>\"\",Eingabe!F138,\"\")","v":""},{"$f":"IF(Eingabe!E138<>\"\",Eingabe!E138,\"\")","v":""},{"$f":"IF(Eingabe!G138<>\"\",Eingabe!G138,\"\")","v":""},{"$f":"IF(Eingabe!B138<>\"\",Eingabe!B138,\"\")","v":""},{"$f":"IF(Eingabe!H138<>\"\",Eingabe!H138,\"\")","v":""},{"$f":"IF(Eingabe!I138<>\"\",Eingabe!I138,\"\")","v":""},{"$f":"IF(Eingabe!J138<>\"\",Eingabe!J138,\"\")","v":""},{"$f":"IF(Eingabe!K138<>\"\",Eingabe!K138,\"\")","v":""},{"$f":"IF(Eingabe!L138<>\"\",Eingabe!L138,\"\")","v":""},{"$f":"IF(Eingabe!M138<>\"\",Eingabe!M138,\"\")","v":""},{"$f":"IF(Eingabe!N138<>\"\",Eingabe!N138,\"\")","v":""},{"$f":"IF(Eingabe!O138<>\"\",Eingabe!O138,\"\")","v":""},{"$f":"IF(Eingabe!P138<>\"\",Eingabe!P138,\"\")","v":""}]
[{"$f":"IF(Eingabe!C139<>\"\",Eingabe!C139,\"\")","v":""},{"$f":"IF(Eingabe!D139<>\"\",Eingabe!D139,\"\")","v":""},{"$f":"IF(Eingabe!F139<>\"\",Eingabe!F139,\"\")","v":""},{"$f":"IF(Eingabe!E139<>\"\",Eingabe!E139,\"\")","v":""},{"$f":"IF(Eingabe!G139<>\"\",Eingabe!G139,\"\")","v":""},{"$f":"IF(Eingabe!B139<>\"\",Eingabe!B139,\"\")","v":""},{"$f":"IF(Eingabe!H139<>\"\",Eingabe!H139,\"\")","v":""},{"$f":"IF(Eingabe!I139<>\"\",Eingabe!I139,\"\")","v":""},{"$f":"IF(Eingabe!J139<>\"\",Eingabe!J139,\"\")","v":""},{"$f":"IF(Eingabe!K139<>\"\",Eingabe!K139,\"\")","v":""},{"$f":"IF(Eingabe!L139<>\"\",Eingabe!L139,\"\")","v":""},{"$f":"IF(Eingabe!M139<>\"\",Eingabe!M139,\"\")","v":""},{"$f":"IF(Eingabe!N139<>\"\",Eingabe!N139,\"\")","v":""},{"$f":"IF(Eingabe!O139<>\"\",Eingabe!O139,\"\")","v":""},{"$f":"IF(Eingabe!P139<>\"\",Eingabe!P139,\"\")","v":""}]
[{"$f":"IF(Eingabe!C140<>\"\",Eingabe!C140,\"\")","v":""},{"$f":"IF(Eingabe!D140<>\"\",Eingabe!D140,\"\")","v":""},{"$f":"IF(Eingabe!F140<>\"\",Eingabe!F140,\"\")","v":""},{"$f":"IF(Eingabe!E140<>\"\",Eingabe!E140,\"\")","v":""},{"$f":"IF(Eingabe!G140<>\"\",Eingabe!G140,\"\")","v":""},{"$f":"IF(Eingabe!B140<>\"\",Eingabe!B140,\"\")","v":""},{"$f":"IF(Eingabe!H140<>\"\",Eingabe!H140,\"\")","v":""},{"$f":"IF(Eingabe!I140<>\"\",Eingabe!I140,\"\")","v":""},{"$f":"IF(Eingabe!J140<>\"\",Eingabe!J140,\"\")","v":""},{"$f":"IF(Eingabe!K140<>\"\",Eingabe!K140,\"\")","v":""},{"$f":"IF(Eingabe!L140<>\"\",Eingabe!L140,\"\")","v":""},{"$f":"IF(Eingabe!M140<>\"\",Eingabe!M140,\"\")","v":""},{"$f":"IF(Eingabe!N140<>\"\",Eingabe!N140,\"\")","v":""},{"$f":"IF(Eingabe!O140<>\"\",Eingabe!O140,\"\")","v":""},{"$f":"IF(Eingabe!P140<>\"\",Eingabe!P140,\"\")","v":""}]
[{"$f":"IF(Eingabe!C141<>\"\",Eingabe!C141,\"\")","v":""},{"$f":"IF(Eingabe!D141<>\"\",Eingabe!D141,\"\")","v":""},{"$f":"IF(Eingabe!F141<>\"\",Eingabe!F141,\"\")","v":""},{"$f":"IF(Eingabe!E141<>\"\",Eingabe!E141,\"\")","v":""},{"$f":"IF(Eingabe!G141<>\"\",Eingabe!G141,\"\")","v":""},{"$f":"IF(Eingabe!B141<>\"\",Eingabe!B141,\"\")","v":""},{"$f":"IF(Eingabe!H141<>\"\",Eingabe!H141,\"\")","v":""},{"$f":"IF(Eingabe!I141<>\"\",Eingabe!I141,\"\")","v":""},{"$f":"IF(Eingabe!J141<>\"\",Eingabe!J141,\"\")","v":""},{"$f":"IF(Eingabe!K141<>\"\",Eingabe!K141,\"\")","v":""},{"$f":"IF(Eingabe!L141<>\"\",Eingabe!L141,\"\")","v":""},{"$f":"IF(Eingabe!M141<>\"\",Eingabe!M141,\"\")","v":""},{"$f":"IF(Eingabe!N141<>\"\",Eingabe!N141,\"\")","v":""},{"$f":"IF(Eingabe!O141<>\"\",Eingabe!O141,\"\")","v":""},{"$f":"IF(Eingabe!P141<>\"\",Eingabe!P141,\"\")","v":""}]
[{"$f":"IF(Eingabe!C142<>\"\",Eingabe!C142,\"\")","v":""},{"$f":"IF(Eingabe!D142<>\"\",Eingabe!D142,\"\")","v":""},{"$f":"IF(Eingabe!F142<>\"\",Eingabe!F142,\"\")","v":""},{"$f":"IF(Eingabe!E142<>\"\",Eingabe!E142,\"\")","v":""},{"$f":"IF(Eingabe!G142<>\"\",Eingabe!G142,\"\")","v":""},{"$f":"IF(Eingabe!B142<>\"\",Eingabe!B142,\"\")","v":""},{"$f":"IF(Eingabe!H142<>\"\",Eingabe!H142,\"\")","v":""},{"$f":"IF(Eingabe!I142<>\"\",Eingabe!I142,\"\")","v":""},{"$f":"IF(Eingabe!J142<>\"\",Eingabe!J142,\"\")","v":""},{"$f":"IF(Eingabe!K142<>\"\",Eingabe!K142,\"\")","v":""},{"$f":"IF(Eingabe!L142<>\"\",Eingabe!L142,\"\")","v":""},{"$f":"IF(Eingabe!M142<>\"\",Eingabe!M142,\"\")","v":""},{"$f":"IF(Eingabe!N142<>\"\",Eingabe!N142,\"\")","v":""},{"$f":"IF(Eingabe!O142<>\"\",Eingabe!O142,\"\")","v":""},{"$f":"IF(Eingabe!P142<>\"\",Eingabe!P142,\"\")","v":""}]
[{"$f":"IF(Eingabe!C143<>\"\",Eingabe!C143,\"\")","v":""},{"$f":"IF(Eingabe!D143<>\"\",Eingabe!D143,\"\")","v":""},{"$f":"IF(Eingabe!F143<>\"\",Eingabe!F143,\"\")","v":""},{"$f":"IF(Eingabe!E143<>\"\",Eingabe!E143,\"\")","v":""},{"$f":"IF(Eingabe!G143<>\"\",Eingabe!G143,\"\")","v":""},{"$f":"IF(Eingabe!B143<>\"\",Eingabe!B143,\"\")","v":""},{"$f":"IF(Eingabe!H143<>\"\",Eingabe!H143,\"\")","v":""},{"$f":"IF(Eingabe!I143<>\"\",Eingabe!I143,\"\")","v":""},{"$f":"IF(Eingabe!J143<>\"\",Eingabe!J143,\"\")","v":""},{"$f":"IF(Eingabe!K143<>\"\",Eingabe!K143,\"\")","v":""},{"$f":"IF(Eingabe!L143<>\"\",Eingabe!L143,\"\")","v":""},{"$f":"IF(Eingabe!M143<>\"\",Eingabe!M143,\"\")","v":""},{"$f":"IF(Eingabe!N143<>\"\",Eingabe!N143,\"\")","v":""},{"$f":"IF(Eingabe!O143<>\"\",Eingabe!O143,\"\")","v":""},{"$f":"IF(Eingabe!P143<>\"\",Eingabe!P143,\"\")","v":""}]
[{"$f":"IF(Eingabe!C144<>\"\",Eingabe!C144,\"\")","v":""},{"$f":"IF(Eingabe!D144<>\"\",Eingabe!D144,\"\")","v":""},{"$f":"IF(Eingabe!F144<>\"\",Eingabe!F144,\"\")","v":""},{"$f":"IF(Eingabe!E144<>\"\",Eingabe!E144,\"\")","v":""},{"$f":"IF(Eingabe!G144<>\"\",Eingabe!G144,\"\")","v":""},{"$f":"IF(Eingabe!B144<>\"\",Eingabe!B144,\"\")","v":""},{"$f":"IF(Eingabe!H144<>\"\",Eingabe!H144,\"\")","v":""},{"$f":"IF(Eingabe!I144<>\"\",Eingabe!I144,\"\")","v":""},{"$f":"IF(Eingabe!J144<>\"\",Eingabe!J144,\"\")","v":""},{"$f":"IF(Eingabe!K144<>\"\",Eingabe!K144,\"\")","v":""},{"$f":"IF(Eingabe!L144<>\"\",Eingabe!L144,\"\")","v":""},{"$f":"IF(Eingabe!M144<>\"\",Eingabe!M144,\"\")","v":""},{"$f":"IF(Eingabe!N144<>\"\",Eingabe!N144,\"\")","v":""},{"$f":"IF(Eingabe!O144<>\"\",Eingabe!O144,\"\")","v":""},{"$f":"IF(Eingabe!P144<>\"\",Eingabe!P144,\"\")","v":""}]
[{"$f":"IF(Eingabe!C145<>\"\",Eingabe!C145,\"\")","v":""},{"$f":"IF(Eingabe!D145<>\"\",Eingabe!D145,\"\")","v":""},{"$f":"IF(Eingabe!F145<>\"\",Eingabe!F145,\"\")","v":""},{"$f":"IF(Eingabe!E145<>\"\",Eingabe!E145,\"\")","v":""},{"$f":"IF(Eingabe!G145<>\"\",Eingabe!G145,\"\")","v":""},{"$f":"IF(Eingabe!B145<>\"\",Eingabe!B145,\"\")","v":""},{"$f":"IF(Eingabe!H145<>\"\",Eingabe!H145,\"\")","v":""},{"$f":"IF(Eingabe!I145<>\"\",Eingabe!I145,\"\")","v":""},{"$f":"IF(Eingabe!J145<>\"\",Eingabe!J145,\"\")","v":""},{"$f":"IF(Eingabe!K145<>\"\",Eingabe!K145,\"\")","v":""},{"$f":"IF(Eingabe!L145<>\"\",Eingabe!L145,\"\")","v":""},{"$f":"IF(Eingabe!M145<>\"\",Eingabe!M145,\"\")","v":""},{"$f":"IF(Eingabe!N145<>\"\",Eingabe!N145,\"\")","v":""},{"$f":"IF(Eingabe!O145<>\"\",Eingabe!O145,\"\")","v":""},{"$f":"IF(Eingabe!P145<>\"\",Eingabe!P145,\"\")","v":""}]
[{"$f":"IF(Eingabe!C146<>\"\",Eingabe!C146,\"\")","v":""},{"$f":"IF(Eingabe!D146<>\"\",Eingabe!D146,\"\")","v":""},{"$f":"IF(Eingabe!F146<>\"\",Eingabe!F146,\"\")","v":""},{"$f":"IF(Eingabe!E146<>\"\",Eingabe!E146,\"\")","v":""},{"$f":"IF(Eingabe!G146<>\"\",Eingabe!G146,\"\")","v":""},{"$f":"IF(Eingabe!B146<>\"\",Eingabe!B146,\"\")","v":""},{"$f":"IF(Eingabe!H146<>\"\",Eingabe!H146,\"\")","v":""},{"$f":"IF(Eingabe!I146<>\"\",Eingabe!I146,\"\")","v":""},{"$f":"IF(Eingabe!J146<>\"\",Eingabe!J146,\"\")","v":""},{"$f":"IF(Eingabe!K146<>\"\",Eingabe!K146,\"\")","v":""},{"$f":"IF(Eingabe!L146<>\"\",Eingabe!L146,\"\")","v":""},{"$f":"IF(Eingabe!M146<>\"\",Eingabe!M146,\"\")","v":""},{"$f":"IF(Eingabe!N146<>\"\",Eingabe!N146,\"\")","v":""},{"$f":"IF(Eingabe!O146<>\"\",Eingabe!O146,\"\")","v":""},{"$f":"IF(Eingabe!P146<>\"\",Eingabe!P146,\"\")","v":""}]
[{"$f":"IF(Eingabe!C147<>\"\",Eingabe!C147,\"\")","v":""},{"$f":"IF(Eingabe!D147<>\"\",Eingabe!D147,\"\")","v":""},{"$f":"IF(Eingabe!F147<>\"\",Eingabe!F147,\"\")","v":""},{"$f":"IF(Eingabe!E147<>\"\",Eingabe!E147,\"\")","v":""},{"$f":"IF(Eingabe!G147<>\"\",Eingabe!G147,\"\")","v":""},{"$f":"IF(Eingabe!B147<>\"\",Eingabe!B147,\"\")","v":""},{"$f":"IF(Eingabe!H147<>\"\",Eingabe!H147,\"\")","v":""},{"$f":"IF(Eingabe!I147<>\"\",Eingabe!I147,\"\")","v":""},{"$f":"IF(Eingabe!J147<>\"\",Eingabe!J147,\"\")","v":""},{"$f":"IF(Eingabe!K147<>\"\",Eingabe!K147,\"\")","v":""},{"$f":"IF(Eingabe!L147<>\"\",Eingabe!L147,\"\")","v":""},{"$f":"IF(Eingabe!M147<>\"\",Eingabe!M147,\"\")","v":""},{"$f":"IF(Eingabe!N147<>\"\",Eingabe!N147,\"\")","v":""},{"$f":"IF(Eingabe!O147<>\"\",Eingabe!O147,\"\")","v":""},{"$f":"IF(Eingabe!P147<>\"\",Eingabe!P147,\"\")","v":""}]
[{"$f":"IF(Eingabe!C148<>\"\",Eingabe!C148,\"\")","v":""},{"$f":"IF(Eingabe!D148<>\"\",Eingabe!D148,\"\")","v":""},{"$f":"IF(Eingabe!F148<>\"\",Eingabe!F148,\"\")","v":""},{"$f":"IF(Eingabe!E148<>\"\",Eingabe!E148,\"\")","v":""},{"$f":"IF(Eingabe!G148<>\"\",Eingabe!G148,\"\")","v":""},{"$f":"IF(Eingabe!B148<>\"\",Eingabe!B148,\"\")","v":""},{"$f":"IF(Eingabe!H148<>\"\",Eingabe!H148,\"\")","v":""},{"$f":"IF(Eingabe!I148<>\"\",Eingabe!I148,\"\")","v":""},{"$f":"IF(Eingabe!J148<>\"\",Eingabe!J148,\"\")","v":""},{"$f":"IF(Eingabe!K148<>\"\",Eingabe!K148,\"\")","v":""},{"$f":"IF(Eingabe!L148<>\"\",Eingabe!L148,\"\")","v":""},{"$f":"IF(Eingabe!M148<>\"\",Eingabe!M148,\"\")","v":""},{"$f":"IF(Eingabe!N148<>\"\",Eingabe!N148,\"\")","v":""},{"$f":"IF(Eingabe!O148<>\"\",Eingabe!O148,\"\")","v":""},{"$f":"IF(Eingabe!P148<>\"\",Eingabe!P148,\"\")","v":""}]
[{"$f":"IF(Eingabe!C149<>\"\",Eingabe!C149,\"\")","v":""},{"$f":"IF(Eingabe!D149<>\"\",Eingabe!D149,\"\")","v":""},{"$f":"IF(Eingabe!F149<>\"\",Eingabe!F149,\"\")","v":""},{"$f":"IF(Eingabe!E149<>\"\",Eingabe!E149,\"\")","v":""},{"$f":"IF(Eingabe!G149<>\"\",Eingabe!G149,\"\")","v":""},{"$f":"IF(Eingabe!B149<>\"\",Eingabe!B149,\"\")","v":""},{"$f":"IF(Eingabe!H149<>\"\",Eingabe!H149,\"\")","v":""},{"$f":"IF(Eingabe!I149<>\"\",Eingabe!I149,\"\")","v":""},{"$f":"IF(Eingabe!J149<>\"\",Eingabe!J149,\"\")","v":""},{"$f":"IF(Eingabe!K149<>\"\",Eingabe!K149,\"\")","v":""},{"$f":"IF(Eingabe!L149<>\"\",Eingabe!L149,\"\")","v":""},{"$f":"IF(Eingabe!M149<>\"\",Eingabe!M149,\"\")","v":""},{"$f":"IF(Eingabe!N149<>\"\",Eingabe!N149,\"\")","v":""},{"$f":"IF(Eingabe!O149<>\"\",Eingabe!O149,\"\")","v":""},{"$f":"IF(Eingabe!P149<>\"\",Eingabe!P149,\"\")","v":""}]
[{"$f":"IF(Eingabe!C150<>\"\",Eingabe!C150,\"\")","v":""},{"$f":"IF(Eingabe!D150<>\"\",Eingabe!D150,\"\")","v":""},{"$f":"IF(Eingabe!F150<>\"\",Eingabe!F150,\"\")","v":""},{"$f":"IF(Eingabe!E150<>\"\",Eingabe!E150,\"\")","v":""},{"$f":"IF(Eingabe!G150<>\"\",Eingabe!G150,\"\")","v":""},{"$f":"IF(Eingabe!B150<>\"\",Eingabe!B150,\"\")","v":""},{"$f":"IF(Eingabe!H150<>\"\",Eingabe!H150,\"\")","v":""},{"$f":"IF(Eingabe!I150<>\"\",Eingabe!I150,\"\")","v":""},{"$f":"IF(Eingabe!J150<>\"\",Eingabe!J150,\"\")","v":""},{"$f":"IF(Eingabe!K150<>\"\",Eingabe!K150,\"\")","v":""},{"$f":"IF(Eingabe!L150<>\"\",Eingabe!L150,\"\")","v":""},{"$f":"IF(Eingabe!M150<>\"\",Eingabe!M150,\"\")","v":""},{"$f":"IF(Eingabe!N150<>\"\",Eingabe!N150,\"\")","v":""},{"$f":"IF(Eingabe!O150<>\"\",Eingabe!O150,\"\")","v":""},{"$f":"IF(Eingabe!P150<>\"\",Eingabe!P150,\"\")","v":""}]
[{"$f":"IF(Eingabe!C151<>\"\",Eingabe!C151,\"\")","v":""},{"$f":"IF(Eingabe!D151<>\"\",Eingabe!D151,\"\")","v":""},{"$f":"IF(Eingabe!F151<>\"\",Eingabe!F151,\"\")","v":""},{"$f":"IF(Eingabe!E151<>\"\",Eingabe!E151,\"\")","v":""},{"$f":"IF(Eingabe!G151<>\"\",Eingabe!G151,\"\")","v":""},{"$f":"IF(Eingabe!B151<>\"\",Eingabe!B151,\"\")","v":""},{"$f":"IF(Eingabe!H151<>\"\",Eingabe!H151,\"\")","v":""},{"$f":"IF(Eingabe!I151<>\"\",Eingabe!I151,\"\")","v":""},{"$f":"IF(Eingabe!J151<>\"\",Eingabe!J151,\"\")","v":""},{"$f":"IF(Eingabe!K151<>\"\",Eingabe!K151,\"\")","v":""},{"$f":"IF(Eingabe!L151<>\"\",Eingabe!L151,\"\")","v":""},{"$f":"IF(Eingabe!M151<>\"\",Eingabe!M151,\"\")","v":""},{"$f":"IF(Eingabe!N151<>\"\",Eingabe!N151,\"\")","v":""},{"$f":"IF(Eingabe!O151<>\"\",Eingabe!O151,\"\")","v":""},{"$f":"IF(Eingabe!P151<>\"\",Eingabe!P151,\"\")","v":""}]
[{"$f":"IF(Eingabe!C152<>\"\",Eingabe!C152,\"\")","v":""},{"$f":"IF(Eingabe!D152<>\"\",Eingabe!D152,\"\")","v":""},{"$f":"IF(Eingabe!F152<>\"\",Eingabe!F152,\"\")","v":""},{"$f":"IF(Eingabe!E152<>\"\",Eingabe!E152,\"\")","v":""},{"$f":"IF(Eingabe!G152<>\"\",Eingabe!G152,\"\")","v":""},{"$f":"IF(Eingabe!B152<>\"\",Eingabe!B152,\"\")","v":""},{"$f":"IF(Eingabe!H152<>\"\",Eingabe!H152,\"\")","v":""},{"$f":"IF(Eingabe!I152<>\"\",Eingabe!I152,\"\")","v":""},{"$f":"IF(Eingabe!J152<>\"\",Eingabe!J152,\"\")","v":""},{"$f":"IF(Eingabe!K152<>\"\",Eingabe!K152,\"\")","v":""},{"$f":"IF(Eingabe!L152<>\"\",Eingabe!L152,\"\")","v":""},{"$f":"IF(Eingabe!M152<>\"\",Eingabe!M152,\"\")","v":""},{"$f":"IF(Eingabe!N152<>\"\",Eingabe!N152,\"\")","v":""},{"$f":"IF(Eingabe!O152<>\"\",Eingabe!O152,\"\")","v":""},{"$f":"IF(Eingabe!P152<>\"\",Eingabe!P152,\"\")","v":""}]
[{"$f":"IF(Eingabe!C153<>\"\",Eingabe!C153,\"\")","v":""},{"$f":"IF(Eingabe!D153<>\"\",Eingabe!D153,\"\")","v":""},{"$f":"IF(Eingabe!F153<>\"\",Eingabe!F153,\"\")","v":""},{"$f":"IF(Eingabe!E153<>\"\",Eingabe!E153,\"\")","v":""},{"$f":"IF(Eingabe!G153<>\"\",Eingabe!G153,\"\")","v":""},{"$f":"IF(Eingabe!B153<>\"\",Eingabe!B153,\"\")","v":""},{"$f":"IF(Eingabe!H153<>\"\",Eingabe!H153,\"\")","v":""},{"$f":"IF(Eingabe!I153<>\"\",Eingabe!I153,\"\")","v":""},{"$f":"IF(Eingabe!J153<>\"\",Eingabe!J153,\"\")","v":""},{"$f":"IF(Eingabe!K153<>\"\",Eingabe!K153,\"\")","v":""},{"$f":"IF(Eingabe!L153<>\"\",Eingabe!L153,\"\")","v":""},{"$f":"IF(Eingabe!M153<>\"\",Eingabe!M153,\"\")","v":""},{"$f":"IF(Eingabe!N153<>\"\",Eingabe!N153,\"\")","v":""},{"$f":"IF(Eingabe!O153<>\"\",Eingabe!O153,\"\")","v":""},{"$f":"IF(Eingabe!P153<>\"\",Eingabe!P153,\"\")","v":""}]
[{"$f":"IF(Eingabe!C154<>\"\",Eingabe!C154,\"\")","v":""},{"$f":"IF(Eingabe!D154<>\"\",Eingabe!D154,\"\")","v":""},{"$f":"IF(Eingabe!F154<>\"\",Eingabe!F154,\"\")","v":""},{"$f":"IF(Eingabe!E154<>\"\",Eingabe!E154,\"\")","v":""},{"$f":"IF(Eingabe!G154<>\"\",Eingabe!G154,\"\")","v":""},{"$f":"IF(Eingabe!B154<>\"\",Eingabe!B154,\"\")","v":""},{"$f":"IF(Eingabe!H154<>\"\",Eingabe!H154,\"\")","v":""},{"$f":"IF(Eingabe!I154<>\"\",Eingabe!I154,\"\")","v":""},{"$f":"IF(Eingabe!J154<>\"\",Eingabe!J154,\"\")","v":""},{"$f":"IF(Eingabe!K154<>\"\",Eingabe!K154,\"\")","v":""},{"$f":"IF(Eingabe!L154<>\"\",Eingabe!L154,\"\")","v":""},{"$f":"IF(Eingabe!M154<>\"\",Eingabe!M154,\"\")","v":""},{"$f":"IF(Eingabe!N154<>\"\",Eingabe!N154,\"\")","v":""},{"$f":"IF(Eingabe!O154<>\"\",Eingabe!O154,\"\")","v":""},{"$f":"IF(Eingabe!P154<>\"\",Eingabe!P154,\"\")","v":""}]
[{"$f":"IF(Eingabe!C155<>\"\",Eingabe!C155,\"\")","v":""},{"$f":"IF(Eingabe!D155<>\"\",Eingabe!D155,\"\")","v":""},{"$f":"IF(Eingabe!F155<>\"\",Eingabe!F155,\"\")","v":""},{"$f":"IF(Eingabe!E155<>\"\",Eingabe!E155,\"\")","v":""},{"$f":"IF(Eingabe!G155<>\"\",Eingabe!G155,\"\")","v":""},{"$f":"IF(Eingabe!B155<>\"\",Eingabe!B155,\"\")","v":""},{"$f":"IF(Eingabe!H155<>\"\",Eingabe!H155,\"\")","v":""},{"$f":"IF(Eingabe!I155<>\"\",Eingabe!I155,\"\")","v":""},{"$f":"IF(Eingabe!J155<>\"\",Eingabe!J155,\"\")","v":""},{"$f":"IF(Eingabe!K155<>\"\",Eingabe!K155,\"\")","v":""},{"$f":"IF(Eingabe!L155<>\"\",Eingabe!L155,\"\")","v":""},{"$f":"IF(Eingabe!M155<>\"\",Eingabe!M155,\"\")","v":""},{"$f":"IF(Eingabe!N155<>\"\",Eingabe!N155,\"\")","v":""},{"$f":"IF(Eingabe!O155<>\"\",Eingabe!O155,\"\")","v":""},{"$f":"IF(Eingabe!P155<>\"\",Eingabe!P155,\"\")","v":""}]
[{"$f":"IF(Eingabe!C156<>\"\",Eingabe!C156,\"\")","v":""},{"$f":"IF(Eingabe!D156<>\"\",Eingabe!D156,\"\")","v":""},{"$f":"IF(Eingabe!F156<>\"\",Eingabe!F156,\"\")","v":""},{"$f":"IF(Eingabe!E156<>\"\",Eingabe!E156,\"\")","v":""},{"$f":"IF(Eingabe!G156<>\"\",Eingabe!G156,\"\")","v":""},{"$f":"IF(Eingabe!B156<>\"\",Eingabe!B156,\"\")","v":""},{"$f":"IF(Eingabe!H156<>\"\",Eingabe!H156,\"\")","v":""},{"$f":"IF(Eingabe!I156<>\"\",Eingabe!I156,\"\")","v":""},{"$f":"IF(Eingabe!J156<>\"\",Eingabe!J156,\"\")","v":""},{"$f":"IF(Eingabe!K156<>\"\",Eingabe!K156,\"\")","v":""},{"$f":"IF(Eingabe!L156<>\"\",Eingabe!L156,\"\")","v":""},{"$f":"IF(Eingabe!M156<>\"\",Eingabe!M156,\"\")","v":""},{"$f":"IF(Eingabe!N156<>\"\",Eingabe!N156,\"\")","v":""},{"$f":"IF(Eingabe!O156<>\"\",Eingabe!O156,\"\")","v":""},{"$f":"IF(Eingabe!P156<>\"\",Eingabe!P156,\"\")","v":""}]
[{"$f":"IF(Eingabe!C157<>\"\",Eingabe!C157,\"\")","v":""},{"$f":"IF(Eingabe!D157<>\"\",Eingabe!D157,\"\")","v":""},{"$f":"IF(Eingabe!F157<>\"\",Eingabe!F157,\"\")","v":""},{"$f":"IF(Eingabe!E157<>\"\",Eingabe!E157,\"\")","v":""},{"$f":"IF(Eingabe!G157<>\"\",Eingabe!G157,\"\")","v":""},{"$f":"IF(Eingabe!B157<>\"\",Eingabe!B157,\"\")","v":""},{"$f":"IF(Eingabe!H157<>\"\",Eingabe!H157,\"\")","v":""},{"$f":"IF(Eingabe!I157<>\"\",Eingabe!I157,\"\")","v":""},{"$f":"IF(Eingabe!J157<>\"\",Eingabe!J157,\"\")","v":""},{"$f":"IF(Eingabe!K157<>\"\",Eingabe!K157,\"\")","v":""},{"$f":"IF(Eingabe!L157<>\"\",Eingabe!L157,\"\")","v":""},{"$f":"IF(Eingabe!M157<>\"\",Eingabe!M157,\"\")","v":""},{"$f":"IF(Eingabe!N157<>\"\",Eingabe!N157,\"\")","v":""},{"$f":"IF(Eingabe!O157<>\"\",Eingabe!O157,\"\")","v":""},{"$f":"IF(Eingabe!P157<>\"\",Eingabe!P157,\"\")","v":""}]
[{"$f":"IF(Eingabe!C158<>\"\",Eingabe!C158,\"\")","v":""},{"$f":"IF(Eingabe!D158<>\"\",Eingabe!D158,\"\")","v":""},{"$f":"IF(Eingabe!F158<>\"\",Eingabe!F158,\"\")","v":""},{"$f":"IF(Eingabe!E158<>\"\",Eingabe!E158,\"\")","v":""},{"$f":"IF(Eingabe!G158<>\"\",Eingabe!G158,\"\")","v":""},{"$f":"IF(Eingabe!B158<>\"\",Eingabe!B158,\"\")","v":""},{"$f":"IF(Eingabe!H158<>\"\",Eingabe!H158,\"\")","v":""},{"$f":"IF(Eingabe!I158<>\"\",Eingabe!I158,\"\")","v":""},{"$f":"IF(Eingabe!J158<>\"\",Eingabe!J158,\"\")","v":""},{"$f":"IF(Eingabe!K158<>\"\",Eingabe!K158,\"\")","v":""},{"$f":"IF(Eingabe!L158<>\"\",Eingabe!L158,\"\")","v":""},{"$f":"IF(Eingabe!M158<>\"\",Eingabe!M158,\"\")","v":""},{"$f":"IF(Eingabe!N158<>\"\",Eingabe!N158,\"\")","v":""},{"$f":"IF(Eingabe!O158<>\"\",Eingabe!O158,\"\")","v":""},{"$f":"IF(Eingabe!P158<>\"\",Eingabe!P158,\"\")","v":""}]
[{"$f":"IF(Eingabe!C159<>\"\",Eingabe!C159,\"\")","v":""},{"$f":"IF(Eingabe!D159<>\"\",Eingabe!D159,\"\")","v":""},{"$f":"IF(Eingabe!F159<>\"\",Eingabe!F159,\"\")","v":""},{"$f":"IF(Eingabe!E159<>\"\",Eingabe!E159,\"\")","v":""},{"$f":"IF(Eingabe!G159<>\"\",Eingabe!G159,\"\")","v":""},{"$f":"IF(Eingabe!B159<>\"\",Eingabe!B159,\"\")","v":""},{"$f":"IF(Eingabe!H159<>\"\",Eingabe!H159,\"\")","v":""},{"$f":"IF(Eingabe!I159<>\"\",Eingabe!I159,\"\")","v":""},{"$f":"IF(Eingabe!J159<>\"\",Eingabe!J159,\"\")","v":""},{"$f":"IF(Eingabe!K159<>\"\",Eingabe!K159,\"\")","v":""},{"$f":"IF(Eingabe!L159<>\"\",Eingabe!L159,\"\")","v":""},{"$f":"IF(Eingabe!M159<>\"\",Eingabe!M159,\"\")","v":""},{"$f":"IF(Eingabe!N159<>\"\",Eingabe!N159,\"\")","v":""},{"$f":"IF(Eingabe!O159<>\"\",Eingabe!O159,\"\")","v":""},{"$f":"IF(Eingabe!P159<>\"\",Eingabe!P159,\"\")","v":""}]
[{"$f":"IF(Eingabe!C160<>\"\",Eingabe!C160,\"\")","v":""},{"$f":"IF(Eingabe!D160<>\"\",Eingabe!D160,\"\")","v":""},{"$f":"IF(Eingabe!F160<>\"\",Eingabe!F160,\"\")","v":""},{"$f":"IF(Eingabe!E160<>\"\",Eingabe!E160,\"\")","v":""},{"$f":"IF(Eingabe!G160<>\"\",Eingabe!G160,\"\")","v":""},{"$f":"IF(Eingabe!B160<>\"\",Eingabe!B160,\"\")","v":""},{"$f":"IF(Eingabe!H160<>\"\",Eingabe!H160,\"\")","v":""},{"$f":"IF(Eingabe!I160<>\"\",Eingabe!I160,\"\")","v":""},{"$f":"IF(Eingabe!J160<>\"\",Eingabe!J160,\"\")","v":""},{"$f":"IF(Eingabe!K160<>\"\",Eingabe!K160,\"\")","v":""},{"$f":"IF(Eingabe!L160<>\"\",Eingabe!L160,\"\")","v":""},{"$f":"IF(Eingabe!M160<>\"\",Eingabe!M160,\"\")","v":""},{"$f":"IF(Eingabe!N160<>\"\",Eingabe!N160,\"\")","v":""},{"$f":"IF(Eingabe!O160<>\"\",Eingabe!O160,\"\")","v":""},{"$f":"IF(Eingabe!P160<>\"\",Eingabe!P160,\"\")","v":""}]
[{"$f":"IF(Eingabe!C161<>\"\",Eingabe!C161,\"\")","v":""},{"$f":"IF(Eingabe!D161<>\"\",Eingabe!D161,\"\")","v":""},{"$f":"IF(Eingabe!F161<>\"\",Eingabe!F161,\"\")","v":""},{"$f":"IF(Eingabe!E161<>\"\",Eingabe!E161,\"\")","v":""},{"$f":"IF(Eingabe!G161<>\"\",Eingabe!G161,\"\")","v":""},{"$f":"IF(Eingabe!B161<>\"\",Eingabe!B161,\"\")","v":""},{"$f":"IF(Eingabe!H161<>\"\",Eingabe!H161,\"\")","v":""},{"$f":"IF(Eingabe!I161<>\"\",Eingabe!I161,\"\")","v":""},{"$f":"IF(Eingabe!J161<>\"\",Eingabe!J161,\"\")","v":""},{"$f":"IF(Eingabe!K161<>\"\",Eingabe!K161,\"\")","v":""},{"$f":"IF(Eingabe!L161<>\"\",Eingabe!L161,\"\")","v":""},{"$f":"IF(Eingabe!M161<>\"\",Eingabe!M161,\"\")","v":""},{"$f":"IF(Eingabe!N161<>\"\",Eingabe!N161,\"\")","v":""},{"$f":"IF(Eingabe!O161<>\"\",Eingabe!O161,\"\")","v":""},{"$f":"IF(Eingabe!P161<>\"\",Eingabe!P161,\"\")","v":""}]
[{"$f":"IF(Eingabe!C162<>\"\",Eingabe!C162,\"\")","v":""},{"$f":"IF(Eingabe!D162<>\"\",Eingabe!D162,\"\")","v":""},{"$f":"IF(Eingabe!F162<>\"\",Eingabe!F162,\"\")","v":""},{"$f":"IF(Eingabe!E162<>\"\",Eingabe!E162,\"\")","v":""},{"$f":"IF(Eingabe!G162<>\"\",Eingabe!G162,\"\")","v":""},{"$f":"IF(Eingabe!B162<>\"\",Eingabe!B162,\"\")","v":""},{"$f":"IF(Eingabe!H162<>\"\",Eingabe!H162,\"\")","v":""},{"$f":"IF(Eingabe!I162<>\"\",Eingabe!I162,\"\")","v":""},{"$f":"IF(Eingabe!J162<>\"\",Eingabe!J162,\"\")","v":""},{"$f":"IF(Eingabe!K162<>\"\",Eingabe!K162,\"\")","v":""},{"$f":"IF(Eingabe!L162<>\"\",Eingabe!L162,\"\")","v":""},{"$f":"IF(Eingabe!M162<>\"\",Eingabe!M162,\"\")","v":""},{"$f":"IF(Eingabe!N162<>\"\",Eingabe!N162,\"\")","v":""},{"$f":"IF(Eingabe!O162<>\"\",Eingabe!O162,\"\")","v":""},{"$f":"IF(Eingabe!P162<>\"\",Eingabe!P162,\"\")","v":""}]
[{"$f":"IF(Eingabe!C163<>\"\",Eingabe!C163,\"\")","v":""},{"$f":"IF(Eingabe!D163<>\"\",Eingabe!D163,\"\")","v":""},{"$f":"IF(Eingabe!F163<>\"\",Eingabe!F163,\"\")","v":""},{"$f":"IF(Eingabe!E163<>\"\",Eingabe!E163,\"\")","v":""},{"$f":"IF(Eingabe!G163<>\"\",Eingabe!G163,\"\")","v":""},{"$f":"IF(Eingabe!B163<>\"\",Eingabe!B163,\"\")","v":""},{"$f":"IF(Eingabe!H163<>\"\",Eingabe!H163,\"\")","v":""},{"$f":"IF(Eingabe!I163<>\"\",Eingabe!I163,\"\")","v":""},{"$f":"IF(Eingabe!J163<>\"\",Eingabe!J163,\"\")","v":""},{"$f":"IF(Eingabe!K163<>\"\",Eingabe!K163,\"\")","v":""},{"$f":"IF(Eingabe!L163<>\"\",Eingabe!L163,\"\")","v":""},{"$f":"IF(Eingabe!M163<>\"\",Eingabe!M163,\"\")","v":""},{"$f":"IF(Eingabe!N163<>\"\",Eingabe!N163,\"\")","v":""},{"$f":"IF(Eingabe!O163<>\"\",Eingabe!O163,\"\")","v":""},{"$f":"IF(Eingabe!P163<>\"\",Eingabe!P163,\"\")","v":""}]
[{"$f":"IF(Eingabe!C164<>\"\",Eingabe!C164,\"\")","v":""},{"$f":"IF(Eingabe!D164<>\"\",Eingabe!D164,\"\")","v":""},{"$f":"IF(Eingabe!F164<>\"\",Eingabe!F164,\"\")","v":""},{"$f":"IF(Eingabe!E164<>\"\",Eingabe!E164,\"\")","v":""},{"$f":"IF(Eingabe!G164<>\"\",Eingabe!G164,\"\")","v":""},{"$f":"IF(Eingabe!B164<>\"\",Eingabe!B164,\"\")","v":""},{"$f":"IF(Eingabe!H164<>\"\",Eingabe!H164,\"\")","v":""},{"$f":"IF(Eingabe!I164<>\"\",Eingabe!I164,\"\")","v":""},{"$f":"IF(Eingabe!J164<>\"\",Eingabe!J164,\"\")","v":""},{"$f":"IF(Eingabe!K164<>\"\",Eingabe!K164,\"\")","v":""},{"$f":"IF(Eingabe!L164<>\"\",Eingabe!L164,\"\")","v":""},{"$f":"IF(Eingabe!M164<>\"\",Eingabe!M164,\"\")","v":""},{"$f":"IF(Eingabe!N164<>\"\",Eingabe!N164,\"\")","v":""},{"$f":"IF(Eingabe!O164<>\"\",Eingabe!O164,\"\")","v":""},{"$f":"IF(Eingabe!P164<>\"\",Eingabe!P164,\"\")","v":""}]
[{"$f":"IF(Eingabe!C165<>\"\",Eingabe!C165,\"\")","v":""},{"$f":"IF(Eingabe!D165<>\"\",Eingabe!D165,\"\")","v":""},{"$f":"IF(Eingabe!F165<>\"\",Eingabe!F165,\"\")","v":""},{"$f":"IF(Eingabe!E165<>\"\",Eingabe!E165,\"\")","v":""},{"$f":"IF(Eingabe!G165<>\"\",Eingabe!G165,\"\")","v":""},{"$f":"IF(Eingabe!B165<>\"\",Eingabe!B165,\"\")","v":""},{"$f":"IF(Eingabe!H165<>\"\",Eingabe!H165,\"\")","v":""},{"$f":"IF(Eingabe!I165<>\"\",Eingabe!I165,\"\")","v":""},{"$f":"IF(Eingabe!J165<>\"\",Eingabe!J165,\"\")","v":""},{"$f":"IF(Eingabe!K165<>\"\",Eingabe!K165,\"\")","v":""},{"$f":"IF(Eingabe!L165<>\"\",Eingabe!L165,\"\")","v":""},{"$f":"IF(Eingabe!M165<>\"\",Eingabe!M165,\"\")","v":""},{"$f":"IF(Eingabe!N165<>\"\",Eingabe!N165,\"\")","v":""},{"$f":"IF(Eingabe!O165<>\"\",Eingabe!O165,\"\")","v":""},{"$f":"IF(Eingabe!P165<>\"\",Eingabe!P165,\"\")","v":""}]
[{"$f":"IF(Eingabe!C166<>\"\",Eingabe!C166,\"\")","v":""},{"$f":"IF(Eingabe!D166<>\"\",Eingabe!D166,\"\")","v":""},{"$f":"IF(Eingabe!F166<>\"\",Eingabe!F166,\"\")","v":""},{"$f":"IF(Eingabe!E166<>\"\",Eingabe!E166,\"\")","v":""},{"$f":"IF(Eingabe!G166<>\"\",Eingabe!G166,\"\")","v":""},{"$f":"IF(Eingabe!B166<>\"\",Eingabe!B166,\"\")","v":""},{"$f":"IF(Eingabe!H166<>\"\",Eingabe!H166,\"\")","v":""},{"$f":"IF(Eingabe!I166<>\"\",Eingabe!I166,\"\")","v":""},{"$f":"IF(Eingabe!J166<>\"\",Eingabe!J166,\"\")","v":""},{"$f":"IF(Eingabe!K166<>\"\",Eingabe!K166,\"\")","v":""},{"$f":"IF(Eingabe!L166<>\"\",Eingabe!L166,\"\")","v":""},{"$f":"IF(Eingabe!M166<>\"\",Eingabe!M166,\"\")","v":""},{"$f":"IF(Eingabe!N166<>\"\",Eingabe!N166,\"\")","v":""},{"$f":"IF(Eingabe!O166<>\"\",Eingabe!O166,\"\")","v":""},{"$f":"IF(Eingabe!P166<>\"\",Eingabe!P166,\"\")","v":""}]
[{"$f":"IF(Eingabe!C167<>\"\",Eingabe!C167,\"\")","v":""},{"$f":"IF(Eingabe!D167<>\"\",Eingabe!D167,\"\")","v":""},{"$f":"IF(Eingabe!F167<>\"\",Eingabe!F167,\"\")","v":""},{"$f":"IF(Eingabe!E167<>\"\",Eingabe!E167,\"\")","v":""},{"$f":"IF(Eingabe!G167<>\"\",Eingabe!G167,\"\")","v":""},{"$f":"IF(Eingabe!B167<>\"\",Eingabe!B167,\"\")","v":""},{"$f":"IF(Eingabe!H167<>\"\",Eingabe!H167,\"\")","v":""},{"$f":"IF(Eingabe!I167<>\"\",Eingabe!I167,\"\")","v":""},{"$f":"IF(Eingabe!J167<>\"\",Eingabe!J167,\"\")","v":""},{"$f":"IF(Eingabe!K167<>\"\",Eingabe!K167,\"\")","v":""},{"$f":"IF(Eingabe!L167<>\"\",Eingabe!L167,\"\")","v":""},{"$f":"IF(Eingabe!M167<>\"\",Eingabe!M167,\"\")","v":""},{"$f":"IF(Eingabe!N167<>\"\",Eingabe!N167,\"\")","v":""},{"$f":"IF(Eingabe!O167<>\"\",Eingabe!O167,\"\")","v":""},{"$f":"IF(Eingabe!P167<>\"\",Eingabe!P167,\"\")","v":""}]
[{"$f":"IF(Eingabe!C168<>\"\",Eingabe!C168,\"\")","v":""},{"$f":"IF(Eingabe!D168<>\"\",Eingabe!D168,\"\")","v":""},{"$f":"IF(Eingabe!F168<>\"\",Eingabe!F168,\"\")","v":""},{"$f":"IF(Eingabe!E168<>\"\",Eingabe!E168,\"\")","v":""},{"$f":"IF(Eingabe!G168<>\"\",Eingabe!G168,\"\")","v":""},{"$f":"IF(Eingabe!B168<>\"\",Eingabe!B168,\"\")","v":""},{"$f":"IF(Eingabe!H168<>\"\",Eingabe!H168,\"\")","v":""},{"$f":"IF(Eingabe!I168<>\"\",Eingabe!I168,\"\")","v":""},{"$f":"IF(Eingabe!J168<>\"\",Eingabe!J168,\"\")","v":""},{"$f":"IF(Eingabe!K168<>\"\",Eingabe!K168,\"\")","v":""},{"$f":"IF(Eingabe!L168<>\"\",Eingabe!L168,\"\")","v":""},{"$f":"IF(Eingabe!M168<>\"\",Eingabe!M168,\"\")","v":""},{"$f":"IF(Eingabe!N168<>\"\",Eingabe!N168,\"\")","v":""},{"$f":"IF(Eingabe!O168<>\"\",Eingabe!O168,\"\")","v":""},{"$f":"IF(Eingabe!P168<>\"\",Eingabe!P168,\"\")","v":""}]
[{"$f":"IF(Eingabe!C169<>\"\",Eingabe!C169,\"\")","v":""},{"$f":"IF(Eingabe!D169<>\"\",Eingabe!D169,\"\")","v":""},{"$f":"IF(Eingabe!F169<>\"\",Eingabe!F169,\"\")","v":""},{"$f":"IF(Eingabe!E169<>\"\",Eingabe!E169,\"\")","v":""},{"$f":"IF(Eingabe!G169<>\"\",Eingabe!G169,\"\")","v":""},{"$f":"IF(Eingabe!B169<>\"\",Eingabe!B169,\"\")","v":""},{"$f":"IF(Eingabe!H169<>\"\",Eingabe!H169,\"\")","v":""},{"$f":"IF(Eingabe!I169<>\"\",Eingabe!I169,\"\")","v":""},{"$f":"IF(Eingabe!J169<>\"\",Eingabe!J169,\"\")","v":""},{"$f":"IF(Eingabe!K169<>\"\",Eingabe!K169,\"\")","v":""},{"$f":"IF(Eingabe!L169<>\"\",Eingabe!L169,\"\")","v":""},{"$f":"IF(Eingabe!M169<>\"\",Eingabe!M169,\"\")","v":""},{"$f":"IF(Eingabe!N169<>\"\",Eingabe!N169,\"\")","v":""},{"$f":"IF(Eingabe!O169<>\"\",Eingabe!O169,\"\")","v":""},{"$f":"IF(Eingabe!P169<>\"\",Eingabe!P169,\"\")","v":""}]
[{"$f":"IF(Eingabe!C170<>\"\",Eingabe!C170,\"\")","v":""},{"$f":"IF(Eingabe!D170<>\"\",Eingabe!D170,\"\")","v":""},{"$f":"IF(Eingabe!F170<>\"\",Eingabe!F170,\"\")","v":""},{"$f":"IF(Eingabe!E170<>\"\",Eingabe!E170,\"\")","v":""},{"$f":"IF(Eingabe!G170<>\"\",Eingabe!G170,\"\")","v":""},{"$f":"IF(Eingabe!B170<>\"\",Eingabe!B170,\"\")","v":""},{"$f":"IF(Eingabe!H170<>\"\",Eingabe!H170,\"\")","v":""},{"$f":"IF(Eingabe!I170<>\"\",Eingabe!I170,\"\")","v":""},{"$f":"IF(Eingabe!J170<>\"\",Eingabe!J170,\"\")","v":""},{"$f":"IF(Eingabe!K170<>\"\",Eingabe!K170,\"\")","v":""},{"$f":"IF(Eingabe!L170<>\"\",Eingabe!L170,\"\")","v":""},{"$f":"IF(Eingabe!M170<>\"\",Eingabe!M170,\"\")","v":""},{"$f":"IF(Eingabe!N170<>\"\",Eingabe!N170,\"\")","v":""},{"$f":"IF(Eingabe!O170<>\"\",Eingabe!O170,\"\")","v":""},{"$f":"IF(Eingabe!P170<>\"\",Eingabe!P170,\"\")","v":""}]
[{"$f":"IF(Eingabe!C171<>\"\",Eingabe!C171,\"\")","v":""},{"$f":"IF(Eingabe!D171<>\"\",Eingabe!D171,\"\")","v":""},{"$f":"IF(Eingabe!F171<>\"\",Eingabe!F171,\"\")","v":""},{"$f":"IF(Eingabe!E171<>\"\",Eingabe!E171,\"\")","v":""},{"$f":"IF(Eingabe!G171<>\"\",Eingabe!G171,\"\")","v":""},{"$f":"IF(Eingabe!B171<>\"\",Eingabe!B171,\"\")","v":""},{"$f":"IF(Eingabe!H171<>\"\",Eingabe!H171,\"\")","v":""},{"$f":"IF(Eingabe!I171<>\"\",Eingabe!I171,\"\")","v":""},{"$f":"IF(Eingabe!J171<>\"\",Eingabe!J171,\"\")","v":""},{"$f":"IF(Eingabe!K171<>\"\",Eingabe!K171,\"\")","v":""},{"$f":"IF(Eingabe!L171<>\"\",Eingabe!L171,\"\")","v":""},{"$f":"IF(Eingabe!M171<>\"\",Eingabe!M171,\"\")","v":""},{"$f":"IF(Eingabe!N171<>\"\",Eingabe!N171,\"\")","v":""},{"$f":"IF(Eingabe!O171<>\"\",Eingabe!O171,\"\")","v":""},{"$f":"IF(Eingabe!P171<>\"\",Eingabe!P171,\"\")","v":""}]
[{"$f":"IF(Eingabe!C172<>\"\",Eingabe!C172,\"\")","v":""},{"$f":"IF(Eingabe!D172<>\"\",Eingabe!D172,\"\")","v":""},{"$f":"IF(Eingabe!F172<>\"\",Eingabe!F172,\"\")","v":""},{"$f":"IF(Eingabe!E172<>\"\",Eingabe!E172,\"\")","v":""},{"$f":"IF(Eingabe!G172<>\"\",Eingabe!G172,\"\")","v":""},{"$f":"IF(Eingabe!B172<>\"\",Eingabe!B172,\"\")","v":""},{"$f":"IF(Eingabe!H172<>\"\",Eingabe!H172,\"\")","v":""},{"$f":"IF(Eingabe!I172<>\"\",Eingabe!I172,\"\")","v":""},{"$f":"IF(Eingabe!J172<>\"\",Eingabe!J172,\"\")","v":""},{"$f":"IF(Eingabe!K172<>\"\",Eingabe!K172,\"\")","v":""},{"$f":"IF(Eingabe!L172<>\"\",Eingabe!L172,\"\")","v":""},{"$f":"IF(Eingabe!M172<>\"\",Eingabe!M172,\"\")","v":""},{"$f":"IF(Eingabe!N172<>\"\",Eingabe!N172,\"\")","v":""},{"$f":"IF(Eingabe!O172<>\"\",Eingabe!O172,\"\")","v":""},{"$f":"IF(Eingabe!P172<>\"\",Eingabe!P172,\"\")","v":""}]
[{"$f":"IF(Eingabe!C173<>\"\",Eingabe!C173,\"\")","v":""},{"$f":"IF(Eingabe!D173<>\"\",Eingabe!D173,\"\")","v":""},{"$f":"IF(Eingabe!F173<>\"\",Eingabe!F173,\"\")","v":""},{"$f":"IF(Eingabe!E173<>\"\",Eingabe!E173,\"\")","v":""},{"$f":"IF(Eingabe!G173<>\"\",Eingabe!G173,\"\")","v":""},{"$f":"IF(Eingabe!B173<>\"\",Eingabe!B173,\"\")","v":""},{"$f":"IF(Eingabe!H173<>\"\",Eingabe!H173,\"\")","v":""},{"$f":"IF(Eingabe!I173<>\"\",Eingabe!I173,\"\")","v":""},{"$f":"IF(Eingabe!J173<>\"\",Eingabe!J173,\"\")","v":""},{"$f":"IF(Eingabe!K173<>\"\",Eingabe!K173,\"\")","v":""},{"$f":"IF(Eingabe!L173<>\"\",Eingabe!L173,\"\")","v":""},{"$f":"IF(Eingabe!M173<>\"\",Eingabe!M173,\"\")","v":""},{"$f":"IF(Eingabe!N173<>\"\",Eingabe!N173,\"\")","v":""},{"$f":"IF(Eingabe!O173<>\"\",Eingabe!O173,\"\")","v":""},{"$f":"IF(Eingabe!P173<>\"\",Eingabe!P173,\"\")","v":""}]
[{"$f":"IF(Eingabe!C174<>\"\",Eingabe!C174,\"\")","v":""},{"$f":"IF(Eingabe!D174<>\"\",Eingabe!D174,\"\")","v":""},{"$f":"IF(Eingabe!F174<>\"\",Eingabe!F174,\"\")","v":""},{"$f":"IF(Eingabe!E174<>\"\",Eingabe!E174,\"\")","v":""},{"$f":"IF(Eingabe!G174<>\"\",Eingabe!G174,\"\")","v":""},{"$f":"IF(Eingabe!B174<>\"\",Eingabe!B174,\"\")","v":""},{"$f":"IF(Eingabe!H174<>\"\",Eingabe!H174,\"\")","v":""},{"$f":"IF(Eingabe!I174<>\"\",Eingabe!I174,\"\")","v":""},{"$f":"IF(Eingabe!J174<>\"\",Eingabe!J174,\"\")","v":""},{"$f":"IF(Eingabe!K174<>\"\",Eingabe!K174,\"\")","v":""},{"$f":"IF(Eingabe!L174<>\"\",Eingabe!L174,\"\")","v":""},{"$f":"IF(Eingabe!M174<>\"\",Eingabe!M174,\"\")","v":""},{"$f":"IF(Eingabe!N174<>\"\",Eingabe!N174,\"\")","v":""},{"$f":"IF(Eingabe!O174<>\"\",Eingabe!O174,\"\")","v":""},{"$f":"IF(Eingabe!P174<>\"\",Eingabe!P174,\"\")","v":""}]
[{"$f":"IF(Eingabe!C175<>\"\",Eingabe!C175,\"\")","v":""},{"$f":"IF(Eingabe!D175<>\"\",Eingabe!D175,\"\")","v":""},{"$f":"IF(Eingabe!F175<>\"\",Eingabe!F175,\"\")","v":""},{"$f":"IF(Eingabe!E175<>\"\",Eingabe!E175,\"\")","v":""},{"$f":"IF(Eingabe!G175<>\"\",Eingabe!G175,\"\")","v":""},{"$f":"IF(Eingabe!B175<>\"\",Eingabe!B175,\"\")","v":""},{"$f":"IF(Eingabe!H175<>\"\",Eingabe!H175,\"\")","v":""},{"$f":"IF(Eingabe!I175<>\"\",Eingabe!I175,\"\")","v":""},{"$f":"IF(Eingabe!J175<>\"\",Eingabe!J175,\"\")","v":""},{"$f":"IF(Eingabe!K175<>\"\",Eingabe!K175,\"\")","v":""},{"$f":"IF(Eingabe!L175<>\"\",Eingabe!L175,\"\")","v":""},{"$f":"IF(Eingabe!M175<>\"\",Eingabe!M175,\"\")","v":""},{"$f":"IF(Eingabe!N175<>\"\",Eingabe!N175,\"\")","v":""},{"$f":"IF(Eingabe!O175<>\"\",Eingabe!O175,\"\")","v":""},{"$f":"IF(Eingabe!P175<>\"\",Eingabe!P175,\"\")","v":""}]
[{"$f":"IF(Eingabe!C176<>\"\",Eingabe!C176,\"\")","v":""},{"$f":"IF(Eingabe!D176<>\"\",Eingabe!D176,\"\")","v":""},{"$f":"IF(Eingabe!F176<>\"\",Eingabe!F176,\"\")","v":""},{"$f":"IF(Eingabe!E176<>\"\",Eingabe!E176,\"\")","v":""},{"$f":"IF(Eingabe!G176<>\"\",Eingabe!G176,\"\")","v":""},{"$f":"IF(Eingabe!B176<>\"\",Eingabe!B176,\"\")","v":""},{"$f":"IF(Eingabe!H176<>\"\",Eingabe!H176,\"\")","v":""},{"$f":"IF(Eingabe!I176<>\"\",Eingabe!I176,\"\")","v":""},{"$f":"IF(Eingabe!J176<>\"\",Eingabe!J176,\"\")","v":""},{"$f":"IF(Eingabe!K176<>\"\",Eingabe!K176,\"\")","v":""},{"$f":"IF(Eingabe!L176<>\"\",Eingabe!L176,\"\")","v":""},{"$f":"IF(Eingabe!M176<>\"\",Eingabe!M176,\"\")","v":""},{"$f":"IF(Eingabe!N176<>\"\",Eingabe!N176,\"\")","v":""},{"$f":"IF(Eingabe!O176<>\"\",Eingabe!O176,\"\")","v":""},{"$f":"IF(Eingabe!P176<>\"\",Eingabe!P176,\"\")","v":""}]
[{"$f":"IF(Eingabe!C177<>\"\",Eingabe!C177,\"\")","v":""},{"$f":"IF(Eingabe!D177<>\"\",Eingabe!D177,\"\")","v":""},{"$f":"IF(Eingabe!F177<>\"\",Eingabe!F177,\"\")","v":""},{"$f":"IF(Eingabe!E177<>\"\",Eingabe!E177,\"\")","v":""},{"$f":"IF(Eingabe!G177<>\"\",Eingabe!G177,\"\")","v":""},{"$f":"IF(Eingabe!B177<>\"\",Eingabe!B177,\"\")","v":""},{"$f":"IF(Eingabe!H177<>\"\",Eingabe!H177,\"\")","v":""},{"$f":"IF(Eingabe!I177<>\"\",Eingabe!I177,\"\")","v":""},{"$f":"IF(Eingabe!J177<>\"\",Eingabe!J177,\"\")","v":""},{"$f":"IF(Eingabe!K177<>\"\",Eingabe!K177,\"\")","v":""},{"$f":"IF(Eingabe!L177<>\"\",Eingabe!L177,\"\")","v":""},{"$f":"IF(Eingabe!M177<>\"\",Eingabe!M177,\"\")","v":""},{"$f":"IF(Eingabe!N177<>\"\",Eingabe!N177,\"\")","v":""},{"$f":"IF(Eingabe!O177<>\"\",Eingabe!O177,\"\")","v":""},{"$f":"IF(Eingabe!P177<>\"\",Eingabe!P177,\"\")","v":""}]
[{"$f":"IF(Eingabe!C178<>\"\",Eingabe!C178,\"\")","v":""},{"$f":"IF(Eingabe!D178<>\"\",Eingabe!D178,\"\")","v":""},{"$f":"IF(Eingabe!F178<>\"\",Eingabe!F178,\"\")","v":""},{"$f":"IF(Eingabe!E178<>\"\",Eingabe!E178,\"\")","v":""},{"$f":"IF(Eingabe!G178<>\"\",Eingabe!G178,\"\")","v":""},{"$f":"IF(Eingabe!B178<>\"\",Eingabe!B178,\"\")","v":""},{"$f":"IF(Eingabe!H178<>\"\",Eingabe!H178,\"\")","v":""},{"$f":"IF(Eingabe!I178<>\"\",Eingabe!I178,\"\")","v":""},{"$f":"IF(Eingabe!J178<>\"\",Eingabe!J178,\"\")","v":""},{"$f":"IF(Eingabe!K178<>\"\",Eingabe!K178,\"\")","v":""},{"$f":"IF(Eingabe!L178<>\"\",Eingabe!L178,\"\")","v":""},{"$f":"IF(Eingabe!M178<>\"\",Eingabe!M178,\"\")","v":""},{"$f":"IF(Eingabe!N178<>\"\",Eingabe!N178,\"\")","v":""},{"$f":"IF(Eingabe!O178<>\"\",Eingabe!O178,\"\")","v":""},{"$f":"IF(Eingabe!P178<>\"\",Eingabe!P178,\"\")","v":""}]
[{"$f":"IF(Eingabe!C179<>\"\",Eingabe!C179,\"\")","v":""},{"$f":"IF(Eingabe!D179<>\"\",Eingabe!D179,\"\")","v":""},{"$f":"IF(Eingabe!F179<>\"\",Eingabe!F179,\"\")","v":""},{"$f":"IF(Eingabe!E179<>\"\",Eingabe!E179,\"\")","v":""},{"$f":"IF(Eingabe!G179<>\"\",Eingabe!G179,\"\")","v":""},{"$f":"IF(Eingabe!B179<>\"\",Eingabe!B179,\"\")","v":""},{"$f":"IF(Eingabe!H179<>\"\",Eingabe!H179,\"\")","v":""},{"$f":"IF(Eingabe!I179<>\"\",Eingabe!I179,\"\")","v":""},{"$f":"IF(Eingabe!J179<>\"\",Eingabe!J179,\"\")","v":""},{"$f":"IF(Eingabe!K179<>\"\",Eingabe!K179,\"\")","v":""},{"$f":"IF(Eingabe!L179<>\"\",Eingabe!L179,\"\")","v":""},{"$f":"IF(Eingabe!M179<>\"\",Eingabe!M179,\"\")","v":""},{"$f":"IF(Eingabe!N179<>\"\",Eingabe!N179,\"\")","v":""},{"$f":"IF(Eingabe!O179<>\"\",Eingabe!O179,\"\")","v":""},{"$f":"IF(Eingabe!P179<>\"\",Eingabe!P179,\"\")","v":""}]
[{"$f":"IF(Eingabe!C180<>\"\",Eingabe!C180,\"\")","v":""},{"$f":"IF(Eingabe!D180<>\"\",Eingabe!D180,\"\")","v":""},{"$f":"IF(Eingabe!F180<>\"\",Eingabe!F180,\"\")","v":""},{"$f":"IF(Eingabe!E180<>\"\",Eingabe!E180,\"\")","v":""},{"$f":"IF(Eingabe!G180<>\"\",Eingabe!G180,\"\")","v":""},{"$f":"IF(Eingabe!B180<>\"\",Eingabe!B180,\"\")","v":""},{"$f":"IF(Eingabe!H180<>\"\",Eingabe!H180,\"\")","v":""},{"$f":"IF(Eingabe!I180<>\"\",Eingabe!I180,\"\")","v":""},{"$f":"IF(Eingabe!J180<>\"\",Eingabe!J180,\"\")","v":""},{"$f":"IF(Eingabe!K180<>\"\",Eingabe!K180,\"\")","v":""},{"$f":"IF(Eingabe!L180<>\"\",Eingabe!L180,\"\")","v":""},{"$f":"IF(Eingabe!M180<>\"\",Eingabe!M180,\"\")","v":""},{"$f":"IF(Eingabe!N180<>\"\",Eingabe!N180,\"\")","v":""},{"$f":"IF(Eingabe!O180<>\"\",Eingabe!O180,\"\")","v":""},{"$f":"IF(Eingabe!P180<>\"\",Eingabe!P180,\"\")","v":""}]
[{"$f":"IF(Eingabe!C181<>\"\",Eingabe!C181,\"\")","v":""},{"$f":"IF(Eingabe!D181<>\"\",Eingabe!D181,\"\")","v":""},{"$f":"IF(Eingabe!F181<>\"\",Eingabe!F181,\"\")","v":""},{"$f":"IF(Eingabe!E181<>\"\",Eingabe!E181,\"\")","v":""},{"$f":"IF(Eingabe!G181<>\"\",Eingabe!G181,\"\")","v":""},{"$f":"IF(Eingabe!B181<>\"\",Eingabe!B181,\"\")","v":""},{"$f":"IF(Eingabe!H181<>\"\",Eingabe!H181,\"\")","v":""},{"$f":"IF(Eingabe!I181<>\"\",Eingabe!I181,\"\")","v":""},{"$f":"IF(Eingabe!J181<>\"\",Eingabe!J181,\"\")","v":""},{"$f":"IF(Eingabe!K181<>\"\",Eingabe!K181,\"\")","v":""},{"$f":"IF(Eingabe!L181<>\"\",Eingabe!L181,\"\")","v":""},{"$f":"IF(Eingabe!M181<>\"\",Eingabe!M181,\"\")","v":""},{"$f":"IF(Eingabe!N181<>\"\",Eingabe!N181,\"\")","v":""},{"$f":"IF(Eingabe!O181<>\"\",Eingabe!O181,\"\")","v":""},{"$f":"IF(Eingabe!P181<>\"\",Eingabe!P181,\"\")","v":""}]
[{"$f":"IF(Eingabe!C182<>\"\",Eingabe!C182,\"\")","v":""},{"$f":"IF(Eingabe!D182<>\"\",Eingabe!D182,\"\")","v":""},{"$f":"IF(Eingabe!F182<>\"\",Eingabe!F182,\"\")","v":""},{"$f":"IF(Eingabe!E182<>\"\",Eingabe!E182,\"\")","v":""},{"$f":"IF(Eingabe!G182<>\"\",Eingabe!G182,\"\")","v":""},{"$f":"IF(Eingabe!B182<>\"\",Eingabe!B182,\"\")","v":""},{"$f":"IF(Eingabe!H182<>\"\",Eingabe!H182,\"\")","v":""},{"$f":"IF(Eingabe!I182<>\"\",Eingabe!I182,\"\")","v":""},{"$f":"IF(Eingabe!J182<>\"\",Eingabe!J182,\"\")","v":""},{"$f":"IF(Eingabe!K182<>\"\",Eingabe!K182,\"\")","v":""},{"$f":"IF(Eingabe!L182<>\"\",Eingabe!L182,\"\")","v":""},{"$f":"IF(Eingabe!M182<>\"\",Eingabe!M182,\"\")","v":""},{"$f":"IF(Eingabe!N182<>\"\",Eingabe!N182,\"\")","v":""},{"$f":"IF(Eingabe!O182<>\"\",Eingabe!O182,\"\")","v":""},{"$f":"IF(Eingabe!P182<>\"\",Eingabe!P182,\"\")","v":""}]
[{"$f":"IF(Eingabe!C183<>\"\",Eingabe!C183,\"\")","v":""},{"$f":"IF(Eingabe!D183<>\"\",Eingabe!D183,\"\")","v":""},{"$f":"IF(Eingabe!F183<>\"\",Eingabe!F183,\"\")","v":""},{"$f":"IF(Eingabe!E183<>\"\",Eingabe!E183,\"\")","v":""},{"$f":"IF(Eingabe!G183<>\"\",Eingabe!G183,\"\")","v":""},{"$f":"IF(Eingabe!B183<>\"\",Eingabe!B183,\"\")","v":""},{"$f":"IF(Eingabe!H183<>\"\",Eingabe!H183,\"\")","v":""},{"$f":"IF(Eingabe!I183<>\"\",Eingabe!I183,\"\")","v":""},{"$f":"IF(Eingabe!J183<>\"\",Eingabe!J183,\"\")","v":""},{"$f":"IF(Eingabe!K183<>\"\",Eingabe!K183,\"\")","v":""},{"$f":"IF(Eingabe!L183<>\"\",Eingabe!L183,\"\")","v":""},{"$f":"IF(Eingabe!M183<>\"\",Eingabe!M183,\"\")","v":""},{"$f":"IF(Eingabe!N183<>\"\",Eingabe!N183,\"\")","v":""},{"$f":"IF(Eingabe!O183<>\"\",Eingabe!O183,\"\")","v":""},{"$f":"IF(Eingabe!P183<>\"\",Eingabe!P183,\"\")","v":""}]
[{"$f":"IF(Eingabe!C184<>\"\",Eingabe!C184,\"\")","v":""},{"$f":"IF(Eingabe!D184<>\"\",Eingabe!D184,\"\")","v":""},{"$f":"IF(Eingabe!F184<>\"\",Eingabe!F184,\"\")","v":""},{"$f":"IF(Eingabe!E184<>\"\",Eingabe!E184,\"\")","v":""},{"$f":"IF(Eingabe!G184<>\"\",Eingabe!G184,\"\")","v":""},{"$f":"IF(Eingabe!B184<>\"\",Eingabe!B184,\"\")","v":""},{"$f":"IF(Eingabe!H184<>\"\",Eingabe!H184,\"\")","v":""},{"$f":"IF(Eingabe!I184<>\"\",Eingabe!I184,\"\")","v":""},{"$f":"IF(Eingabe!J184<>\"\",Eingabe!J184,\"\")","v":""},{"$f":"IF(Eingabe!K184<>\"\",Eingabe!K184,\"\")","v":""},{"$f":"IF(Eingabe!L184<>\"\",Eingabe!L184,\"\")","v":""},{"$f":"IF(Eingabe!M184<>\"\",Eingabe!M184,\"\")","v":""},{"$f":"IF(Eingabe!N184<>\"\",Eingabe!N184,\"\")","v":""},{"$f":"IF(Eingabe!O184<>\"\",Eingabe!O184,\"\")","v":""},{"$f":"IF(Eingabe!P184<>\"\",Eingabe!P184,\"\")","v":""}]
[{"$f":"IF(Eingabe!C185<>\"\",Eingabe!C185,\"\")","v":""},{"$f":"IF(Eingabe!D185<>\"\",Eingabe!D185,\"\")","v":""},{"$f":"IF(Eingabe!F185<>\"\",Eingabe!F185,\"\")","v":""},{"$f":"IF(Eingabe!E185<>\"\",Eingabe!E185,\"\")","v":""},{"$f":"IF(Eingabe!G185<>\"\",Eingabe!G185,\"\")","v":""},{"$f":"IF(Eingabe!B185<>\"\",Eingabe!B185,\"\")","v":""},{"$f":"IF(Eingabe!H185<>\"\",Eingabe!H185,\"\")","v":""},{"$f":"IF(Eingabe!I185<>\"\",Eingabe!I185,\"\")","v":""},{"$f":"IF(Eingabe!J185<>\"\",Eingabe!J185,\"\")","v":""},{"$f":"IF(Eingabe!K185<>\"\",Eingabe!K185,\"\")","v":""},{"$f":"IF(Eingabe!L185<>\"\",Eingabe!L185,\"\")","v":""},{"$f":"IF(Eingabe!M185<>\"\",Eingabe!M185,\"\")","v":""},{"$f":"IF(Eingabe!N185<>\"\",Eingabe!N185,\"\")","v":""},{"$f":"IF(Eingabe!O185<>\"\",Eingabe!O185,\"\")","v":""},{"$f":"IF(Eingabe!P185<>\"\",Eingabe!P185,\"\")","v":""}]
[{"$f":"IF(Eingabe!C186<>\"\",Eingabe!C186,\"\")","v":""},{"$f":"IF(Eingabe!D186<>\"\",Eingabe!D186,\"\")","v":""},{"$f":"IF(Eingabe!F186<>\"\",Eingabe!F186,\"\")","v":""},{"$f":"IF(Eingabe!E186<>\"\",Eingabe!E186,\"\")","v":""},{"$f":"IF(Eingabe!G186<>\"\",Eingabe!G186,\"\")","v":""},{"$f":"IF(Eingabe!B186<>\"\",Eingabe!B186,\"\")","v":""},{"$f":"IF(Eingabe!H186<>\"\",Eingabe!H186,\"\")","v":""},{"$f":"IF(Eingabe!I186<>\"\",Eingabe!I186,\"\")","v":""},{"$f":"IF(Eingabe!J186<>\"\",Eingabe!J186,\"\")","v":""},{"$f":"IF(Eingabe!K186<>\"\",Eingabe!K186,\"\")","v":""},{"$f":"IF(Eingabe!L186<>\"\",Eingabe!L186,\"\")","v":""},{"$f":"IF(Eingabe!M186<>\"\",Eingabe!M186,\"\")","v":""},{"$f":"IF(Eingabe!N186<>\"\",Eingabe!N186,\"\")","v":""},{"$f":"IF(Eingabe!O186<>\"\",Eingabe!O186,\"\")","v":""},{"$f":"IF(Eingabe!P186<>\"\",Eingabe!P186,\"\")","v":""}]
[{"$f":"IF(Eingabe!C187<>\"\",Eingabe!C187,\"\")","v":""},{"$f":"IF(Eingabe!D187<>\"\",Eingabe!D187,\"\")","v":""},{"$f":"IF(Eingabe!F187<>\"\",Eingabe!F187,\"\")","v":""},{"$f":"IF(Eingabe!E187<>\"\",Eingabe!E187,\"\")","v":""},{"$f":"IF(Eingabe!G187<>\"\",Eingabe!G187,\"\")","v":""},{"$f":"IF(Eingabe!B187<>\"\",Eingabe!B187,\"\")","v":""},{"$f":"IF(Eingabe!H187<>\"\",Eingabe!H187,\"\")","v":""},{"$f":"IF(Eingabe!I187<>\"\",Eingabe!I187,\"\")","v":""},{"$f":"IF(Eingabe!J187<>\"\",Eingabe!J187,\"\")","v":""},{"$f":"IF(Eingabe!K187<>\"\",Eingabe!K187,\"\")","v":""},{"$f":"IF(Eingabe!L187<>\"\",Eingabe!L187,\"\")","v":""},{"$f":"IF(Eingabe!M187<>\"\",Eingabe!M187,\"\")","v":""},{"$f":"IF(Eingabe!N187<>\"\",Eingabe!N187,\"\")","v":""},{"$f":"IF(Eingabe!O187<>\"\",Eingabe!O187,\"\")","v":""},{"$f":"IF(Eingabe!P187<>\"\",Eingabe!P187,\"\")","v":""}]
[{"$f":"IF(Eingabe!C188<>\"\",Eingabe!C188,\"\")","v":""},{"$f":"IF(Eingabe!D188<>\"\",Eingabe!D188,\"\")","v":""},{"$f":"IF(Eingabe!F188<>\"\",Eingabe!F188,\"\")","v":""},{"$f":"IF(Eingabe!E188<>\"\",Eingabe!E188,\"\")","v":""},{"$f":"IF(Eingabe!G188<>\"\",Eingabe!G188,\"\")","v":""},{"$f":"IF(Eingabe!B188<>\"\",Eingabe!B188,\"\")","v":""},{"$f":"IF(Eingabe!H188<>\"\",Eingabe!H188,\"\")","v":""},{"$f":"IF(Eingabe!I188<>\"\",Eingabe!I188,\"\")","v":""},{"$f":"IF(Eingabe!J188<>\"\",Eingabe!J188,\"\")","v":""},{"$f":"IF(Eingabe!K188<>\"\",Eingabe!K188,\"\")","v":""},{"$f":"IF(Eingabe!L188<>\"\",Eingabe!L188,\"\")","v":""},{"$f":"IF(Eingabe!M188<>\"\",Eingabe!M188,\"\")","v":""},{"$f":"IF(Eingabe!N188<>\"\",Eingabe!N188,\"\")","v":""},{"$f":"IF(Eingabe!O188<>\"\",Eingabe!O188,\"\")","v":""},{"$f":"IF(Eingabe!P188<>\"\",Eingabe!P188,\"\")","v":""}]
[{"$f":"IF(Eingabe!C189<>\"\",Eingabe!C189,\"\")","v":""},{"$f":"IF(Eingabe!D189<>\"\",Eingabe!D189,\"\")","v":""},{"$f":"IF(Eingabe!F189<>\"\",Eingabe!F189,\"\")","v":""},{"$f":"IF(Eingabe!E189<>\"\",Eingabe!E189,\"\")","v":""},{"$f":"IF(Eingabe!G189<>\"\",Eingabe!G189,\"\")","v":""},{"$f":"IF(Eingabe!B189<>\"\",Eingabe!B189,\"\")","v":""},{"$f":"IF(Eingabe!H189<>\"\",Eingabe!H189,\"\")","v":""},{"$f":"IF(Eingabe!I189<>\"\",Eingabe!I189,\"\")","v":""},{"$f":"IF(Eingabe!J189<>\"\",Eingabe!J189,\"\")","v":""},{"$f":"IF(Eingabe!K189<>\"\",Eingabe!K189,\"\")","v":""},{"$f":"IF(Eingabe!L189<>\"\",Eingabe!L189,\"\")","v":""},{"$f":"IF(Eingabe!M189<>\"\",Eingabe!M189,\"\")","v":""},{"$f":"IF(Eingabe!N189<>\"\",Eingabe!N189,\"\")","v":""},{"$f":"IF(Eingabe!O189<>\"\",Eingabe!O189,\"\")","v":""},{"$f":"IF(Eingabe!P189<>\"\",Eingabe!P189,\"\")","v":""}]
[{"$f":"IF(Eingabe!C190<>\"\",Eingabe!C190,\"\")","v":""},{"$f":"IF(Eingabe!D190<>\"\",Eingabe!D190,\"\")","v":""},{"$f":"IF(Eingabe!F190<>\"\",Eingabe!F190,\"\")","v":""},{"$f":"IF(Eingabe!E190<>\"\",Eingabe!E190,\"\")","v":""},{"$f":"IF(Eingabe!G190<>\"\",Eingabe!G190,\"\")","v":""},{"$f":"IF(Eingabe!B190<>\"\",Eingabe!B190,\"\")","v":""},{"$f":"IF(Eingabe!H190<>\"\",Eingabe!H190,\"\")","v":""},{"$f":"IF(Eingabe!I190<>\"\",Eingabe!I190,\"\")","v":""},{"$f":"IF(Eingabe!J190<>\"\",Eingabe!J190,\"\")","v":""},{"$f":"IF(Eingabe!K190<>\"\",Eingabe!K190,\"\")","v":""},{"$f":"IF(Eingabe!L190<>\"\",Eingabe!L190,\"\")","v":""},{"$f":"IF(Eingabe!M190<>\"\",Eingabe!M190,\"\")","v":""},{"$f":"IF(Eingabe!N190<>\"\",Eingabe!N190,\"\")","v":""},{"$f":"IF(Eingabe!O190<>\"\",Eingabe!O190,\"\")","v":""},{"$f":"IF(Eingabe!P190<>\"\",Eingabe!P190,\"\")","v":""}]
[{"$f":"IF(Eingabe!C191<>\"\",Eingabe!C191,\"\")","v":""},{"$f":"IF(Eingabe!D191<>\"\",Eingabe!D191,\"\")","v":""},{"$f":"IF(Eingabe!F191<>\"\",Eingabe!F191,\"\")","v":""},{"$f":"IF(Eingabe!E191<>\"\",Eingabe!E191,\"\")","v":""},{"$f":"IF(Eingabe!G191<>\"\",Eingabe!G191,\"\")","v":""},{"$f":"IF(Eingabe!B191<>\"\",Eingabe!B191,\"\")","v":""},{"$f":"IF(Eingabe!H191<>\"\",Eingabe!H191,\"\")","v":""},{"$f":"IF(Eingabe!I191<>\"\",Eingabe!I191,\"\")","v":""},{"$f":"IF(Eingabe!J191<>\"\",Eingabe!J191,\"\")","v":""},{"$f":"IF(Eingabe!K191<>\"\",Eingabe!K191,\"\")","v":""},{"$f":"IF(Eingabe!L191<>\"\",Eingabe!L191,\"\")","v":""},{"$f":"IF(Eingabe!M191<>\"\",Eingabe!M191,\"\")","v":""},{"$f":"IF(Eingabe!N191<>\"\",Eingabe!N191,\"\")","v":""},{"$f":"IF(Eingabe!O191<>\"\",Eingabe!O191,\"\")","v":""},{"$f":"IF(Eingabe!P191<>\"\",Eingabe!P191,\"\")","v":""}]
[{"$f":"IF(Eingabe!C192<>\"\",Eingabe!C192,\"\")","v":""},{"$f":"IF(Eingabe!D192<>\"\",Eingabe!D192,\"\")","v":""},{"$f":"IF(Eingabe!F192<>\"\",Eingabe!F192,\"\")","v":""},{"$f":"IF(Eingabe!E192<>\"\",Eingabe!E192,\"\")","v":""},{"$f":"IF(Eingabe!G192<>\"\",Eingabe!G192,\"\")","v":""},{"$f":"IF(Eingabe!B192<>\"\",Eingabe!B192,\"\")","v":""},{"$f":"IF(Eingabe!H192<>\"\",Eingabe!H192,\"\")","v":""},{"$f":"IF(Eingabe!I192<>\"\",Eingabe!I192,\"\")","v":""},{"$f":"IF(Eingabe!J192<>\"\",Eingabe!J192,\"\")","v":""},{"$f":"IF(Eingabe!K192<>\"\",Eingabe!K192,\"\")","v":""},{"$f":"IF(Eingabe!L192<>\"\",Eingabe!L192,\"\")","v":""},{"$f":"IF(Eingabe!M192<>\"\",Eingabe!M192,\"\")","v":""},{"$f":"IF(Eingabe!N192<>\"\",Eingabe!N192,\"\")","v":""},{"$f":"IF(Eingabe!O192<>\"\",Eingabe!O192,\"\")","v":""},{"$f":"IF(Eingabe!P192<>\"\",Eingabe!P192,\"\")","v":""}]
[{"$f":"IF(Eingabe!C193<>\"\",Eingabe!C193,\"\")","v":""},{"$f":"IF(Eingabe!D193<>\"\",Eingabe!D193,\"\")","v":""},{"$f":"IF(Eingabe!F193<>\"\",Eingabe!F193,\"\")","v":""},{"$f":"IF(Eingabe!E193<>\"\",Eingabe!E193,\"\")","v":""},{"$f":"IF(Eingabe!G193<>\"\",Eingabe!G193,\"\")","v":""},{"$f":"IF(Eingabe!B193<>\"\",Eingabe!B193,\"\")","v":""},{"$f":"IF(Eingabe!H193<>\"\",Eingabe!H193,\"\")","v":""},{"$f":"IF(Eingabe!I193<>\"\",Eingabe!I193,\"\")","v":""},{"$f":"IF(Eingabe!J193<>\"\",Eingabe!J193,\"\")","v":""},{"$f":"IF(Eingabe!K193<>\"\",Eingabe!K193,\"\")","v":""},{"$f":"IF(Eingabe!L193<>\"\",Eingabe!L193,\"\")","v":""},{"$f":"IF(Eingabe!M193<>\"\",Eingabe!M193,\"\")","v":""},{"$f":"IF(Eingabe!N193<>\"\",Eingabe!N193,\"\")","v":""},{"$f":"IF(Eingabe!O193<>\"\",Eingabe!O193,\"\")","v":""},{"$f":"IF(Eingabe!P193<>\"\",Eingabe!P193,\"\")","v":""}]
[{"$f":"IF(Eingabe!C194<>\"\",Eingabe!C194,\"\")","v":""},{"$f":"IF(Eingabe!D194<>\"\",Eingabe!D194,\"\")","v":""},{"$f":"IF(Eingabe!F194<>\"\",Eingabe!F194,\"\")","v":""},{"$f":"IF(Eingabe!E194<>\"\",Eingabe!E194,\"\")","v":""},{"$f":"IF(Eingabe!G194<>\"\",Eingabe!G194,\"\")","v":""},{"$f":"IF(Eingabe!B194<>\"\",Eingabe!B194,\"\")","v":""},{"$f":"IF(Eingabe!H194<>\"\",Eingabe!H194,\"\")","v":""},{"$f":"IF(Eingabe!I194<>\"\",Eingabe!I194,\"\")","v":""},{"$f":"IF(Eingabe!J194<>\"\",Eingabe!J194,\"\")","v":""},{"$f":"IF(Eingabe!K194<>\"\",Eingabe!K194,\"\")","v":""},{"$f":"IF(Eingabe!L194<>\"\",Eingabe!L194,\"\")","v":""},{"$f":"IF(Eingabe!M194<>\"\",Eingabe!M194,\"\")","v":""},{"$f":"IF(Eingabe!N194<>\"\",Eingabe!N194,\"\")","v":""},{"$f":"IF(Eingabe!O194<>\"\",Eingabe!O194,\"\")","v":""},{"$f":"IF(Eingabe!P194<>\"\",Eingabe!P194,\"\")","v":""}]
[{"$f":"IF(Eingabe!C195<>\"\",Eingabe!C195,\"\")","v":""},{"$f":"IF(Eingabe!D195<>\"\",Eingabe!D195,\"\")","v":""},{"$f":"IF(Eingabe!F195<>\"\",Eingabe!F195,\"\")","v":""},{"$f":"IF(Eingabe!E195<>\"\",Eingabe!E195,\"\")","v":""},{"$f":"IF(Eingabe!G195<>\"\",Eingabe!G195,\"\")","v":""},{"$f":"IF(Eingabe!B195<>\"\",Eingabe!B195,\"\")","v":""},{"$f":"IF(Eingabe!H195<>\"\",Eingabe!H195,\"\")","v":""},{"$f":"IF(Eingabe!I195<>\"\",Eingabe!I195,\"\")","v":""},{"$f":"IF(Eingabe!J195<>\"\",Eingabe!J195,\"\")","v":""},{"$f":"IF(Eingabe!K195<>\"\",Eingabe!K195,\"\")","v":""},{"$f":"IF(Eingabe!L195<>\"\",Eingabe!L195,\"\")","v":""},{"$f":"IF(Eingabe!M195<>\"\",Eingabe!M195,\"\")","v":""},{"$f":"IF(Eingabe!N195<>\"\",Eingabe!N195,\"\")","v":""},{"$f":"IF(Eingabe!O195<>\"\",Eingabe!O195,\"\")","v":""},{"$f":"IF(Eingabe!P195<>\"\",Eingabe!P195,\"\")","v":""}]
[{"$f":"IF(Eingabe!C196<>\"\",Eingabe!C196,\"\")","v":""},{"$f":"IF(Eingabe!D196<>\"\",Eingabe!D196,\"\")","v":""},{"$f":"IF(Eingabe!F196<>\"\",Eingabe!F196,\"\")","v":""},{"$f":"IF(Eingabe!E196<>\"\",Eingabe!E196,\"\")","v":""},{"$f":"IF(Eingabe!G196<>\"\",Eingabe!G196,\"\")","v":""},{"$f":"IF(Eingabe!B196<>\"\",Eingabe!B196,\"\")","v":""},{"$f":"IF(Eingabe!H196<>\"\",Eingabe!H196,\"\")","v":""},{"$f":"IF(Eingabe!I196<>\"\",Eingabe!I196,\"\")","v":""},{"$f":"IF(Eingabe!J196<>\"\",Eingabe!J196,\"\")","v":""},{"$f":"IF(Eingabe!K196<>\"\",Eingabe!K196,\"\")","v":""},{"$f":"IF(Eingabe!L196<>\"\",Eingabe!L196,\"\")","v":""},{"$f":"IF(Eingabe!M196<>\"\",Eingabe!M196,\"\")","v":""},{"$f":"IF(Eingabe!N196<>\"\",Eingabe!N196,\"\")","v":""},{"$f":"IF(Eingabe!O196<>\"\",Eingabe!O196,\"\")","v":""},{"$f":"IF(Eingabe!P196<>\"\",Eingabe!P196,\"\")","v":""}]
[{"$f":"IF(Eingabe!C197<>\"\",Eingabe!C197,\"\")","v":""},{"$f":"IF(Eingabe!D197<>\"\",Eingabe!D197,\"\")","v":""},{"$f":"IF(Eingabe!F197<>\"\",Eingabe!F197,\"\")","v":""},{"$f":"IF(Eingabe!E197<>\"\",Eingabe!E197,\"\")","v":""},{"$f":"IF(Eingabe!G197<>\"\",Eingabe!G197,\"\")","v":""},{"$f":"IF(Eingabe!B197<>\"\",Eingabe!B197,\"\")","v":""},{"$f":"IF(Eingabe!H197<>\"\",Eingabe!H197,\"\")","v":""},{"$f":"IF(Eingabe!I197<>\"\",Eingabe!I197,\"\")","v":""},{"$f":"IF(Eingabe!J197<>\"\",Eingabe!J197,\"\")","v":""},{"$f":"IF(Eingabe!K197<>\"\",Eingabe!K197,\"\")","v":""},{"$f":"IF(Eingabe!L197<>\"\",Eingabe!L197,\"\")","v":""},{"$f":"IF(Eingabe!M197<>\"\",Eingabe!M197,\"\")","v":""},{"$f":"IF(Eingabe!N197<>\"\",Eingabe!N197,\"\")","v":""},{"$f":"IF(Eingabe!O197<>\"\",Eingabe!O197,\"\")","v":""},{"$f":"IF(Eingabe!P197<>\"\",Eingabe!P197,\"\")","v":""}]
[{"$f":"IF(Eingabe!C198<>\"\",Eingabe!C198,\"\")","v":""},{"$f":"IF(Eingabe!D198<>\"\",Eingabe!D198,\"\")","v":""},{"$f":"IF(Eingabe!F198<>\"\",Eingabe!F198,\"\")","v":""},{"$f":"IF(Eingabe!E198<>\"\",Eingabe!E198,\"\")","v":""},{"$f":"IF(Eingabe!G198<>\"\",Eingabe!G198,\"\")","v":""},{"$f":"IF(Eingabe!B198<>\"\",Eingabe!B198,\"\")","v":""},{"$f":"IF(Eingabe!H198<>\"\",Eingabe!H198,\"\")","v":""},{"$f":"IF(Eingabe!I198<>\"\",Eingabe!I198,\"\")","v":""},{"$f":"IF(Eingabe!J198<>\"\",Eingabe!J198,\"\")","v":""},{"$f":"IF(Eingabe!K198<>\"\",Eingabe!K198,\"\")","v":""},{"$f":"IF(Eingabe!L198<>\"\",Eingabe!L198,\"\")","v":""},{"$f":"IF(Eingabe!M198<>\"\",Eingabe!M198,\"\")","v":""},{"$f":"IF(Eingabe!N198<>\"\",Eingabe!N198,\"\")","v":""},{"$f":"IF(Eingabe!O198<>\"\",Eingabe!O198,\"\")","v":""},{"$f":"IF(Eingabe!P198<>\"\",Eingabe!P198,\"\")","v":""}]
[{"$f":"IF(Eingabe!C199<>\"\",Eingabe!C199,\"\")","v":""},{"$f":"IF(Eingabe!D199<>\"\",Eingabe!D199,\"\")","v":""},{"$f":"IF(Eingabe!F199<>\"\",Eingabe!F199,\"\")","v":""},{"$f":"IF(Eingabe!E199<>\"\",Eingabe!E199,\"\")","v":""},{"$f":"IF(Eingabe!G199<>\"\",Eingabe!G199,\"\")","v":""},{"$f":"IF(Eingabe!B199<>\"\",Eingabe!B199,\"\")","v":""},{"$f":"IF(Eingabe!H199<>\"\",Eingabe!H199,\"\")","v":""},{"$f":"IF(Eingabe!I199<>\"\",Eingabe!I199,\"\")","v":""},{"$f":"IF(Eingabe!J199<>\"\",Eingabe!J199,\"\")","v":""},{"$f":"IF(Eingabe!K199<>\"\",Eingabe!K199,\"\")","v":""},{"$f":"IF(Eingabe!L199<>\"\",Eingabe!L199,\"\")","v":""},{"$f":"IF(Eingabe!M199<>\"\",Eingabe!M199,\"\")","v":""},{"$f":"IF(Eingabe!N199<>\"\",Eingabe!N199,\"\")","v":""},{"$f":"IF(Eingabe!O199<>\"\",Eingabe!O199,\"\")","v":""},{"$f":"IF(Eingabe!P199<>\"\",Eingabe!P199,\"\")","v":""}]
[{"$f":"IF(Eingabe!C200<>\"\",Eingabe!C200,\"\")","v":""},{"$f":"IF(Eingabe!D200<>\"\",Eingabe!D200,\"\")","v":""},{"$f":"IF(Eingabe!F200<>\"\",Eingabe!F200,\"\")","v":""},{"$f":"IF(Eingabe!E200<>\"\",Eingabe!E200,\"\")","v":""},{"$f":"IF(Eingabe!G200<>\"\",Eingabe!G200,\"\")","v":""},{"$f":"IF(Eingabe!B200<>\"\",Eingabe!B200,\"\")","v":""},{"$f":"IF(Eingabe!H200<>\"\",Eingabe!H200,\"\")","v":""},{"$f":"IF(Eingabe!I200<>\"\",Eingabe!I200,\"\")","v":""},{"$f":"IF(Eingabe!J200<>\"\",Eingabe!J200,\"\")","v":""},{"$f":"IF(Eingabe!K200<>\"\",Eingabe!K200,\"\")","v":""},{"$f":"IF(Eingabe!L200<>\"\",Eingabe!L200,\"\")","v":""},{"$f":"IF(Eingabe!M200<>\"\",Eingabe!M200,\"\")","v":""},{"$f":"IF(Eingabe!N200<>\"\",Eingabe!N200,\"\")","v":""},{"$f":"IF(Eingabe!O200<>\"\",Eingabe!O200,\"\")","v":""},{"$f":"IF(Eingabe!P200<>\"\",Eingabe!P200,\"\")","v":""}]
[{"$f":"IF(Eingabe!C201<>\"\",Eingabe!C201,\"\")","v":""},{"$f":"IF(Eingabe!D201<>\"\",Eingabe!D201,\"\")","v":""},{"$f":"IF(Eingabe!F201<>\"\",Eingabe!F201,\"\")","v":""},{"$f":"IF(Eingabe!E201<>\"\",Eingabe!E201,\"\")","v":""},{"$f":"IF(Eingabe!G201<>\"\",Eingabe!G201,\"\")","v":""},{"$f":"IF(Eingabe!B201<>\"\",Eingabe!B201,\"\")","v":""},{"$f":"IF(Eingabe!H201<>\"\",Eingabe!H201,\"\")","v":""},{"$f":"IF(Eingabe!I201<>\"\",Eingabe!I201,\"\")","v":""},{"$f":"IF(Eingabe!J201<>\"\",Eingabe!J201,\"\")","v":""},{"$f":"IF(Eingabe!K201<>\"\",Eingabe!K201,\"\")","v":""},{"$f":"IF(Eingabe!L201<>\"\",Eingabe!L201,\"\")","v":""},{"$f":"IF(Eingabe!M201<>\"\",Eingabe!M201,\"\")","v":""},{"$f":"IF(Eingabe!N201<>\"\",Eingabe!N201,\"\")","v":""},{"$f":"IF(Eingabe!O201<>\"\",Eingabe!O201,\"\")","v":""},{"$f":"IF(Eingabe!P201<>\"\",Eingabe!P201,\"\")","v":""}]
[{"$f":"IF(Eingabe!C202<>\"\",Eingabe!C202,\"\")","v":""},{"$f":"IF(Eingabe!D202<>\"\",Eingabe!D202,\"\")","v":""},{"$f":"IF(Eingabe!F202<>\"\",Eingabe!F202,\"\")","v":""},{"$f":"IF(Eingabe!E202<>\"\",Eingabe!E202,\"\")","v":""},{"$f":"IF(Eingabe!G202<>\"\",Eingabe!G202,\"\")","v":""},{"$f":"IF(Eingabe!B202<>\"\",Eingabe!B202,\"\")","v":""},{"$f":"IF(Eingabe!H202<>\"\",Eingabe!H202,\"\")","v":""},{"$f":"IF(Eingabe!I202<>\"\",Eingabe!I202,\"\")","v":""},{"$f":"IF(Eingabe!J202<>\"\",Eingabe!J202,\"\")","v":""},{"$f":"IF(Eingabe!K202<>\"\",Eingabe!K202,\"\")","v":""},{"$f":"IF(Eingabe!L202<>\"\",Eingabe!L202,\"\")","v":""},{"$f":"IF(Eingabe!M202<>\"\",Eingabe!M202,\"\")","v":""},{"$f":"IF(Eingabe!N202<>\"\",Eingabe!N202,\"\")","v":""},{"$f":"IF(Eingabe!O202<>\"\",Eingabe!O202,\"\")","v":""},{"$f":"IF(Eingabe!P202<>\"\",Eingabe!P202,\"\")","v":""}]
[{"$f":"IF(Eingabe!C203<>\"\",Eingabe!C203,\"\")","v":""},{"$f":"IF(Eingabe!D203<>\"\",Eingabe!D203,\"\")","v":""},{"$f":"IF(Eingabe!F203<>\"\",Eingabe!F203,\"\")","v":""},{"$f":"IF(Eingabe!E203<>\"\",Eingabe!E203,\"\")","v":""},{"$f":"IF(Eingabe!G203<>\"\",Eingabe!G203,\"\")","v":""},{"$f":"IF(Eingabe!B203<>\"\",Eingabe!B203,\"\")","v":""},{"$f":"IF(Eingabe!H203<>\"\",Eingabe!H203,\"\")","v":""},{"$f":"IF(Eingabe!I203<>\"\",Eingabe!I203,\"\")","v":""},{"$f":"IF(Eingabe!J203<>\"\",Eingabe!J203,\"\")","v":""},{"$f":"IF(Eingabe!K203<>\"\",Eingabe!K203,\"\")","v":""},{"$f":"IF(Eingabe!L203<>\"\",Eingabe!L203,\"\")","v":""},{"$f":"IF(Eingabe!M203<>\"\",Eingabe!M203,\"\")","v":""},{"$f":"IF(Eingabe!N203<>\"\",Eingabe!N203,\"\")","v":""},{"$f":"IF(Eingabe!O203<>\"\",Eingabe!O203,\"\")","v":""},{"$f":"IF(Eingabe!P203<>\"\",Eingabe!P203,\"\")","v":""}]
[{"$f":"IF(Eingabe!C204<>\"\",Eingabe!C204,\"\")","v":""},{"$f":"IF(Eingabe!D204<>\"\",Eingabe!D204,\"\")","v":""},{"$f":"IF(Eingabe!F204<>\"\",Eingabe!F204,\"\")","v":""},{"$f":"IF(Eingabe!E204<>\"\",Eingabe!E204,\"\")","v":""},{"$f":"IF(Eingabe!G204<>\"\",Eingabe!G204,\"\")","v":""},{"$f":"IF(Eingabe!B204<>\"\",Eingabe!B204,\"\")","v":""},{"$f":"IF(Eingabe!H204<>\"\",Eingabe!H204,\"\")","v":""},{"$f":"IF(Eingabe!I204<>\"\",Eingabe!I204,\"\")","v":""},{"$f":"IF(Eingabe!J204<>\"\",Eingabe!J204,\"\")","v":""},{"$f":"IF(Eingabe!K204<>\"\",Eingabe!K204,\"\")","v":""},{"$f":"IF(Eingabe!L204<>\"\",Eingabe!L204,\"\")","v":""},{"$f":"IF(Eingabe!M204<>\"\",Eingabe!M204,\"\")","v":""},{"$f":"IF(Eingabe!N204<>\"\",Eingabe!N204,\"\")","v":""},{"$f":"IF(Eingabe!O204<>\"\",Eingabe!O204,\"\")","v":""},{"$f":"IF(Eingabe!P204<>\"\",Eingabe!P204,\"\")","v":""}]
[{"$f":"IF(Eingabe!C205<>\"\",Eingabe!C205,\"\")","v":""},{"$f":"IF(Eingabe!D205<>\"\",Eingabe!D205,\"\")","v":""},{"$f":"IF(Eingabe!F205<>\"\",Eingabe!F205,\"\")","v":""},{"$f":"IF(Eingabe!E205<>\"\",Eingabe!E205,\"\")","v":""},{"$f":"IF(Eingabe!G205<>\"\",Eingabe!G205,\"\")","v":""},{"$f":"IF(Eingabe!B205<>\"\",Eingabe!B205,\"\")","v":""},{"$f":"IF(Eingabe!H205<>\"\",Eingabe!H205,\"\")","v":""},{"$f":"IF(Eingabe!I205<>\"\",Eingabe!I205,\"\")","v":""},{"$f":"IF(Eingabe!J205<>\"\",Eingabe!J205,\"\")","v":""},{"$f":"IF(Eingabe!K205<>\"\",Eingabe!K205,\"\")","v":""},{"$f":"IF(Eingabe!L205<>\"\",Eingabe!L205,\"\")","v":""},{"$f":"IF(Eingabe!M205<>\"\",Eingabe!M205,\"\")","v":""},{"$f":"IF(Eingabe!N205<>\"\",Eingabe!N205,\"\")","v":""},{"$f":"IF(Eingabe!O205<>\"\",Eingabe!O205,\"\")","v":""},{"$f":"IF(Eingabe!P205<>\"\",Eingabe!P205,\"\")","v":""}]
[{"$f":"IF(Eingabe!C206<>\"\",Eingabe!C206,\"\")","v":""},{"$f":"IF(Eingabe!D206<>\"\",Eingabe!D206,\"\")","v":""},{"$f":"IF(Eingabe!F206<>\"\",Eingabe!F206,\"\")","v":""},{"$f":"IF(Eingabe!E206<>\"\",Eingabe!E206,\"\")","v":""},{"$f":"IF(Eingabe!G206<>\"\",Eingabe!G206,\"\")","v":""},{"$f":"IF(Eingabe!B206<>\"\",Eingabe!B206,\"\")","v":""},{"$f":"IF(Eingabe!H206<>\"\",Eingabe!H206,\"\")","v":""},{"$f":"IF(Eingabe!I206<>\"\",Eingabe!I206,\"\")","v":""},{"$f":"IF(Eingabe!J206<>\"\",Eingabe!J206,\"\")","v":""},{"$f":"IF(Eingabe!K206<>\"\",Eingabe!K206,\"\")","v":""},{"$f":"IF(Eingabe!L206<>\"\",Eingabe!L206,\"\")","v":""},{"$f":"IF(Eingabe!M206<>\"\",Eingabe!M206,\"\")","v":""},{"$f":"IF(Eingabe!N206<>\"\",Eingabe!N206,\"\")","v":""},{"$f":"IF(Eingabe!O206<>\"\",Eingabe!O206,\"\")","v":""},{"$f":"IF(Eingabe!P206<>\"\",Eingabe!P206,\"\")","v":""}]
[{"$f":"IF(Eingabe!C207<>\"\",Eingabe!C207,\"\")","v":""},{"$f":"IF(Eingabe!D207<>\"\",Eingabe!D207,\"\")","v":""},{"$f":"IF(Eingabe!F207<>\"\",Eingabe!F207,\"\")","v":""},{"$f":"IF(Eingabe!E207<>\"\",Eingabe!E207,\"\")","v":""},{"$f":"IF(Eingabe!G207<>\"\",Eingabe!G207,\"\")","v":""},{"$f":"IF(Eingabe!B207<>\"\",Eingabe!B207,\"\")","v":""},{"$f":"IF(Eingabe!H207<>\"\",Eingabe!H207,\"\")","v":""},{"$f":"IF(Eingabe!I207<>\"\",Eingabe!I207,\"\")","v":""},{"$f":"IF(Eingabe!J207<>\"\",Eingabe!J207,\"\")","v":""},{"$f":"IF(Eingabe!K207<>\"\",Eingabe!K207,\"\")","v":""},{"$f":"IF(Eingabe!L207<>\"\",Eingabe!L207,\"\")","v":""},{"$f":"IF(Eingabe!M207<>\"\",Eingabe!M207,\"\")","v":""},{"$f":"IF(Eingabe!N207<>\"\",Eingabe!N207,\"\")","v":""},{"$f":"IF(Eingabe!O207<>\"\",Eingabe!O207,\"\")","v":""},{"$f":"IF(Eingabe!P207<>\"\",Eingabe!P207,\"\")","v":""}]
[{"$f":"IF(Eingabe!C208<>\"\",Eingabe!C208,\"\")","v":""},{"$f":"IF(Eingabe!D208<>\"\",Eingabe!D208,\"\")","v":""},{"$f":"IF(Eingabe!F208<>\"\",Eingabe!F208,\"\")","v":""},{"$f":"IF(Eingabe!E208<>\"\",Eingabe!E208,\"\")","v":""},{"$f":"IF(Eingabe!G208<>\"\",Eingabe!G208,\"\")","v":""},{"$f":"IF(Eingabe!B208<>\"\",Eingabe!B208,\"\")","v":""},{"$f":"IF(Eingabe!H208<>\"\",Eingabe!H208,\"\")","v":""},{"$f":"IF(Eingabe!I208<>\"\",Eingabe!I208,\"\")","v":""},{"$f":"IF(Eingabe!J208<>\"\",Eingabe!J208,\"\")","v":""},{"$f":"IF(Eingabe!K208<>\"\",Eingabe!K208,\"\")","v":""},{"$f":"IF(Eingabe!L208<>\"\",Eingabe!L208,\"\")","v":""},{"$f":"IF(Eingabe!M208<>\"\",Eingabe!M208,\"\")","v":""},{"$f":"IF(Eingabe!N208<>\"\",Eingabe!N208,\"\")","v":""},{"$f":"IF(Eingabe!O208<>\"\",Eingabe!O208,\"\")","v":""},{"$f":"IF(Eingabe!P208<>\"\",Eingabe!P208,\"\")","v":""}]
[{"$f":"IF(Eingabe!C209<>\"\",Eingabe!C209,\"\")","v":""},{"$f":"IF(Eingabe!D209<>\"\",Eingabe!D209,\"\")","v":""},{"$f":"IF(Eingabe!F209<>\"\",Eingabe!F209,\"\")","v":""},{"$f":"IF(Eingabe!E209<>\"\",Eingabe!E209,\"\")","v":""},{"$f":"IF(Eingabe!G209<>\"\",Eingabe!G209,\"\")","v":""},{"$f":"IF(Eingabe!B209<>\"\",Eingabe!B209,\"\")","v":""},{"$f":"IF(Eingabe!H209<>\"\",Eingabe!H209,\"\")","v":""},{"$f":"IF(Eingabe!I209<>\"\",Eingabe!I209,\"\")","v":""},{"$f":"IF(Eingabe!J209<>\"\",Eingabe!J209,\"\")","v":""},{"$f":"IF(Eingabe!K209<>\"\",Eingabe!K209,\"\")","v":""},{"$f":"IF(Eingabe!L209<>\"\",Eingabe!L209,\"\")","v":""},{"$f":"IF(Eingabe!M209<>\"\",Eingabe!M209,\"\")","v":""},{"$f":"IF(Eingabe!N209<>\"\",Eingabe!N209,\"\")","v":""},{"$f":"IF(Eingabe!O209<>\"\",Eingabe!O209,\"\")","v":""},{"$f":"IF(Eingabe!P209<>\"\",Eingabe!P209,\"\")","v":""}]
[{"$f":"IF(Eingabe!C210<>\"\",Eingabe!C210,\"\")","v":""},{"$f":"IF(Eingabe!D210<>\"\",Eingabe!D210,\"\")","v":""},{"$f":"IF(Eingabe!F210<>\"\",Eingabe!F210,\"\")","v":""},{"$f":"IF(Eingabe!E210<>\"\",Eingabe!E210,\"\")","v":""},{"$f":"IF(Eingabe!G210<>\"\",Eingabe!G210,\"\")","v":""},{"$f":"IF(Eingabe!B210<>\"\",Eingabe!B210,\"\")","v":""},{"$f":"IF(Eingabe!H210<>\"\",Eingabe!H210,\"\")","v":""},{"$f":"IF(Eingabe!I210<>\"\",Eingabe!I210,\"\")","v":""},{"$f":"IF(Eingabe!J210<>\"\",Eingabe!J210,\"\")","v":""},{"$f":"IF(Eingabe!K210<>\"\",Eingabe!K210,\"\")","v":""},{"$f":"IF(Eingabe!L210<>\"\",Eingabe!L210,\"\")","v":""},{"$f":"IF(Eingabe!M210<>\"\",Eingabe!M210,\"\")","v":""},{"$f":"IF(Eingabe!N210<>\"\",Eingabe!N210,\"\")","v":""},{"$f":"IF(Eingabe!O210<>\"\",Eingabe!O210,\"\")","v":""},{"$f":"IF(Eingabe!P210<>\"\",Eingabe!P210,\"\")","v":""}]
[{"$f":"IF(Eingabe!C211<>\"\",Eingabe!C211,\"\")","v":""},{"$f":"IF(Eingabe!D211<>\"\",Eingabe!D211,\"\")","v":""},{"$f":"IF(Eingabe!F211<>\"\",Eingabe!F211,\"\")","v":""},{"$f":"IF(Eingabe!E211<>\"\",Eingabe!E211,\"\")","v":""},{"$f":"IF(Eingabe!G211<>\"\",Eingabe!G211,\"\")","v":""},{"$f":"IF(Eingabe!B211<>\"\",Eingabe!B211,\"\")","v":""},{"$f":"IF(Eingabe!H211<>\"\",Eingabe!H211,\"\")","v":""},{"$f":"IF(Eingabe!I211<>\"\",Eingabe!I211,\"\")","v":""},{"$f":"IF(Eingabe!J211<>\"\",Eingabe!J211,\"\")","v":""},{"$f":"IF(Eingabe!K211<>\"\",Eingabe!K211,\"\")","v":""},{"$f":"IF(Eingabe!L211<>\"\",Eingabe!L211,\"\")","v":""},{"$f":"IF(Eingabe!M211<>\"\",Eingabe!M211,\"\")","v":""},{"$f":"IF(Eingabe!N211<>\"\",Eingabe!N211,\"\")","v":""},{"$f":"IF(Eingabe!O211<>\"\",Eingabe!O211,\"\")","v":""},{"$f":"IF(Eingabe!P211<>\"\",Eingabe!P211,\"\")","v":""}]
[{"$f":"IF(Eingabe!C212<>\"\",Eingabe!C212,\"\")","v":""},{"$f":"IF(Eingabe!D212<>\"\",Eingabe!D212,\"\")","v":""},{"$f":"IF(Eingabe!F212<>\"\",Eingabe!F212,\"\")","v":""},{"$f":"IF(Eingabe!E212<>\"\",Eingabe!E212,\"\")","v":""},{"$f":"IF(Eingabe!G212<>\"\",Eingabe!G212,\"\")","v":""},{"$f":"IF(Eingabe!B212<>\"\",Eingabe!B212,\"\")","v":""},{"$f":"IF(Eingabe!H212<>\"\",Eingabe!H212,\"\")","v":""},{"$f":"IF(Eingabe!I212<>\"\",Eingabe!I212,\"\")","v":""},{"$f":"IF(Eingabe!J212<>\"\",Eingabe!J212,\"\")","v":""},{"$f":"IF(Eingabe!K212<>\"\",Eingabe!K212,\"\")","v":""},{"$f":"IF(Eingabe!L212<>\"\",Eingabe!L212,\"\")","v":""},{"$f":"IF(Eingabe!M212<>\"\",Eingabe!M212,\"\")","v":""},{"$f":"IF(Eingabe!N212<>\"\",Eingabe!N212,\"\")","v":""},{"$f":"IF(Eingabe!O212<>\"\",Eingabe!O212,\"\")","v":""},{"$f":"IF(Eingabe!P212<>\"\",Eingabe!P212,\"\")","v":""}]
[{"$f":"IF(Eingabe!C213<>\"\",Eingabe!C213,\"\")","v":""},{"$f":"IF(Eingabe!D213<>\"\",Eingabe!D213,\"\")","v":""},{"$f":"IF(Eingabe!F213<>\"\",Eingabe!F213,\"\")","v":""},{"$f":"IF(Eingabe!E213<>\"\",Eingabe!E213,\"\")","v":""},{"$f":"IF(Eingabe!G213<>\"\",Eingabe!G213,\"\")","v":""},{"$f":"IF(Eingabe!B213<>\"\",Eingabe!B213,\"\")","v":""},{"$f":"IF(Eingabe!H213<>\"\",Eingabe!H213,\"\")","v":""},{"$f":"IF(Eingabe!I213<>\"\",Eingabe!I213,\"\")","v":""},{"$f":"IF(Eingabe!J213<>\"\",Eingabe!J213,\"\")","v":""},{"$f":"IF(Eingabe!K213<>\"\",Eingabe!K213,\"\")","v":""},{"$f":"IF(Eingabe!L213<>\"\",Eingabe!L213,\"\")","v":""},{"$f":"IF(Eingabe!M213<>\"\",Eingabe!M213,\"\")","v":""},{"$f":"IF(Eingabe!N213<>\"\",Eingabe!N213,\"\")","v":""},{"$f":"IF(Eingabe!O213<>\"\",Eingabe!O213,\"\")","v":""},{"$f":"IF(Eingabe!P213<>\"\",Eingabe!P213,\"\")","v":""}]
[{"$f":"IF(Eingabe!C214<>\"\",Eingabe!C214,\"\")","v":""},{"$f":"IF(Eingabe!D214<>\"\",Eingabe!D214,\"\")","v":""},{"$f":"IF(Eingabe!F214<>\"\",Eingabe!F214,\"\")","v":""},{"$f":"IF(Eingabe!E214<>\"\",Eingabe!E214,\"\")","v":""},{"$f":"IF(Eingabe!G214<>\"\",Eingabe!G214,\"\")","v":""},{"$f":"IF(Eingabe!B214<>\"\",Eingabe!B214,\"\")","v":""},{"$f":"IF(Eingabe!H214<>\"\",Eingabe!H214,\"\")","v":""},{"$f":"IF(Eingabe!I214<>\"\",Eingabe!I214,\"\")","v":""},{"$f":"IF(Eingabe!J214<>\"\",Eingabe!J214,\"\")","v":""},{"$f":"IF(Eingabe!K214<>\"\",Eingabe!K214,\"\")","v":""},{"$f":"IF(Eingabe!L214<>\"\",Eingabe!L214,\"\")","v":""},{"$f":"IF(Eingabe!M214<>\"\",Eingabe!M214,\"\")","v":""},{"$f":"IF(Eingabe!N214<>\"\",Eingabe!N214,\"\")","v":""},{"$f":"IF(Eingabe!O214<>\"\",Eingabe!O214,\"\")","v":""},{"$f":"IF(Eingabe!P214<>\"\",Eingabe!P214,\"\")","v":""}]
[{"$f":"IF(Eingabe!C215<>\"\",Eingabe!C215,\"\")","v":""},{"$f":"IF(Eingabe!D215<>\"\",Eingabe!D215,\"\")","v":""},{"$f":"IF(Eingabe!F215<>\"\",Eingabe!F215,\"\")","v":""},{"$f":"IF(Eingabe!E215<>\"\",Eingabe!E215,\"\")","v":""},{"$f":"IF(Eingabe!G215<>\"\",Eingabe!G215,\"\")","v":""},{"$f":"IF(Eingabe!B215<>\"\",Eingabe!B215,\"\")","v":""},{"$f":"IF(Eingabe!H215<>\"\",Eingabe!H215,\"\")","v":""},{"$f":"IF(Eingabe!I215<>\"\",Eingabe!I215,\"\")","v":""},{"$f":"IF(Eingabe!J215<>\"\",Eingabe!J215,\"\")","v":""},{"$f":"IF(Eingabe!K215<>\"\",Eingabe!K215,\"\")","v":""},{"$f":"IF(Eingabe!L215<>\"\",Eingabe!L215,\"\")","v":""},{"$f":"IF(Eingabe!M215<>\"\",Eingabe!M215,\"\")","v":""},{"$f":"IF(Eingabe!N215<>\"\",Eingabe!N215,\"\")","v":""},{"$f":"IF(Eingabe!O215<>\"\",Eingabe!O215,\"\")","v":""},{"$f":"IF(Eingabe!P215<>\"\",Eingabe!P215,\"\")","v":""}]
[{"$f":"IF(Eingabe!C216<>\"\",Eingabe!C216,\"\")","v":""},{"$f":"IF(Eingabe!D216<>\"\",Eingabe!D216,\"\")","v":""},{"$f":"IF(Eingabe!F216<>\"\",Eingabe!F216,\"\")","v":""},{"$f":"IF(Eingabe!E216<>\"\",Eingabe!E216,\"\")","v":""},{"$f":"IF(Eingabe!G216<>\"\",Eingabe!G216,\"\")","v":""},{"$f":"IF(Eingabe!B216<>\"\",Eingabe!B216,\"\")","v":""},{"$f":"IF(Eingabe!H216<>\"\",Eingabe!H216,\"\")","v":""},{"$f":"IF(Eingabe!I216<>\"\",Eingabe!I216,\"\")","v":""},{"$f":"IF(Eingabe!J216<>\"\",Eingabe!J216,\"\")","v":""},{"$f":"IF(Eingabe!K216<>\"\",Eingabe!K216,\"\")","v":""},{"$f":"IF(Eingabe!L216<>\"\",Eingabe!L216,\"\")","v":""},{"$f":"IF(Eingabe!M216<>\"\",Eingabe!M216,\"\")","v":""},{"$f":"IF(Eingabe!N216<>\"\",Eingabe!N216,\"\")","v":""},{"$f":"IF(Eingabe!O216<>\"\",Eingabe!O216,\"\")","v":""},{"$f":"IF(Eingabe!P216<>\"\",Eingabe!P216,\"\")","v":""}]
[{"$f":"IF(Eingabe!C217<>\"\",Eingabe!C217,\"\")","v":""},{"$f":"IF(Eingabe!D217<>\"\",Eingabe!D217,\"\")","v":""},{"$f":"IF(Eingabe!F217<>\"\",Eingabe!F217,\"\")","v":""},{"$f":"IF(Eingabe!E217<>\"\",Eingabe!E217,\"\")","v":""},{"$f":"IF(Eingabe!G217<>\"\",Eingabe!G217,\"\")","v":""},{"$f":"IF(Eingabe!B217<>\"\",Eingabe!B217,\"\")","v":""},{"$f":"IF(Eingabe!H217<>\"\",Eingabe!H217,\"\")","v":""},{"$f":"IF(Eingabe!I217<>\"\",Eingabe!I217,\"\")","v":""},{"$f":"IF(Eingabe!J217<>\"\",Eingabe!J217,\"\")","v":""},{"$f":"IF(Eingabe!K217<>\"\",Eingabe!K217,\"\")","v":""},{"$f":"IF(Eingabe!L217<>\"\",Eingabe!L217,\"\")","v":""},{"$f":"IF(Eingabe!M217<>\"\",Eingabe!M217,\"\")","v":""},{"$f":"IF(Eingabe!N217<>\"\",Eingabe!N217,\"\")","v":""},{"$f":"IF(Eingabe!O217<>\"\",Eingabe!O217,\"\")","v":""},{"$f":"IF(Eingabe!P217<>\"\",Eingabe!P217,\"\")","v":""}]
[{"$f":"IF(Eingabe!C218<>\"\",Eingabe!C218,\"\")","v":""},{"$f":"IF(Eingabe!D218<>\"\",Eingabe!D218,\"\")","v":""},{"$f":"IF(Eingabe!F218<>\"\",Eingabe!F218,\"\")","v":""},{"$f":"IF(Eingabe!E218<>\"\",Eingabe!E218,\"\")","v":""},{"$f":"IF(Eingabe!G218<>\"\",Eingabe!G218,\"\")","v":""},{"$f":"IF(Eingabe!B218<>\"\",Eingabe!B218,\"\")","v":""},{"$f":"IF(Eingabe!H218<>\"\",Eingabe!H218,\"\")","v":""},{"$f":"IF(Eingabe!I218<>\"\",Eingabe!I218,\"\")","v":""},{"$f":"IF(Eingabe!J218<>\"\",Eingabe!J218,\"\")","v":""},{"$f":"IF(Eingabe!K218<>\"\",Eingabe!K218,\"\")","v":""},{"$f":"IF(Eingabe!L218<>\"\",Eingabe!L218,\"\")","v":""},{"$f":"IF(Eingabe!M218<>\"\",Eingabe!M218,\"\")","v":""},{"$f":"IF(Eingabe!N218<>\"\",Eingabe!N218,\"\")","v":""},{"$f":"IF(Eingabe!O218<>\"\",Eingabe!O218,\"\")","v":""},{"$f":"IF(Eingabe!P218<>\"\",Eingabe!P218,\"\")","v":""}]
[{"$f":"IF(Eingabe!C219<>\"\",Eingabe!C219,\"\")","v":""},{"$f":"IF(Eingabe!D219<>\"\",Eingabe!D219,\"\")","v":""},{"$f":"IF(Eingabe!F219<>\"\",Eingabe!F219,\"\")","v":""},{"$f":"IF(Eingabe!E219<>\"\",Eingabe!E219,\"\")","v":""},{"$f":"IF(Eingabe!G219<>\"\",Eingabe!G219,\"\")","v":""},{"$f":"IF(Eingabe!B219<>\"\",Eingabe!B219,\"\")","v":""},{"$f":"IF(Eingabe!H219<>\"\",Eingabe!H219,\"\")","v":""},{"$f":"IF(Eingabe!I219<>\"\",Eingabe!I219,\"\")","v":""},{"$f":"IF(Eingabe!J219<>\"\",Eingabe!J219,\"\")","v":""},{"$f":"IF(Eingabe!K219<>\"\",Eingabe!K219,\"\")","v":""},{"$f":"IF(Eingabe!L219<>\"\",Eingabe!L219,\"\")","v":""},{"$f":"IF(Eingabe!M219<>\"\",Eingabe!M219,\"\")","v":""},{"$f":"IF(Eingabe!N219<>\"\",Eingabe!N219,\"\")","v":""},{"$f":"IF(Eingabe!O219<>\"\",Eingabe!O219,\"\")","v":""},{"$f":"IF(Eingabe!P219<>\"\",Eingabe!P219,\"\")","v":""}]
[{"$f":"IF(Eingabe!C220<>\"\",Eingabe!C220,\"\")","v":""},{"$f":"IF(Eingabe!D220<>\"\",Eingabe!D220,\"\")","v":""},{"$f":"IF(Eingabe!F220<>\"\",Eingabe!F220,\"\")","v":""},{"$f":"IF(Eingabe!E220<>\"\",Eingabe!E220,\"\")","v":""},{"$f":"IF(Eingabe!G220<>\"\",Eingabe!G220,\"\")","v":""},{"$f":"IF(Eingabe!B220<>\"\",Eingabe!B220,\"\")","v":""},{"$f":"IF(Eingabe!H220<>\"\",Eingabe!H220,\"\")","v":""},{"$f":"IF(Eingabe!I220<>\"\",Eingabe!I220,\"\")","v":""},{"$f":"IF(Eingabe!J220<>\"\",Eingabe!J220,\"\")","v":""},{"$f":"IF(Eingabe!K220<>\"\",Eingabe!K220,\"\")","v":""},{"$f":"IF(Eingabe!L220<>\"\",Eingabe!L220,\"\")","v":""},{"$f":"IF(Eingabe!M220<>\"\",Eingabe!M220,\"\")","v":""},{"$f":"IF(Eingabe!N220<>\"\",Eingabe!N220,\"\")","v":""},{"$f":"IF(Eingabe!O220<>\"\",Eingabe!O220,\"\")","v":""},{"$f":"IF(Eingabe!P220<>\"\",Eingabe!P220,\"\")","v":""}]
[{"$f":"IF(Eingabe!C221<>\"\",Eingabe!C221,\"\")","v":""},{"$f":"IF(Eingabe!D221<>\"\",Eingabe!D221,\"\")","v":""},{"$f":"IF(Eingabe!F221<>\"\",Eingabe!F221,\"\")","v":""},{"$f":"IF(Eingabe!E221<>\"\",Eingabe!E221,\"\")","v":""},{"$f":"IF(Eingabe!G221<>\"\",Eingabe!G221,\"\")","v":""},{"$f":"IF(Eingabe!B221<>\"\",Eingabe!B221,\"\")","v":""},{"$f":"IF(Eingabe!H221<>\"\",Eingabe!H221,\"\")","v":""},{"$f":"IF(Eingabe!I221<>\"\",Eingabe!I221,\"\")","v":""},{"$f":"IF(Eingabe!J221<>\"\",Eingabe!J221,\"\")","v":""},{"$f":"IF(Eingabe!K221<>\"\",Eingabe!K221,\"\")","v":""},{"$f":"IF(Eingabe!L221<>\"\",Eingabe!L221,\"\")","v":""},{"$f":"IF(Eingabe!M221<>\"\",Eingabe!M221,\"\")","v":""},{"$f":"IF(Eingabe!N221<>\"\",Eingabe!N221,\"\")","v":""},{"$f":"IF(Eingabe!O221<>\"\",Eingabe!O221,\"\")","v":""},{"$f":"IF(Eingabe!P221<>\"\",Eingabe!P221,\"\")","v":""}]
[{"$f":"IF(Eingabe!C222<>\"\",Eingabe!C222,\"\")","v":""},{"$f":"IF(Eingabe!D222<>\"\",Eingabe!D222,\"\")","v":""},{"$f":"IF(Eingabe!F222<>\"\",Eingabe!F222,\"\")","v":""},{"$f":"IF(Eingabe!E222<>\"\",Eingabe!E222,\"\")","v":""},{"$f":"IF(Eingabe!G222<>\"\",Eingabe!G222,\"\")","v":""},{"$f":"IF(Eingabe!B222<>\"\",Eingabe!B222,\"\")","v":""},{"$f":"IF(Eingabe!H222<>\"\",Eingabe!H222,\"\")","v":""},{"$f":"IF(Eingabe!I222<>\"\",Eingabe!I222,\"\")","v":""},{"$f":"IF(Eingabe!J222<>\"\",Eingabe!J222,\"\")","v":""},{"$f":"IF(Eingabe!K222<>\"\",Eingabe!K222,\"\")","v":""},{"$f":"IF(Eingabe!L222<>\"\",Eingabe!L222,\"\")","v":""},{"$f":"IF(Eingabe!M222<>\"\",Eingabe!M222,\"\")","v":""},{"$f":"IF(Eingabe!N222<>\"\",Eingabe!N222,\"\")","v":""},{"$f":"IF(Eingabe!O222<>\"\",Eingabe!O222,\"\")","v":""},{"$f":"IF(Eingabe!P222<>\"\",Eingabe!P222,\"\")","v":""}]
[{"$f":"IF(Eingabe!C223<>\"\",Eingabe!C223,\"\")","v":""},{"$f":"IF(Eingabe!D223<>\"\",Eingabe!D223,\"\")","v":""},{"$f":"IF(Eingabe!F223<>\"\",Eingabe!F223,\"\")","v":""},{"$f":"IF(Eingabe!E223<>\"\",Eingabe!E223,\"\")","v":""},{"$f":"IF(Eingabe!G223<>\"\",Eingabe!G223,\"\")","v":""},{"$f":"IF(Eingabe!B223<>\"\",Eingabe!B223,\"\")","v":""},{"$f":"IF(Eingabe!H223<>\"\",Eingabe!H223,\"\")","v":""},{"$f":"IF(Eingabe!I223<>\"\",Eingabe!I223,\"\")","v":""},{"$f":"IF(Eingabe!J223<>\"\",Eingabe!J223,\"\")","v":""},{"$f":"IF(Eingabe!K223<>\"\",Eingabe!K223,\"\")","v":""},{"$f":"IF(Eingabe!L223<>\"\",Eingabe!L223,\"\")","v":""},{"$f":"IF(Eingabe!M223<>\"\",Eingabe!M223,\"\")","v":""},{"$f":"IF(Eingabe!N223<>\"\",Eingabe!N223,\"\")","v":""},{"$f":"IF(Eingabe!O223<>\"\",Eingabe!O223,\"\")","v":""},{"$f":"IF(Eingabe!P223<>\"\",Eingabe!P223,\"\")","v":""}]
[{"$f":"IF(Eingabe!C224<>\"\",Eingabe!C224,\"\")","v":""},{"$f":"IF(Eingabe!D224<>\"\",Eingabe!D224,\"\")","v":""},{"$f":"IF(Eingabe!F224<>\"\",Eingabe!F224,\"\")","v":""},{"$f":"IF(Eingabe!E224<>\"\",Eingabe!E224,\"\")","v":""},{"$f":"IF(Eingabe!G224<>\"\",Eingabe!G224,\"\")","v":""},{"$f":"IF(Eingabe!B224<>\"\",Eingabe!B224,\"\")","v":""},{"$f":"IF(Eingabe!H224<>\"\",Eingabe!H224,\"\")","v":""},{"$f":"IF(Eingabe!I224<>\"\",Eingabe!I224,\"\")","v":""},{"$f":"IF(Eingabe!J224<>\"\",Eingabe!J224,\"\")","v":""},{"$f":"IF(Eingabe!K224<>\"\",Eingabe!K224,\"\")","v":""},{"$f":"IF(Eingabe!L224<>\"\",Eingabe!L224,\"\")","v":""},{"$f":"IF(Eingabe!M224<>\"\",Eingabe!M224,\"\")","v":""},{"$f":"IF(Eingabe!N224<>\"\",Eingabe!N224,\"\")","v":""},{"$f":"IF(Eingabe!O224<>\"\",Eingabe!O224,\"\")","v":""},{"$f":"IF(Eingabe!P224<>\"\",Eingabe!P224,\"\")","v":""}]
[{"$f":"IF(Eingabe!C225<>\"\",Eingabe!C225,\"\")","v":""},{"$f":"IF(Eingabe!D225<>\"\",Eingabe!D225,\"\")","v":""},{"$f":"IF(Eingabe!F225<>\"\",Eingabe!F225,\"\")","v":""},{"$f":"IF(Eingabe!E225<>\"\",Eingabe!E225,\"\")","v":""},{"$f":"IF(Eingabe!G225<>\"\",Eingabe!G225,\"\")","v":""},{"$f":"IF(Eingabe!B225<>\"\",Eingabe!B225,\"\")","v":""},{"$f":"IF(Eingabe!H225<>\"\",Eingabe!H225,\"\")","v":""},{"$f":"IF(Eingabe!I225<>\"\",Eingabe!I225,\"\")","v":""},{"$f":"IF(Eingabe!J225<>\"\",Eingabe!J225,\"\")","v":""},{"$f":"IF(Eingabe!K225<>\"\",Eingabe!K225,\"\")","v":""},{"$f":"IF(Eingabe!L225<>\"\",Eingabe!L225,\"\")","v":""},{"$f":"IF(Eingabe!M225<>\"\",Eingabe!M225,\"\")","v":""},{"$f":"IF(Eingabe!N225<>\"\",Eingabe!N225,\"\")","v":""},{"$f":"IF(Eingabe!O225<>\"\",Eingabe!O225,\"\")","v":""},{"$f":"IF(Eingabe!P225<>\"\",Eingabe!P225,\"\")","v":""}]
[{"$f":"IF(Eingabe!C226<>\"\",Eingabe!C226,\"\")","v":""},{"$f":"IF(Eingabe!D226<>\"\",Eingabe!D226,\"\")","v":""},{"$f":"IF(Eingabe!F226<>\"\",Eingabe!F226,\"\")","v":""},{"$f":"IF(Eingabe!E226<>\"\",Eingabe!E226,\"\")","v":""},{"$f":"IF(Eingabe!G226<>\"\",Eingabe!G226,\"\")","v":""},{"$f":"IF(Eingabe!B226<>\"\",Eingabe!B226,\"\")","v":""},{"$f":"IF(Eingabe!H226<>\"\",Eingabe!H226,\"\")","v":""},{"$f":"IF(Eingabe!I226<>\"\",Eingabe!I226,\"\")","v":""},{"$f":"IF(Eingabe!J226<>\"\",Eingabe!J226,\"\")","v":""},{"$f":"IF(Eingabe!K226<>\"\",Eingabe!K226,\"\")","v":""},{"$f":"IF(Eingabe!L226<>\"\",Eingabe!L226,\"\")","v":""},{"$f":"IF(Eingabe!M226<>\"\",Eingabe!M226,\"\")","v":""},{"$f":"IF(Eingabe!N226<>\"\",Eingabe!N226,\"\")","v":""},{"$f":"IF(Eingabe!O226<>\"\",Eingabe!O226,\"\")","v":""},{"$f":"IF(Eingabe!P226<>\"\",Eingabe!P226,\"\")","v":""}]
[{"$f":"IF(Eingabe!C227<>\"\",Eingabe!C227,\"\")","v":""},{"$f":"IF(Eingabe!D227<>\"\",Eingabe!D227,\"\")","v":""},{"$f":"IF(Eingabe!F227<>\"\",Eingabe!F227,\"\")","v":""},{"$f":"IF(Eingabe!E227<>\"\",Eingabe!E227,\"\")","v":""},{"$f":"IF(Eingabe!G227<>\"\",Eingabe!G227,\"\")","v":""},{"$f":"IF(Eingabe!B227<>\"\",Eingabe!B227,\"\")","v":""},{"$f":"IF(Eingabe!H227<>\"\",Eingabe!H227,\"\")","v":""},{"$f":"IF(Eingabe!I227<>\"\",Eingabe!I227,\"\")","v":""},{"$f":"IF(Eingabe!J227<>\"\",Eingabe!J227,\"\")","v":""},{"$f":"IF(Eingabe!K227<>\"\",Eingabe!K227,\"\")","v":""},{"$f":"IF(Eingabe!L227<>\"\",Eingabe!L227,\"\")","v":""},{"$f":"IF(Eingabe!M227<>\"\",Eingabe!M227,\"\")","v":""},{"$f":"IF(Eingabe!N227<>\"\",Eingabe!N227,\"\")","v":""},{"$f":"IF(Eingabe!O227<>\"\",Eingabe!O227,\"\")","v":""},{"$f":"IF(Eingabe!P227<>\"\",Eingabe!P227,\"\")","v":""}]
[{"$f":"IF(Eingabe!C228<>\"\",Eingabe!C228,\"\")","v":""},{"$f":"IF(Eingabe!D228<>\"\",Eingabe!D228,\"\")","v":""},{"$f":"IF(Eingabe!F228<>\"\",Eingabe!F228,\"\")","v":""},{"$f":"IF(Eingabe!E228<>\"\",Eingabe!E228,\"\")","v":""},{"$f":"IF(Eingabe!G228<>\"\",Eingabe!G228,\"\")","v":""},{"$f":"IF(Eingabe!B228<>\"\",Eingabe!B228,\"\")","v":""},{"$f":"IF(Eingabe!H228<>\"\",Eingabe!H228,\"\")","v":""},{"$f":"IF(Eingabe!I228<>\"\",Eingabe!I228,\"\")","v":""},{"$f":"IF(Eingabe!J228<>\"\",Eingabe!J228,\"\")","v":""},{"$f":"IF(Eingabe!K228<>\"\",Eingabe!K228,\"\")","v":""},{"$f":"IF(Eingabe!L228<>\"\",Eingabe!L228,\"\")","v":""},{"$f":"IF(Eingabe!M228<>\"\",Eingabe!M228,\"\")","v":""},{"$f":"IF(Eingabe!N228<>\"\",Eingabe!N228,\"\")","v":""},{"$f":"IF(Eingabe!O228<>\"\",Eingabe!O228,\"\")","v":""},{"$f":"IF(Eingabe!P228<>\"\",Eingabe!P228,\"\")","v":""}]
[{"$f":"IF(Eingabe!C229<>\"\",Eingabe!C229,\"\")","v":""},{"$f":"IF(Eingabe!D229<>\"\",Eingabe!D229,\"\")","v":""},{"$f":"IF(Eingabe!F229<>\"\",Eingabe!F229,\"\")","v":""},{"$f":"IF(Eingabe!E229<>\"\",Eingabe!E229,\"\")","v":""},{"$f":"IF(Eingabe!G229<>\"\",Eingabe!G229,\"\")","v":""},{"$f":"IF(Eingabe!B229<>\"\",Eingabe!B229,\"\")","v":""},{"$f":"IF(Eingabe!H229<>\"\",Eingabe!H229,\"\")","v":""},{"$f":"IF(Eingabe!I229<>\"\",Eingabe!I229,\"\")","v":""},{"$f":"IF(Eingabe!J229<>\"\",Eingabe!J229,\"\")","v":""},{"$f":"IF(Eingabe!K229<>\"\",Eingabe!K229,\"\")","v":""},{"$f":"IF(Eingabe!L229<>\"\",Eingabe!L229,\"\")","v":""},{"$f":"IF(Eingabe!M229<>\"\",Eingabe!M229,\"\")","v":""},{"$f":"IF(Eingabe!N229<>\"\",Eingabe!N229,\"\")","v":""},{"$f":"IF(Eingabe!O229<>\"\",Eingabe!O229,\"\")","v":""},{"$f":"IF(Eingabe!P229<>\"\",Eingabe!P229,\"\")","v":""}]
[{"$f":"IF(Eingabe!C230<>\"\",Eingabe!C230,\"\")","v":""},{"$f":"IF(Eingabe!D230<>\"\",Eingabe!D230,\"\")","v":""},{"$f":"IF(Eingabe!F230<>\"\",Eingabe!F230,\"\")","v":""},{"$f":"IF(Eingabe!E230<>\"\",Eingabe!E230,\"\")","v":""},{"$f":"IF(Eingabe!G230<>\"\",Eingabe!G230,\"\")","v":""},{"$f":"IF(Eingabe!B230<>\"\",Eingabe!B230,\"\")","v":""},{"$f":"IF(Eingabe!H230<>\"\",Eingabe!H230,\"\")","v":""},{"$f":"IF(Eingabe!I230<>\"\",Eingabe!I230,\"\")","v":""},{"$f":"IF(Eingabe!J230<>\"\",Eingabe!J230,\"\")","v":""},{"$f":"IF(Eingabe!K230<>\"\",Eingabe!K230,\"\")","v":""},{"$f":"IF(Eingabe!L230<>\"\",Eingabe!L230,\"\")","v":""},{"$f":"IF(Eingabe!M230<>\"\",Eingabe!M230,\"\")","v":""},{"$f":"IF(Eingabe!N230<>\"\",Eingabe!N230,\"\")","v":""},{"$f":"IF(Eingabe!O230<>\"\",Eingabe!O230,\"\")","v":""},{"$f":"IF(Eingabe!P230<>\"\",Eingabe!P230,\"\")","v":""}]
[{"$f":"IF(Eingabe!C231<>\"\",Eingabe!C231,\"\")","v":""},{"$f":"IF(Eingabe!D231<>\"\",Eingabe!D231,\"\")","v":""},{"$f":"IF(Eingabe!F231<>\"\",Eingabe!F231,\"\")","v":""},{"$f":"IF(Eingabe!E231<>\"\",Eingabe!E231,\"\")","v":""},{"$f":"IF(Eingabe!G231<>\"\",Eingabe!G231,\"\")","v":""},{"$f":"IF(Eingabe!B231<>\"\",Eingabe!B231,\"\")","v":""},{"$f":"IF(Eingabe!H231<>\"\",Eingabe!H231,\"\")","v":""},{"$f":"IF(Eingabe!I231<>\"\",Eingabe!I231,\"\")","v":""},{"$f":"IF(Eingabe!J231<>\"\",Eingabe!J231,\"\")","v":""},{"$f":"IF(Eingabe!K231<>\"\",Eingabe!K231,\"\")","v":""},{"$f":"IF(Eingabe!L231<>\"\",Eingabe!L231,\"\")","v":""},{"$f":"IF(Eingabe!M231<>\"\",Eingabe!M231,\"\")","v":""},{"$f":"IF(Eingabe!N231<>\"\",Eingabe!N231,\"\")","v":""},{"$f":"IF(Eingabe!O231<>\"\",Eingabe!O231,\"\")","v":""},{"$f":"IF(Eingabe!P231<>\"\",Eingabe!P231,\"\")","v":""}]
[{"$f":"IF(Eingabe!C232<>\"\",Eingabe!C232,\"\")","v":""},{"$f":"IF(Eingabe!D232<>\"\",Eingabe!D232,\"\")","v":""},{"$f":"IF(Eingabe!F232<>\"\",Eingabe!F232,\"\")","v":""},{"$f":"IF(Eingabe!E232<>\"\",Eingabe!E232,\"\")","v":""},{"$f":"IF(Eingabe!G232<>\"\",Eingabe!G232,\"\")","v":""},{"$f":"IF(Eingabe!B232<>\"\",Eingabe!B232,\"\")","v":""},{"$f":"IF(Eingabe!H232<>\"\",Eingabe!H232,\"\")","v":""},{"$f":"IF(Eingabe!I232<>\"\",Eingabe!I232,\"\")","v":""},{"$f":"IF(Eingabe!J232<>\"\",Eingabe!J232,\"\")","v":""},{"$f":"IF(Eingabe!K232<>\"\",Eingabe!K232,\"\")","v":""},{"$f":"IF(Eingabe!L232<>\"\",Eingabe!L232,\"\")","v":""},{"$f":"IF(Eingabe!M232<>\"\",Eingabe!M232,\"\")","v":""},{"$f":"IF(Eingabe!N232<>\"\",Eingabe!N232,\"\")","v":""},{"$f":"IF(Eingabe!O232<>\"\",Eingabe!O232,\"\")","v":""},{"$f":"IF(Eingabe!P232<>\"\",Eingabe!P232,\"\")","v":""}]
[{"$f":"IF(Eingabe!C233<>\"\",Eingabe!C233,\"\")","v":""},{"$f":"IF(Eingabe!D233<>\"\",Eingabe!D233,\"\")","v":""},{"$f":"IF(Eingabe!F233<>\"\",Eingabe!F233,\"\")","v":""},{"$f":"IF(Eingabe!E233<>\"\",Eingabe!E233,\"\")","v":""},{"$f":"IF(Eingabe!G233<>\"\",Eingabe!G233,\"\")","v":""},{"$f":"IF(Eingabe!B233<>\"\",Eingabe!B233,\"\")","v":""},{"$f":"IF(Eingabe!H233<>\"\",Eingabe!H233,\"\")","v":""},{"$f":"IF(Eingabe!I233<>\"\",Eingabe!I233,\"\")","v":""},{"$f":"IF(Eingabe!J233<>\"\",Eingabe!J233,\"\")","v":""},{"$f":"IF(Eingabe!K233<>\"\",Eingabe!K233,\"\")","v":""},{"$f":"IF(Eingabe!L233<>\"\",Eingabe!L233,\"\")","v":""},{"$f":"IF(Eingabe!M233<>\"\",Eingabe!M233,\"\")","v":""},{"$f":"IF(Eingabe!N233<>\"\",Eingabe!N233,\"\")","v":""},{"$f":"IF(Eingabe!O233<>\"\",Eingabe!O233,\"\")","v":""},{"$f":"IF(Eingabe!P233<>\"\",Eingabe!P233,\"\")","v":""}]
[{"$f":"IF(Eingabe!C234<>\"\",Eingabe!C234,\"\")","v":""},{"$f":"IF(Eingabe!D234<>\"\",Eingabe!D234,\"\")","v":""},{"$f":"IF(Eingabe!F234<>\"\",Eingabe!F234,\"\")","v":""},{"$f":"IF(Eingabe!E234<>\"\",Eingabe!E234,\"\")","v":""},{"$f":"IF(Eingabe!G234<>\"\",Eingabe!G234,\"\")","v":""},{"$f":"IF(Eingabe!B234<>\"\",Eingabe!B234,\"\")","v":""},{"$f":"IF(Eingabe!H234<>\"\",Eingabe!H234,\"\")","v":""},{"$f":"IF(Eingabe!I234<>\"\",Eingabe!I234,\"\")","v":""},{"$f":"IF(Eingabe!J234<>\"\",Eingabe!J234,\"\")","v":""},{"$f":"IF(Eingabe!K234<>\"\",Eingabe!K234,\"\")","v":""},{"$f":"IF(Eingabe!L234<>\"\",Eingabe!L234,\"\")","v":""},{"$f":"IF(Eingabe!M234<>\"\",Eingabe!M234,\"\")","v":""},{"$f":"IF(Eingabe!N234<>\"\",Eingabe!N234,\"\")","v":""},{"$f":"IF(Eingabe!O234<>\"\",Eingabe!O234,\"\")","v":""},{"$f":"IF(Eingabe!P234<>\"\",Eingabe!P234,\"\")","v":""}]
[{"$f":"IF(Eingabe!C235<>\"\",Eingabe!C235,\"\")","v":""},{"$f":"IF(Eingabe!D235<>\"\",Eingabe!D235,\"\")","v":""},{"$f":"IF(Eingabe!F235<>\"\",Eingabe!F235,\"\")","v":""},{"$f":"IF(Eingabe!E235<>\"\",Eingabe!E235,\"\")","v":""},{"$f":"IF(Eingabe!G235<>\"\",Eingabe!G235,\"\")","v":""},{"$f":"IF(Eingabe!B235<>\"\",Eingabe!B235,\"\")","v":""},{"$f":"IF(Eingabe!H235<>\"\",Eingabe!H235,\"\")","v":""},{"$f":"IF(Eingabe!I235<>\"\",Eingabe!I235,\"\")","v":""},{"$f":"IF(Eingabe!J235<>\"\",Eingabe!J235,\"\")","v":""},{"$f":"IF(Eingabe!K235<>\"\",Eingabe!K235,\"\")","v":""},{"$f":"IF(Eingabe!L235<>\"\",Eingabe!L235,\"\")","v":""},{"$f":"IF(Eingabe!M235<>\"\",Eingabe!M235,\"\")","v":""},{"$f":"IF(Eingabe!N235<>\"\",Eingabe!N235,\"\")","v":""},{"$f":"IF(Eingabe!O235<>\"\",Eingabe!O235,\"\")","v":""},{"$f":"IF(Eingabe!P235<>\"\",Eingabe!P235,\"\")","v":""}]
[{"$f":"IF(Eingabe!C236<>\"\",Eingabe!C236,\"\")","v":""},{"$f":"IF(Eingabe!D236<>\"\",Eingabe!D236,\"\")","v":""},{"$f":"IF(Eingabe!F236<>\"\",Eingabe!F236,\"\")","v":""},{"$f":"IF(Eingabe!E236<>\"\",Eingabe!E236,\"\")","v":""},{"$f":"IF(Eingabe!G236<>\"\",Eingabe!G236,\"\")","v":""},{"$f":"IF(Eingabe!B236<>\"\",Eingabe!B236,\"\")","v":""},{"$f":"IF(Eingabe!H236<>\"\",Eingabe!H236,\"\")","v":""},{"$f":"IF(Eingabe!I236<>\"\",Eingabe!I236,\"\")","v":""},{"$f":"IF(Eingabe!J236<>\"\",Eingabe!J236,\"\")","v":""},{"$f":"IF(Eingabe!K236<>\"\",Eingabe!K236,\"\")","v":""},{"$f":"IF(Eingabe!L236<>\"\",Eingabe!L236,\"\")","v":""},{"$f":"IF(Eingabe!M236<>\"\",Eingabe!M236,\"\")","v":""},{"$f":"IF(Eingabe!N236<>\"\",Eingabe!N236,\"\")","v":""},{"$f":"IF(Eingabe!O236<>\"\",Eingabe!O236,\"\")","v":""},{"$f":"IF(Eingabe!P236<>\"\",Eingabe!P236,\"\")","v":""}]
[{"$f":"IF(Eingabe!C237<>\"\",Eingabe!C237,\"\")","v":""},{"$f":"IF(Eingabe!D237<>\"\",Eingabe!D237,\"\")","v":""},{"$f":"IF(Eingabe!F237<>\"\",Eingabe!F237,\"\")","v":""},{"$f":"IF(Eingabe!E237<>\"\",Eingabe!E237,\"\")","v":""},{"$f":"IF(Eingabe!G237<>\"\",Eingabe!G237,\"\")","v":""},{"$f":"IF(Eingabe!B237<>\"\",Eingabe!B237,\"\")","v":""},{"$f":"IF(Eingabe!H237<>\"\",Eingabe!H237,\"\")","v":""},{"$f":"IF(Eingabe!I237<>\"\",Eingabe!I237,\"\")","v":""},{"$f":"IF(Eingabe!J237<>\"\",Eingabe!J237,\"\")","v":""},{"$f":"IF(Eingabe!K237<>\"\",Eingabe!K237,\"\")","v":""},{"$f":"IF(Eingabe!L237<>\"\",Eingabe!L237,\"\")","v":""},{"$f":"IF(Eingabe!M237<>\"\",Eingabe!M237,\"\")","v":""},{"$f":"IF(Eingabe!N237<>\"\",Eingabe!N237,\"\")","v":""},{"$f":"IF(Eingabe!O237<>\"\",Eingabe!O237,\"\")","v":""},{"$f":"IF(Eingabe!P237<>\"\",Eingabe!P237,\"\")","v":""}]
[{"$f":"IF(Eingabe!C238<>\"\",Eingabe!C238,\"\")","v":""},{"$f":"IF(Eingabe!D238<>\"\",Eingabe!D238,\"\")","v":""},{"$f":"IF(Eingabe!F238<>\"\",Eingabe!F238,\"\")","v":""},{"$f":"IF(Eingabe!E238<>\"\",Eingabe!E238,\"\")","v":""},{"$f":"IF(Eingabe!G238<>\"\",Eingabe!G238,\"\")","v":""},{"$f":"IF(Eingabe!B238<>\"\",Eingabe!B238,\"\")","v":""},{"$f":"IF(Eingabe!H238<>\"\",Eingabe!H238,\"\")","v":""},{"$f":"IF(Eingabe!I238<>\"\",Eingabe!I238,\"\")","v":""},{"$f":"IF(Eingabe!J238<>\"\",Eingabe!J238,\"\")","v":""},{"$f":"IF(Eingabe!K238<>\"\",Eingabe!K238,\"\")","v":""},{"$f":"IF(Eingabe!L238<>\"\",Eingabe!L238,\"\")","v":""},{"$f":"IF(Eingabe!M238<>\"\",Eingabe!M238,\"\")","v":""},{"$f":"IF(Eingabe!N238<>\"\",Eingabe!N238,\"\")","v":""},{"$f":"IF(Eingabe!O238<>\"\",Eingabe!O238,\"\")","v":""},{"$f":"IF(Eingabe!P238<>\"\",Eingabe!P238,\"\")","v":""}]
[{"$f":"IF(Eingabe!C239<>\"\",Eingabe!C239,\"\")","v":""},{"$f":"IF(Eingabe!D239<>\"\",Eingabe!D239,\"\")","v":""},{"$f":"IF(Eingabe!F239<>\"\",Eingabe!F239,\"\")","v":""},{"$f":"IF(Eingabe!E239<>\"\",Eingabe!E239,\"\")","v":""},{"$f":"IF(Eingabe!G239<>\"\",Eingabe!G239,\"\")","v":""},{"$f":"IF(Eingabe!B239<>\"\",Eingabe!B239,\"\")","v":""},{"$f":"IF(Eingabe!H239<>\"\",Eingabe!H239,\"\")","v":""},{"$f":"IF(Eingabe!I239<>\"\",Eingabe!I239,\"\")","v":""},{"$f":"IF(Eingabe!J239<>\"\",Eingabe!J239,\"\")","v":""},{"$f":"IF(Eingabe!K239<>\"\",Eingabe!K239,\"\")","v":""},{"$f":"IF(Eingabe!L239<>\"\",Eingabe!L239,\"\")","v":""},{"$f":"IF(Eingabe!M239<>\"\",Eingabe!M239,\"\")","v":""},{"$f":"IF(Eingabe!N239<>\"\",Eingabe!N239,\"\")","v":""},{"$f":"IF(Eingabe!O239<>\"\",Eingabe!O239,\"\")","v":""},{"$f":"IF(Eingabe!P239<>\"\",Eingabe!P239,\"\")","v":""}]
[{"$f":"IF(Eingabe!C240<>\"\",Eingabe!C240,\"\")","v":""},{"$f":"IF(Eingabe!D240<>\"\",Eingabe!D240,\"\")","v":""},{"$f":"IF(Eingabe!F240<>\"\",Eingabe!F240,\"\")","v":""},{"$f":"IF(Eingabe!E240<>\"\",Eingabe!E240,\"\")","v":""},{"$f":"IF(Eingabe!G240<>\"\",Eingabe!G240,\"\")","v":""},{"$f":"IF(Eingabe!B240<>\"\",Eingabe!B240,\"\")","v":""},{"$f":"IF(Eingabe!H240<>\"\",Eingabe!H240,\"\")","v":""},{"$f":"IF(Eingabe!I240<>\"\",Eingabe!I240,\"\")","v":""},{"$f":"IF(Eingabe!J240<>\"\",Eingabe!J240,\"\")","v":""},{"$f":"IF(Eingabe!K240<>\"\",Eingabe!K240,\"\")","v":""},{"$f":"IF(Eingabe!L240<>\"\",Eingabe!L240,\"\")","v":""},{"$f":"IF(Eingabe!M240<>\"\",Eingabe!M240,\"\")","v":""},{"$f":"IF(Eingabe!N240<>\"\",Eingabe!N240,\"\")","v":""},{"$f":"IF(Eingabe!O240<>\"\",Eingabe!O240,\"\")","v":""},{"$f":"IF(Eingabe!P240<>\"\",Eingabe!P240,\"\")","v":""}]
[{"$f":"IF(Eingabe!C241<>\"\",Eingabe!C241,\"\")","v":""},{"$f":"IF(Eingabe!D241<>\"\",Eingabe!D241,\"\")","v":""},{"$f":"IF(Eingabe!F241<>\"\",Eingabe!F241,\"\")","v":""},{"$f":"IF(Eingabe!E241<>\"\",Eingabe!E241,\"\")","v":""},{"$f":"IF(Eingabe!G241<>\"\",Eingabe!G241,\"\")","v":""},{"$f":"IF(Eingabe!B241<>\"\",Eingabe!B241,\"\")","v":""},{"$f":"IF(Eingabe!H241<>\"\",Eingabe!H241,\"\")","v":""},{"$f":"IF(Eingabe!I241<>\"\",Eingabe!I241,\"\")","v":""},{"$f":"IF(Eingabe!J241<>\"\",Eingabe!J241,\"\")","v":""},{"$f":"IF(Eingabe!K241<>\"\",Eingabe!K241,\"\")","v":""},{"$f":"IF(Eingabe!L241<>\"\",Eingabe!L241,\"\")","v":""},{"$f":"IF(Eingabe!M241<>\"\",Eingabe!M241,\"\")","v":""},{"$f":"IF(Eingabe!N241<>\"\",Eingabe!N241,\"\")","v":""},{"$f":"IF(Eingabe!O241<>\"\",Eingabe!O241,\"\")","v":""},{"$f":"IF(Eingabe!P241<>\"\",Eingabe!P241,\"\")","v":""}]
[{"$f":"IF(Eingabe!C242<>\"\",Eingabe!C242,\"\")","v":""},{"$f":"IF(Eingabe!D242<>\"\",Eingabe!D242,\"\")","v":""},{"$f":"IF(Eingabe!F242<>\"\",Eingabe!F242,\"\")","v":""},{"$f":"IF(Eingabe!E242<>\"\",Eingabe!E242,\"\")","v":""},{"$f":"IF(Eingabe!G242<>\"\",Eingabe!G242,\"\")","v":""},{"$f":"IF(Eingabe!B242<>\"\",Eingabe!B242,\"\")","v":""},{"$f":"IF(Eingabe!H242<>\"\",Eingabe!H242,\"\")","v":""},{"$f":"IF(Eingabe!I242<>\"\",Eingabe!I242,\"\")","v":""},{"$f":"IF(Eingabe!J242<>\"\",Eingabe!J242,\"\")","v":""},{"$f":"IF(Eingabe!K242<>\"\",Eingabe!K242,\"\")","v":""},{"$f":"IF(Eingabe!L242<>\"\",Eingabe!L242,\"\")","v":""},{"$f":"IF(Eingabe!M242<>\"\",Eingabe!M242,\"\")","v":""},{"$f":"IF(Eingabe!N242<>\"\",Eingabe!N242,\"\")","v":""},{"$f":"IF(Eingabe!O242<>\"\",Eingabe!O242,\"\")","v":""},{"$f":"IF(Eingabe!P242<>\"\",Eingabe!P242,\"\")","v":""}]
[{"$f":"IF(Eingabe!C243<>\"\",Eingabe!C243,\"\")","v":""},{"$f":"IF(Eingabe!D243<>\"\",Eingabe!D243,\"\")","v":""},{"$f":"IF(Eingabe!F243<>\"\",Eingabe!F243,\"\")","v":""},{"$f":"IF(Eingabe!E243<>\"\",Eingabe!E243,\"\")","v":""},{"$f":"IF(Eingabe!G243<>\"\",Eingabe!G243,\"\")","v":""},{"$f":"IF(Eingabe!B243<>\"\",Eingabe!B243,\"\")","v":""},{"$f":"IF(Eingabe!H243<>\"\",Eingabe!H243,\"\")","v":""},{"$f":"IF(Eingabe!I243<>\"\",Eingabe!I243,\"\")","v":""},{"$f":"IF(Eingabe!J243<>\"\",Eingabe!J243,\"\")","v":""},{"$f":"IF(Eingabe!K243<>\"\",Eingabe!K243,\"\")","v":""},{"$f":"IF(Eingabe!L243<>\"\",Eingabe!L243,\"\")","v":""},{"$f":"IF(Eingabe!M243<>\"\",Eingabe!M243,\"\")","v":""},{"$f":"IF(Eingabe!N243<>\"\",Eingabe!N243,\"\")","v":""},{"$f":"IF(Eingabe!O243<>\"\",Eingabe!O243,\"\")","v":""},{"$f":"IF(Eingabe!P243<>\"\",Eingabe!P243,\"\")","v":""}]
[{"$f":"IF(Eingabe!C244<>\"\",Eingabe!C244,\"\")","v":""},{"$f":"IF(Eingabe!D244<>\"\",Eingabe!D244,\"\")","v":""},{"$f":"IF(Eingabe!F244<>\"\",Eingabe!F244,\"\")","v":""},{"$f":"IF(Eingabe!E244<>\"\",Eingabe!E244,\"\")","v":""},{"$f":"IF(Eingabe!G244<>\"\",Eingabe!G244,\"\")","v":""},{"$f":"IF(Eingabe!B244<>\"\",Eingabe!B244,\"\")","v":""},{"$f":"IF(Eingabe!H244<>\"\",Eingabe!H244,\"\")","v":""},{"$f":"IF(Eingabe!I244<>\"\",Eingabe!I244,\"\")","v":""},{"$f":"IF(Eingabe!J244<>\"\",Eingabe!J244,\"\")","v":""},{"$f":"IF(Eingabe!K244<>\"\",Eingabe!K244,\"\")","v":""},{"$f":"IF(Eingabe!L244<>\"\",Eingabe!L244,\"\")","v":""},{"$f":"IF(Eingabe!M244<>\"\",Eingabe!M244,\"\")","v":""},{"$f":"IF(Eingabe!N244<>\"\",Eingabe!N244,\"\")","v":""},{"$f":"IF(Eingabe!O244<>\"\",Eingabe!O244,\"\")","v":""},{"$f":"IF(Eingabe!P244<>\"\",Eingabe!P244,\"\")","v":""}]
[{"$f":"IF(Eingabe!C245<>\"\",Eingabe!C245,\"\")","v":""},{"$f":"IF(Eingabe!D245<>\"\",Eingabe!D245,\"\")","v":""},{"$f":"IF(Eingabe!F245<>\"\",Eingabe!F245,\"\")","v":""},{"$f":"IF(Eingabe!E245<>\"\",Eingabe!E245,\"\")","v":""},{"$f":"IF(Eingabe!G245<>\"\",Eingabe!G245,\"\")","v":""},{"$f":"IF(Eingabe!B245<>\"\",Eingabe!B245,\"\")","v":""},{"$f":"IF(Eingabe!H245<>\"\",Eingabe!H245,\"\")","v":""},{"$f":"IF(Eingabe!I245<>\"\",Eingabe!I245,\"\")","v":""},{"$f":"IF(Eingabe!J245<>\"\",Eingabe!J245,\"\")","v":""},{"$f":"IF(Eingabe!K245<>\"\",Eingabe!K245,\"\")","v":""},{"$f":"IF(Eingabe!L245<>\"\",Eingabe!L245,\"\")","v":""},{"$f":"IF(Eingabe!M245<>\"\",Eingabe!M245,\"\")","v":""},{"$f":"IF(Eingabe!N245<>\"\",Eingabe!N245,\"\")","v":""},{"$f":"IF(Eingabe!O245<>\"\",Eingabe!O245,\"\")","v":""},{"$f":"IF(Eingabe!P245<>\"\",Eingabe!P245,\"\")","v":""}]
[{"$f":"IF(Eingabe!C246<>\"\",Eingabe!C246,\"\")","v":""},{"$f":"IF(Eingabe!D246<>\"\",Eingabe!D246,\"\")","v":""},{"$f":"IF(Eingabe!F246<>\"\",Eingabe!F246,\"\")","v":""},{"$f":"IF(Eingabe!E246<>\"\",Eingabe!E246,\"\")","v":""},{"$f":"IF(Eingabe!G246<>\"\",Eingabe!G246,\"\")","v":""},{"$f":"IF(Eingabe!B246<>\"\",Eingabe!B246,\"\")","v":""},{"$f":"IF(Eingabe!H246<>\"\",Eingabe!H246,\"\")","v":""},{"$f":"IF(Eingabe!I246<>\"\",Eingabe!I246,\"\")","v":""},{"$f":"IF(Eingabe!J246<>\"\",Eingabe!J246,\"\")","v":""},{"$f":"IF(Eingabe!K246<>\"\",Eingabe!K246,\"\")","v":""},{"$f":"IF(Eingabe!L246<>\"\",Eingabe!L246,\"\")","v":""},{"$f":"IF(Eingabe!M246<>\"\",Eingabe!M246,\"\")","v":""},{"$f":"IF(Eingabe!N246<>\"\",Eingabe!N246,\"\")","v":""},{"$f":"IF(Eingabe!O246<>\"\",Eingabe!O246,\"\")","v":""},{"$f":"IF(Eingabe!P246<>\"\",Eingabe!P246,\"\")","v":""}]
[{"$f":"IF(Eingabe!C247<>\"\",Eingabe!C247,\"\")","v":""},{"$f":"IF(Eingabe!D247<>\"\",Eingabe!D247,\"\")","v":""},{"$f":"IF(Eingabe!F247<>\"\",Eingabe!F247,\"\")","v":""},{"$f":"IF(Eingabe!E247<>\"\",Eingabe!E247,\"\")","v":""},{"$f":"IF(Eingabe!G247<>\"\",Eingabe!G247,\"\")","v":""},{"$f":"IF(Eingabe!B247<>\"\",Eingabe!B247,\"\")","v":""},{"$f":"IF(Eingabe!H247<>\"\",Eingabe!H247,\"\")","v":""},{"$f":"IF(Eingabe!I247<>\"\",Eingabe!I247,\"\")","v":""},{"$f":"IF(Eingabe!J247<>\"\",Eingabe!J247,\"\")","v":""},{"$f":"IF(Eingabe!K247<>\"\",Eingabe!K247,\"\")","v":""},{"$f":"IF(Eingabe!L247<>\"\",Eingabe!L247,\"\")","v":""},{"$f":"IF(Eingabe!M247<>\"\",Eingabe!M247,\"\")","v":""},{"$f":"IF(Eingabe!N247<>\"\",Eingabe!N247,\"\")","v":""},{"$f":"IF(Eingabe!O247<>\"\",Eingabe!O247,\"\")","v":""},{"$f":"IF(Eingabe!P247<>\"\",Eingabe!P247,\"\")","v":""}]
[{"$f":"IF(Eingabe!C248<>\"\",Eingabe!C248,\"\")","v":""},{"$f":"IF(Eingabe!D248<>\"\",Eingabe!D248,\"\")","v":""},{"$f":"IF(Eingabe!F248<>\"\",Eingabe!F248,\"\")","v":""},{"$f":"IF(Eingabe!E248<>\"\",Eingabe!E248,\"\")","v":""},{"$f":"IF(Eingabe!G248<>\"\",Eingabe!G248,\"\")","v":""},{"$f":"IF(Eingabe!B248<>\"\",Eingabe!B248,\"\")","v":""},{"$f":"IF(Eingabe!H248<>\"\",Eingabe!H248,\"\")","v":""},{"$f":"IF(Eingabe!I248<>\"\",Eingabe!I248,\"\")","v":""},{"$f":"IF(Eingabe!J248<>\"\",Eingabe!J248,\"\")","v":""},{"$f":"IF(Eingabe!K248<>\"\",Eingabe!K248,\"\")","v":""},{"$f":"IF(Eingabe!L248<>\"\",Eingabe!L248,\"\")","v":""},{"$f":"IF(Eingabe!M248<>\"\",Eingabe!M248,\"\")","v":""},{"$f":"IF(Eingabe!N248<>\"\",Eingabe!N248,\"\")","v":""},{"$f":"IF(Eingabe!O248<>\"\",Eingabe!O248,\"\")","v":""},{"$f":"IF(Eingabe!P248<>\"\",Eingabe!P248,\"\")","v":""}]
[{"$f":"IF(Eingabe!C249<>\"\",Eingabe!C249,\"\")","v":""},{"$f":"IF(Eingabe!D249<>\"\",Eingabe!D249,\"\")","v":""},{"$f":"IF(Eingabe!F249<>\"\",Eingabe!F249,\"\")","v":""},{"$f":"IF(Eingabe!E249<>\"\",Eingabe!E249,\"\")","v":""},{"$f":"IF(Eingabe!G249<>\"\",Eingabe!G249,\"\")","v":""},{"$f":"IF(Eingabe!B249<>\"\",Eingabe!B249,\"\")","v":""},{"$f":"IF(Eingabe!H249<>\"\",Eingabe!H249,\"\")","v":""},{"$f":"IF(Eingabe!I249<>\"\",Eingabe!I249,\"\")","v":""},{"$f":"IF(Eingabe!J249<>\"\",Eingabe!J249,\"\")","v":""},{"$f":"IF(Eingabe!K249<>\"\",Eingabe!K249,\"\")","v":""},{"$f":"IF(Eingabe!L249<>\"\",Eingabe!L249,\"\")","v":""},{"$f":"IF(Eingabe!M249<>\"\",Eingabe!M249,\"\")","v":""},{"$f":"IF(Eingabe!N249<>\"\",Eingabe!N249,\"\")","v":""},{"$f":"IF(Eingabe!O249<>\"\",Eingabe!O249,\"\")","v":""},{"$f":"IF(Eingabe!P249<>\"\",Eingabe!P249,\"\")","v":""}]
[{"$f":"IF(Eingabe!C250<>\"\",Eingabe!C250,\"\")","v":""},{"$f":"IF(Eingabe!D250<>\"\",Eingabe!D250,\"\")","v":""},{"$f":"IF(Eingabe!F250<>\"\",Eingabe!F250,\"\")","v":""},{"$f":"IF(Eingabe!E250<>\"\",Eingabe!E250,\"\")","v":""},{"$f":"IF(Eingabe!G250<>\"\",Eingabe!G250,\"\")","v":""},{"$f":"IF(Eingabe!B250<>\"\",Eingabe!B250,\"\")","v":""},{"$f":"IF(Eingabe!H250<>\"\",Eingabe!H250,\"\")","v":""},{"$f":"IF(Eingabe!I250<>\"\",Eingabe!I250,\"\")","v":""},{"$f":"IF(Eingabe!J250<>\"\",Eingabe!J250,\"\")","v":""},{"$f":"IF(Eingabe!K250<>\"\",Eingabe!K250,\"\")","v":""},{"$f":"IF(Eingabe!L250<>\"\",Eingabe!L250,\"\")","v":""},{"$f":"IF(Eingabe!M250<>\"\",Eingabe!M250,\"\")","v":""},{"$f":"IF(Eingabe!N250<>\"\",Eingabe!N250,\"\")","v":""},{"$f":"IF(Eingabe!O250<>\"\",Eingabe!O250,\"\")","v":""},{"$f":"IF(Eingabe!P250<>\"\",Eingabe!P250,\"\")","v":""}]
[{"$f":"IF(Eingabe!C251<>\"\",Eingabe!C251,\"\")","v":""},{"$f":"IF(Eingabe!D251<>\"\",Eingabe!D251,\"\")","v":""},{"$f":"IF(Eingabe!F251<>\"\",Eingabe!F251,\"\")","v":""},{"$f":"IF(Eingabe!E251<>\"\",Eingabe!E251,\"\")","v":""},{"$f":"IF(Eingabe!G251<>\"\",Eingabe!G251,\"\")","v":""},{"$f":"IF(Eingabe!B251<>\"\",Eingabe!B251,\"\")","v":""},{"$f":"IF(Eingabe!H251<>\"\",Eingabe!H251,\"\")","v":""},{"$f":"IF(Eingabe!I251<>\"\",Eingabe!I251,\"\")","v":""},{"$f":"IF(Eingabe!J251<>\"\",Eingabe!J251,\"\")","v":""},{"$f":"IF(Eingabe!K251<>\"\",Eingabe!K251,\"\")","v":""},{"$f":"IF(Eingabe!L251<>\"\",Eingabe!L251,\"\")","v":""},{"$f":"IF(Eingabe!M251<>\"\",Eingabe!M251,\"\")","v":""},{"$f":"IF(Eingabe!N251<>\"\",Eingabe!N251,\"\")","v":""},{"$f":"IF(Eingabe!O251<>\"\",Eingabe!O251,\"\")","v":""},{"$f":"IF(Eingabe!P251<>\"\",Eingabe!P251,\"\")","v":""}]
[{"$f":"IF(Eingabe!C252<>\"\",Eingabe!C252,\"\")","v":""},{"$f":"IF(Eingabe!D252<>\"\",Eingabe!D252,\"\")","v":""},{"$f":"IF(Eingabe!F252<>\"\",Eingabe!F252,\"\")","v":""},{"$f":"IF(Eingabe!E252<>\"\",Eingabe!E252,\"\")","v":""},{"$f":"IF(Eingabe!G252<>\"\",Eingabe!G252,\"\")","v":""},{"$f":"IF(Eingabe!B252<>\"\",Eingabe!B252,\"\")","v":""},{"$f":"IF(Eingabe!H252<>\"\",Eingabe!H252,\"\")","v":""},{"$f":"IF(Eingabe!I252<>\"\",Eingabe!I252,\"\")","v":""},{"$f":"IF(Eingabe!J252<>\"\",Eingabe!J252,\"\")","v":""},{"$f":"IF(Eingabe!K252<>\"\",Eingabe!K252,\"\")","v":""},{"$f":"IF(Eingabe!L252<>\"\",Eingabe!L252,\"\")","v":""},{"$f":"IF(Eingabe!M252<>\"\",Eingabe!M252,\"\")","v":""},{"$f":"IF(Eingabe!N252<>\"\",Eingabe!N252,\"\")","v":""},{"$f":"IF(Eingabe!O252<>\"\",Eingabe!O252,\"\")","v":""},{"$f":"IF(Eingabe!P252<>\"\",Eingabe!P252,\"\")","v":""}]
[{"$f":"IF(Eingabe!C253<>\"\",Eingabe!C253,\"\")","v":""},{"$f":"IF(Eingabe!D253<>\"\",Eingabe!D253,\"\")","v":""},{"$f":"IF(Eingabe!F253<>\"\",Eingabe!F253,\"\")","v":""},{"$f":"IF(Eingabe!E253<>\"\",Eingabe!E253,\"\")","v":""},{"$f":"IF(Eingabe!G253<>\"\",Eingabe!G253,\"\")","v":""},{"$f":"IF(Eingabe!B253<>\"\",Eingabe!B253,\"\")","v":""},{"$f":"IF(Eingabe!H253<>\"\",Eingabe!H253,\"\")","v":""},{"$f":"IF(Eingabe!I253<>\"\",Eingabe!I253,\"\")","v":""},{"$f":"IF(Eingabe!J253<>\"\",Eingabe!J253,\"\")","v":""},{"$f":"IF(Eingabe!K253<>\"\",Eingabe!K253,\"\")","v":""},{"$f":"IF(Eingabe!L253<>\"\",Eingabe!L253,\"\")","v":""},{"$f":"IF(Eingabe!M253<>\"\",Eingabe!M253,\"\")","v":""},{"$f":"IF(Eingabe!N253<>\"\",Eingabe!N253,\"\")","v":""},{"$f":"IF(Eingabe!O253<>\"\",Eingabe!O253,\"\")","v":""},{"$f":"IF(Eingabe!P253<>\"\",Eingabe!P253,\"\")","v":""}]
[{"$f":"IF(Eingabe!C254<>\"\",Eingabe!C254,\"\")","v":""},{"$f":"IF(Eingabe!D254<>\"\",Eingabe!D254,\"\")","v":""},{"$f":"IF(Eingabe!F254<>\"\",Eingabe!F254,\"\")","v":""},{"$f":"IF(Eingabe!E254<>\"\",Eingabe!E254,\"\")","v":""},{"$f":"IF(Eingabe!G254<>\"\",Eingabe!G254,\"\")","v":""},{"$f":"IF(Eingabe!B254<>\"\",Eingabe!B254,\"\")","v":""},{"$f":"IF(Eingabe!H254<>\"\",Eingabe!H254,\"\")","v":""},{"$f":"IF(Eingabe!I254<>\"\",Eingabe!I254,\"\")","v":""},{"$f":"IF(Eingabe!J254<>\"\",Eingabe!J254,\"\")","v":""},{"$f":"IF(Eingabe!K254<>\"\",Eingabe!K254,\"\")","v":""},{"$f":"IF(Eingabe!L254<>\"\",Eingabe!L254,\"\")","v":""},{"$f":"IF(Eingabe!M254<>\"\",Eingabe!M254,\"\")","v":""},{"$f":"IF(Eingabe!N254<>\"\",Eingabe!N254,\"\")","v":""},{"$f":"IF(Eingabe!O254<>\"\",Eingabe!O254,\"\")","v":""},{"$f":"IF(Eingabe!P254<>\"\",Eingabe!P254,\"\")","v":""}]
[{"$f":"IF(Eingabe!C255<>\"\",Eingabe!C255,\"\")","v":""},{"$f":"IF(Eingabe!D255<>\"\",Eingabe!D255,\"\")","v":""},{"$f":"IF(Eingabe!F255<>\"\",Eingabe!F255,\"\")","v":""},{"$f":"IF(Eingabe!E255<>\"\",Eingabe!E255,\"\")","v":""},{"$f":"IF(Eingabe!G255<>\"\",Eingabe!G255,\"\")","v":""},{"$f":"IF(Eingabe!B255<>\"\",Eingabe!B255,\"\")","v":""},{"$f":"IF(Eingabe!H255<>\"\",Eingabe!H255,\"\")","v":""},{"$f":"IF(Eingabe!I255<>\"\",Eingabe!I255,\"\")","v":""},{"$f":"IF(Eingabe!J255<>\"\",Eingabe!J255,\"\")","v":""},{"$f":"IF(Eingabe!K255<>\"\",Eingabe!K255,\"\")","v":""},{"$f":"IF(Eingabe!L255<>\"\",Eingabe!L255,\"\")","v":""},{"$f":"IF(Eingabe!M255<>\"\",Eingabe!M255,\"\")","v":""},{"$f":"IF(Eingabe!N255<>\"\",Eingabe!N255,\"\")","v":""},{"$f":"IF(Eingabe!O255<>\"\",Eingabe!O255,\"\")","v":""},{"$f":"IF(Eingabe!P255<>\"\",Eingabe!P255,\"\")","v":""}]
[{"$f":"IF(Eingabe!C256<>\"\",Eingabe!C256,\"\")","v":""},{"$f":"IF(Eingabe!D256<>\"\",Eingabe!D256,\"\")","v":""},{"$f":"IF(Eingabe!F256<>\"\",Eingabe!F256,\"\")","v":""},{"$f":"IF(Eingabe!E256<>\"\",Eingabe!E256,\"\")","v":""},{"$f":"IF(Eingabe!G256<>\"\",Eingabe!G256,\"\")","v":""},{"$f":"IF(Eingabe!B256<>\"\",Eingabe!B256,\"\")","v":""},{"$f":"IF(Eingabe!H256<>\"\",Eingabe!H256,\"\")","v":""},{"$f":"IF(Eingabe!I256<>\"\",Eingabe!I256,\"\")","v":""},{"$f":"IF(Eingabe!J256<>\"\",Eingabe!J256,\"\")","v":""},{"$f":"IF(Eingabe!K256<>\"\",Eingabe!K256,\"\")","v":""},{"$f":"IF(Eingabe!L256<>\"\",Eingabe!L256,\"\")","v":""},{"$f":"IF(Eingabe!M256<>\"\",Eingabe!M256,\"\")","v":""},{"$f":"IF(Eingabe!N256<>\"\",Eingabe!N256,\"\")","v":""},{"$f":"IF(Eingabe!O256<>\"\",Eingabe!O256,\"\")","v":""},{"$f":"IF(Eingabe!P256<>\"\",Eingabe!P256,\"\")","v":""}]
[{"$f":"IF(Eingabe!C257<>\"\",Eingabe!C257,\"\")","v":""},{"$f":"IF(Eingabe!D257<>\"\",Eingabe!D257,\"\")","v":""},{"$f":"IF(Eingabe!F257<>\"\",Eingabe!F257,\"\")","v":""},{"$f":"IF(Eingabe!E257<>\"\",Eingabe!E257,\"\")","v":""},{"$f":"IF(Eingabe!G257<>\"\",Eingabe!G257,\"\")","v":""},{"$f":"IF(Eingabe!B257<>\"\",Eingabe!B257,\"\")","v":""},{"$f":"IF(Eingabe!H257<>\"\",Eingabe!H257,\"\")","v":""},{"$f":"IF(Eingabe!I257<>\"\",Eingabe!I257,\"\")","v":""},{"$f":"IF(Eingabe!J257<>\"\",Eingabe!J257,\"\")","v":""},{"$f":"IF(Eingabe!K257<>\"\",Eingabe!K257,\"\")","v":""},{"$f":"IF(Eingabe!L257<>\"\",Eingabe!L257,\"\")","v":""},{"$f":"IF(Eingabe!M257<>\"\",Eingabe!M257,\"\")","v":""},{"$f":"IF(Eingabe!N257<>\"\",Eingabe!N257,\"\")","v":""},{"$f":"IF(Eingabe!O257<>\"\",Eingabe!O257,\"\")","v":""},{"$f":"IF(Eingabe!P257<>\"\",Eingabe!P257,\"\")","v":""}]
[{"$f":"IF(Eingabe!C258<>\"\",Eingabe!C258,\"\")","v":""},{"$f":"IF(Eingabe!D258<>\"\",Eingabe!D258,\"\")","v":""},{"$f":"IF(Eingabe!F258<>\"\",Eingabe!F258,\"\")","v":""},{"$f":"IF(Eingabe!E258<>\"\",Eingabe!E258,\"\")","v":""},{"$f":"IF(Eingabe!G258<>\"\",Eingabe!G258,\"\")","v":""},{"$f":"IF(Eingabe!B258<>\"\",Eingabe!B258,\"\")","v":""},{"$f":"IF(Eingabe!H258<>\"\",Eingabe!H258,\"\")","v":""},{"$f":"IF(Eingabe!I258<>\"\",Eingabe!I258,\"\")","v":""},{"$f":"IF(Eingabe!J258<>\"\",Eingabe!J258,\"\")","v":""},{"$f":"IF(Eingabe!K258<>\"\",Eingabe!K258,\"\")","v":""},{"$f":"IF(Eingabe!L258<>\"\",Eingabe!L258,\"\")","v":""},{"$f":"IF(Eingabe!M258<>\"\",Eingabe!M258,\"\")","v":""},{"$f":"IF(Eingabe!N258<>\"\",Eingabe!N258,\"\")","v":""},{"$f":"IF(Eingabe!O258<>\"\",Eingabe!O258,\"\")","v":""},{"$f":"IF(Eingabe!P258<>\"\",Eingabe!P258,\"\")","v":""}]
[{"$f":"IF(Eingabe!C259<>\"\",Eingabe!C259,\"\")","v":""},{"$f":"IF(Eingabe!D259<>\"\",Eingabe!D259,\"\")","v":""},{"$f":"IF(Eingabe!F259<>\"\",Eingabe!F259,\"\")","v":""},{"$f":"IF(Eingabe!E259<>\"\",Eingabe!E259,\"\")","v":""},{"$f":"IF(Eingabe!G259<>\"\",Eingabe!G259,\"\")","v":""},{"$f":"IF(Eingabe!B259<>\"\",Eingabe!B259,\"\")","v":""},{"$f":"IF(Eingabe!H259<>\"\",Eingabe!H259,\"\")","v":""},{"$f":"IF(Eingabe!I259<>\"\",Eingabe!I259,\"\")","v":""},{"$f":"IF(Eingabe!J259<>\"\",Eingabe!J259,\"\")","v":""},{"$f":"IF(Eingabe!K259<>\"\",Eingabe!K259,\"\")","v":""},{"$f":"IF(Eingabe!L259<>\"\",Eingabe!L259,\"\")","v":""},{"$f":"IF(Eingabe!M259<>\"\",Eingabe!M259,\"\")","v":""},{"$f":"IF(Eingabe!N259<>\"\",Eingabe!N259,\"\")","v":""},{"$f":"IF(Eingabe!O259<>\"\",Eingabe!O259,\"\")","v":""},{"$f":"IF(Eingabe!P259<>\"\",Eingabe!P259,\"\")","v":""}]
[{"$f":"IF(Eingabe!C260<>\"\",Eingabe!C260,\"\")","v":""},{"$f":"IF(Eingabe!D260<>\"\",Eingabe!D260,\"\")","v":""},{"$f":"IF(Eingabe!F260<>\"\",Eingabe!F260,\"\")","v":""},{"$f":"IF(Eingabe!E260<>\"\",Eingabe!E260,\"\")","v":""},{"$f":"IF(Eingabe!G260<>\"\",Eingabe!G260,\"\")","v":""},{"$f":"IF(Eingabe!B260<>\"\",Eingabe!B260,\"\")","v":""},{"$f":"IF(Eingabe!H260<>\"\",Eingabe!H260,\"\")","v":""},{"$f":"IF(Eingabe!I260<>\"\",Eingabe!I260,\"\")","v":""},{"$f":"IF(Eingabe!J260<>\"\",Eingabe!J260,\"\")","v":""},{"$f":"IF(Eingabe!K260<>\"\",Eingabe!K260,\"\")","v":""},{"$f":"IF(Eingabe!L260<>\"\",Eingabe!L260,\"\")","v":""},{"$f":"IF(Eingabe!M260<>\"\",Eingabe!M260,\"\")","v":""},{"$f":"IF(Eingabe!N260<>\"\",Eingabe!N260,\"\")","v":""},{"$f":"IF(Eingabe!O260<>\"\",Eingabe!O260,\"\")","v":""},{"$f":"IF(Eingabe!P260<>\"\",Eingabe!P260,\"\")","v":""}]
[{"$f":"IF(Eingabe!C261<>\"\",Eingabe!C261,\"\")","v":""},{"$f":"IF(Eingabe!D261<>\"\",Eingabe!D261,\"\")","v":""},{"$f":"IF(Eingabe!F261<>\"\",Eingabe!F261,\"\")","v":""},{"$f":"IF(Eingabe!E261<>\"\",Eingabe!E261,\"\")","v":""},{"$f":"IF(Eingabe!G261<>\"\",Eingabe!G261,\"\")","v":""},{"$f":"IF(Eingabe!B261<>\"\",Eingabe!B261,\"\")","v":""},{"$f":"IF(Eingabe!H261<>\"\",Eingabe!H261,\"\")","v":""},{"$f":"IF(Eingabe!I261<>\"\",Eingabe!I261,\"\")","v":""},{"$f":"IF(Eingabe!J261<>\"\",Eingabe!J261,\"\")","v":""},{"$f":"IF(Eingabe!K261<>\"\",Eingabe!K261,\"\")","v":""},{"$f":"IF(Eingabe!L261<>\"\",Eingabe!L261,\"\")","v":""},{"$f":"IF(Eingabe!M261<>\"\",Eingabe!M261,\"\")","v":""},{"$f":"IF(Eingabe!N261<>\"\",Eingabe!N261,\"\")","v":""},{"$f":"IF(Eingabe!O261<>\"\",Eingabe!O261,\"\")","v":""},{"$f":"IF(Eingabe!P261<>\"\",Eingabe!P261,\"\")","v":""}]
[{"$f":"IF(Eingabe!C262<>\"\",Eingabe!C262,\"\")","v":""},{"$f":"IF(Eingabe!D262<>\"\",Eingabe!D262,\"\")","v":""},{"$f":"IF(Eingabe!F262<>\"\",Eingabe!F262,\"\")","v":""},{"$f":"IF(Eingabe!E262<>\"\",Eingabe!E262,\"\")","v":""},{"$f":"IF(Eingabe!G262<>\"\",Eingabe!G262,\"\")","v":""},{"$f":"IF(Eingabe!B262<>\"\",Eingabe!B262,\"\")","v":""},{"$f":"IF(Eingabe!H262<>\"\",Eingabe!H262,\"\")","v":""},{"$f":"IF(Eingabe!I262<>\"\",Eingabe!I262,\"\")","v":""},{"$f":"IF(Eingabe!J262<>\"\",Eingabe!J262,\"\")","v":""},{"$f":"IF(Eingabe!K262<>\"\",Eingabe!K262,\"\")","v":""},{"$f":"IF(Eingabe!L262<>\"\",Eingabe!L262,\"\")","v":""},{"$f":"IF(Eingabe!M262<>\"\",Eingabe!M262,\"\")","v":""},{"$f":"IF(Eingabe!N262<>\"\",Eingabe!N262,\"\")","v":""},{"$f":"IF(Eingabe!O262<>\"\",Eingabe!O262,\"\")","v":""},{"$f":"IF(Eingabe!P262<>\"\",Eingabe!P262,\"\")","v":""}]
[{"$f":"IF(Eingabe!C263<>\"\",Eingabe!C263,\"\")","v":""},{"$f":"IF(Eingabe!D263<>\"\",Eingabe!D263,\"\")","v":""},{"$f":"IF(Eingabe!F263<>\"\",Eingabe!F263,\"\")","v":""},{"$f":"IF(Eingabe!E263<>\"\",Eingabe!E263,\"\")","v":""},{"$f":"IF(Eingabe!G263<>\"\",Eingabe!G263,\"\")","v":""},{"$f":"IF(Eingabe!B263<>\"\",Eingabe!B263,\"\")","v":""},{"$f":"IF(Eingabe!H263<>\"\",Eingabe!H263,\"\")","v":""},{"$f":"IF(Eingabe!I263<>\"\",Eingabe!I263,\"\")","v":""},{"$f":"IF(Eingabe!J263<>\"\",Eingabe!J263,\"\")","v":""},{"$f":"IF(Eingabe!K263<>\"\",Eingabe!K263,\"\")","v":""},{"$f":"IF(Eingabe!L263<>\"\",Eingabe!L263,\"\")","v":""},{"$f":"IF(Eingabe!M263<>\"\",Eingabe!M263,\"\")","v":""},{"$f":"IF(Eingabe!N263<>\"\",Eingabe!N263,\"\")","v":""},{"$f":"IF(Eingabe!O263<>\"\",Eingabe!O263,\"\")","v":""},{"$f":"IF(Eingabe!P263<>\"\",Eingabe!P263,\"\")","v":""}]
[{"$f":"IF(Eingabe!C264<>\"\",Eingabe!C264,\"\")","v":""},{"$f":"IF(Eingabe!D264<>\"\",Eingabe!D264,\"\")","v":""},{"$f":"IF(Eingabe!F264<>\"\",Eingabe!F264,\"\")","v":""},{"$f":"IF(Eingabe!E264<>\"\",Eingabe!E264,\"\")","v":""},{"$f":"IF(Eingabe!G264<>\"\",Eingabe!G264,\"\")","v":""},{"$f":"IF(Eingabe!B264<>\"\",Eingabe!B264,\"\")","v":""},{"$f":"IF(Eingabe!H264<>\"\",Eingabe!H264,\"\")","v":""},{"$f":"IF(Eingabe!I264<>\"\",Eingabe!I264,\"\")","v":""},{"$f":"IF(Eingabe!J264<>\"\",Eingabe!J264,\"\")","v":""},{"$f":"IF(Eingabe!K264<>\"\",Eingabe!K264,\"\")","v":""},{"$f":"IF(Eingabe!L264<>\"\",Eingabe!L264,\"\")","v":""},{"$f":"IF(Eingabe!M264<>\"\",Eingabe!M264,\"\")","v":""},{"$f":"IF(Eingabe!N264<>\"\",Eingabe!N264,\"\")","v":""},{"$f":"IF(Eingabe!O264<>\"\",Eingabe!O264,\"\")","v":""},{"$f":"IF(Eingabe!P264<>\"\",Eingabe!P264,\"\")","v":""}]
[{"$f":"IF(Eingabe!C265<>\"\",Eingabe!C265,\"\")","v":""},{"$f":"IF(Eingabe!D265<>\"\",Eingabe!D265,\"\")","v":""},{"$f":"IF(Eingabe!F265<>\"\",Eingabe!F265,\"\")","v":""},{"$f":"IF(Eingabe!E265<>\"\",Eingabe!E265,\"\")","v":""},{"$f":"IF(Eingabe!G265<>\"\",Eingabe!G265,\"\")","v":""},{"$f":"IF(Eingabe!B265<>\"\",Eingabe!B265,\"\")","v":""},{"$f":"IF(Eingabe!H265<>\"\",Eingabe!H265,\"\")","v":""},{"$f":"IF(Eingabe!I265<>\"\",Eingabe!I265,\"\")","v":""},{"$f":"IF(Eingabe!J265<>\"\",Eingabe!J265,\"\")","v":""},{"$f":"IF(Eingabe!K265<>\"\",Eingabe!K265,\"\")","v":""},{"$f":"IF(Eingabe!L265<>\"\",Eingabe!L265,\"\")","v":""},{"$f":"IF(Eingabe!M265<>\"\",Eingabe!M265,\"\")","v":""},{"$f":"IF(Eingabe!N265<>\"\",Eingabe!N265,\"\")","v":""},{"$f":"IF(Eingabe!O265<>\"\",Eingabe!O265,\"\")","v":""},{"$f":"IF(Eingabe!P265<>\"\",Eingabe!P265,\"\")","v":""}]
[{"$f":"IF(Eingabe!C266<>\"\",Eingabe!C266,\"\")","v":""},{"$f":"IF(Eingabe!D266<>\"\",Eingabe!D266,\"\")","v":""},{"$f":"IF(Eingabe!F266<>\"\",Eingabe!F266,\"\")","v":""},{"$f":"IF(Eingabe!E266<>\"\",Eingabe!E266,\"\")","v":""},{"$f":"IF(Eingabe!G266<>\"\",Eingabe!G266,\"\")","v":""},{"$f":"IF(Eingabe!B266<>\"\",Eingabe!B266,\"\")","v":""},{"$f":"IF(Eingabe!H266<>\"\",Eingabe!H266,\"\")","v":""},{"$f":"IF(Eingabe!I266<>\"\",Eingabe!I266,\"\")","v":""},{"$f":"IF(Eingabe!J266<>\"\",Eingabe!J266,\"\")","v":""},{"$f":"IF(Eingabe!K266<>\"\",Eingabe!K266,\"\")","v":""},{"$f":"IF(Eingabe!L266<>\"\",Eingabe!L266,\"\")","v":""},{"$f":"IF(Eingabe!M266<>\"\",Eingabe!M266,\"\")","v":""},{"$f":"IF(Eingabe!N266<>\"\",Eingabe!N266,\"\")","v":""},{"$f":"IF(Eingabe!O266<>\"\",Eingabe!O266,\"\")","v":""},{"$f":"IF(Eingabe!P266<>\"\",Eingabe!P266,\"\")","v":""}]
[{"$f":"IF(Eingabe!C267<>\"\",Eingabe!C267,\"\")","v":""},{"$f":"IF(Eingabe!D267<>\"\",Eingabe!D267,\"\")","v":""},{"$f":"IF(Eingabe!F267<>\"\",Eingabe!F267,\"\")","v":""},{"$f":"IF(Eingabe!E267<>\"\",Eingabe!E267,\"\")","v":""},{"$f":"IF(Eingabe!G267<>\"\",Eingabe!G267,\"\")","v":""},{"$f":"IF(Eingabe!B267<>\"\",Eingabe!B267,\"\")","v":""},{"$f":"IF(Eingabe!H267<>\"\",Eingabe!H267,\"\")","v":""},{"$f":"IF(Eingabe!I267<>\"\",Eingabe!I267,\"\")","v":""},{"$f":"IF(Eingabe!J267<>\"\",Eingabe!J267,\"\")","v":""},{"$f":"IF(Eingabe!K267<>\"\",Eingabe!K267,\"\")","v":""},{"$f":"IF(Eingabe!L267<>\"\",Eingabe!L267,\"\")","v":""},{"$f":"IF(Eingabe!M267<>\"\",Eingabe!M267,\"\")","v":""},{"$f":"IF(Eingabe!N267<>\"\",Eingabe!N267,\"\")","v":""},{"$f":"IF(Eingabe!O267<>\"\",Eingabe!O267,\"\")","v":""},{"$f":"IF(Eingabe!P267<>\"\",Eingabe!P267,\"\")","v":""}]
[{"$f":"IF(Eingabe!C268<>\"\",Eingabe!C268,\"\")","v":""},{"$f":"IF(Eingabe!D268<>\"\",Eingabe!D268,\"\")","v":""},{"$f":"IF(Eingabe!F268<>\"\",Eingabe!F268,\"\")","v":""},{"$f":"IF(Eingabe!E268<>\"\",Eingabe!E268,\"\")","v":""},{"$f":"IF(Eingabe!G268<>\"\",Eingabe!G268,\"\")","v":""},{"$f":"IF(Eingabe!B268<>\"\",Eingabe!B268,\"\")","v":""},{"$f":"IF(Eingabe!H268<>\"\",Eingabe!H268,\"\")","v":""},{"$f":"IF(Eingabe!I268<>\"\",Eingabe!I268,\"\")","v":""},{"$f":"IF(Eingabe!J268<>\"\",Eingabe!J268,\"\")","v":""},{"$f":"IF(Eingabe!K268<>\"\",Eingabe!K268,\"\")","v":""},{"$f":"IF(Eingabe!L268<>\"\",Eingabe!L268,\"\")","v":""},{"$f":"IF(Eingabe!M268<>\"\",Eingabe!M268,\"\")","v":""},{"$f":"IF(Eingabe!N268<>\"\",Eingabe!N268,\"\")","v":""},{"$f":"IF(Eingabe!O268<>\"\",Eingabe!O268,\"\")","v":""},{"$f":"IF(Eingabe!P268<>\"\",Eingabe!P268,\"\")","v":""}]
[{"$f":"IF(Eingabe!C269<>\"\",Eingabe!C269,\"\")","v":""},{"$f":"IF(Eingabe!D269<>\"\",Eingabe!D269,\"\")","v":""},{"$f":"IF(Eingabe!F269<>\"\",Eingabe!F269,\"\")","v":""},{"$f":"IF(Eingabe!E269<>\"\",Eingabe!E269,\"\")","v":""},{"$f":"IF(Eingabe!G269<>\"\",Eingabe!G269,\"\")","v":""},{"$f":"IF(Eingabe!B269<>\"\",Eingabe!B269,\"\")","v":""},{"$f":"IF(Eingabe!H269<>\"\",Eingabe!H269,\"\")","v":""},{"$f":"IF(Eingabe!I269<>\"\",Eingabe!I269,\"\")","v":""},{"$f":"IF(Eingabe!J269<>\"\",Eingabe!J269,\"\")","v":""},{"$f":"IF(Eingabe!K269<>\"\",Eingabe!K269,\"\")","v":""},{"$f":"IF(Eingabe!L269<>\"\",Eingabe!L269,\"\")","v":""},{"$f":"IF(Eingabe!M269<>\"\",Eingabe!M269,\"\")","v":""},{"$f":"IF(Eingabe!N269<>\"\",Eingabe!N269,\"\")","v":""},{"$f":"IF(Eingabe!O269<>\"\",Eingabe!O269,\"\")","v":""},{"$f":"IF(Eingabe!P269<>\"\",Eingabe!P269,\"\")","v":""}]
[{"$f":"IF(Eingabe!C270<>\"\",Eingabe!C270,\"\")","v":""},{"$f":"IF(Eingabe!D270<>\"\",Eingabe!D270,\"\")","v":""},{"$f":"IF(Eingabe!F270<>\"\",Eingabe!F270,\"\")","v":""},{"$f":"IF(Eingabe!E270<>\"\",Eingabe!E270,\"\")","v":""},{"$f":"IF(Eingabe!G270<>\"\",Eingabe!G270,\"\")","v":""},{"$f":"IF(Eingabe!B270<>\"\",Eingabe!B270,\"\")","v":""},{"$f":"IF(Eingabe!H270<>\"\",Eingabe!H270,\"\")","v":""},{"$f":"IF(Eingabe!I270<>\"\",Eingabe!I270,\"\")","v":""},{"$f":"IF(Eingabe!J270<>\"\",Eingabe!J270,\"\")","v":""},{"$f":"IF(Eingabe!K270<>\"\",Eingabe!K270,\"\")","v":""},{"$f":"IF(Eingabe!L270<>\"\",Eingabe!L270,\"\")","v":""},{"$f":"IF(Eingabe!M270<>\"\",Eingabe!M270,\"\")","v":""},{"$f":"IF(Eingabe!N270<>\"\",Eingabe!N270,\"\")","v":""},{"$f":"IF(Eingabe!O270<>\"\",Eingabe!O270,\"\")","v":""},{"$f":"IF(Eingabe!P270<>\"\",Eingabe!P270,\"\")","v":""}]
[{"$f":"IF(Eingabe!C271<>\"\",Eingabe!C271,\"\")","v":""},{"$f":"IF(Eingabe!D271<>\"\",Eingabe!D271,\"\")","v":""},{"$f":"IF(Eingabe!F271<>\"\",Eingabe!F271,\"\")","v":""},{"$f":"IF(Eingabe!E271<>\"\",Eingabe!E271,\"\")","v":""},{"$f":"IF(Eingabe!G271<>\"\",Eingabe!G271,\"\")","v":""},{"$f":"IF(Eingabe!B271<>\"\",Eingabe!B271,\"\")","v":""},{"$f":"IF(Eingabe!H271<>\"\",Eingabe!H271,\"\")","v":""},{"$f":"IF(Eingabe!I271<>\"\",Eingabe!I271,\"\")","v":""},{"$f":"IF(Eingabe!J271<>\"\",Eingabe!J271,\"\")","v":""},{"$f":"IF(Eingabe!K271<>\"\",Eingabe!K271,\"\")","v":""},{"$f":"IF(Eingabe!L271<>\"\",Eingabe!L271,\"\")","v":""},{"$f":"IF(Eingabe!M271<>\"\",Eingabe!M271,\"\")","v":""},{"$f":"IF(Eingabe!N271<>\"\",Eingabe!N271,\"\")","v":""},{"$f":"IF(Eingabe!O271<>\"\",Eingabe!O271,\"\")","v":""},{"$f":"IF(Eingabe!P271<>\"\",Eingabe!P271,\"\")","v":""}]
[{"$f":"IF(Eingabe!C272<>\"\",Eingabe!C272,\"\")","v":""},{"$f":"IF(Eingabe!D272<>\"\",Eingabe!D272,\"\")","v":""},{"$f":"IF(Eingabe!F272<>\"\",Eingabe!F272,\"\")","v":""},{"$f":"IF(Eingabe!E272<>\"\",Eingabe!E272,\"\")","v":""},{"$f":"IF(Eingabe!G272<>\"\",Eingabe!G272,\"\")","v":""},{"$f":"IF(Eingabe!B272<>\"\",Eingabe!B272,\"\")","v":""},{"$f":"IF(Eingabe!H272<>\"\",Eingabe!H272,\"\")","v":""},{"$f":"IF(Eingabe!I272<>\"\",Eingabe!I272,\"\")","v":""},{"$f":"IF(Eingabe!J272<>\"\",Eingabe!J272,\"\")","v":""},{"$f":"IF(Eingabe!K272<>\"\",Eingabe!K272,\"\")","v":""},{"$f":"IF(Eingabe!L272<>\"\",Eingabe!L272,\"\")","v":""},{"$f":"IF(Eingabe!M272<>\"\",Eingabe!M272,\"\")","v":""},{"$f":"IF(Eingabe!N272<>\"\",Eingabe!N272,\"\")","v":""},{"$f":"IF(Eingabe!O272<>\"\",Eingabe!O272,\"\")","v":""},{"$f":"IF(Eingabe!P272<>\"\",Eingabe!P272,\"\")","v":""}]
[{"$f":"IF(Eingabe!C273<>\"\",Eingabe!C273,\"\")","v":""},{"$f":"IF(Eingabe!D273<>\"\",Eingabe!D273,\"\")","v":""},{"$f":"IF(Eingabe!F273<>\"\",Eingabe!F273,\"\")","v":""},{"$f":"IF(Eingabe!E273<>\"\",Eingabe!E273,\"\")","v":""},{"$f":"IF(Eingabe!G273<>\"\",Eingabe!G273,\"\")","v":""},{"$f":"IF(Eingabe!B273<>\"\",Eingabe!B273,\"\")","v":""},{"$f":"IF(Eingabe!H273<>\"\",Eingabe!H273,\"\")","v":""},{"$f":"IF(Eingabe!I273<>\"\",Eingabe!I273,\"\")","v":""},{"$f":"IF(Eingabe!J273<>\"\",Eingabe!J273,\"\")","v":""},{"$f":"IF(Eingabe!K273<>\"\",Eingabe!K273,\"\")","v":""},{"$f":"IF(Eingabe!L273<>\"\",Eingabe!L273,\"\")","v":""},{"$f":"IF(Eingabe!M273<>\"\",Eingabe!M273,\"\")","v":""},{"$f":"IF(Eingabe!N273<>\"\",Eingabe!N273,\"\")","v":""},{"$f":"IF(Eingabe!O273<>\"\",Eingabe!O273,\"\")","v":""},{"$f":"IF(Eingabe!P273<>\"\",Eingabe!P273,\"\")","v":""}]
[{"$f":"IF(Eingabe!C274<>\"\",Eingabe!C274,\"\")","v":""},{"$f":"IF(Eingabe!D274<>\"\",Eingabe!D274,\"\")","v":""},{"$f":"IF(Eingabe!F274<>\"\",Eingabe!F274,\"\")","v":""},{"$f":"IF(Eingabe!E274<>\"\",Eingabe!E274,\"\")","v":""},{"$f":"IF(Eingabe!G274<>\"\",Eingabe!G274,\"\")","v":""},{"$f":"IF(Eingabe!B274<>\"\",Eingabe!B274,\"\")","v":""},{"$f":"IF(Eingabe!H274<>\"\",Eingabe!H274,\"\")","v":""},{"$f":"IF(Eingabe!I274<>\"\",Eingabe!I274,\"\")","v":""},{"$f":"IF(Eingabe!J274<>\"\",Eingabe!J274,\"\")","v":""},{"$f":"IF(Eingabe!K274<>\"\",Eingabe!K274,\"\")","v":""},{"$f":"IF(Eingabe!L274<>\"\",Eingabe!L274,\"\")","v":""},{"$f":"IF(Eingabe!M274<>\"\",Eingabe!M274,\"\")","v":""},{"$f":"IF(Eingabe!N274<>\"\",Eingabe!N274,\"\")","v":""},{"$f":"IF(Eingabe!O274<>\"\",Eingabe!O274,\"\")","v":""},{"$f":"IF(Eingabe!P274<>\"\",Eingabe!P274,\"\")","v":""}]
[{"$f":"IF(Eingabe!C275<>\"\",Eingabe!C275,\"\")","v":""},{"$f":"IF(Eingabe!D275<>\"\",Eingabe!D275,\"\")","v":""},{"$f":"IF(Eingabe!F275<>\"\",Eingabe!F275,\"\")","v":""},{"$f":"IF(Eingabe!E275<>\"\",Eingabe!E275,\"\")","v":""},{"$f":"IF(Eingabe!G275<>\"\",Eingabe!G275,\"\")","v":""},{"$f":"IF(Eingabe!B275<>\"\",Eingabe!B275,\"\")","v":""},{"$f":"IF(Eingabe!H275<>\"\",Eingabe!H275,\"\")","v":""},{"$f":"IF(Eingabe!I275<>\"\",Eingabe!I275,\"\")","v":""},{"$f":"IF(Eingabe!J275<>\"\",Eingabe!J275,\"\")","v":""},{"$f":"IF(Eingabe!K275<>\"\",Eingabe!K275,\"\")","v":""},{"$f":"IF(Eingabe!L275<>\"\",Eingabe!L275,\"\")","v":""},{"$f":"IF(Eingabe!M275<>\"\",Eingabe!M275,\"\")","v":""},{"$f":"IF(Eingabe!N275<>\"\",Eingabe!N275,\"\")","v":""},{"$f":"IF(Eingabe!O275<>\"\",Eingabe!O275,\"\")","v":""},{"$f":"IF(Eingabe!P275<>\"\",Eingabe!P275,\"\")","v":""}]
[{"$f":"IF(Eingabe!C276<>\"\",Eingabe!C276,\"\")","v":""},{"$f":"IF(Eingabe!D276<>\"\",Eingabe!D276,\"\")","v":""},{"$f":"IF(Eingabe!F276<>\"\",Eingabe!F276,\"\")","v":""},{"$f":"IF(Eingabe!E276<>\"\",Eingabe!E276,\"\")","v":""},{"$f":"IF(Eingabe!G276<>\"\",Eingabe!G276,\"\")","v":""},{"$f":"IF(Eingabe!B276<>\"\",Eingabe!B276,\"\")","v":""},{"$f":"IF(Eingabe!H276<>\"\",Eingabe!H276,\"\")","v":""},{"$f":"IF(Eingabe!I276<>\"\",Eingabe!I276,\"\")","v":""},{"$f":"IF(Eingabe!J276<>\"\",Eingabe!J276,\"\")","v":""},{"$f":"IF(Eingabe!K276<>\"\",Eingabe!K276,\"\")","v":""},{"$f":"IF(Eingabe!L276<>\"\",Eingabe!L276,\"\")","v":""},{"$f":"IF(Eingabe!M276<>\"\",Eingabe!M276,\"\")","v":""},{"$f":"IF(Eingabe!N276<>\"\",Eingabe!N276,\"\")","v":""},{"$f":"IF(Eingabe!O276<>\"\",Eingabe!O276,\"\")","v":""},{"$f":"IF(Eingabe!P276<>\"\",Eingabe!P276,\"\")","v":""}]
[{"$f":"IF(Eingabe!C277<>\"\",Eingabe!C277,\"\")","v":""},{"$f":"IF(Eingabe!D277<>\"\",Eingabe!D277,\"\")","v":""},{"$f":"IF(Eingabe!F277<>\"\",Eingabe!F277,\"\")","v":""},{"$f":"IF(Eingabe!E277<>\"\",Eingabe!E277,\"\")","v":""},{"$f":"IF(Eingabe!G277<>\"\",Eingabe!G277,\"\")","v":""},{"$f":"IF(Eingabe!B277<>\"\",Eingabe!B277,\"\")","v":""},{"$f":"IF(Eingabe!H277<>\"\",Eingabe!H277,\"\")","v":""},{"$f":"IF(Eingabe!I277<>\"\",Eingabe!I277,\"\")","v":""},{"$f":"IF(Eingabe!J277<>\"\",Eingabe!J277,\"\")","v":""},{"$f":"IF(Eingabe!K277<>\"\",Eingabe!K277,\"\")","v":""},{"$f":"IF(Eingabe!L277<>\"\",Eingabe!L277,\"\")","v":""},{"$f":"IF(Eingabe!M277<>\"\",Eingabe!M277,\"\")","v":""},{"$f":"IF(Eingabe!N277<>\"\",Eingabe!N277,\"\")","v":""},{"$f":"IF(Eingabe!O277<>\"\",Eingabe!O277,\"\")","v":""},{"$f":"IF(Eingabe!P277<>\"\",Eingabe!P277,\"\")","v":""}]
[{"$f":"IF(Eingabe!C278<>\"\",Eingabe!C278,\"\")","v":""},{"$f":"IF(Eingabe!D278<>\"\",Eingabe!D278,\"\")","v":""},{"$f":"IF(Eingabe!F278<>\"\",Eingabe!F278,\"\")","v":""},{"$f":"IF(Eingabe!E278<>\"\",Eingabe!E278,\"\")","v":""},{"$f":"IF(Eingabe!G278<>\"\",Eingabe!G278,\"\")","v":""},{"$f":"IF(Eingabe!B278<>\"\",Eingabe!B278,\"\")","v":""},{"$f":"IF(Eingabe!H278<>\"\",Eingabe!H278,\"\")","v":""},{"$f":"IF(Eingabe!I278<>\"\",Eingabe!I278,\"\")","v":""},{"$f":"IF(Eingabe!J278<>\"\",Eingabe!J278,\"\")","v":""},{"$f":"IF(Eingabe!K278<>\"\",Eingabe!K278,\"\")","v":""},{"$f":"IF(Eingabe!L278<>\"\",Eingabe!L278,\"\")","v":""},{"$f":"IF(Eingabe!M278<>\"\",Eingabe!M278,\"\")","v":""},{"$f":"IF(Eingabe!N278<>\"\",Eingabe!N278,\"\")","v":""},{"$f":"IF(Eingabe!O278<>\"\",Eingabe!O278,\"\")","v":""},{"$f":"IF(Eingabe!P278<>\"\",Eingabe!P278,\"\")","v":""}]
[{"$f":"IF(Eingabe!C279<>\"\",Eingabe!C279,\"\")","v":""},{"$f":"IF(Eingabe!D279<>\"\",Eingabe!D279,\"\")","v":""},{"$f":"IF(Eingabe!F279<>\"\",Eingabe!F279,\"\")","v":""},{"$f":"IF(Eingabe!E279<>\"\",Eingabe!E279,\"\")","v":""},{"$f":"IF(Eingabe!G279<>\"\",Eingabe!G279,\"\")","v":""},{"$f":"IF(Eingabe!B279<>\"\",Eingabe!B279,\"\")","v":""},{"$f":"IF(Eingabe!H279<>\"\",Eingabe!H279,\"\")","v":""},{"$f":"IF(Eingabe!I279<>\"\",Eingabe!I279,\"\")","v":""},{"$f":"IF(Eingabe!J279<>\"\",Eingabe!J279,\"\")","v":""},{"$f":"IF(Eingabe!K279<>\"\",Eingabe!K279,\"\")","v":""},{"$f":"IF(Eingabe!L279<>\"\",Eingabe!L279,\"\")","v":""},{"$f":"IF(Eingabe!M279<>\"\",Eingabe!M279,\"\")","v":""},{"$f":"IF(Eingabe!N279<>\"\",Eingabe!N279,\"\")","v":""},{"$f":"IF(Eingabe!O279<>\"\",Eingabe!O279,\"\")","v":""},{"$f":"IF(Eingabe!P279<>\"\",Eingabe!P279,\"\")","v":""}]
[{"$f":"IF(Eingabe!C280<>\"\",Eingabe!C280,\"\")","v":""},{"$f":"IF(Eingabe!D280<>\"\",Eingabe!D280,\"\")","v":""},{"$f":"IF(Eingabe!F280<>\"\",Eingabe!F280,\"\")","v":""},{"$f":"IF(Eingabe!E280<>\"\",Eingabe!E280,\"\")","v":""},{"$f":"IF(Eingabe!G280<>\"\",Eingabe!G280,\"\")","v":""},{"$f":"IF(Eingabe!B280<>\"\",Eingabe!B280,\"\")","v":""},{"$f":"IF(Eingabe!H280<>\"\",Eingabe!H280,\"\")","v":""},{"$f":"IF(Eingabe!I280<>\"\",Eingabe!I280,\"\")","v":""},{"$f":"IF(Eingabe!J280<>\"\",Eingabe!J280,\"\")","v":""},{"$f":"IF(Eingabe!K280<>\"\",Eingabe!K280,\"\")","v":""},{"$f":"IF(Eingabe!L280<>\"\",Eingabe!L280,\"\")","v":""},{"$f":"IF(Eingabe!M280<>\"\",Eingabe!M280,\"\")","v":""},{"$f":"IF(Eingabe!N280<>\"\",Eingabe!N280,\"\")","v":""},{"$f":"IF(Eingabe!O280<>\"\",Eingabe!O280,\"\")","v":""},{"$f":"IF(Eingabe!P280<>\"\",Eingabe!P280,\"\")","v":""}]
[{"$f":"IF(Eingabe!C281<>\"\",Eingabe!C281,\"\")","v":""},{"$f":"IF(Eingabe!D281<>\"\",Eingabe!D281,\"\")","v":""},{"$f":"IF(Eingabe!F281<>\"\",Eingabe!F281,\"\")","v":""},{"$f":"IF(Eingabe!E281<>\"\",Eingabe!E281,\"\")","v":""},{"$f":"IF(Eingabe!G281<>\"\",Eingabe!G281,\"\")","v":""},{"$f":"IF(Eingabe!B281<>\"\",Eingabe!B281,\"\")","v":""},{"$f":"IF(Eingabe!H281<>\"\",Eingabe!H281,\"\")","v":""},{"$f":"IF(Eingabe!I281<>\"\",Eingabe!I281,\"\")","v":""},{"$f":"IF(Eingabe!J281<>\"\",Eingabe!J281,\"\")","v":""},{"$f":"IF(Eingabe!K281<>\"\",Eingabe!K281,\"\")","v":""},{"$f":"IF(Eingabe!L281<>\"\",Eingabe!L281,\"\")","v":""},{"$f":"IF(Eingabe!M281<>\"\",Eingabe!M281,\"\")","v":""},{"$f":"IF(Eingabe!N281<>\"\",Eingabe!N281,\"\")","v":""},{"$f":"IF(Eingabe!O281<>\"\",Eingabe!O281,\"\")","v":""},{"$f":"IF(Eingabe!P281<>\"\",Eingabe!P281,\"\")","v":""}]
[{"$f":"IF(Eingabe!C282<>\"\",Eingabe!C282,\"\")","v":""},{"$f":"IF(Eingabe!D282<>\"\",Eingabe!D282,\"\")","v":""},{"$f":"IF(Eingabe!F282<>\"\",Eingabe!F282,\"\")","v":""},{"$f":"IF(Eingabe!E282<>\"\",Eingabe!E282,\"\")","v":""},{"$f":"IF(Eingabe!G282<>\"\",Eingabe!G282,\"\")","v":""},{"$f":"IF(Eingabe!B282<>\"\",Eingabe!B282,\"\")","v":""},{"$f":"IF(Eingabe!H282<>\"\",Eingabe!H282,\"\")","v":""},{"$f":"IF(Eingabe!I282<>\"\",Eingabe!I282,\"\")","v":""},{"$f":"IF(Eingabe!J282<>\"\",Eingabe!J282,\"\")","v":""},{"$f":"IF(Eingabe!K282<>\"\",Eingabe!K282,\"\")","v":""},{"$f":"IF(Eingabe!L282<>\"\",Eingabe!L282,\"\")","v":""},{"$f":"IF(Eingabe!M282<>\"\",Eingabe!M282,\"\")","v":""},{"$f":"IF(Eingabe!N282<>\"\",Eingabe!N282,\"\")","v":""},{"$f":"IF(Eingabe!O282<>\"\",Eingabe!O282,\"\")","v":""},{"$f":"IF(Eingabe!P282<>\"\",Eingabe!P282,\"\")","v":""}]
[{"$f":"IF(Eingabe!C283<>\"\",Eingabe!C283,\"\")","v":""},{"$f":"IF(Eingabe!D283<>\"\",Eingabe!D283,\"\")","v":""},{"$f":"IF(Eingabe!F283<>\"\",Eingabe!F283,\"\")","v":""},{"$f":"IF(Eingabe!E283<>\"\",Eingabe!E283,\"\")","v":""},{"$f":"IF(Eingabe!G283<>\"\",Eingabe!G283,\"\")","v":""},{"$f":"IF(Eingabe!B283<>\"\",Eingabe!B283,\"\")","v":""},{"$f":"IF(Eingabe!H283<>\"\",Eingabe!H283,\"\")","v":""},{"$f":"IF(Eingabe!I283<>\"\",Eingabe!I283,\"\")","v":""},{"$f":"IF(Eingabe!J283<>\"\",Eingabe!J283,\"\")","v":""},{"$f":"IF(Eingabe!K283<>\"\",Eingabe!K283,\"\")","v":""},{"$f":"IF(Eingabe!L283<>\"\",Eingabe!L283,\"\")","v":""},{"$f":"IF(Eingabe!M283<>\"\",Eingabe!M283,\"\")","v":""},{"$f":"IF(Eingabe!N283<>\"\",Eingabe!N283,\"\")","v":""},{"$f":"IF(Eingabe!O283<>\"\",Eingabe!O283,\"\")","v":""},{"$f":"IF(Eingabe!P283<>\"\",Eingabe!P283,\"\")","v":""}]
[{"$f":"IF(Eingabe!C284<>\"\",Eingabe!C284,\"\")","v":""},{"$f":"IF(Eingabe!D284<>\"\",Eingabe!D284,\"\")","v":""},{"$f":"IF(Eingabe!F284<>\"\",Eingabe!F284,\"\")","v":""},{"$f":"IF(Eingabe!E284<>\"\",Eingabe!E284,\"\")","v":""},{"$f":"IF(Eingabe!G284<>\"\",Eingabe!G284,\"\")","v":""},{"$f":"IF(Eingabe!B284<>\"\",Eingabe!B284,\"\")","v":""},{"$f":"IF(Eingabe!H284<>\"\",Eingabe!H284,\"\")","v":""},{"$f":"IF(Eingabe!I284<>\"\",Eingabe!I284,\"\")","v":""},{"$f":"IF(Eingabe!J284<>\"\",Eingabe!J284,\"\")","v":""},{"$f":"IF(Eingabe!K284<>\"\",Eingabe!K284,\"\")","v":""},{"$f":"IF(Eingabe!L284<>\"\",Eingabe!L284,\"\")","v":""},{"$f":"IF(Eingabe!M284<>\"\",Eingabe!M284,\"\")","v":""},{"$f":"IF(Eingabe!N284<>\"\",Eingabe!N284,\"\")","v":""},{"$f":"IF(Eingabe!O284<>\"\",Eingabe!O284,\"\")","v":""},{"$f":"IF(Eingabe!P284<>\"\",Eingabe!P284,\"\")","v":""}]
[{"$f":"IF(Eingabe!C285<>\"\",Eingabe!C285,\"\")","v":""},{"$f":"IF(Eingabe!D285<>\"\",Eingabe!D285,\"\")","v":""},{"$f":"IF(Eingabe!F285<>\"\",Eingabe!F285,\"\")","v":""},{"$f":"IF(Eingabe!E285<>\"\",Eingabe!E285,\"\")","v":""},{"$f":"IF(Eingabe!G285<>\"\",Eingabe!G285,\"\")","v":""},{"$f":"IF(Eingabe!B285<>\"\",Eingabe!B285,\"\")","v":""},{"$f":"IF(Eingabe!H285<>\"\",Eingabe!H285,\"\")","v":""},{"$f":"IF(Eingabe!I285<>\"\",Eingabe!I285,\"\")","v":""},{"$f":"IF(Eingabe!J285<>\"\",Eingabe!J285,\"\")","v":""},{"$f":"IF(Eingabe!K285<>\"\",Eingabe!K285,\"\")","v":""},{"$f":"IF(Eingabe!L285<>\"\",Eingabe!L285,\"\")","v":""},{"$f":"IF(Eingabe!M285<>\"\",Eingabe!M285,\"\")","v":""},{"$f":"IF(Eingabe!N285<>\"\",Eingabe!N285,\"\")","v":""},{"$f":"IF(Eingabe!O285<>\"\",Eingabe!O285,\"\")","v":""},{"$f":"IF(Eingabe!P285<>\"\",Eingabe!P285,\"\")","v":""}]
[{"$f":"IF(Eingabe!C286<>\"\",Eingabe!C286,\"\")","v":""},{"$f":"IF(Eingabe!D286<>\"\",Eingabe!D286,\"\")","v":""},{"$f":"IF(Eingabe!F286<>\"\",Eingabe!F286,\"\")","v":""},{"$f":"IF(Eingabe!E286<>\"\",Eingabe!E286,\"\")","v":""},{"$f":"IF(Eingabe!G286<>\"\",Eingabe!G286,\"\")","v":""},{"$f":"IF(Eingabe!B286<>\"\",Eingabe!B286,\"\")","v":""},{"$f":"IF(Eingabe!H286<>\"\",Eingabe!H286,\"\")","v":""},{"$f":"IF(Eingabe!I286<>\"\",Eingabe!I286,\"\")","v":""},{"$f":"IF(Eingabe!J286<>\"\",Eingabe!J286,\"\")","v":""},{"$f":"IF(Eingabe!K286<>\"\",Eingabe!K286,\"\")","v":""},{"$f":"IF(Eingabe!L286<>\"\",Eingabe!L286,\"\")","v":""},{"$f":"IF(Eingabe!M286<>\"\",Eingabe!M286,\"\")","v":""},{"$f":"IF(Eingabe!N286<>\"\",Eingabe!N286,\"\")","v":""},{"$f":"IF(Eingabe!O286<>\"\",Eingabe!O286,\"\")","v":""},{"$f":"IF(Eingabe!P286<>\"\",Eingabe!P286,\"\")","v":""}]
[{"$f":"IF(Eingabe!C287<>\"\",Eingabe!C287,\"\")","v":""},{"$f":"IF(Eingabe!D287<>\"\",Eingabe!D287,\"\")","v":""},{"$f":"IF(Eingabe!F287<>\"\",Eingabe!F287,\"\")","v":""},{"$f":"IF(Eingabe!E287<>\"\",Eingabe!E287,\"\")","v":""},{"$f":"IF(Eingabe!G287<>\"\",Eingabe!G287,\"\")","v":""},{"$f":"IF(Eingabe!B287<>\"\",Eingabe!B287,\"\")","v":""},{"$f":"IF(Eingabe!H287<>\"\",Eingabe!H287,\"\")","v":""},{"$f":"IF(Eingabe!I287<>\"\",Eingabe!I287,\"\")","v":""},{"$f":"IF(Eingabe!J287<>\"\",Eingabe!J287,\"\")","v":""},{"$f":"IF(Eingabe!K287<>\"\",Eingabe!K287,\"\")","v":""},{"$f":"IF(Eingabe!L287<>\"\",Eingabe!L287,\"\")","v":""},{"$f":"IF(Eingabe!M287<>\"\",Eingabe!M287,\"\")","v":""},{"$f":"IF(Eingabe!N287<>\"\",Eingabe!N287,\"\")","v":""},{"$f":"IF(Eingabe!O287<>\"\",Eingabe!O287,\"\")","v":""},{"$f":"IF(Eingabe!P287<>\"\",Eingabe!P287,\"\")","v":""}]
[{"$f":"IF(Eingabe!C288<>\"\",Eingabe!C288,\"\")","v":""},{"$f":"IF(Eingabe!D288<>\"\",Eingabe!D288,\"\")","v":""},{"$f":"IF(Eingabe!F288<>\"\",Eingabe!F288,\"\")","v":""},{"$f":"IF(Eingabe!E288<>\"\",Eingabe!E288,\"\")","v":""},{"$f":"IF(Eingabe!G288<>\"\",Eingabe!G288,\"\")","v":""},{"$f":"IF(Eingabe!B288<>\"\",Eingabe!B288,\"\")","v":""},{"$f":"IF(Eingabe!H288<>\"\",Eingabe!H288,\"\")","v":""},{"$f":"IF(Eingabe!I288<>\"\",Eingabe!I288,\"\")","v":""},{"$f":"IF(Eingabe!J288<>\"\",Eingabe!J288,\"\")","v":""},{"$f":"IF(Eingabe!K288<>\"\",Eingabe!K288,\"\")","v":""},{"$f":"IF(Eingabe!L288<>\"\",Eingabe!L288,\"\")","v":""},{"$f":"IF(Eingabe!M288<>\"\",Eingabe!M288,\"\")","v":""},{"$f":"IF(Eingabe!N288<>\"\",Eingabe!N288,\"\")","v":""},{"$f":"IF(Eingabe!O288<>\"\",Eingabe!O288,\"\")","v":""},{"$f":"IF(Eingabe!P288<>\"\",Eingabe!P288,\"\")","v":""}]
[{"$f":"IF(Eingabe!C289<>\"\",Eingabe!C289,\"\")","v":""},{"$f":"IF(Eingabe!D289<>\"\",Eingabe!D289,\"\")","v":""},{"$f":"IF(Eingabe!F289<>\"\",Eingabe!F289,\"\")","v":""},{"$f":"IF(Eingabe!E289<>\"\",Eingabe!E289,\"\")","v":""},{"$f":"IF(Eingabe!G289<>\"\",Eingabe!G289,\"\")","v":""},{"$f":"IF(Eingabe!B289<>\"\",Eingabe!B289,\"\")","v":""},{"$f":"IF(Eingabe!H289<>\"\",Eingabe!H289,\"\")","v":""},{"$f":"IF(Eingabe!I289<>\"\",Eingabe!I289,\"\")","v":""},{"$f":"IF(Eingabe!J289<>\"\",Eingabe!J289,\"\")","v":""},{"$f":"IF(Eingabe!K289<>\"\",Eingabe!K289,\"\")","v":""},{"$f":"IF(Eingabe!L289<>\"\",Eingabe!L289,\"\")","v":""},{"$f":"IF(Eingabe!M289<>\"\",Eingabe!M289,\"\")","v":""},{"$f":"IF(Eingabe!N289<>\"\",Eingabe!N289,\"\")","v":""},{"$f":"IF(Eingabe!O289<>\"\",Eingabe!O289,\"\")","v":""},{"$f":"IF(Eingabe!P289<>\"\",Eingabe!P289,\"\")","v":""}]
[{"$f":"IF(Eingabe!C290<>\"\",Eingabe!C290,\"\")","v":""},{"$f":"IF(Eingabe!D290<>\"\",Eingabe!D290,\"\")","v":""},{"$f":"IF(Eingabe!F290<>\"\",Eingabe!F290,\"\")","v":""},{"$f":"IF(Eingabe!E290<>\"\",Eingabe!E290,\"\")","v":""},{"$f":"IF(Eingabe!G290<>\"\",Eingabe!G290,\"\")","v":""},{"$f":"IF(Eingabe!B290<>\"\",Eingabe!B290,\"\")","v":""},{"$f":"IF(Eingabe!H290<>\"\",Eingabe!H290,\"\")","v":""},{"$f":"IF(Eingabe!I290<>\"\",Eingabe!I290,\"\")","v":""},{"$f":"IF(Eingabe!J290<>\"\",Eingabe!J290,\"\")","v":""},{"$f":"IF(Eingabe!K290<>\"\",Eingabe!K290,\"\")","v":""},{"$f":"IF(Eingabe!L290<>\"\",Eingabe!L290,\"\")","v":""},{"$f":"IF(Eingabe!M290<>\"\",Eingabe!M290,\"\")","v":""},{"$f":"IF(Eingabe!N290<>\"\",Eingabe!N290,\"\")","v":""},{"$f":"IF(Eingabe!O290<>\"\",Eingabe!O290,\"\")","v":""},{"$f":"IF(Eingabe!P290<>\"\",Eingabe!P290,\"\")","v":""}]
[{"$f":"IF(Eingabe!C291<>\"\",Eingabe!C291,\"\")","v":""},{"$f":"IF(Eingabe!D291<>\"\",Eingabe!D291,\"\")","v":""},{"$f":"IF(Eingabe!F291<>\"\",Eingabe!F291,\"\")","v":""},{"$f":"IF(Eingabe!E291<>\"\",Eingabe!E291,\"\")","v":""},{"$f":"IF(Eingabe!G291<>\"\",Eingabe!G291,\"\")","v":""},{"$f":"IF(Eingabe!B291<>\"\",Eingabe!B291,\"\")","v":""},{"$f":"IF(Eingabe!H291<>\"\",Eingabe!H291,\"\")","v":""},{"$f":"IF(Eingabe!I291<>\"\",Eingabe!I291,\"\")","v":""},{"$f":"IF(Eingabe!J291<>\"\",Eingabe!J291,\"\")","v":""},{"$f":"IF(Eingabe!K291<>\"\",Eingabe!K291,\"\")","v":""},{"$f":"IF(Eingabe!L291<>\"\",Eingabe!L291,\"\")","v":""},{"$f":"IF(Eingabe!M291<>\"\",Eingabe!M291,\"\")","v":""},{"$f":"IF(Eingabe!N291<>\"\",Eingabe!N291,\"\")","v":""},{"$f":"IF(Eingabe!O291<>\"\",Eingabe!O291,\"\")","v":""},{"$f":"IF(Eingabe!P291<>\"\",Eingabe!P291,\"\")","v":""}]
[{"$f":"IF(Eingabe!C292<>\"\",Eingabe!C292,\"\")","v":""},{"$f":"IF(Eingabe!D292<>\"\",Eingabe!D292,\"\")","v":""},{"$f":"IF(Eingabe!F292<>\"\",Eingabe!F292,\"\")","v":""},{"$f":"IF(Eingabe!E292<>\"\",Eingabe!E292,\"\")","v":""},{"$f":"IF(Eingabe!G292<>\"\",Eingabe!G292,\"\")","v":""},{"$f":"IF(Eingabe!B292<>\"\",Eingabe!B292,\"\")","v":""},{"$f":"IF(Eingabe!H292<>\"\",Eingabe!H292,\"\")","v":""},{"$f":"IF(Eingabe!I292<>\"\",Eingabe!I292,\"\")","v":""},{"$f":"IF(Eingabe!J292<>\"\",Eingabe!J292,\"\")","v":""},{"$f":"IF(Eingabe!K292<>\"\",Eingabe!K292,\"\")","v":""},{"$f":"IF(Eingabe!L292<>\"\",Eingabe!L292,\"\")","v":""},{"$f":"IF(Eingabe!M292<>\"\",Eingabe!M292,\"\")","v":""},{"$f":"IF(Eingabe!N292<>\"\",Eingabe!N292,\"\")","v":""},{"$f":"IF(Eingabe!O292<>\"\",Eingabe!O292,\"\")","v":""},{"$f":"IF(Eingabe!P292<>\"\",Eingabe!P292,\"\")","v":""}]
[{"$f":"IF(Eingabe!C293<>\"\",Eingabe!C293,\"\")","v":""},{"$f":"IF(Eingabe!D293<>\"\",Eingabe!D293,\"\")","v":""},{"$f":"IF(Eingabe!F293<>\"\",Eingabe!F293,\"\")","v":""},{"$f":"IF(Eingabe!E293<>\"\",Eingabe!E293,\"\")","v":""},{"$f":"IF(Eingabe!G293<>\"\",Eingabe!G293,\"\")","v":""},{"$f":"IF(Eingabe!B293<>\"\",Eingabe!B293,\"\")","v":""},{"$f":"IF(Eingabe!H293<>\"\",Eingabe!H293,\"\")","v":""},{"$f":"IF(Eingabe!I293<>\"\",Eingabe!I293,\"\")","v":""},{"$f":"IF(Eingabe!J293<>\"\",Eingabe!J293,\"\")","v":""},{"$f":"IF(Eingabe!K293<>\"\",Eingabe!K293,\"\")","v":""},{"$f":"IF(Eingabe!L293<>\"\",Eingabe!L293,\"\")","v":""},{"$f":"IF(Eingabe!M293<>\"\",Eingabe!M293,\"\")","v":""},{"$f":"IF(Eingabe!N293<>\"\",Eingabe!N293,\"\")","v":""},{"$f":"IF(Eingabe!O293<>\"\",Eingabe!O293,\"\")","v":""},{"$f":"IF(Eingabe!P293<>\"\",Eingabe!P293,\"\")","v":""}]
[{"$f":"IF(Eingabe!C294<>\"\",Eingabe!C294,\"\")","v":""},{"$f":"IF(Eingabe!D294<>\"\",Eingabe!D294,\"\")","v":""},{"$f":"IF(Eingabe!F294<>\"\",Eingabe!F294,\"\")","v":""},{"$f":"IF(Eingabe!E294<>\"\",Eingabe!E294,\"\")","v":""},{"$f":"IF(Eingabe!G294<>\"\",Eingabe!G294,\"\")","v":""},{"$f":"IF(Eingabe!B294<>\"\",Eingabe!B294,\"\")","v":""},{"$f":"IF(Eingabe!H294<>\"\",Eingabe!H294,\"\")","v":""},{"$f":"IF(Eingabe!I294<>\"\",Eingabe!I294,\"\")","v":""},{"$f":"IF(Eingabe!J294<>\"\",Eingabe!J294,\"\")","v":""},{"$f":"IF(Eingabe!K294<>\"\",Eingabe!K294,\"\")","v":""},{"$f":"IF(Eingabe!L294<>\"\",Eingabe!L294,\"\")","v":""},{"$f":"IF(Eingabe!M294<>\"\",Eingabe!M294,\"\")","v":""},{"$f":"IF(Eingabe!N294<>\"\",Eingabe!N294,\"\")","v":""},{"$f":"IF(Eingabe!O294<>\"\",Eingabe!O294,\"\")","v":""},{"$f":"IF(Eingabe!P294<>\"\",Eingabe!P294,\"\")","v":""}]
[{"$f":"IF(Eingabe!C295<>\"\",Eingabe!C295,\"\")","v":""},{"$f":"IF(Eingabe!D295<>\"\",Eingabe!D295,\"\")","v":""},{"$f":"IF(Eingabe!F295<>\"\",Eingabe!F295,\"\")","v":""},{"$f":"IF(Eingabe!E295<>\"\",Eingabe!E295,\"\")","v":""},{"$f":"IF(Eingabe!G295<>\"\",Eingabe!G295,\"\")","v":""},{"$f":"IF(Eingabe!B295<>\"\",Eingabe!B295,\"\")","v":""},{"$f":"IF(Eingabe!H295<>\"\",Eingabe!H295,\"\")","v":""},{"$f":"IF(Eingabe!I295<>\"\",Eingabe!I295,\"\")","v":""},{"$f":"IF(Eingabe!J295<>\"\",Eingabe!J295,\"\")","v":""},{"$f":"IF(Eingabe!K295<>\"\",Eingabe!K295,\"\")","v":""},{"$f":"IF(Eingabe!L295<>\"\",Eingabe!L295,\"\")","v":""},{"$f":"IF(Eingabe!M295<>\"\",Eingabe!M295,\"\")","v":""},{"$f":"IF(Eingabe!N295<>\"\",Eingabe!N295,\"\")","v":""},{"$f":"IF(Eingabe!O295<>\"\",Eingabe!O295,\"\")","v":""},{"$f":"IF(Eingabe!P295<>\"\",Eingabe!P295,\"\")","v":""}]
[{"$f":"IF(Eingabe!C296<>\"\",Eingabe!C296,\"\")","v":""},{"$f":"IF(Eingabe!D296<>\"\",Eingabe!D296,\"\")","v":""},{"$f":"IF(Eingabe!F296<>\"\",Eingabe!F296,\"\")","v":""},{"$f":"IF(Eingabe!E296<>\"\",Eingabe!E296,\"\")","v":""},{"$f":"IF(Eingabe!G296<>\"\",Eingabe!G296,\"\")","v":""},{"$f":"IF(Eingabe!B296<>\"\",Eingabe!B296,\"\")","v":""},{"$f":"IF(Eingabe!H296<>\"\",Eingabe!H296,\"\")","v":""},{"$f":"IF(Eingabe!I296<>\"\",Eingabe!I296,\"\")","v":""},{"$f":"IF(Eingabe!J296<>\"\",Eingabe!J296,\"\")","v":""},{"$f":"IF(Eingabe!K296<>\"\",Eingabe!K296,\"\")","v":""},{"$f":"IF(Eingabe!L296<>\"\",Eingabe!L296,\"\")","v":""},{"$f":"IF(Eingabe!M296<>\"\",Eingabe!M296,\"\")","v":""},{"$f":"IF(Eingabe!N296<>\"\",Eingabe!N296,\"\")","v":""},{"$f":"IF(Eingabe!O296<>\"\",Eingabe!O296,\"\")","v":""},{"$f":"IF(Eingabe!P296<>\"\",Eingabe!P296,\"\")","v":""}]
[{"$f":"IF(Eingabe!C297<>\"\",Eingabe!C297,\"\")","v":""},{"$f":"IF(Eingabe!D297<>\"\",Eingabe!D297,\"\")","v":""},{"$f":"IF(Eingabe!F297<>\"\",Eingabe!F297,\"\")","v":""},{"$f":"IF(Eingabe!E297<>\"\",Eingabe!E297,\"\")","v":""},{"$f":"IF(Eingabe!G297<>\"\",Eingabe!G297,\"\")","v":""},{"$f":"IF(Eingabe!B297<>\"\",Eingabe!B297,\"\")","v":""},{"$f":"IF(Eingabe!H297<>\"\",Eingabe!H297,\"\")","v":""},{"$f":"IF(Eingabe!I297<>\"\",Eingabe!I297,\"\")","v":""},{"$f":"IF(Eingabe!J297<>\"\",Eingabe!J297,\"\")","v":""},{"$f":"IF(Eingabe!K297<>\"\",Eingabe!K297,\"\")","v":""},{"$f":"IF(Eingabe!L297<>\"\",Eingabe!L297,\"\")","v":""},{"$f":"IF(Eingabe!M297<>\"\",Eingabe!M297,\"\")","v":""},{"$f":"IF(Eingabe!N297<>\"\",Eingabe!N297,\"\")","v":""},{"$f":"IF(Eingabe!O297<>\"\",Eingabe!O297,\"\")","v":""},{"$f":"IF(Eingabe!P297<>\"\",Eingabe!P297,\"\")","v":""}]
[{"$f":"IF(Eingabe!C298<>\"\",Eingabe!C298,\"\")","v":""},{"$f":"IF(Eingabe!D298<>\"\",Eingabe!D298,\"\")","v":""},{"$f":"IF(Eingabe!F298<>\"\",Eingabe!F298,\"\")","v":""},{"$f":"IF(Eingabe!E298<>\"\",Eingabe!E298,\"\")","v":""},{"$f":"IF(Eingabe!G298<>\"\",Eingabe!G298,\"\")","v":""},{"$f":"IF(Eingabe!B298<>\"\",Eingabe!B298,\"\")","v":""},{"$f":"IF(Eingabe!H298<>\"\",Eingabe!H298,\"\")","v":""},{"$f":"IF(Eingabe!I298<>\"\",Eingabe!I298,\"\")","v":""},{"$f":"IF(Eingabe!J298<>\"\",Eingabe!J298,\"\")","v":""},{"$f":"IF(Eingabe!K298<>\"\",Eingabe!K298,\"\")","v":""},{"$f":"IF(Eingabe!L298<>\"\",Eingabe!L298,\"\")","v":""},{"$f":"IF(Eingabe!M298<>\"\",Eingabe!M298,\"\")","v":""},{"$f":"IF(Eingabe!N298<>\"\",Eingabe!N298,\"\")","v":""},{"$f":"IF(Eingabe!O298<>\"\",Eingabe!O298,\"\")","v":""},{"$f":"IF(Eingabe!P298<>\"\",Eingabe!P298,\"\")","v":""}]
[{"$f":"IF(Eingabe!C299<>\"\",Eingabe!C299,\"\")","v":""},{"$f":"IF(Eingabe!D299<>\"\",Eingabe!D299,\"\")","v":""},{"$f":"IF(Eingabe!F299<>\"\",Eingabe!F299,\"\")","v":""},{"$f":"IF(Eingabe!E299<>\"\",Eingabe!E299,\"\")","v":""},{"$f":"IF(Eingabe!G299<>\"\",Eingabe!G299,\"\")","v":""},{"$f":"IF(Eingabe!B299<>\"\",Eingabe!B299,\"\")","v":""},{"$f":"IF(Eingabe!H299<>\"\",Eingabe!H299,\"\")","v":""},{"$f":"IF(Eingabe!I299<>\"\",Eingabe!I299,\"\")","v":""},{"$f":"IF(Eingabe!J299<>\"\",Eingabe!J299,\"\")","v":""},{"$f":"IF(Eingabe!K299<>\"\",Eingabe!K299,\"\")","v":""},{"$f":"IF(Eingabe!L299<>\"\",Eingabe!L299,\"\")","v":""},{"$f":"IF(Eingabe!M299<>\"\",Eingabe!M299,\"\")","v":""},{"$f":"IF(Eingabe!N299<>\"\",Eingabe!N299,\"\")","v":""},{"$f":"IF(Eingabe!O299<>\"\",Eingabe!O299,\"\")","v":""},{"$f":"IF(Eingabe!P299<>\"\",Eingabe!P299,\"\")","v":""}]
[{"$f":"IF(Eingabe!C300<>\"\",Eingabe!C300,\"\")","v":""},{"$f":"IF(Eingabe!D300<>\"\",Eingabe!D300,\"\")","v":""},{"$f":"IF(Eingabe!F300<>\"\",Eingabe!F300,\"\")","v":""},{"$f":"IF(Eingabe!E300<>\"\",Eingabe!E300,\"\")","v":""},{"$f":"IF(Eingabe!G300<>\"\",Eingabe!G300,\"\")","v":""},{"$f":"IF(Eingabe!B300<>\"\",Eingabe!B300,\"\")","v":""},{"$f":"IF(Eingabe!H300<>\"\",Eingabe!H300,\"\")","v":""},{"$f":"IF(Eingabe!I300<>\"\",Eingabe!I300,\"\")","v":""},{"$f":"IF(Eingabe!J300<>\"\",Eingabe!J300,\"\")","v":""},{"$f":"IF(Eingabe!K300<>\"\",Eingabe!K300,\"\")","v":""},{"$f":"IF(Eingabe!L300<>\"\",Eingabe!L300,\"\")","v":""},{"$f":"IF(Eingabe!M300<>\"\",Eingabe!M300,\"\")","v":""},{"$f":"IF(Eingabe!N300<>\"\",Eingabe!N300,\"\")","v":""},{"$f":"IF(Eingabe!O300<>\"\",Eingabe!O300,\"\")","v":""},{"$f":"IF(Eingabe!P300<>\"\",Eingabe!P300,\"\")","v":""}]
[{"$f":"IF(Eingabe!C301<>\"\",Eingabe!C301,\"\")","v":""},{"$f":"IF(Eingabe!D301<>\"\",Eingabe!D301,\"\")","v":""},{"$f":"IF(Eingabe!F301<>\"\",Eingabe!F301,\"\")","v":""},{"$f":"IF(Eingabe!E301<>\"\",Eingabe!E301,\"\")","v":""},{"$f":"IF(Eingabe!G301<>\"\",Eingabe!G301,\"\")","v":""},{"$f":"IF(Eingabe!B301<>\"\",Eingabe!B301,\"\")","v":""},{"$f":"IF(Eingabe!H301<>\"\",Eingabe!H301,\"\")","v":""},{"$f":"IF(Eingabe!I301<>\"\",Eingabe!I301,\"\")","v":""},{"$f":"IF(Eingabe!J301<>\"\",Eingabe!J301,\"\")","v":""},{"$f":"IF(Eingabe!K301<>\"\",Eingabe!K301,\"\")","v":""},{"$f":"IF(Eingabe!L301<>\"\",Eingabe!L301,\"\")","v":""},{"$f":"IF(Eingabe!M301<>\"\",Eingabe!M301,\"\")","v":""},{"$f":"IF(Eingabe!N301<>\"\",Eingabe!N301,\"\")","v":""},{"$f":"IF(Eingabe!O301<>\"\",Eingabe!O301,\"\")","v":""},{"$f":"IF(Eingabe!P301<>\"\",Eingabe!P301,\"\")","v":""}]

{"sheet":"bKV_Online","index":3,"n_rows":69,"n_cols":15,"rows_kept":69,"cut":false,"hidden":false,"merged":[]}
["Pflichtfelder","Gruppenvertragsnummer","Name","Vorname","Titel","Geburtsdatum","Geschlecht","Strasse","Land","PLZ","Ort","Berufsstatus","KV-Art","Versicherungsbeginn","Personalnummer"]
["hier GV-Nummer eintragen =>",{"$f":"Eingabe!M5","v":"AK-3456789123006"}]
[null,null,{"$f":"IF(Eingabe!F5<>\"\",Eingabe!F5,\"\")","v":"Musterperson"},{"$f":"IF(Eingabe!E5<>\"\",Eingabe!E5,\"\")","v":"Maxmilian"},{"$f":"IF(Eingabe!D5<>\"\",Eingabe!D5,\"\")","v":"Dr."},{"$f":"IF(Eingabe!G5<>\"\",Eingabe!G5,\"\")","v":"1988-05-23"},{"$f":"IF(Eingabe!C5=\"\",\"\",IF(Eingabe!C5=\"Herr\",\"männlich\",\"weiblich\"))","v":"männlich"},{"$f":"Eingabe!H5&\" \"&Eingabe!I5","v":"Reinsburgstr. 19"},{"$f":"IF(Eingabe!L5<>\"\",Eingabe!L5,\"\")","v":"Deutschland"},{"$f":"IF(Eingabe!J5<>\"\",Eingabe!J5,\"\")","v":70178},{"$f":"IF(Eingabe!K5<>\"\",Eingabe!K5,\"\")","v":"Stuttgart"},{"$f":"IF(Eingabe!O5<>\"\",Eingabe!O5,\"\")","v":"angestellt"},{"$f":"IF(Eingabe!N5<>\"\",Eingabe!N5,\"\")","v":"GKVP"},{"$f":"IF(Eingabe!P5<>\"\",Eingabe!P5,\"\")","v":"2024-01-01"},{"$f":"IF(Eingabe!B5<>\"\",Eingabe!B5,\"\")","v":1337}]
[null,null,{"$f":"IF(Eingabe!F6<>\"\",Eingabe!F6,\"\")","v":"Musterfrau"},{"$f":"IF(Eingabe!E6<>\"\",Eingabe!E6,\"\")","v":"Edeltraud"},{"$f":"IF(Eingabe!D6<>\"\",Eingabe!D6,\"\")","v":""},{"$f":"IF(Eingabe!G6<>\"\",Eingabe!G6,\"\")","v":"1999-02-01"},{"$f":"IF(Eingabe!C6=\"\",\"\",IF(Eingabe!C6=\"Herr\",\"männlich\",\"weiblich\"))","v":"weiblich"},{"$f":"Eingabe!H6&\" \"&Eingabe!I6","v":"Königstr. 113"},{"$f":"IF(Eingabe!L6<>\"\",Eingabe!L6,\"\")","v":"Deutschland"},{"$f":"IF(Eingabe!J6<>\"\",Eingabe!J6,\"\")","v":70174},{"$f":"IF(Eingabe!K6<>\"\",Eingabe!K6,\"\")","v":"Stuttgart"},{"$f":"IF(Eingabe!O6<>\"\",Eingabe!O6,\"\")","v":""},{"$f":"IF(Eingabe!N6<>\"\",Eingabe!N6,\"\")","v":""},{"$f":"IF(Eingabe!P6<>\"\",Eingabe!P6,\"\")","v":""},{"$f":"IF(Eingabe!B6<>\"\",Eingabe!B6,\"\")","v":1338}]
[null,null,{"$f":"IF(Eingabe!F7<>\"\",Eingabe!F7,\"\")","v":"Muster"},{"$f":"IF(Eingabe!E7<>\"\",Eingabe!E7,\"\")","v":"Friedbert"},{"$f":"IF(Eingabe!D7<>\"\",Eingabe!D7,\"\")","v":""},{"$f":"IF(Eingabe!G7<>\"\",Eingabe!G7,\"\")","v":"1977-11-11"},{"$f":"IF(Eingabe!C7=\"\",\"\",IF(Eingabe!C7=\"Herr\",\"männlich\",\"weiblich\"))","v":"männlich"},{"$f":"Eingabe!H7&\" \"&Eingabe!I7","v":"Silberburgstr. 55"},{"$f":"IF(Eingabe!L7<>\"\",Eingabe!L7,\"\")","v":"Deutschland"},{"$f":"IF(Eingabe!J7<>\"\",Eingabe!J7,\"\")","v":70178},{"$f":"IF(Eingabe!K7<>\"\",Eingabe!K7,\"\")","v":"Stuttgart"},{"$f":"IF(Eingabe!O7<>\"\",Eingabe!O7,\"\")","v":"angestellt"},{"$f":"IF(Eingabe!N7<>\"\",Eingabe!N7,\"\")","v":"GKVP"},{"$f":"IF(Eingabe!P7<>\"\",Eingabe!P7,\"\")","v":"2024-01-01"},{"$f":"IF(Eingabe!B7<>\"\",Eingabe!B7,\"\")","v":1339}]
[null,null,{"$f":"IF(Eingabe!F8<>\"\",Eingabe!F8,\"\")","v":""},{"$f":"IF(Eingabe!E8<>\"\",Eingabe!E8,\"\")","v":""},{"$f":"IF(Eingabe!D8<>\"\",Eingabe!D8,\"\")","v":""},{"$f":"IF(Eingabe!G8<>\"\",Eingabe!G8,\"\")","v":""},{"$f":"IF(Eingabe!C8=\"\",\"\",IF(Eingabe!C8=\"Herr\",\"männlich\",\"weiblich\"))","v":""},{"$f":"Eingabe!H8&\" \"&Eingabe!I8","v":" "},{"$f":"IF(Eingabe!L8<>\"\",Eingabe!L8,\"\")","v":""},{"$f":"IF(Eingabe!J8<>\"\",Eingabe!J8,\"\")","v":""},{"$f":"IF(Eingabe!K8<>\"\",Eingabe!K8,\"\")","v":""},{"$f":"IF(Eingabe!O8<>\"\",Eingabe!O8,\"\")","v":""},{"$f":"IF(Eingabe!N8<>\"\",Eingabe!N8,\"\")","v":""},{"$f":"IF(Eingabe!P8<>\"\",Eingabe!P8,\"\")","v":""},{"$f":"IF(Eingabe!B8<>\"\",Eingabe!B8,\"\")","v":""}]
[null,null,{"$f":"IF(Eingabe!F9<>\"\",Eingabe!F9,\"\")","v":""},{"$f":"IF(Eingabe!E9<>\"\",Eingabe!E9,\"\")","v":""},{"$f":"IF(Eingabe!D9<>\"\",Eingabe!D9,\"\")","v":""},{"$f":"IF(Eingabe!G9<>\"\",Eingabe!G9,\"\")","v":""},{"$f":"IF(Eingabe!C9=\"\",\"\",IF(Eingabe!C9=\"Herr\",\"männlich\",\"weiblich\"))","v":""},{"$f":"Eingabe!H9&\" \"&Eingabe!I9","v":" "},{"$f":"IF(Eingabe!L9<>\"\",Eingabe!L9,\"\")","v":""},{"$f":"IF(Eingabe!J9<>\"\",Eingabe!J9,\"\")","v":""},{"$f":"IF(Eingabe!K9<>\"\",Eingabe!K9,\"\")","v":""},{"$f":"IF(Eingabe!O9<>\"\",Eingabe!O9,\"\")","v":""},{"$f":"IF(Eingabe!N9<>\"\",Eingabe!N9,\"\")","v":""},{"$f":"IF(Eingabe!P9<>\"\",Eingabe!P9,\"\")","v":""},{"$f":"IF(Eingabe!B9<>\"\",Eingabe!B9,\"\")","v":""}]
[null,null,{"$f":"IF(Eingabe!F10<>\"\",Eingabe!F10,\"\")","v":""},{"$f":"IF(Eingabe!E10<>\"\",Eingabe!E10,\"\")","v":""},{"$f":"IF(Eingabe!D10<>\"\",Eingabe!D10,\"\")","v":""},{"$f":"IF(Eingabe!G10<>\"\",Eingabe!G10,\"\")","v":""},{"$f":"IF(Eingabe!C10=\"\",\"\",IF(Eingabe!C10=\"Herr\",\"männlich\",\"weiblich\"))","v":""},{"$f":"Eingabe!H10&\" \"&Eingabe!I10","v":" "},{"$f":"IF(Eingabe!L10<>\"\",Eingabe!L10,\"\")","v":""},{"$f":"IF(Eingabe!J10<>\"\",Eingabe!J10,\"\")","v":""},{"$f":"IF(Eingabe!K10<>\"\",Eingabe!K10,\"\")","v":""},{"$f":"IF(Eingabe!O10<>\"\",Eingabe!O10,\"\")","v":""},{"$f":"IF(Eingabe!N10<>\"\",Eingabe!N10,\"\")","v":""},{"$f":"IF(Eingabe!P10<>\"\",Eingabe!P10,\"\")","v":""},{"$f":"IF(Eingabe!B10<>\"\",Eingabe!B10,\"\")","v":""}]
[null,null,{"$f":"IF(Eingabe!F11<>\"\",Eingabe!F11,\"\")","v":""},{"$f":"IF(Eingabe!E11<>\"\",Eingabe!E11,\"\")","v":""},{"$f":"IF(Eingabe!D11<>\"\",Eingabe!D11,\"\")","v":""},{"$f":"IF(Eingabe!G11<>\"\",Eingabe!G11,\"\")","v":""},{"$f":"IF(Eingabe!C11=\"\",\"\",IF(Eingabe!C11=\"Herr\",\"männlich\",\"weiblich\"))","v":""},{"$f":"Eingabe!H11&\" \"&Eingabe!I11","v":" "},{"$f":"IF(Eingabe!L11<>\"\",Eingabe!L11,\"\")","v":""},{"$f":"IF(Eingabe!J11<>\"\",Eingabe!J11,\"\")","v":""},{"$f":"IF(Eingabe!K11<>\"\",Eingabe!K11,\"\")","v":""},{"$f":"IF(Eingabe!O11<>\"\",Eingabe!O11,\"\")","v":""},{"$f":"IF(Eingabe!N11<>\"\",Eingabe!N11,\"\")","v":""},{"$f":"IF(Eingabe!P11<>\"\",Eingabe!P11,\"\")","v":""},{"$f":"IF(Eingabe!B11<>\"\",Eingabe!B11,\"\")","v":""}]
[null,null,{"$f":"IF(Eingabe!F12<>\"\",Eingabe!F12,\"\")","v":""},{"$f":"IF(Eingabe!E12<>\"\",Eingabe!E12,\"\")","v":""},{"$f":"IF(Eingabe!D12<>\"\",Eingabe!D12,\"\")","v":""},{"$f":"IF(Eingabe!G12<>\"\",Eingabe!G12,\"\")","v":""},{"$f":"IF(Eingabe!C12=\"\",\"\",IF(Eingabe!C12=\"Herr\",\"männlich\",\"weiblich\"))","v":""},{"$f":"Eingabe!H12&\" \"&Eingabe!I12","v":" "},{"$f":"IF(Eingabe!L12<>\"\",Eingabe!L12,\"\")","v":""},{"$f":"IF(Eingabe!J12<>\"\",Eingabe!J12,\"\")","v":""},{"$f":"IF(Eingabe!K12<>\"\",Eingabe!K12,\"\")","v":""},{"$f":"IF(Eingabe!O12<>\"\",Eingabe!O12,\"\")","v":""},{"$f":"IF(Eingabe!N12<>\"\",Eingabe!N12,\"\")","v":""},{"$f":"IF(Eingabe!P12<>\"\",Eingabe!P12,\"\")","v":""},{"$f":"IF(Eingabe!B12<>\"\",Eingabe!B12,\"\")","v":""}]
[null,null,{"$f":"IF(Eingabe!F13<>\"\",Eingabe!F13,\"\")","v":""},{"$f":"IF(Eingabe!E13<>\"\",Eingabe!E13,\"\")","v":""},{"$f":"IF(Eingabe!D13<>\"\",Eingabe!D13,\"\")","v":""},{"$f":"IF(Eingabe!G13<>\"\",Eingabe!G13,\"\")","v":""},{"$f":"IF(Eingabe!C13=\"\",\"\",IF(Eingabe!C13=\"Herr\",\"männlich\",\"weiblich\"))","v":""},{"$f":"Eingabe!H13&\" \"&Eingabe!I13","v":" "},{"$f":"IF(Eingabe!L13<>\"\",Eingabe!L13,\"\")","v":""},{"$f":"IF(Eingabe!J13<>\"\",Eingabe!J13,\"\")","v":""},{"$f":"IF(Eingabe!K13<>\"\",Eingabe!K13,\"\")","v":""},{"$f":"IF(Eingabe!O13<>\"\",Eingabe!O13,\"\")","v":""},{"$f":"IF(Eingabe!N13<>\"\",Eingabe!N13,\"\")","v":""},{"$f":"IF(Eingabe!P13<>\"\",Eingabe!P13,\"\")","v":""},{"$f":"IF(Eingabe!B13<>\"\",Eingabe!B13,\"\")","v":""}]
[null,null,{"$f":"IF(Eingabe!F14<>\"\",Eingabe!F14,\"\")","v":""},{"$f":"IF(Eingabe!E14<>\"\",Eingabe!E14,\"\")","v":""},{"$f":"IF(Eingabe!D14<>\"\",Eingabe!D14,\"\")","v":""},{"$f":"IF(Eingabe!G14<>\"\",Eingabe!G14,\"\")","v":""},{"$f":"IF(Eingabe!C14=\"\",\"\",IF(Eingabe!C14=\"Herr\",\"männlich\",\"weiblich\"))","v":""},{"$f":"Eingabe!H14&\" \"&Eingabe!I14","v":" "},{"$f":"IF(Eingabe!L14<>\"\",Eingabe!L14,\"\")","v":""},{"$f":"IF(Eingabe!J14<>\"\",Eingabe!J14,\"\")","v":""},{"$f":"IF(Eingabe!K14<>\"\",Eingabe!K14,\"\")","v":""},{"$f":"IF(Eingabe!O14<>\"\",Eingabe!O14,\"\")","v":""},{"$f":"IF(Eingabe!N14<>\"\",Eingabe!N14,\"\")","v":""},{"$f":"IF(Eingabe!P14<>\"\",Eingabe!P14,\"\")","v":""},{"$f":"IF(Eingabe!B14<>\"\",Eingabe!B14,\"\")","v":""}]
[null,null,{"$f":"IF(Eingabe!F15<>\"\",Eingabe!F15,\"\")","v":""},{"$f":"IF(Eingabe!E15<>\"\",Eingabe!E15,\"\")","v":""},{"$f":"IF(Eingabe!D15<>\"\",Eingabe!D15,\"\")","v":""},{"$f":"IF(Eingabe!G15<>\"\",Eingabe!G15,\"\")","v":""},{"$f":"IF(Eingabe!C15=\"\",\"\",IF(Eingabe!C15=\"Herr\",\"männlich\",\"weiblich\"))","v":""},{"$f":"Eingabe!H15&\" \"&Eingabe!I15","v":" "},{"$f":"IF(Eingabe!L15<>\"\",Eingabe!L15,\"\")","v":""},{"$f":"IF(Eingabe!J15<>\"\",Eingabe!J15,\"\")","v":""},{"$f":"IF(Eingabe!K15<>\"\",Eingabe!K15,\"\")","v":""},{"$f":"IF(Eingabe!O15<>\"\",Eingabe!O15,\"\")","v":""},{"$f":"IF(Eingabe!N15<>\"\",Eingabe!N15,\"\")","v":""},{"$f":"IF(Eingabe!P15<>\"\",Eingabe!P15,\"\")","v":""},{"$f":"IF(Eingabe!B15<>\"\",Eingabe!B15,\"\")","v":""}]
[null,null,{"$f":"IF(Eingabe!F16<>\"\",Eingabe!F16,\"\")","v":""},{"$f":"IF(Eingabe!E16<>\"\",Eingabe!E16,\"\")","v":""},{"$f":"IF(Eingabe!D16<>\"\",Eingabe!D16,\"\")","v":""},{"$f":"IF(Eingabe!G16<>\"\",Eingabe!G16,\"\")","v":""},{"$f":"IF(Eingabe!C16=\"\",\"\",IF(Eingabe!C16=\"Herr\",\"männlich\",\"weiblich\"))","v":""},{"$f":"Eingabe!H16&\" \"&Eingabe!I16","v":" "},{"$f":"IF(Eingabe!L16<>\"\",Eingabe!L16,\"\")","v":""},{"$f":"IF(Eingabe!J16<>\"\",Eingabe!J16,\"\")","v":""},{"$f":"IF(Eingabe!K16<>\"\",Eingabe!K16,\"\")","v":""},{"$f":"IF(Eingabe!O16<>\"\",Eingabe!O16,\"\")","v":""},{"$f":"IF(Eingabe!N16<>\"\",Eingabe!N16,\"\")","v":""},{"$f":"IF(Eingabe!P16<>\"\",Eingabe!P16,\"\")","v":""},{"$f":"IF(Eingabe!B16<>\"\",Eingabe!B16,\"\")","v":""}]
[null,null,{"$f":"IF(Eingabe!F17<>\"\",Eingabe!F17,\"\")","v":""},{"$f":"IF(Eingabe!E17<>\"\",Eingabe!E17,\"\")","v":""},{"$f":"IF(Eingabe!D17<>\"\",Eingabe!D17,\"\")","v":""},{"$f":"IF(Eingabe!G17<>\"\",Eingabe!G17,\"\")","v":""},{"$f":"IF(Eingabe!C17=\"\",\"\",IF(Eingabe!C17=\"Herr\",\"männlich\",\"weiblich\"))","v":""},{"$f":"Eingabe!H17&\" \"&Eingabe!I17","v":" "},{"$f":"IF(Eingabe!L17<>\"\",Eingabe!L17,\"\")","v":""},{"$f":"IF(Eingabe!J17<>\"\",Eingabe!J17,\"\")","v":""},{"$f":"IF(Eingabe!K17<>\"\",Eingabe!K17,\"\")","v":""},{"$f":"IF(Eingabe!O17<>\"\",Eingabe!O17,\"\")","v":""},{"$f":"IF(Eingabe!N17<>\"\",Eingabe!N17,\"\")","v":""},{"$f":"IF(Eingabe!P17<>\"\",Eingabe!P17,\"\")","v":""},{"$f":"IF(Eingabe!B17<>\"\",Eingabe!B17,\"\")","v":""}]
[null,null,{"$f":"IF(Eingabe!F18<>\"\",Eingabe!F18,\"\")","v":""},{"$f":"IF(Eingabe!E18<>\"\",Eingabe!E18,\"\")","v":""},{"$f":"IF(Eingabe!D18<>\"\",Eingabe!D18,\"\")","v":""},{"$f":"IF(Eingabe!G18<>\"\",Eingabe!G18,\"\")","v":""},{"$f":"IF(Eingabe!C18=\"\",\"\",IF(Eingabe!C18=\"Herr\",\"männlich\",\"weiblich\"))","v":""},{"$f":"Eingabe!H18&\" \"&Eingabe!I18","v":" "},{"$f":"IF(Eingabe!L18<>\"\",Eingabe!L18,\"\")","v":""},{"$f":"IF(Eingabe!J18<>\"\",Eingabe!J18,\"\")","v":""},{"$f":"IF(Eingabe!K18<>\"\",Eingabe!K18,\"\")","v":""},{"$f":"IF(Eingabe!O18<>\"\",Eingabe!O18,\"\")","v":""},{"$f":"IF(Eingabe!N18<>\"\",Eingabe!N18,\"\")","v":""},{"$f":"IF(Eingabe!P18<>\"\",Eingabe!P18,\"\")","v":""},{"$f":"IF(Eingabe!B18<>\"\",Eingabe!B18,\"\")","v":""}]
[null,null,{"$f":"IF(Eingabe!F19<>\"\",Eingabe!F19,\"\")","v":""},{"$f":"IF(Eingabe!E19<>\"\",Eingabe!E19,\"\")","v":""},{"$f":"IF(Eingabe!D19<>\"\",Eingabe!D19,\"\")","v":""},{"$f":"IF(Eingabe!G19<>\"\",Eingabe!G19,\"\")","v":""},{"$f":"IF(Eingabe!C19=\"\",\"\",IF(Eingabe!C19=\"Herr\",\"männlich\",\"weiblich\"))","v":""},{"$f":"Eingabe!H19&\" \"&Eingabe!I19","v":" "},{"$f":"IF(Eingabe!L19<>\"\",Eingabe!L19,\"\")","v":""},{"$f":"IF(Eingabe!J19<>\"\",Eingabe!J19,\"\")","v":""},{"$f":"IF(Eingabe!K19<>\"\",Eingabe!K19,\"\")","v":""},{"$f":"IF(Eingabe!O19<>\"\",Eingabe!O19,\"\")","v":""},{"$f":"IF(Eingabe!N19<>\"\",Eingabe!N19,\"\")","v":""},{"$f":"IF(Eingabe!P19<>\"\",Eingabe!P19,\"\")","v":""},{"$f":"IF(Eingabe!B19<>\"\",Eingabe!B19,\"\")","v":""}]
[null,null,{"$f":"IF(Eingabe!F20<>\"\",Eingabe!F20,\"\")","v":""},{"$f":"IF(Eingabe!E20<>\"\",Eingabe!E20,\"\")","v":""},{"$f":"IF(Eingabe!D20<>\"\",Eingabe!D20,\"\")","v":""},{"$f":"IF(Eingabe!G20<>\"\",Eingabe!G20,\"\")","v":""},{"$f":"IF(Eingabe!C20=\"\",\"\",IF(Eingabe!C20=\"Herr\",\"männlich\",\"weiblich\"))","v":""},{"$f":"Eingabe!H20&\" \"&Eingabe!I20","v":" "},{"$f":"IF(Eingabe!L20<>\"\",Eingabe!L20,\"\")","v":""},{"$f":"IF(Eingabe!J20<>\"\",Eingabe!J20,\"\")","v":""},{"$f":"IF(Eingabe!K20<>\"\",Eingabe!K20,\"\")","v":""},{"$f":"IF(Eingabe!O20<>\"\",Eingabe!O20,\"\")","v":""},{"$f":"IF(Eingabe!N20<>\"\",Eingabe!N20,\"\")","v":""},{"$f":"IF(Eingabe!P20<>\"\",Eingabe!P20,\"\")","v":""},{"$f":"IF(Eingabe!B20<>\"\",Eingabe!B20,\"\")","v":""}]
[null,null,{"$f":"IF(Eingabe!F21<>\"\",Eingabe!F21,\"\")","v":""},{"$f":"IF(Eingabe!E21<>\"\",Eingabe!E21,\"\")","v":""},{"$f":"IF(Eingabe!D21<>\"\",Eingabe!D21,\"\")","v":""},{"$f":"IF(Eingabe!G21<>\"\",Eingabe!G21,\"\")","v":""},{"$f":"IF(Eingabe!C21=\"\",\"\",IF(Eingabe!C21=\"Herr\",\"männlich\",\"weiblich\"))","v":""},{"$f":"Eingabe!H21&\" \"&Eingabe!I21","v":" "},{"$f":"IF(Eingabe!L21<>\"\",Eingabe!L21,\"\")","v":""},{"$f":"IF(Eingabe!J21<>\"\",Eingabe!J21,\"\")","v":""},{"$f":"IF(Eingabe!K21<>\"\",Eingabe!K21,\"\")","v":""},{"$f":"IF(Eingabe!O21<>\"\",Eingabe!O21,\"\")","v":""},{"$f":"IF(Eingabe!N21<>\"\",Eingabe!N21,\"\")","v":""},{"$f":"IF(Eingabe!P21<>\"\",Eingabe!P21,\"\")","v":""},{"$f":"IF(Eingabe!B21<>\"\",Eingabe!B21,\"\")","v":""}]
[null,null,{"$f":"IF(Eingabe!F22<>\"\",Eingabe!F22,\"\")","v":""},{"$f":"IF(Eingabe!E22<>\"\",Eingabe!E22,\"\")","v":""},{"$f":"IF(Eingabe!D22<>\"\",Eingabe!D22,\"\")","v":""},{"$f":"IF(Eingabe!G22<>\"\",Eingabe!G22,\"\")","v":""},{"$f":"IF(Eingabe!C22=\"\",\"\",IF(Eingabe!C22=\"Herr\",\"männlich\",\"weiblich\"))","v":""},{"$f":"Eingabe!H22&\" \"&Eingabe!I22","v":" "},{"$f":"IF(Eingabe!L22<>\"\",Eingabe!L22,\"\")","v":""},{"$f":"IF(Eingabe!J22<>\"\",Eingabe!J22,\"\")","v":""},{"$f":"IF(Eingabe!K22<>\"\",Eingabe!K22,\"\")","v":""},{"$f":"IF(Eingabe!O22<>\"\",Eingabe!O22,\"\")","v":""},{"$f":"IF(Eingabe!N22<>\"\",Eingabe!N22,\"\")","v":""},{"$f":"IF(Eingabe!P22<>\"\",Eingabe!P22,\"\")","v":""},{"$f":"IF(Eingabe!B22<>\"\",Eingabe!B22,\"\")","v":""}]
[null,null,{"$f":"IF(Eingabe!F23<>\"\",Eingabe!F23,\"\")","v":""},{"$f":"IF(Eingabe!E23<>\"\",Eingabe!E23,\"\")","v":""},{"$f":"IF(Eingabe!D23<>\"\",Eingabe!D23,\"\")","v":""},{"$f":"IF(Eingabe!G23<>\"\",Eingabe!G23,\"\")","v":""},{"$f":"IF(Eingabe!C23=\"\",\"\",IF(Eingabe!C23=\"Herr\",\"männlich\",\"weiblich\"))","v":""},{"$f":"Eingabe!H23&\" \"&Eingabe!I23","v":" "},{"$f":"IF(Eingabe!L23<>\"\",Eingabe!L23,\"\")","v":""},{"$f":"IF(Eingabe!J23<>\"\",Eingabe!J23,\"\")","v":""},{"$f":"IF(Eingabe!K23<>\"\",Eingabe!K23,\"\")","v":""},{"$f":"IF(Eingabe!O23<>\"\",Eingabe!O23,\"\")","v":""},{"$f":"IF(Eingabe!N23<>\"\",Eingabe!N23,\"\")","v":""},{"$f":"IF(Eingabe!P23<>\"\",Eingabe!P23,\"\")","v":""},{"$f":"IF(Eingabe!B23<>\"\",Eingabe!B23,\"\")","v":""}]
[null,null,{"$f":"IF(Eingabe!F24<>\"\",Eingabe!F24,\"\")","v":""},{"$f":"IF(Eingabe!E24<>\"\",Eingabe!E24,\"\")","v":""},{"$f":"IF(Eingabe!D24<>\"\",Eingabe!D24,\"\")","v":""},{"$f":"IF(Eingabe!G24<>\"\",Eingabe!G24,\"\")","v":""},{"$f":"IF(Eingabe!C24=\"\",\"\",IF(Eingabe!C24=\"Herr\",\"männlich\",\"weiblich\"))","v":""},{"$f":"Eingabe!H24&\" \"&Eingabe!I24","v":" "},{"$f":"IF(Eingabe!L24<>\"\",Eingabe!L24,\"\")","v":""},{"$f":"IF(Eingabe!J24<>\"\",Eingabe!J24,\"\")","v":""},{"$f":"IF(Eingabe!K24<>\"\",Eingabe!K24,\"\")","v":""},{"$f":"IF(Eingabe!O24<>\"\",Eingabe!O24,\"\")","v":""},{"$f":"IF(Eingabe!N24<>\"\",Eingabe!N24,\"\")","v":""},{"$f":"IF(Eingabe!P24<>\"\",Eingabe!P24,\"\")","v":""},{"$f":"IF(Eingabe!B24<>\"\",Eingabe!B24,\"\")","v":""}]
[null,null,{"$f":"IF(Eingabe!F25<>\"\",Eingabe!F25,\"\")","v":""},{"$f":"IF(Eingabe!E25<>\"\",Eingabe!E25,\"\")","v":""},{"$f":"IF(Eingabe!D25<>\"\",Eingabe!D25,\"\")","v":""},{"$f":"IF(Eingabe!G25<>\"\",Eingabe!G25,\"\")","v":""},{"$f":"IF(Eingabe!C25=\"\",\"\",IF(Eingabe!C25=\"Herr\",\"männlich\",\"weiblich\"))","v":""},{"$f":"Eingabe!H25&\" \"&Eingabe!I25","v":" "},{"$f":"IF(Eingabe!L25<>\"\",Eingabe!L25,\"\")","v":""},{"$f":"IF(Eingabe!J25<>\"\",Eingabe!J25,\"\")","v":""},{"$f":"IF(Eingabe!K25<>\"\",Eingabe!K25,\"\")","v":""},{"$f":"IF(Eingabe!O25<>\"\",Eingabe!O25,\"\")","v":""},{"$f":"IF(Eingabe!N25<>\"\",Eingabe!N25,\"\")","v":""},{"$f":"IF(Eingabe!P25<>\"\",Eingabe!P25,\"\")","v":""},{"$f":"IF(Eingabe!B25<>\"\",Eingabe!B25,\"\")","v":""}]
[null,null,{"$f":"IF(Eingabe!F26<>\"\",Eingabe!F26,\"\")","v":""},{"$f":"IF(Eingabe!E26<>\"\",Eingabe!E26,\"\")","v":""},{"$f":"IF(Eingabe!D26<>\"\",Eingabe!D26,\"\")","v":""},{"$f":"IF(Eingabe!G26<>\"\",Eingabe!G26,\"\")","v":""},{"$f":"IF(Eingabe!C26=\"\",\"\",IF(Eingabe!C26=\"Herr\",\"männlich\",\"weiblich\"))","v":""},{"$f":"Eingabe!H26&\" \"&Eingabe!I26","v":" "},{"$f":"IF(Eingabe!L26<>\"\",Eingabe!L26,\"\")","v":""},{"$f":"IF(Eingabe!J26<>\"\",Eingabe!J26,\"\")","v":""},{"$f":"IF(Eingabe!K26<>\"\",Eingabe!K26,\"\")","v":""},{"$f":"IF(Eingabe!O26<>\"\",Eingabe!O26,\"\")","v":""},{"$f":"IF(Eingabe!N26<>\"\",Eingabe!N26,\"\")","v":""},{"$f":"IF(Eingabe!P26<>\"\",Eingabe!P26,\"\")","v":""},{"$f":"IF(Eingabe!B26<>\"\",Eingabe!B26,\"\")","v":""}]
[null,null,{"$f":"IF(Eingabe!F27<>\"\",Eingabe!F27,\"\")","v":""},{"$f":"IF(Eingabe!E27<>\"\",Eingabe!E27,\"\")","v":""},{"$f":"IF(Eingabe!D27<>\"\",Eingabe!D27,\"\")","v":""},{"$f":"IF(Eingabe!G27<>\"\",Eingabe!G27,\"\")","v":""},{"$f":"IF(Eingabe!C27=\"\",\"\",IF(Eingabe!C27=\"Herr\",\"männlich\",\"weiblich\"))","v":""},{"$f":"Eingabe!H27&\" \"&Eingabe!I27","v":" "},{"$f":"IF(Eingabe!L27<>\"\",Eingabe!L27,\"\")","v":""},{"$f":"IF(Eingabe!J27<>\"\",Eingabe!J27,\"\")","v":""},{"$f":"IF(Eingabe!K27<>\"\",Eingabe!K27,\"\")","v":""},{"$f":"IF(Eingabe!O27<>\"\",Eingabe!O27,\"\")","v":""},{"$f":"IF(Eingabe!N27<>\"\",Eingabe!N27,\"\")","v":""},{"$f":"IF(Eingabe!P27<>\"\",Eingabe!P27,\"\")","v":""},{"$f":"IF(Eingabe!B27<>\"\",Eingabe!B27,\"\")","v":""}]
[null,null,{"$f":"IF(Eingabe!F28<>\"\",Eingabe!F28,\"\")","v":""},{"$f":"IF(Eingabe!E28<>\"\",Eingabe!E28,\"\")","v":""},{"$f":"IF(Eingabe!D28<>\"\",Eingabe!D28,\"\")","v":""},{"$f":"IF(Eingabe!G28<>\"\",Eingabe!G28,\"\")","v":""},{"$f":"IF(Eingabe!C28=\"\",\"\",IF(Eingabe!C28=\"Herr\",\"männlich\",\"weiblich\"))","v":""},{"$f":"Eingabe!H28&\" \"&Eingabe!I28","v":" "},{"$f":"IF(Eingabe!L28<>\"\",Eingabe!L28,\"\")","v":""},{"$f":"IF(Eingabe!J28<>\"\",Eingabe!J28,\"\")","v":""},{"$f":"IF(Eingabe!K28<>\"\",Eingabe!K28,\"\")","v":""},{"$f":"IF(Eingabe!O28<>\"\",Eingabe!O28,\"\")","v":""},{"$f":"IF(Eingabe!N28<>\"\",Eingabe!N28,\"\")","v":""},{"$f":"IF(Eingabe!P28<>\"\",Eingabe!P28,\"\")","v":""},{"$f":"IF(Eingabe!B28<>\"\",Eingabe!B28,\"\")","v":""}]
[null,null,{"$f":"IF(Eingabe!F29<>\"\",Eingabe!F29,\"\")","v":""},{"$f":"IF(Eingabe!E29<>\"\",Eingabe!E29,\"\")","v":""},{"$f":"IF(Eingabe!D29<>\"\",Eingabe!D29,\"\")","v":""},{"$f":"IF(Eingabe!G29<>\"\",Eingabe!G29,\"\")","v":""},{"$f":"IF(Eingabe!C29=\"\",\"\",IF(Eingabe!C29=\"Herr\",\"männlich\",\"weiblich\"))","v":""},{"$f":"Eingabe!H29&\" \"&Eingabe!I29","v":" "},{"$f":"IF(Eingabe!L29<>\"\",Eingabe!L29,\"\")","v":""},{"$f":"IF(Eingabe!J29<>\"\",Eingabe!J29,\"\")","v":""},{"$f":"IF(Eingabe!K29<>\"\",Eingabe!K29,\"\")","v":""},{"$f":"IF(Eingabe!O29<>\"\",Eingabe!O29,\"\")","v":""},{"$f":"IF(Eingabe!N29<>\"\",Eingabe!N29,\"\")","v":""},{"$f":"IF(Eingabe!P29<>\"\",Eingabe!P29,\"\")","v":""},{"$f":"IF(Eingabe!B29<>\"\",Eingabe!B29,\"\")","v":""}]
[null,null,{"$f":"IF(Eingabe!F30<>\"\",Eingabe!F30,\"\")","v":""},{"$f":"IF(Eingabe!E30<>\"\",Eingabe!E30,\"\")","v":""},{"$f":"IF(Eingabe!D30<>\"\",Eingabe!D30,\"\")","v":""},{"$f":"IF(Eingabe!G30<>\"\",Eingabe!G30,\"\")","v":""},{"$f":"IF(Eingabe!C30=\"\",\"\",IF(Eingabe!C30=\"Herr\",\"männlich\",\"weiblich\"))","v":""},{"$f":"Eingabe!H30&\" \"&Eingabe!I30","v":" "},{"$f":"IF(Eingabe!L30<>\"\",Eingabe!L30,\"\")","v":""},{"$f":"IF(Eingabe!J30<>\"\",Eingabe!J30,\"\")","v":""},{"$f":"IF(Eingabe!K30<>\"\",Eingabe!K30,\"\")","v":""},{"$f":"IF(Eingabe!O30<>\"\",Eingabe!O30,\"\")","v":""},{"$f":"IF(Eingabe!N30<>\"\",Eingabe!N30,\"\")","v":""},{"$f":"IF(Eingabe!P30<>\"\",Eingabe!P30,\"\")","v":""},{"$f":"IF(Eingabe!B30<>\"\",Eingabe!B30,\"\")","v":""}]
[null,null,{"$f":"IF(Eingabe!F31<>\"\",Eingabe!F31,\"\")","v":""},{"$f":"IF(Eingabe!E31<>\"\",Eingabe!E31,\"\")","v":""},{"$f":"IF(Eingabe!D31<>\"\",Eingabe!D31,\"\")","v":""},{"$f":"IF(Eingabe!G31<>\"\",Eingabe!G31,\"\")","v":""},{"$f":"IF(Eingabe!C31=\"\",\"\",IF(Eingabe!C31=\"Herr\",\"männlich\",\"weiblich\"))","v":""},{"$f":"Eingabe!H31&\" \"&Eingabe!I31","v":" "},{"$f":"IF(Eingabe!L31<>\"\",Eingabe!L31,\"\")","v":""},{"$f":"IF(Eingabe!J31<>\"\",Eingabe!J31,\"\")","v":""},{"$f":"IF(Eingabe!K31<>\"\",Eingabe!K31,\"\")","v":""},{"$f":"IF(Eingabe!O31<>\"\",Eingabe!O31,\"\")","v":""},{"$f":"IF(Eingabe!N31<>\"\",Eingabe!N31,\"\")","v":""},{"$f":"IF(Eingabe!P31<>\"\",Eingabe!P31,\"\")","v":""},{"$f":"IF(Eingabe!B31<>\"\",Eingabe!B31,\"\")","v":""}]
[null,null,{"$f":"IF(Eingabe!F32<>\"\",Eingabe!F32,\"\")","v":""},{"$f":"IF(Eingabe!E32<>\"\",Eingabe!E32,\"\")","v":""},{"$f":"IF(Eingabe!D32<>\"\",Eingabe!D32,\"\")","v":""},{"$f":"IF(Eingabe!G32<>\"\",Eingabe!G32,\"\")","v":""},{"$f":"IF(Eingabe!C32=\"\",\"\",IF(Eingabe!C32=\"Herr\",\"männlich\",\"weiblich\"))","v":""},{"$f":"Eingabe!H32&\" \"&Eingabe!I32","v":" "},{"$f":"IF(Eingabe!L32<>\"\",Eingabe!L32,\"\")","v":""},{"$f":"IF(Eingabe!J32<>\"\",Eingabe!J32,\"\")","v":""},{"$f":"IF(Eingabe!K32<>\"\",Eingabe!K32,\"\")","v":""},{"$f":"IF(Eingabe!O32<>\"\",Eingabe!O32,\"\")","v":""},{"$f":"IF(Eingabe!N32<>\"\",Eingabe!N32,\"\")","v":""},{"$f":"IF(Eingabe!P32<>\"\",Eingabe!P32,\"\")","v":""},{"$f":"IF(Eingabe!B32<>\"\",Eingabe!B32,\"\")","v":""}]
[null,null,{"$f":"IF(Eingabe!F33<>\"\",Eingabe!F33,\"\")","v":""},{"$f":"IF(Eingabe!E33<>\"\",Eingabe!E33,\"\")","v":""},{"$f":"IF(Eingabe!D33<>\"\",Eingabe!D33,\"\")","v":""},{"$f":"IF(Eingabe!G33<>\"\",Eingabe!G33,\"\")","v":""},{"$f":"IF(Eingabe!C33=\"\",\"\",IF(Eingabe!C33=\"Herr\",\"männlich\",\"weiblich\"))","v":""},{"$f":"Eingabe!H33&\" \"&Eingabe!I33","v":" "},{"$f":"IF(Eingabe!L33<>\"\",Eingabe!L33,\"\")","v":""},{"$f":"IF(Eingabe!J33<>\"\",Eingabe!J33,\"\")","v":""},{"$f":"IF(Eingabe!K33<>\"\",Eingabe!K33,\"\")","v":""},{"$f":"IF(Eingabe!O33<>\"\",Eingabe!O33,\"\")","v":""},{"$f":"IF(Eingabe!N33<>\"\",Eingabe!N33,\"\")","v":""},{"$f":"IF(Eingabe!P33<>\"\",Eingabe!P33,\"\")","v":""},{"$f":"IF(Eingabe!B33<>\"\",Eingabe!B33,\"\")","v":""}]
[null,null,{"$f":"IF(Eingabe!F34<>\"\",Eingabe!F34,\"\")","v":""},{"$f":"IF(Eingabe!E34<>\"\",Eingabe!E34,\"\")","v":""},{"$f":"IF(Eingabe!D34<>\"\",Eingabe!D34,\"\")","v":""},{"$f":"IF(Eingabe!G34<>\"\",Eingabe!G34,\"\")","v":""},{"$f":"IF(Eingabe!C34=\"\",\"\",IF(Eingabe!C34=\"Herr\",\"männlich\",\"weiblich\"))","v":""},{"$f":"Eingabe!H34&\" \"&Eingabe!I34","v":" "},{"$f":"IF(Eingabe!L34<>\"\",Eingabe!L34,\"\")","v":""},{"$f":"IF(Eingabe!J34<>\"\",Eingabe!J34,\"\")","v":""},{"$f":"IF(Eingabe!K34<>\"\",Eingabe!K34,\"\")","v":""},{"$f":"IF(Eingabe!O34<>\"\",Eingabe!O34,\"\")","v":""},{"$f":"IF(Eingabe!N34<>\"\",Eingabe!N34,\"\")","v":""},{"$f":"IF(Eingabe!P34<>\"\",Eingabe!P34,\"\")","v":""},{"$f":"IF(Eingabe!B34<>\"\",Eingabe!B34,\"\")","v":""}]
[null,null,{"$f":"IF(Eingabe!F35<>\"\",Eingabe!F35,\"\")","v":""},{"$f":"IF(Eingabe!E35<>\"\",Eingabe!E35,\"\")","v":""},{"$f":"IF(Eingabe!D35<>\"\",Eingabe!D35,\"\")","v":""},{"$f":"IF(Eingabe!G35<>\"\",Eingabe!G35,\"\")","v":""},{"$f":"IF(Eingabe!C35=\"\",\"\",IF(Eingabe!C35=\"Herr\",\"männlich\",\"weiblich\"))","v":""},{"$f":"Eingabe!H35&\" \"&Eingabe!I35","v":" "},{"$f":"IF(Eingabe!L35<>\"\",Eingabe!L35,\"\")","v":""},{"$f":"IF(Eingabe!J35<>\"\",Eingabe!J35,\"\")","v":""},{"$f":"IF(Eingabe!K35<>\"\",Eingabe!K35,\"\")","v":""},{"$f":"IF(Eingabe!O35<>\"\",Eingabe!O35,\"\")","v":""},{"$f":"IF(Eingabe!N35<>\"\",Eingabe!N35,\"\")","v":""},{"$f":"IF(Eingabe!P35<>\"\",Eingabe!P35,\"\")","v":""},{"$f":"IF(Eingabe!B35<>\"\",Eingabe!B35,\"\")","v":""}]
[null,null,{"$f":"IF(Eingabe!F36<>\"\",Eingabe!F36,\"\")","v":""},{"$f":"IF(Eingabe!E36<>\"\",Eingabe!E36,\"\")","v":""},{"$f":"IF(Eingabe!D36<>\"\",Eingabe!D36,\"\")","v":""},{"$f":"IF(Eingabe!G36<>\"\",Eingabe!G36,\"\")","v":""},{"$f":"IF(Eingabe!C36=\"\",\"\",IF(Eingabe!C36=\"Herr\",\"männlich\",\"weiblich\"))","v":""},{"$f":"Eingabe!H36&\" \"&Eingabe!I36","v":" "},{"$f":"IF(Eingabe!L36<>\"\",Eingabe!L36,\"\")","v":""},{"$f":"IF(Eingabe!J36<>\"\",Eingabe!J36,\"\")","v":""},{"$f":"IF(Eingabe!K36<>\"\",Eingabe!K36,\"\")","v":""},{"$f":"IF(Eingabe!O36<>\"\",Eingabe!O36,\"\")","v":""},{"$f":"IF(Eingabe!N36<>\"\",Eingabe!N36,\"\")","v":""},{"$f":"IF(Eingabe!P36<>\"\",Eingabe!P36,\"\")","v":""},{"$f":"IF(Eingabe!B36<>\"\",Eingabe!B36,\"\")","v":""}]
[null,null,{"$f":"IF(Eingabe!F37<>\"\",Eingabe!F37,\"\")","v":""},{"$f":"IF(Eingabe!E37<>\"\",Eingabe!E37,\"\")","v":""},{"$f":"IF(Eingabe!D37<>\"\",Eingabe!D37,\"\")","v":""},{"$f":"IF(Eingabe!G37<>\"\",Eingabe!G37,\"\")","v":""},{"$f":"IF(Eingabe!C37=\"\",\"\",IF(Eingabe!C37=\"Herr\",\"männlich\",\"weiblich\"))","v":""},{"$f":"Eingabe!H37&\" \"&Eingabe!I37","v":" "},{"$f":"IF(Eingabe!L37<>\"\",Eingabe!L37,\"\")","v":""},{"$f":"IF(Eingabe!J37<>\"\",Eingabe!J37,\"\")","v":""},{"$f":"IF(Eingabe!K37<>\"\",Eingabe!K37,\"\")","v":""},{"$f":"IF(Eingabe!O37<>\"\",Eingabe!O37,\"\")","v":""},{"$f":"IF(Eingabe!N37<>\"\",Eingabe!N37,\"\")","v":""},{"$f":"IF(Eingabe!P37<>\"\",Eingabe!P37,\"\")","v":""},{"$f":"IF(Eingabe!B37<>\"\",Eingabe!B37,\"\")","v":""}]
[null,null,{"$f":"IF(Eingabe!F38<>\"\",Eingabe!F38,\"\")","v":""},{"$f":"IF(Eingabe!E38<>\"\",Eingabe!E38,\"\")","v":""},{"$f":"IF(Eingabe!D38<>\"\",Eingabe!D38,\"\")","v":""},{"$f":"IF(Eingabe!G38<>\"\",Eingabe!G38,\"\")","v":""},{"$f":"IF(Eingabe!C38=\"\",\"\",IF(Eingabe!C38=\"Herr\",\"männlich\",\"weiblich\"))","v":""},{"$f":"Eingabe!H38&\" \"&Eingabe!I38","v":" "},{"$f":"IF(Eingabe!L38<>\"\",Eingabe!L38,\"\")","v":""},{"$f":"IF(Eingabe!J38<>\"\",Eingabe!J38,\"\")","v":""},{"$f":"IF(Eingabe!K38<>\"\",Eingabe!K38,\"\")","v":""},{"$f":"IF(Eingabe!O38<>\"\",Eingabe!O38,\"\")","v":""},{"$f":"IF(Eingabe!N38<>\"\",Eingabe!N38,\"\")","v":""},{"$f":"IF(Eingabe!P38<>\"\",Eingabe!P38,\"\")","v":""},{"$f":"IF(Eingabe!B38<>\"\",Eingabe!B38,\"\")","v":""}]
[null,null,{"$f":"IF(Eingabe!F39<>\"\",Eingabe!F39,\"\")","v":""},{"$f":"IF(Eingabe!E39<>\"\",Eingabe!E39,\"\")","v":""},{"$f":"IF(Eingabe!D39<>\"\",Eingabe!D39,\"\")","v":""},{"$f":"IF(Eingabe!G39<>\"\",Eingabe!G39,\"\")","v":""},{"$f":"IF(Eingabe!C39=\"\",\"\",IF(Eingabe!C39=\"Herr\",\"männlich\",\"weiblich\"))","v":""},{"$f":"Eingabe!H39&\" \"&Eingabe!I39","v":" "},{"$f":"IF(Eingabe!L39<>\"\",Eingabe!L39,\"\")","v":""},{"$f":"IF(Eingabe!J39<>\"\",Eingabe!J39,\"\")","v":""},{"$f":"IF(Eingabe!K39<>\"\",Eingabe!K39,\"\")","v":""},{"$f":"IF(Eingabe!O39<>\"\",Eingabe!O39,\"\")","v":""},{"$f":"IF(Eingabe!N39<>\"\",Eingabe!N39,\"\")","v":""},{"$f":"IF(Eingabe!P39<>\"\",Eingabe!P39,\"\")","v":""},{"$f":"IF(Eingabe!B39<>\"\",Eingabe!B39,\"\")","v":""}]
[null,null,{"$f":"IF(Eingabe!F40<>\"\",Eingabe!F40,\"\")","v":""},{"$f":"IF(Eingabe!E40<>\"\",Eingabe!E40,\"\")","v":""},{"$f":"IF(Eingabe!D40<>\"\",Eingabe!D40,\"\")","v":""},{"$f":"IF(Eingabe!G40<>\"\",Eingabe!G40,\"\")","v":""},{"$f":"IF(Eingabe!C40=\"\",\"\",IF(Eingabe!C40=\"Herr\",\"männlich\",\"weiblich\"))","v":""},{"$f":"Eingabe!H40&\" \"&Eingabe!I40","v":" "},{"$f":"IF(Eingabe!L40<>\"\",Eingabe!L40,\"\")","v":""},{"$f":"IF(Eingabe!J40<>\"\",Eingabe!J40,\"\")","v":""},{"$f":"IF(Eingabe!K40<>\"\",Eingabe!K40,\"\")","v":""},{"$f":"IF(Eingabe!O40<>\"\",Eingabe!O40,\"\")","v":""},{"$f":"IF(Eingabe!N40<>\"\",Eingabe!N40,\"\")","v":""},{"$f":"IF(Eingabe!P40<>\"\",Eingabe!P40,\"\")","v":""},{"$f":"IF(Eingabe!B40<>\"\",Eingabe!B40,\"\")","v":""}]
[null,null,{"$f":"IF(Eingabe!F41<>\"\",Eingabe!F41,\"\")","v":""},{"$f":"IF(Eingabe!E41<>\"\",Eingabe!E41,\"\")","v":""},{"$f":"IF(Eingabe!D41<>\"\",Eingabe!D41,\"\")","v":""},{"$f":"IF(Eingabe!G41<>\"\",Eingabe!G41,\"\")","v":""},{"$f":"IF(Eingabe!C41=\"\",\"\",IF(Eingabe!C41=\"Herr\",\"männlich\",\"weiblich\"))","v":""},{"$f":"Eingabe!H41&\" \"&Eingabe!I41","v":" "},{"$f":"IF(Eingabe!L41<>\"\",Eingabe!L41,\"\")","v":""},{"$f":"IF(Eingabe!J41<>\"\",Eingabe!J41,\"\")","v":""},{"$f":"IF(Eingabe!K41<>\"\",Eingabe!K41,\"\")","v":""},{"$f":"IF(Eingabe!O41<>\"\",Eingabe!O41,\"\")","v":""},{"$f":"IF(Eingabe!N41<>\"\",Eingabe!N41,\"\")","v":""},{"$f":"IF(Eingabe!P41<>\"\",Eingabe!P41,\"\")","v":""},{"$f":"IF(Eingabe!B41<>\"\",Eingabe!B41,\"\")","v":""}]
[null,null,{"$f":"IF(Eingabe!F42<>\"\",Eingabe!F42,\"\")","v":""},{"$f":"IF(Eingabe!E42<>\"\",Eingabe!E42,\"\")","v":""},{"$f":"IF(Eingabe!D42<>\"\",Eingabe!D42,\"\")","v":""},{"$f":"IF(Eingabe!G42<>\"\",Eingabe!G42,\"\")","v":""},{"$f":"IF(Eingabe!C42=\"\",\"\",IF(Eingabe!C42=\"Herr\",\"männlich\",\"weiblich\"))","v":""},{"$f":"Eingabe!H42&\" \"&Eingabe!I42","v":" "},{"$f":"IF(Eingabe!L42<>\"\",Eingabe!L42,\"\")","v":""},{"$f":"IF(Eingabe!J42<>\"\",Eingabe!J42,\"\")","v":""},{"$f":"IF(Eingabe!K42<>\"\",Eingabe!K42,\"\")","v":""},{"$f":"IF(Eingabe!O42<>\"\",Eingabe!O42,\"\")","v":""},{"$f":"IF(Eingabe!N42<>\"\",Eingabe!N42,\"\")","v":""},{"$f":"IF(Eingabe!P42<>\"\",Eingabe!P42,\"\")","v":""},{"$f":"IF(Eingabe!B42<>\"\",Eingabe!B42,\"\")","v":""}]
[null,null,{"$f":"IF(Eingabe!F43<>\"\",Eingabe!F43,\"\")","v":""},{"$f":"IF(Eingabe!E43<>\"\",Eingabe!E43,\"\")","v":""},{"$f":"IF(Eingabe!D43<>\"\",Eingabe!D43,\"\")","v":""},{"$f":"IF(Eingabe!G43<>\"\",Eingabe!G43,\"\")","v":""},{"$f":"IF(Eingabe!C43=\"\",\"\",IF(Eingabe!C43=\"Herr\",\"männlich\",\"weiblich\"))","v":""},{"$f":"Eingabe!H43&\" \"&Eingabe!I43","v":" "},{"$f":"IF(Eingabe!L43<>\"\",Eingabe!L43,\"\")","v":""},{"$f":"IF(Eingabe!J43<>\"\",Eingabe!J43,\"\")","v":""},{"$f":"IF(Eingabe!K43<>\"\",Eingabe!K43,\"\")","v":""},{"$f":"IF(Eingabe!O43<>\"\",Eingabe!O43,\"\")","v":""},{"$f":"IF(Eingabe!N43<>\"\",Eingabe!N43,\"\")","v":""},{"$f":"IF(Eingabe!P43<>\"\",Eingabe!P43,\"\")","v":""},{"$f":"IF(Eingabe!B43<>\"\",Eingabe!B43,\"\")","v":""}]
[null,null,{"$f":"IF(Eingabe!F44<>\"\",Eingabe!F44,\"\")","v":""},{"$f":"IF(Eingabe!E44<>\"\",Eingabe!E44,\"\")","v":""},{"$f":"IF(Eingabe!D44<>\"\",Eingabe!D44,\"\")","v":""},{"$f":"IF(Eingabe!G44<>\"\",Eingabe!G44,\"\")","v":""},{"$f":"IF(Eingabe!C44=\"\",\"\",IF(Eingabe!C44=\"Herr\",\"männlich\",\"weiblich\"))","v":""},{"$f":"Eingabe!H44&\" \"&Eingabe!I44","v":" "},{"$f":"IF(Eingabe!L44<>\"\",Eingabe!L44,\"\")","v":""},{"$f":"IF(Eingabe!J44<>\"\",Eingabe!J44,\"\")","v":""},{"$f":"IF(Eingabe!K44<>\"\",Eingabe!K44,\"\")","v":""},{"$f":"IF(Eingabe!O44<>\"\",Eingabe!O44,\"\")","v":""},{"$f":"IF(Eingabe!N44<>\"\",Eingabe!N44,\"\")","v":""},{"$f":"IF(Eingabe!P44<>\"\",Eingabe!P44,\"\")","v":""},{"$f":"IF(Eingabe!B44<>\"\",Eingabe!B44,\"\")","v":""}]
[null,null,{"$f":"IF(Eingabe!F45<>\"\",Eingabe!F45,\"\")","v":""},{"$f":"IF(Eingabe!E45<>\"\",Eingabe!E45,\"\")","v":""},{"$f":"IF(Eingabe!D45<>\"\",Eingabe!D45,\"\")","v":""},{"$f":"IF(Eingabe!G45<>\"\",Eingabe!G45,\"\")","v":""},{"$f":"IF(Eingabe!C45=\"\",\"\",IF(Eingabe!C45=\"Herr\",\"männlich\",\"weiblich\"))","v":""},{"$f":"Eingabe!H45&\" \"&Eingabe!I45","v":" "},{"$f":"IF(Eingabe!L45<>\"\",Eingabe!L45,\"\")","v":""},{"$f":"IF(Eingabe!J45<>\"\",Eingabe!J45,\"\")","v":""},{"$f":"IF(Eingabe!K45<>\"\",Eingabe!K45,\"\")","v":""},{"$f":"IF(Eingabe!O45<>\"\",Eingabe!O45,\"\")","v":""},{"$f":"IF(Eingabe!N45<>\"\",Eingabe!N45,\"\")","v":""},{"$f":"IF(Eingabe!P45<>\"\",Eingabe!P45,\"\")","v":""},{"$f":"IF(Eingabe!B45<>\"\",Eingabe!B45,\"\")","v":""}]
[null,null,{"$f":"IF(Eingabe!F46<>\"\",Eingabe!F46,\"\")","v":""},{"$f":"IF(Eingabe!E46<>\"\",Eingabe!E46,\"\")","v":""},{"$f":"IF(Eingabe!D46<>\"\",Eingabe!D46,\"\")","v":""},{"$f":"IF(Eingabe!G46<>\"\",Eingabe!G46,\"\")","v":""},{"$f":"IF(Eingabe!C46=\"\",\"\",IF(Eingabe!C46=\"Herr\",\"männlich\",\"weiblich\"))","v":""},{"$f":"Eingabe!H46&\" \"&Eingabe!I46","v":" "},{"$f":"IF(Eingabe!L46<>\"\",Eingabe!L46,\"\")","v":""},{"$f":"IF(Eingabe!J46<>\"\",Eingabe!J46,\"\")","v":""},{"$f":"IF(Eingabe!K46<>\"\",Eingabe!K46,\"\")","v":""},{"$f":"IF(Eingabe!O46<>\"\",Eingabe!O46,\"\")","v":""},{"$f":"IF(Eingabe!N46<>\"\",Eingabe!N46,\"\")","v":""},{"$f":"IF(Eingabe!P46<>\"\",Eingabe!P46,\"\")","v":""},{"$f":"IF(Eingabe!B46<>\"\",Eingabe!B46,\"\")","v":""}]
[null,null,{"$f":"IF(Eingabe!F47<>\"\",Eingabe!F47,\"\")","v":""},{"$f":"IF(Eingabe!E47<>\"\",Eingabe!E47,\"\")","v":""},{"$f":"IF(Eingabe!D47<>\"\",Eingabe!D47,\"\")","v":""},{"$f":"IF(Eingabe!G47<>\"\",Eingabe!G47,\"\")","v":""},{"$f":"IF(Eingabe!C47=\"\",\"\",IF(Eingabe!C47=\"Herr\",\"männlich\",\"weiblich\"))","v":""},{"$f":"Eingabe!H47&\" \"&Eingabe!I47","v":" "},{"$f":"IF(Eingabe!L47<>\"\",Eingabe!L47,\"\")","v":""},{"$f":"IF(Eingabe!J47<>\"\",Eingabe!J47,\"\")","v":""},{"$f":"IF(Eingabe!K47<>\"\",Eingabe!K47,\"\")","v":""},{"$f":"IF(Eingabe!O47<>\"\",Eingabe!O47,\"\")","v":""},{"$f":"IF(Eingabe!N47<>\"\",Eingabe!N47,\"\")","v":""},{"$f":"IF(Eingabe!P47<>\"\",Eingabe!P47,\"\")","v":""},{"$f":"IF(Eingabe!B47<>\"\",Eingabe!B47,\"\")","v":""}]
[null,null,{"$f":"IF(Eingabe!F48<>\"\",Eingabe!F48,\"\")","v":""},{"$f":"IF(Eingabe!E48<>\"\",Eingabe!E48,\"\")","v":""},{"$f":"IF(Eingabe!D48<>\"\",Eingabe!D48,\"\")","v":""},{"$f":"IF(Eingabe!G48<>\"\",Eingabe!G48,\"\")","v":""},{"$f":"IF(Eingabe!C48=\"\",\"\",IF(Eingabe!C48=\"Herr\",\"männlich\",\"weiblich\"))","v":""},{"$f":"Eingabe!H48&\" \"&Eingabe!I48","v":" "},{"$f":"IF(Eingabe!L48<>\"\",Eingabe!L48,\"\")","v":""},{"$f":"IF(Eingabe!J48<>\"\",Eingabe!J48,\"\")","v":""},{"$f":"IF(Eingabe!K48<>\"\",Eingabe!K48,\"\")","v":""},{"$f":"IF(Eingabe!O48<>\"\",Eingabe!O48,\"\")","v":""},{"$f":"IF(Eingabe!N48<>\"\",Eingabe!N48,\"\")","v":""},{"$f":"IF(Eingabe!P48<>\"\",Eingabe!P48,\"\")","v":""},{"$f":"IF(Eingabe!B48<>\"\",Eingabe!B48,\"\")","v":""}]
[null,null,{"$f":"IF(Eingabe!F49<>\"\",Eingabe!F49,\"\")","v":""},{"$f":"IF(Eingabe!E49<>\"\",Eingabe!E49,\"\")","v":""},{"$f":"IF(Eingabe!D49<>\"\",Eingabe!D49,\"\")","v":""},{"$f":"IF(Eingabe!G49<>\"\",Eingabe!G49,\"\")","v":""},{"$f":"IF(Eingabe!C49=\"\",\"\",IF(Eingabe!C49=\"Herr\",\"männlich\",\"weiblich\"))","v":""},{"$f":"Eingabe!H49&\" \"&Eingabe!I49","v":" "},{"$f":"IF(Eingabe!L49<>\"\",Eingabe!L49,\"\")","v":""},{"$f":"IF(Eingabe!J49<>\"\",Eingabe!J49,\"\")","v":""},{"$f":"IF(Eingabe!K49<>\"\",Eingabe!K49,\"\")","v":""},{"$f":"IF(Eingabe!O49<>\"\",Eingabe!O49,\"\")","v":""},{"$f":"IF(Eingabe!N49<>\"\",Eingabe!N49,\"\")","v":""},{"$f":"IF(Eingabe!P49<>\"\",Eingabe!P49,\"\")","v":""},{"$f":"IF(Eingabe!B49<>\"\",Eingabe!B49,\"\")","v":""}]
[null,null,{"$f":"IF(Eingabe!F50<>\"\",Eingabe!F50,\"\")","v":""},{"$f":"IF(Eingabe!E50<>\"\",Eingabe!E50,\"\")","v":""},{"$f":"IF(Eingabe!D50<>\"\",Eingabe!D50,\"\")","v":""},{"$f":"IF(Eingabe!G50<>\"\",Eingabe!G50,\"\")","v":""},{"$f":"IF(Eingabe!C50=\"\",\"\",IF(Eingabe!C50=\"Herr\",\"männlich\",\"weiblich\"))","v":""},{"$f":"Eingabe!H50&\" \"&Eingabe!I50","v":" "},{"$f":"IF(Eingabe!L50<>\"\",Eingabe!L50,\"\")","v":""},{"$f":"IF(Eingabe!J50<>\"\",Eingabe!J50,\"\")","v":""},{"$f":"IF(Eingabe!K50<>\"\",Eingabe!K50,\"\")","v":""},{"$f":"IF(Eingabe!O50<>\"\",Eingabe!O50,\"\")","v":""},{"$f":"IF(Eingabe!N50<>\"\",Eingabe!N50,\"\")","v":""},{"$f":"IF(Eingabe!P50<>\"\",Eingabe!P50,\"\")","v":""},{"$f":"IF(Eingabe!B50<>\"\",Eingabe!B50,\"\")","v":""}]
[null,null,{"$f":"IF(Eingabe!F51<>\"\",Eingabe!F51,\"\")","v":""},{"$f":"IF(Eingabe!E51<>\"\",Eingabe!E51,\"\")","v":""},{"$f":"IF(Eingabe!D51<>\"\",Eingabe!D51,\"\")","v":""},{"$f":"IF(Eingabe!G51<>\"\",Eingabe!G51,\"\")","v":""},{"$f":"IF(Eingabe!C51=\"\",\"\",IF(Eingabe!C51=\"Herr\",\"männlich\",\"weiblich\"))","v":""},{"$f":"Eingabe!H51&\" \"&Eingabe!I51","v":" "},{"$f":"IF(Eingabe!L51<>\"\",Eingabe!L51,\"\")","v":""},{"$f":"IF(Eingabe!J51<>\"\",Eingabe!J51,\"\")","v":""},{"$f":"IF(Eingabe!K51<>\"\",Eingabe!K51,\"\")","v":""},{"$f":"IF(Eingabe!O51<>\"\",Eingabe!O51,\"\")","v":""},{"$f":"IF(Eingabe!N51<>\"\",Eingabe!N51,\"\")","v":""},{"$f":"IF(Eingabe!P51<>\"\",Eingabe!P51,\"\")","v":""},{"$f":"IF(Eingabe!B51<>\"\",Eingabe!B51,\"\")","v":""}]
[null,null,{"$f":"IF(Eingabe!F52<>\"\",Eingabe!F52,\"\")","v":""},{"$f":"IF(Eingabe!E52<>\"\",Eingabe!E52,\"\")","v":""},{"$f":"IF(Eingabe!D52<>\"\",Eingabe!D52,\"\")","v":""},{"$f":"IF(Eingabe!G52<>\"\",Eingabe!G52,\"\")","v":""},{"$f":"IF(Eingabe!C52=\"\",\"\",IF(Eingabe!C52=\"Herr\",\"männlich\",\"weiblich\"))","v":""},{"$f":"Eingabe!H52&\" \"&Eingabe!I52","v":" "},{"$f":"IF(Eingabe!L52<>\"\",Eingabe!L52,\"\")","v":""},{"$f":"IF(Eingabe!J52<>\"\",Eingabe!J52,\"\")","v":""},{"$f":"IF(Eingabe!K52<>\"\",Eingabe!K52,\"\")","v":""},{"$f":"IF(Eingabe!O52<>\"\",Eingabe!O52,\"\")","v":""},{"$f":"IF(Eingabe!N52<>\"\",Eingabe!N52,\"\")","v":""},{"$f":"IF(Eingabe!P52<>\"\",Eingabe!P52,\"\")","v":""},{"$f":"IF(Eingabe!B52<>\"\",Eingabe!B52,\"\")","v":""}]
[null,null,{"$f":"IF(Eingabe!F53<>\"\",Eingabe!F53,\"\")","v":""},{"$f":"IF(Eingabe!E53<>\"\",Eingabe!E53,\"\")","v":""},{"$f":"IF(Eingabe!D53<>\"\",Eingabe!D53,\"\")","v":""},{"$f":"IF(Eingabe!G53<>\"\",Eingabe!G53,\"\")","v":""},{"$f":"IF(Eingabe!C53=\"\",\"\",IF(Eingabe!C53=\"Herr\",\"männlich\",\"weiblich\"))","v":""},{"$f":"Eingabe!H53&\" \"&Eingabe!I53","v":" "},{"$f":"IF(Eingabe!L53<>\"\",Eingabe!L53,\"\")","v":""},{"$f":"IF(Eingabe!J53<>\"\",Eingabe!J53,\"\")","v":""},{"$f":"IF(Eingabe!K53<>\"\",Eingabe!K53,\"\")","v":""},{"$f":"IF(Eingabe!O53<>\"\",Eingabe!O53,\"\")","v":""},{"$f":"IF(Eingabe!N53<>\"\",Eingabe!N53,\"\")","v":""},{"$f":"IF(Eingabe!P53<>\"\",Eingabe!P53,\"\")","v":""},{"$f":"IF(Eingabe!B53<>\"\",Eingabe!B53,\"\")","v":""}]
[null,null,{"$f":"IF(Eingabe!F54<>\"\",Eingabe!F54,\"\")","v":""},{"$f":"IF(Eingabe!E54<>\"\",Eingabe!E54,\"\")","v":""},{"$f":"IF(Eingabe!D54<>\"\",Eingabe!D54,\"\")","v":""},{"$f":"IF(Eingabe!G54<>\"\",Eingabe!G54,\"\")","v":""},{"$f":"IF(Eingabe!C54=\"\",\"\",IF(Eingabe!C54=\"Herr\",\"männlich\",\"weiblich\"))","v":""},{"$f":"Eingabe!H54&\" \"&Eingabe!I54","v":" "},{"$f":"IF(Eingabe!L54<>\"\",Eingabe!L54,\"\")","v":""},{"$f":"IF(Eingabe!J54<>\"\",Eingabe!J54,\"\")","v":""},{"$f":"IF(Eingabe!K54<>\"\",Eingabe!K54,\"\")","v":""},{"$f":"IF(Eingabe!O54<>\"\",Eingabe!O54,\"\")","v":""},{"$f":"IF(Eingabe!N54<>\"\",Eingabe!N54,\"\")","v":""},{"$f":"IF(Eingabe!P54<>\"\",Eingabe!P54,\"\")","v":""},{"$f":"IF(Eingabe!B54<>\"\",Eingabe!B54,\"\")","v":""}]
[null,null,{"$f":"IF(Eingabe!F55<>\"\",Eingabe!F55,\"\")","v":""},{"$f":"IF(Eingabe!E55<>\"\",Eingabe!E55,\"\")","v":""},{"$f":"IF(Eingabe!D55<>\"\",Eingabe!D55,\"\")","v":""},{"$f":"IF(Eingabe!G55<>\"\",Eingabe!G55,\"\")","v":""},{"$f":"IF(Eingabe!C55=\"\",\"\",IF(Eingabe!C55=\"Herr\",\"männlich\",\"weiblich\"))","v":""},{"$f":"Eingabe!H55&\" \"&Eingabe!I55","v":" "},{"$f":"IF(Eingabe!L55<>\"\",Eingabe!L55,\"\")","v":""},{"$f":"IF(Eingabe!J55<>\"\",Eingabe!J55,\"\")","v":""},{"$f":"IF(Eingabe!K55<>\"\",Eingabe!K55,\"\")","v":""},{"$f":"IF(Eingabe!O55<>\"\",Eingabe!O55,\"\")","v":""},{"$f":"IF(Eingabe!N55<>\"\",Eingabe!N55,\"\")","v":""},{"$f":"IF(Eingabe!P55<>\"\",Eingabe!P55,\"\")","v":""},{"$f":"IF(Eingabe!B55<>\"\",Eingabe!B55,\"\")","v":""}]
[null,null,{"$f":"IF(Eingabe!F56<>\"\",Eingabe!F56,\"\")","v":""},{"$f":"IF(Eingabe!E56<>\"\",Eingabe!E56,\"\")","v":""},{"$f":"IF(Eingabe!D56<>\"\",Eingabe!D56,\"\")","v":""},{"$f":"IF(Eingabe!G56<>\"\",Eingabe!G56,\"\")","v":""},{"$f":"IF(Eingabe!C56=\"\",\"\",IF(Eingabe!C56=\"Herr\",\"männlich\",\"weiblich\"))","v":""},{"$f":"Eingabe!H56&\" \"&Eingabe!I56","v":" "},{"$f":"IF(Eingabe!L56<>\"\",Eingabe!L56,\"\")","v":""},{"$f":"IF(Eingabe!J56<>\"\",Eingabe!J56,\"\")","v":""},{"$f":"IF(Eingabe!K56<>\"\",Eingabe!K56,\"\")","v":""},{"$f":"IF(Eingabe!O56<>\"\",Eingabe!O56,\"\")","v":""},{"$f":"IF(Eingabe!N56<>\"\",Eingabe!N56,\"\")","v":""},{"$f":"IF(Eingabe!P56<>\"\",Eingabe!P56,\"\")","v":""},{"$f":"IF(Eingabe!B56<>\"\",Eingabe!B56,\"\")","v":""}]
[null,null,{"$f":"IF(Eingabe!F57<>\"\",Eingabe!F57,\"\")","v":""},{"$f":"IF(Eingabe!E57<>\"\",Eingabe!E57,\"\")","v":""},{"$f":"IF(Eingabe!D57<>\"\",Eingabe!D57,\"\")","v":""},{"$f":"IF(Eingabe!G57<>\"\",Eingabe!G57,\"\")","v":""},{"$f":"IF(Eingabe!C57=\"\",\"\",IF(Eingabe!C57=\"Herr\",\"männlich\",\"weiblich\"))","v":""},{"$f":"Eingabe!H57&\" \"&Eingabe!I57","v":" "},{"$f":"IF(Eingabe!L57<>\"\",Eingabe!L57,\"\")","v":""},{"$f":"IF(Eingabe!J57<>\"\",Eingabe!J57,\"\")","v":""},{"$f":"IF(Eingabe!K57<>\"\",Eingabe!K57,\"\")","v":""},{"$f":"IF(Eingabe!O57<>\"\",Eingabe!O57,\"\")","v":""},{"$f":"IF(Eingabe!N57<>\"\",Eingabe!N57,\"\")","v":""},{"$f":"IF(Eingabe!P57<>\"\",Eingabe!P57,\"\")","v":""},{"$f":"IF(Eingabe!B57<>\"\",Eingabe!B57,\"\")","v":""}]
[null,null,{"$f":"IF(Eingabe!F58<>\"\",Eingabe!F58,\"\")","v":""},{"$f":"IF(Eingabe!E58<>\"\",Eingabe!E58,\"\")","v":""},{"$f":"IF(Eingabe!D58<>\"\",Eingabe!D58,\"\")","v":""},{"$f":"IF(Eingabe!G58<>\"\",Eingabe!G58,\"\")","v":""},{"$f":"IF(Eingabe!C58=\"\",\"\",IF(Eingabe!C58=\"Herr\",\"männlich\",\"weiblich\"))","v":""},{"$f":"Eingabe!H58&\" \"&Eingabe!I58","v":" "},{"$f":"IF(Eingabe!L58<>\"\",Eingabe!L58,\"\")","v":""},{"$f":"IF(Eingabe!J58<>\"\",Eingabe!J58,\"\")","v":""},{"$f":"IF(Eingabe!K58<>\"\",Eingabe!K58,\"\")","v":""},{"$f":"IF(Eingabe!O58<>\"\",Eingabe!O58,\"\")","v":""},{"$f":"IF(Eingabe!N58<>\"\",Eingabe!N58,\"\")","v":""},{"$f":"IF(Eingabe!P58<>\"\",Eingabe!P58,\"\")","v":""},{"$f":"IF(Eingabe!B58<>\"\",Eingabe!B58,\"\")","v":""}]
[null,null,{"$f":"IF(Eingabe!F59<>\"\",Eingabe!F59,\"\")","v":""},{"$f":"IF(Eingabe!E59<>\"\",Eingabe!E59,\"\")","v":""},{"$f":"IF(Eingabe!D59<>\"\",Eingabe!D59,\"\")","v":""},{"$f":"IF(Eingabe!G59<>\"\",Eingabe!G59,\"\")","v":""},{"$f":"IF(Eingabe!C59=\"\",\"\",IF(Eingabe!C59=\"Herr\",\"männlich\",\"weiblich\"))","v":""},{"$f":"Eingabe!H59&\" \"&Eingabe!I59","v":" "},{"$f":"IF(Eingabe!L59<>\"\",Eingabe!L59,\"\")","v":""},{"$f":"IF(Eingabe!J59<>\"\",Eingabe!J59,\"\")","v":""},{"$f":"IF(Eingabe!K59<>\"\",Eingabe!K59,\"\")","v":""},{"$f":"IF(Eingabe!O59<>\"\",Eingabe!O59,\"\")","v":""},{"$f":"IF(Eingabe!N59<>\"\",Eingabe!N59,\"\")","v":""},{"$f":"IF(Eingabe!P59<>\"\",Eingabe!P59,\"\")","v":""},{"$f":"IF(Eingabe!B59<>\"\",Eingabe!B59,\"\")","v":""}]
[null,null,{"$f":"IF(Eingabe!F60<>\"\",Eingabe!F60,\"\")","v":""},{"$f":"IF(Eingabe!E60<>\"\",Eingabe!E60,\"\")","v":""},{"$f":"IF(Eingabe!D60<>\"\",Eingabe!D60,\"\")","v":""},{"$f":"IF(Eingabe!G60<>\"\",Eingabe!G60,\"\")","v":""},{"$f":"IF(Eingabe!C60=\"\",\"\",IF(Eingabe!C60=\"Herr\",\"männlich\",\"weiblich\"))","v":""},{"$f":"Eingabe!H60&\" \"&Eingabe!I60","v":" "},{"$f":"IF(Eingabe!L60<>\"\",Eingabe!L60,\"\")","v":""},{"$f":"IF(Eingabe!J60<>\"\",Eingabe!J60,\"\")","v":""},{"$f":"IF(Eingabe!K60<>\"\",Eingabe!K60,\"\")","v":""},{"$f":"IF(Eingabe!O60<>\"\",Eingabe!O60,\"\")","v":""},{"$f":"IF(Eingabe!N60<>\"\",Eingabe!N60,\"\")","v":""},{"$f":"IF(Eingabe!P60<>\"\",Eingabe!P60,\"\")","v":""},{"$f":"IF(Eingabe!B60<>\"\",Eingabe!B60,\"\")","v":""}]
[null,null,{"$f":"IF(Eingabe!F61<>\"\",Eingabe!F61,\"\")","v":""},{"$f":"IF(Eingabe!E61<>\"\",Eingabe!E61,\"\")","v":""},{"$f":"IF(Eingabe!D61<>\"\",Eingabe!D61,\"\")","v":""},{"$f":"IF(Eingabe!G61<>\"\",Eingabe!G61,\"\")","v":""},{"$f":"IF(Eingabe!C61=\"\",\"\",IF(Eingabe!C61=\"Herr\",\"männlich\",\"weiblich\"))","v":""},{"$f":"Eingabe!H61&\" \"&Eingabe!I61","v":" "},{"$f":"IF(Eingabe!L61<>\"\",Eingabe!L61,\"\")","v":""},{"$f":"IF(Eingabe!J61<>\"\",Eingabe!J61,\"\")","v":""},{"$f":"IF(Eingabe!K61<>\"\",Eingabe!K61,\"\")","v":""},{"$f":"IF(Eingabe!O61<>\"\",Eingabe!O61,\"\")","v":""},{"$f":"IF(Eingabe!N61<>\"\",Eingabe!N61,\"\")","v":""},{"$f":"IF(Eingabe!P61<>\"\",Eingabe!P61,\"\")","v":""},{"$f":"IF(Eingabe!B61<>\"\",Eingabe!B61,\"\")","v":""}]
[null,null,{"$f":"IF(Eingabe!F62<>\"\",Eingabe!F62,\"\")","v":""},{"$f":"IF(Eingabe!E62<>\"\",Eingabe!E62,\"\")","v":""},{"$f":"IF(Eingabe!D62<>\"\",Eingabe!D62,\"\")","v":""},{"$f":"IF(Eingabe!G62<>\"\",Eingabe!G62,\"\")","v":""},{"$f":"IF(Eingabe!C62=\"\",\"\",IF(Eingabe!C62=\"Herr\",\"männlich\",\"weiblich\"))","v":""},{"$f":"Eingabe!H62&\" \"&Eingabe!I62","v":" "},{"$f":"IF(Eingabe!L62<>\"\",Eingabe!L62,\"\")","v":""},{"$f":"IF(Eingabe!J62<>\"\",Eingabe!J62,\"\")","v":""},{"$f":"IF(Eingabe!K62<>\"\",Eingabe!K62,\"\")","v":""},{"$f":"IF(Eingabe!O62<>\"\",Eingabe!O62,\"\")","v":""},{"$f":"IF(Eingabe!N62<>\"\",Eingabe!N62,\"\")","v":""},{"$f":"IF(Eingabe!P62<>\"\",Eingabe!P62,\"\")","v":""},{"$f":"IF(Eingabe!B62<>\"\",Eingabe!B62,\"\")","v":""}]
[null,null,{"$f":"IF(Eingabe!F63<>\"\",Eingabe!F63,\"\")","v":""},{"$f":"IF(Eingabe!E63<>\"\",Eingabe!E63,\"\")","v":""},{"$f":"IF(Eingabe!D63<>\"\",Eingabe!D63,\"\")","v":""},{"$f":"IF(Eingabe!G63<>\"\",Eingabe!G63,\"\")","v":""},{"$f":"IF(Eingabe!C63=\"\",\"\",IF(Eingabe!C63=\"Herr\",\"männlich\",\"weiblich\"))","v":""},{"$f":"Eingabe!H63&\" \"&Eingabe!I63","v":" "},{"$f":"IF(Eingabe!L63<>\"\",Eingabe!L63,\"\")","v":""},{"$f":"IF(Eingabe!J63<>\"\",Eingabe!J63,\"\")","v":""},{"$f":"IF(Eingabe!K63<>\"\",Eingabe!K63,\"\")","v":""},{"$f":"IF(Eingabe!O63<>\"\",Eingabe!O63,\"\")","v":""},{"$f":"IF(Eingabe!N63<>\"\",Eingabe!N63,\"\")","v":""},{"$f":"IF(Eingabe!P63<>\"\",Eingabe!P63,\"\")","v":""},{"$f":"IF(Eingabe!B63<>\"\",Eingabe!B63,\"\")","v":""}]
[null,null,{"$f":"IF(Eingabe!F64<>\"\",Eingabe!F64,\"\")","v":""},{"$f":"IF(Eingabe!E64<>\"\",Eingabe!E64,\"\")","v":""},{"$f":"IF(Eingabe!D64<>\"\",Eingabe!D64,\"\")","v":""},{"$f":"IF(Eingabe!G64<>\"\",Eingabe!G64,\"\")","v":""},{"$f":"IF(Eingabe!C64=\"\",\"\",IF(Eingabe!C64=\"Herr\",\"männlich\",\"weiblich\"))","v":""},{"$f":"Eingabe!H64&\" \"&Eingabe!I64","v":" "},{"$f":"IF(Eingabe!L64<>\"\",Eingabe!L64,\"\")","v":""},{"$f":"IF(Eingabe!J64<>\"\",Eingabe!J64,\"\")","v":""},{"$f":"IF(Eingabe!K64<>\"\",Eingabe!K64,\"\")","v":""},{"$f":"IF(Eingabe!O64<>\"\",Eingabe!O64,\"\")","v":""},{"$f":"IF(Eingabe!N64<>\"\",Eingabe!N64,\"\")","v":""},{"$f":"IF(Eingabe!P64<>\"\",Eingabe!P64,\"\")","v":""},{"$f":"IF(Eingabe!B64<>\"\",Eingabe!B64,\"\")","v":""}]
[null,null,{"$f":"IF(Eingabe!F65<>\"\",Eingabe!F65,\"\")","v":""},{"$f":"IF(Eingabe!E65<>\"\",Eingabe!E65,\"\")","v":""},{"$f":"IF(Eingabe!D65<>\"\",Eingabe!D65,\"\")","v":""},{"$f":"IF(Eingabe!G65<>\"\",Eingabe!G65,\"\")","v":""},{"$f":"IF(Eingabe!C65=\"\",\"\",IF(Eingabe!C65=\"Herr\",\"männlich\",\"weiblich\"))","v":""},{"$f":"Eingabe!H65&\" \"&Eingabe!I65","v":" "},{"$f":"IF(Eingabe!L65<>\"\",Eingabe!L65,\"\")","v":""},{"$f":"IF(Eingabe!J65<>\"\",Eingabe!J65,\"\")","v":""},{"$f":"IF(Eingabe!K65<>\"\",Eingabe!K65,\"\")","v":""},{"$f":"IF(Eingabe!O65<>\"\",Eingabe!O65,\"\")","v":""},{"$f":"IF(Eingabe!N65<>\"\",Eingabe!N65,\"\")","v":""},{"$f":"IF(Eingabe!P65<>\"\",Eingabe!P65,\"\")","v":""},{"$f":"IF(Eingabe!B65<>\"\",Eingabe!B65,\"\")","v":""}]
[null,null,{"$f":"IF(Eingabe!F66<>\"\",Eingabe!F66,\"\")","v":""},{"$f":"IF(Eingabe!E66<>\"\",Eingabe!E66,\"\")","v":""},{"$f":"IF(Eingabe!D66<>\"\",Eingabe!D66,\"\")","v":""},{"$f":"IF(Eingabe!G66<>\"\",Eingabe!G66,\"\")","v":""},{"$f":"IF(Eingabe!C66=\"\",\"\",IF(Eingabe!C66=\"Herr\",\"männlich\",\"weiblich\"))","v":""},{"$f":"Eingabe!H66&\" \"&Eingabe!I66","v":" "},{"$f":"IF(Eingabe!L66<>\"\",Eingabe!L66,\"\")","v":""},{"$f":"IF(Eingabe!J66<>\"\",Eingabe!J66,\"\")","v":""},{"$f":"IF(Eingabe!K66<>\"\",Eingabe!K66,\"\")","v":""},{"$f":"IF(Eingabe!O66<>\"\",Eingabe!O66,\"\")","v":""},{"$f":"IF(Eingabe!N66<>\"\",Eingabe!N66,\"\")","v":""},{"$f":"IF(Eingabe!P66<>\"\",Eingabe!P66,\"\")","v":""},{"$f":"IF(Eingabe!B66<>\"\",Eingabe!B66,\"\")","v":""}]
[null,null,{"$f":"IF(Eingabe!F67<>\"\",Eingabe!F67,\"\")","v":""},{"$f":"IF(Eingabe!E67<>\"\",Eingabe!E67,\"\")","v":""},{"$f":"IF(Eingabe!D67<>\"\",Eingabe!D67,\"\")","v":""},{"$f":"IF(Eingabe!G67<>\"\",Eingabe!G67,\"\")","v":""},{"$f":"IF(Eingabe!C67=\"\",\"\",IF(Eingabe!C67=\"Herr\",\"männlich\",\"weiblich\"))","v":""},{"$f":"Eingabe!H67&\" \"&Eingabe!I67","v":" "},{"$f":"IF(Eingabe!L67<>\"\",Eingabe!L67,\"\")","v":""},{"$f":"IF(Eingabe!J67<>\"\",Eingabe!J67,\"\")","v":""},{"$f":"IF(Eingabe!K67<>\"\",Eingabe!K67,\"\")","v":""},{"$f":"IF(Eingabe!O67<>\"\",Eingabe!O67,\"\")","v":""},{"$f":"IF(Eingabe!N67<>\"\",Eingabe!N67,\"\")","v":""},{"$f":"IF(Eingabe!P67<>\"\",Eingabe!P67,\"\")","v":""},{"$f":"IF(Eingabe!B67<>\"\",Eingabe!B67,\"\")","v":""}]
[null,null,{"$f":"IF(Eingabe!F68<>\"\",Eingabe!F68,\"\")","v":""},{"$f":"IF(Eingabe!E68<>\"\",Eingabe!E68,\"\")","v":""},{"$f":"IF(Eingabe!D68<>\"\",Eingabe!D68,\"\")","v":""},{"$f":"IF(Eingabe!G68<>\"\",Eingabe!G68,\"\")","v":""},{"$f":"IF(Eingabe!C68=\"\",\"\",IF(Eingabe!C68=\"Herr\",\"männlich\",\"weiblich\"))","v":""},{"$f":"Eingabe!H68&\" \"&Eingabe!I68","v":" "},{"$f":"IF(Eingabe!L68<>\"\",Eingabe!L68,\"\")","v":""},{"$f":"IF(Eingabe!J68<>\"\",Eingabe!J68,\"\")","v":""},{"$f":"IF(Eingabe!K68<>\"\",Eingabe!K68,\"\")","v":""},{"$f":"IF(Eingabe!O68<>\"\",Eingabe!O68,\"\")","v":""},{"$f":"IF(Eingabe!N68<>\"\",Eingabe!N68,\"\")","v":""},{"$f":"IF(Eingabe!P68<>\"\",Eingabe!P68,\"\")","v":""},{"$f":"IF(Eingabe!B68<>\"\",Eingabe!B68,\"\")","v":""}]
[null,null,{"$f":"IF(Eingabe!F69<>\"\",Eingabe!F69,\"\")","v":""},{"$f":"IF(Eingabe!E69<>\"\",Eingabe!E69,\"\")","v":""},{"$f":"IF(Eingabe!D69<>\"\",Eingabe!D69,\"\")","v":""},{"$f":"IF(Eingabe!G69<>\"\",Eingabe!G69,\"\")","v":""},{"$f":"IF(Eingabe!C69=\"\",\"\",IF(Eingabe!C69=\"Herr\",\"männlich\",\"weiblich\"))","v":""},{"$f":"Eingabe!H69&\" \"&Eingabe!I69","v":" "},{"$f":"IF(Eingabe!L69<>\"\",Eingabe!L69,\"\")","v":""},{"$f":"IF(Eingabe!J69<>\"\",Eingabe!J69,\"\")","v":""},{"$f":"IF(Eingabe!K69<>\"\",Eingabe!K69,\"\")","v":""},{"$f":"IF(Eingabe!O69<>\"\",Eingabe!O69,\"\")","v":""},{"$f":"IF(Eingabe!N69<>\"\",Eingabe!N69,\"\")","v":""},{"$f":"IF(Eingabe!P69<>\"\",Eingabe!P69,\"\")","v":""},{"$f":"IF(Eingabe!B69<>\"\",Eingabe!B69,\"\")","v":""}]
[null,null,{"$f":"IF(Eingabe!F70<>\"\",Eingabe!F70,\"\")","v":""},{"$f":"IF(Eingabe!E70<>\"\",Eingabe!E70,\"\")","v":""},{"$f":"IF(Eingabe!D70<>\"\",Eingabe!D70,\"\")","v":""},{"$f":"IF(Eingabe!G70<>\"\",Eingabe!G70,\"\")","v":""},{"$f":"IF(Eingabe!C70=\"\",\"\",IF(Eingabe!C70=\"Herr\",\"männlich\",\"weiblich\"))","v":""},{"$f":"Eingabe!H70&\" \"&Eingabe!I70","v":" "},{"$f":"IF(Eingabe!L70<>\"\",Eingabe!L70,\"\")","v":""},{"$f":"IF(Eingabe!J70<>\"\",Eingabe!J70,\"\")","v":""},{"$f":"IF(Eingabe!K70<>\"\",Eingabe!K70,\"\")","v":""},{"$f":"IF(Eingabe!O70<>\"\",Eingabe!O70,\"\")","v":""},{"$f":"IF(Eingabe!N70<>\"\",Eingabe!N70,\"\")","v":""},{"$f":"IF(Eingabe!P70<>\"\",Eingabe!P70,\"\")","v":""},{"$f":"IF(Eingabe!B70<>\"\",Eingabe!B70,\"\")","v":""}]
[null,null,{"$f":"IF(Eingabe!F71<>\"\",Eingabe!F71,\"\")","v":""},{"$f":"IF(Eingabe!E71<>\"\",Eingabe!E71,\"\")","v":""},{"$f":"IF(Eingabe!D71<>\"\",Eingabe!D71,\"\")","v":""},{"$f":"IF(Eingabe!G71<>\"\",Eingabe!G71,\"\")","v":""},{"$f":"IF(Eingabe!C71=\"\",\"\",IF(Eingabe!C71=\"Herr\",\"männlich\",\"weiblich\"))","v":""},{"$f":"Eingabe!H71&\" \"&Eingabe!I71","v":" "},{"$f":"IF(Eingabe!L71<>\"\",Eingabe!L71,\"\")","v":""},{"$f":"IF(Eingabe!J71<>\"\",Eingabe!J71,\"\")","v":""},{"$f":"IF(Eingabe!K71<>\"\",Eingabe!K71,\"\")","v":""},{"$f":"IF(Eingabe!O71<>\"\",Eingabe!O71,\"\")","v":""},{"$f":"IF(Eingabe!N71<>\"\",Eingabe!N71,\"\")","v":""},{"$f":"IF(Eingabe!P71<>\"\",Eingabe!P71,\"\")","v":""},{"$f":"IF(Eingabe!B71<>\"\",Eingabe!B71,\"\")","v":""}]

{"sheet":"bAV_FONL","index":4,"n_rows":300,"n_cols":38,"rows_kept":300,"cut":false,"hidden":false,"merged":[]}
["Vertragsnummer","Personengruppennummer","Ordnungsmerkmal","Personalnummer","Anrede","Titel","Vorname","Nachname","Geburtsdatum","US-Person","Strasse","Hausnummer","Land","PLZ","Ort","Diensteintrittsdatum","Versicherungsbeginn","Garantieniveau","Beitragsgrenze","Beitragszahlungsweise","Beitragsfälligkeiten","Beitrag","Endalter","Endalter Beitragszahlung","Todesfallleistung ab Rentenbeginn","Einmalige Zuzahlung","Berufsunfähigkeit","Anteil sichere Verzinsung ","Anteil EURO STOXX 50","Anteil S&P 500","Arbeitgeber","Zusatz Arbeitgeber","Fremdvermittlernummer","Abweichende Vermittlernummer","Commerzbank Kooperationsnummer ","BNrB","Beitragserhöhung","Startdynamik"]
[{"$f":"IF(Eingabe!Q5<>\"\",Eingabe!Q5,\"\")","v":"5/123456"},{"$f":"IF(Eingabe!U5<>\"\",Eingabe!U5,\"\")","v":"2"},null,{"$f":"IF(Eingabe!B5<>\"\",Eingabe!B5,\"\")","v":1337},{"$f":"IF(Eingabe!C5<>\"\",Eingabe!C5,\"\")","v":"Herr"},{"$f":"IF(Eingabe!D5<>\"\",Eingabe!D5,\"\")","v":"Dr."},{"$f":"IF(Eingabe!E5<>\"\",Eingabe!E5,\"\")","v":"Maxmilian"},{"$f":"IF(Eingabe!F5<>\"\",Eingabe!F5,\"\")","v":"Musterperson"},{"$f":"IF(Eingabe!G5<>\"\",Eingabe!G5,\"\")","v":"1988-05-23"},null,{"$f":"IF(Eingabe!H5<>\"\",Eingabe!H5,\"\")","v":"Reinsburgstr."},{"$f":"IF(Eingabe!I5<>\"\",Eingabe!I5,\"\")","v":19},{"$f":"IF(Eingabe!L5<>\"\",Eingabe!L5,\"\")","v":"Deutschland"},{"$f":"IF(Eingabe!J5<>\"\",Eingabe!J5,\"\")","v":70178},{"$f":"IF(Eingabe!K5<>\"\",Eingabe!K5,\"\")","v":"Stuttgart"},{"$f":"IF(Eingabe!R5<>\"\",Eingabe!R5,\"\")","v":"2005-01-01"},{"$f":"IF(Eingabe!S5<>\"\",Eingabe!S5,\"\")","v":"2024-01-01"},null,null,null,null,{"$f":"IF(Eingabe!V5<>\"\",Eingabe!V5,\"\")","v":50},{"$f":"IF(Eingabe!W5<>\"\",Eingabe!W5,\"\")","v":67}]
[{"$f":"IF(Eingabe!Q6<>\"\",Eingabe!Q6,\"\")","v":"5/123456"},{"$f":"IF(Eingabe!U6<>\"\",Eingabe!U6,\"\")","v":"3"},null,{"$f":"IF(Eingabe!B6<>\"\",Eingabe!B6,\"\")","v":1338},{"$f":"IF(Eingabe!C6<>\"\",Eingabe!C6,\"\")","v":"Frau"},{"$f":"IF(Eingabe!D6<>\"\",Eingabe!D6,\"\")","v":""},{"$f":"IF(Eingabe!E6<>\"\",Eingabe!E6,\"\")","v":"Edeltraud"},{"$f":"IF(Eingabe!F6<>\"\",Eingabe!F6,\"\")","v":"Musterfrau"},{"$f":"IF(Eingabe!G6<>\"\",Eingabe!G6,\"\")","v":"1999-02-01"},null,{"$f":"IF(Eingabe!H6<>\"\",Eingabe!H6,\"\")","v":"Königstr."},{"$f":"IF(Eingabe!I6<>\"\",Eingabe!I6,\"\")","v":113},{"$f":"IF(Eingabe!L6<>\"\",Eingabe!L6,\"\")","v":"Deutschland"},{"$f":"IF(Eingabe!J6<>\"\",Eingabe!J6,\"\")","v":70174},{"$f":"IF(Eingabe!K6<>\"\",Eingabe!K6,\"\")","v":"Stuttgart"},{"$f":"IF(Eingabe!R6<>\"\",Eingabe!R6,\"\")","v":"2005-01-01"},{"$f":"IF(Eingabe!S6<>\"\",Eingabe!S6,\"\")","v":"2024-01-01"},null,null,null,null,{"$f":"IF(Eingabe!V6<>\"\",Eingabe!V6,\"\")","v":50},{"$f":"IF(Eingabe!W6<>\"\",Eingabe!W6,\"\")","v":67}]
[{"$f":"IF(Eingabe!Q7<>\"\",Eingabe!Q7,\"\")","v":""},{"$f":"IF(Eingabe!U7<>\"\",Eingabe!U7,\"\")","v":""},null,{"$f":"IF(Eingabe!B7<>\"\",Eingabe!B7,\"\")","v":1339},{"$f":"IF(Eingabe!C7<>\"\",Eingabe!C7,\"\")","v":"Herr"},{"$f":"IF(Eingabe!D7<>\"\",Eingabe!D7,\"\")","v":""},{"$f":"IF(Eingabe!E7<>\"\",Eingabe!E7,\"\")","v":"Friedbert"},{"$f":"IF(Eingabe!F7<>\"\",Eingabe!F7,\"\")","v":"Muster"},{"$f":"IF(Eingabe!G7<>\"\",Eingabe!G7,\"\")","v":"1977-11-11"},null,{"$f":"IF(Eingabe!H7<>\"\",Eingabe!H7,\"\")","v":"Silberburgstr."},{"$f":"IF(Eingabe!I7<>\"\",Eingabe!I7,\"\")","v":55},{"$f":"IF(Eingabe!L7<>\"\",Eingabe!L7,\"\")","v":"Deutschland"},{"$f":"IF(Eingabe!J7<>\"\",Eingabe!J7,\"\")","v":70178},{"$f":"IF(Eingabe!K7<>\"\",Eingabe!K7,\"\")","v":"Stuttgart"},{"$f":"IF(Eingabe!R7<>\"\",Eingabe!R7,\"\")","v":""},{"$f":"IF(Eingabe!S7<>\"\",Eingabe!S7,\"\")","v":""},null,null,null,null,{"$f":"IF(Eingabe!V7<>\"\",Eingabe!V7,\"\")","v":""},{"$f":"IF(Eingabe!W7<>\"\",Eingabe!W7,\"\")","v":""}]
[{"$f":"IF(Eingabe!Q8<>\"\",Eingabe!Q8,\"\")","v":""},{"$f":"IF(Eingabe!U8<>\"\",Eingabe!U8,\"\")","v":""},null,{"$f":"IF(Eingabe!B8<>\"\",Eingabe!B8,\"\")","v":""},{"$f":"IF(Eingabe!C8<>\"\",Eingabe!C8,\"\")","v":""},{"$f":"IF(Eingabe!D8<>\"\",Eingabe!D8,\"\")","v":""},{"$f":"IF(Eingabe!E8<>\"\",Eingabe!E8,\"\")","v":""},{"$f":"IF(Eingabe!F8<>\"\",Eingabe!F8,\"\")","v":""},{"$f":"IF(Eingabe!G8<>\"\",Eingabe!G8,\"\")","v":""},null,{"$f":"IF(Eingabe!H8<>\"\",Eingabe!H8,\"\")","v":""},{"$f":"IF(Eingabe!I8<>\"\",Eingabe!I8,\"\")","v":""},{"$f":"IF(Eingabe!L8<>\"\",Eingabe!L8,\"\")","v":""},{"$f":"IF(Eingabe!J8<>\"\",Eingabe!J8,\"\")","v":""},{"$f":"IF(Eingabe!K8<>\"\",Eingabe!K8,\"\")","v":""},{"$f":"IF(Eingabe!R8<>\"\",Eingabe!R8,\"\")","v":""},{"$f":"IF(Eingabe!S8<>\"\",Eingabe!S8,\"\")","v":""},null,null,null,null,{"$f":"IF(Eingabe!V8<>\"\",Eingabe!V8,\"\")","v":""},{"$f":"IF(Eingabe!W8<>\"\",Eingabe!W8,\"\")","v":""}]
[{"$f":"IF(Eingabe!Q9<>\"\",Eingabe!Q9,\"\")","v":""},{"$f":"IF(Eingabe!U9<>\"\",Eingabe!U9,\"\")","v":""},null,{"$f":"IF(Eingabe!B9<>\"\",Eingabe!B9,\"\")","v":""},{"$f":"IF(Eingabe!C9<>\"\",Eingabe!C9,\"\")","v":""},{"$f":"IF(Eingabe!D9<>\"\",Eingabe!D9,\"\")","v":""},{"$f":"IF(Eingabe!E9<>\"\",Eingabe!E9,\"\")","v":""},{"$f":"IF(Eingabe!F9<>\"\",Eingabe!F9,\"\")","v":""},{"$f":"IF(Eingabe!G9<>\"\",Eingabe!G9,\"\")","v":""},null,{"$f":"IF(Eingabe!H9<>\"\",Eingabe!H9,\"\")","v":""},{"$f":"IF(Eingabe!I9<>\"\",Eingabe!I9,\"\")","v":""},{"$f":"IF(Eingabe!L9<>\"\",Eingabe!L9,\"\")","v":""},{"$f":"IF(Eingabe!J9<>\"\",Eingabe!J9,\"\")","v":""},{"$f":"IF(Eingabe!K9<>\"\",Eingabe!K9,\"\")","v":""},{"$f":"IF(Eingabe!R9<>\"\",Eingabe!R9,\"\")","v":""},{"$f":"IF(Eingabe!S9<>\"\",Eingabe!S9,\"\")","v":""},null,null,null,null,{"$f":"IF(Eingabe!V9<>\"\",Eingabe!V9,\"\")","v":""},{"$f":"IF(Eingabe!W9<>\"\",Eingabe!W9,\"\")","v":""}]
[{"$f":"IF(Eingabe!Q10<>\"\",Eingabe!Q10,\"\")","v":""},{"$f":"IF(Eingabe!U10<>\"\",Eingabe!U10,\"\")","v":""},null,{"$f":"IF(Eingabe!B10<>\"\",Eingabe!B10,\"\")","v":""},{"$f":"IF(Eingabe!C10<>\"\",Eingabe!C10,\"\")","v":""},{"$f":"IF(Eingabe!D10<>\"\",Eingabe!D10,\"\")","v":""},{"$f":"IF(Eingabe!E10<>\"\",Eingabe!E10,\"\")","v":""},{"$f":"IF(Eingabe!F10<>\"\",Eingabe!F10,\"\")","v":""},{"$f":"IF(Eingabe!G10<>\"\",Eingabe!G10,\"\")","v":""},null,{"$f":"IF(Eingabe!H10<>\"\",Eingabe!H10,\"\")","v":""},{"$f":"IF(Eingabe!I10<>\"\",Eingabe!I10,\"\")","v":""},{"$f":"IF(Eingabe!L10<>\"\",Eingabe!L10,\"\")","v":""},{"$f":"IF(Eingabe!J10<>\"\",Eingabe!J10,\"\")","v":""},{"$f":"IF(Eingabe!K10<>\"\",Eingabe!K10,\"\")","v":""},{"$f":"IF(Eingabe!R10<>\"\",Eingabe!R10,\"\")","v":""},{"$f":"IF(Eingabe!S10<>\"\",Eingabe!S10,\"\")","v":""},null,null,null,null,{"$f":"IF(Eingabe!V10<>\"\",Eingabe!V10,\"\")","v":""},{"$f":"IF(Eingabe!W10<>\"\",Eingabe!W10,\"\")","v":""}]
[{"$f":"IF(Eingabe!Q11<>\"\",Eingabe!Q11,\"\")","v":""},{"$f":"IF(Eingabe!U11<>\"\",Eingabe!U11,\"\")","v":""},null,{"$f":"IF(Eingabe!B11<>\"\",Eingabe!B11,\"\")","v":""},{"$f":"IF(Eingabe!C11<>\"\",Eingabe!C11,\"\")","v":""},{"$f":"IF(Eingabe!D11<>\"\",Eingabe!D11,\"\")","v":""},{"$f":"IF(Eingabe!E11<>\"\",Eingabe!E11,\"\")","v":""},{"$f":"IF(Eingabe!F11<>\"\",Eingabe!F11,\"\")","v":""},{"$f":"IF(Eingabe!G11<>\"\",Eingabe!G11,\"\")","v":""},null,{"$f":"IF(Eingabe!H11<>\"\",Eingabe!H11,\"\")","v":""},{"$f":"IF(Eingabe!I11<>\"\",Eingabe!I11,\"\")","v":""},{"$f":"IF(Eingabe!L11<>\"\",Eingabe!L11,\"\")","v":""},{"$f":"IF(Eingabe!J11<>\"\",Eingabe!J11,\"\")","v":""},{"$f":"IF(Eingabe!K11<>\"\",Eingabe!K11,\"\")","v":""},{"$f":"IF(Eingabe!R11<>\"\",Eingabe!R11,\"\")","v":""},{"$f":"IF(Eingabe!S11<>\"\",Eingabe!S11,\"\")","v":""},null,null,null,null,{"$f":"IF(Eingabe!V11<>\"\",Eingabe!V11,\"\")","v":""},{"$f":"IF(Eingabe!W11<>\"\",Eingabe!W11,\"\")","v":""}]
[{"$f":"IF(Eingabe!Q12<>\"\",Eingabe!Q12,\"\")","v":""},{"$f":"IF(Eingabe!U12<>\"\",Eingabe!U12,\"\")","v":""},null,{"$f":"IF(Eingabe!B12<>\"\",Eingabe!B12,\"\")","v":""},{"$f":"IF(Eingabe!C12<>\"\",Eingabe!C12,\"\")","v":""},{"$f":"IF(Eingabe!D12<>\"\",Eingabe!D12,\"\")","v":""},{"$f":"IF(Eingabe!E12<>\"\",Eingabe!E12,\"\")","v":""},{"$f":"IF(Eingabe!F12<>\"\",Eingabe!F12,\"\")","v":""},{"$f":"IF(Eingabe!G12<>\"\",Eingabe!G12,\"\")","v":""},null,{"$f":"IF(Eingabe!H12<>\"\",Eingabe!H12,\"\")","v":""},{"$f":"IF(Eingabe!I12<>\"\",Eingabe!I12,\"\")","v":""},{"$f":"IF(Eingabe!L12<>\"\",Eingabe!L12,\"\")","v":""},{"$f":"IF(Eingabe!J12<>\"\",Eingabe!J12,\"\")","v":""},{"$f":"IF(Eingabe!K12<>\"\",Eingabe!K12,\"\")","v":""},{"$f":"IF(Eingabe!R12<>\"\",Eingabe!R12,\"\")","v":""},{"$f":"IF(Eingabe!S12<>\"\",Eingabe!S12,\"\")","v":""},null,null,null,null,{"$f":"IF(Eingabe!V12<>\"\",Eingabe!V12,\"\")","v":""},{"$f":"IF(Eingabe!W12<>\"\",Eingabe!W12,\"\")","v":""}]
[{"$f":"IF(Eingabe!Q13<>\"\",Eingabe!Q13,\"\")","v":""},{"$f":"IF(Eingabe!U13<>\"\",Eingabe!U13,\"\")","v":""},null,{"$f":"IF(Eingabe!B13<>\"\",Eingabe!B13,\"\")","v":""},{"$f":"IF(Eingabe!C13<>\"\",Eingabe!C13,\"\")","v":""},{"$f":"IF(Eingabe!D13<>\"\",Eingabe!D13,\"\")","v":""},{"$f":"IF(Eingabe!E13<>\"\",Eingabe!E13,\"\")","v":""},{"$f":"IF(Eingabe!F13<>\"\",Eingabe!F13,\"\")","v":""},{"$f":"IF(Eingabe!G13<>\"\",Eingabe!G13,\"\")","v":""},null,{"$f":"IF(Eingabe!H13<>\"\",Eingabe!H13,\"\")","v":""},{"$f":"IF(Eingabe!I13<>\"\",Eingabe!I13,\"\")","v":""},{"$f":"IF(Eingabe!L13<>\"\",Eingabe!L13,\"\")","v":""},{"$f":"IF(Eingabe!J13<>\"\",Eingabe!J13,\"\")","v":""},{"$f":"IF(Eingabe!K13<>\"\",Eingabe!K13,\"\")","v":""},{"$f":"IF(Eingabe!R13<>\"\",Eingabe!R13,\"\")","v":""},{"$f":"IF(Eingabe!S13<>\"\",Eingabe!S13,\"\")","v":""},null,null,null,null,{"$f":"IF(Eingabe!V13<>\"\",Eingabe!V13,\"\")","v":""},{"$f":"IF(Eingabe!W13<>\"\",Eingabe!W13,\"\")","v":""}]
[{"$f":"IF(Eingabe!Q14<>\"\",Eingabe!Q14,\"\")","v":""},{"$f":"IF(Eingabe!U14<>\"\",Eingabe!U14,\"\")","v":""},null,{"$f":"IF(Eingabe!B14<>\"\",Eingabe!B14,\"\")","v":""},{"$f":"IF(Eingabe!C14<>\"\",Eingabe!C14,\"\")","v":""},{"$f":"IF(Eingabe!D14<>\"\",Eingabe!D14,\"\")","v":""},{"$f":"IF(Eingabe!E14<>\"\",Eingabe!E14,\"\")","v":""},{"$f":"IF(Eingabe!F14<>\"\",Eingabe!F14,\"\")","v":""},{"$f":"IF(Eingabe!G14<>\"\",Eingabe!G14,\"\")","v":""},null,{"$f":"IF(Eingabe!H14<>\"\",Eingabe!H14,\"\")","v":""},{"$f":"IF(Eingabe!I14<>\"\",Eingabe!I14,\"\")","v":""},{"$f":"IF(Eingabe!L14<>\"\",Eingabe!L14,\"\")","v":""},{"$f":"IF(Eingabe!J14<>\"\",Eingabe!J14,\"\")","v":""},{"$f":"IF(Eingabe!K14<>\"\",Eingabe!K14,\"\")","v":""},{"$f":"IF(Eingabe!R14<>\"\",Eingabe!R14,\"\")","v":""},{"$f":"IF(Eingabe!S14<>\"\",Eingabe!S14,\"\")","v":""},null,null,null,null,{"$f":"IF(Eingabe!V14<>\"\",Eingabe!V14,\"\")","v":""},{"$f":"IF(Eingabe!W14<>\"\",Eingabe!W14,\"\")","v":""}]
[{"$f":"IF(Eingabe!Q15<>\"\",Eingabe!Q15,\"\")","v":""},{"$f":"IF(Eingabe!U15<>\"\",Eingabe!U15,\"\")","v":""},null,{"$f":"IF(Eingabe!B15<>\"\",Eingabe!B15,\"\")","v":""},{"$f":"IF(Eingabe!C15<>\"\",Eingabe!C15,\"\")","v":""},{"$f":"IF(Eingabe!D15<>\"\",Eingabe!D15,\"\")","v":""},{"$f":"IF(Eingabe!E15<>\"\",Eingabe!E15,\"\")","v":""},{"$f":"IF(Eingabe!F15<>\"\",Eingabe!F15,\"\")","v":""},{"$f":"IF(Eingabe!G15<>\"\",Eingabe!G15,\"\")","v":""},null,{"$f":"IF(Eingabe!H15<>\"\",Eingabe!H15,\"\")","v":""},{"$f":"IF(Eingabe!I15<>\"\",Eingabe!I15,\"\")","v":""},{"$f":"IF(Eingabe!L15<>\"\",Eingabe!L15,\"\")","v":""},{"$f":"IF(Eingabe!J15<>\"\",Eingabe!J15,\"\")","v":""},{"$f":"IF(Eingabe!K15<>\"\",Eingabe!K15,\"\")","v":""},{"$f":"IF(Eingabe!R15<>\"\",Eingabe!R15,\"\")","v":""},{"$f":"IF(Eingabe!S15<>\"\",Eingabe!S15,\"\")","v":""},null,null,null,null,{"$f":"IF(Eingabe!V15<>\"\",Eingabe!V15,\"\")","v":""},{"$f":"IF(Eingabe!W15<>\"\",Eingabe!W15,\"\")","v":""}]
[{"$f":"IF(Eingabe!Q16<>\"\",Eingabe!Q16,\"\")","v":""},{"$f":"IF(Eingabe!U16<>\"\",Eingabe!U16,\"\")","v":""},null,{"$f":"IF(Eingabe!B16<>\"\",Eingabe!B16,\"\")","v":""},{"$f":"IF(Eingabe!C16<>\"\",Eingabe!C16,\"\")","v":""},{"$f":"IF(Eingabe!D16<>\"\",Eingabe!D16,\"\")","v":""},{"$f":"IF(Eingabe!E16<>\"\",Eingabe!E16,\"\")","v":""},{"$f":"IF(Eingabe!F16<>\"\",Eingabe!F16,\"\")","v":""},{"$f":"IF(Eingabe!G16<>\"\",Eingabe!G16,\"\")","v":""},null,{"$f":"IF(Eingabe!H16<>\"\",Eingabe!H16,\"\")","v":""},{"$f":"IF(Eingabe!I16<>\"\",Eingabe!I16,\"\")","v":""},{"$f":"IF(Eingabe!L16<>\"\",Eingabe!L16,\"\")","v":""},{"$f":"IF(Eingabe!J16<>\"\",Eingabe!J16,\"\")","v":""},{"$f":"IF(Eingabe!K16<>\"\",Eingabe!K16,\"\")","v":""},{"$f":"IF(Eingabe!R16<>\"\",Eingabe!R16,\"\")","v":""},{"$f":"IF(Eingabe!S16<>\"\",Eingabe!S16,\"\")","v":""},null,null,null,null,{"$f":"IF(Eingabe!V16<>\"\",Eingabe!V16,\"\")","v":""},{"$f":"IF(Eingabe!W16<>\"\",Eingabe!W16,\"\")","v":""}]
[{"$f":"IF(Eingabe!Q17<>\"\",Eingabe!Q17,\"\")","v":""},{"$f":"IF(Eingabe!U17<>\"\",Eingabe!U17,\"\")","v":""},null,{"$f":"IF(Eingabe!B17<>\"\",Eingabe!B17,\"\")","v":""},{"$f":"IF(Eingabe!C17<>\"\",Eingabe!C17,\"\")","v":""},{"$f":"IF(Eingabe!D17<>\"\",Eingabe!D17,\"\")","v":""},{"$f":"IF(Eingabe!E17<>\"\",Eingabe!E17,\"\")","v":""},{"$f":"IF(Eingabe!F17<>\"\",Eingabe!F17,\"\")","v":""},{"$f":"IF(Eingabe!G17<>\"\",Eingabe!G17,\"\")","v":""},null,{"$f":"IF(Eingabe!H17<>\"\",Eingabe!H17,\"\")","v":""},{"$f":"IF(Eingabe!I17<>\"\",Eingabe!I17,\"\")","v":""},{"$f":"IF(Eingabe!L17<>\"\",Eingabe!L17,\"\")","v":""},{"$f":"IF(Eingabe!J17<>\"\",Eingabe!J17,\"\")","v":""},{"$f":"IF(Eingabe!K17<>\"\",Eingabe!K17,\"\")","v":""},{"$f":"IF(Eingabe!R17<>\"\",Eingabe!R17,\"\")","v":""},{"$f":"IF(Eingabe!S17<>\"\",Eingabe!S17,\"\")","v":""},null,null,null,null,{"$f":"IF(Eingabe!V17<>\"\",Eingabe!V17,\"\")","v":""},{"$f":"IF(Eingabe!W17<>\"\",Eingabe!W17,\"\")","v":""}]
[{"$f":"IF(Eingabe!Q18<>\"\",Eingabe!Q18,\"\")","v":""},{"$f":"IF(Eingabe!U18<>\"\",Eingabe!U18,\"\")","v":""},null,{"$f":"IF(Eingabe!B18<>\"\",Eingabe!B18,\"\")","v":""},{"$f":"IF(Eingabe!C18<>\"\",Eingabe!C18,\"\")","v":""},{"$f":"IF(Eingabe!D18<>\"\",Eingabe!D18,\"\")","v":""},{"$f":"IF(Eingabe!E18<>\"\",Eingabe!E18,\"\")","v":""},{"$f":"IF(Eingabe!F18<>\"\",Eingabe!F18,\"\")","v":""},{"$f":"IF(Eingabe!G18<>\"\",Eingabe!G18,\"\")","v":""},null,{"$f":"IF(Eingabe!H18<>\"\",Eingabe!H18,\"\")","v":""},{"$f":"IF(Eingabe!I18<>\"\",Eingabe!I18,\"\")","v":""},{"$f":"IF(Eingabe!L18<>\"\",Eingabe!L18,\"\")","v":""},{"$f":"IF(Eingabe!J18<>\"\",Eingabe!J18,\"\")","v":""},{"$f":"IF(Eingabe!K18<>\"\",Eingabe!K18,\"\")","v":""},{"$f":"IF(Eingabe!R18<>\"\",Eingabe!R18,\"\")","v":""},{"$f":"IF(Eingabe!S18<>\"\",Eingabe!S18,\"\")","v":""},null,null,null,null,{"$f":"IF(Eingabe!V18<>\"\",Eingabe!V18,\"\")","v":""},{"$f":"IF(Eingabe!W18<>\"\",Eingabe!W18,\"\")","v":""}]
[{"$f":"IF(Eingabe!Q19<>\"\",Eingabe!Q19,\"\")","v":""},{"$f":"IF(Eingabe!U19<>\"\",Eingabe!U19,\"\")","v":""},null,{"$f":"IF(Eingabe!B19<>\"\",Eingabe!B19,\"\")","v":""},{"$f":"IF(Eingabe!C19<>\"\",Eingabe!C19,\"\")","v":""},{"$f":"IF(Eingabe!D19<>\"\",Eingabe!D19,\"\")","v":""},{"$f":"IF(Eingabe!E19<>\"\",Eingabe!E19,\"\")","v":""},{"$f":"IF(Eingabe!F19<>\"\",Eingabe!F19,\"\")","v":""},{"$f":"IF(Eingabe!G19<>\"\",Eingabe!G19,\"\")","v":""},null,{"$f":"IF(Eingabe!H19<>\"\",Eingabe!H19,\"\")","v":""},{"$f":"IF(Eingabe!I19<>\"\",Eingabe!I19,\"\")","v":""},{"$f":"IF(Eingabe!L19<>\"\",Eingabe!L19,\"\")","v":""},{"$f":"IF(Eingabe!J19<>\"\",Eingabe!J19,\"\")","v":""},{"$f":"IF(Eingabe!K19<>\"\",Eingabe!K19,\"\")","v":""},{"$f":"IF(Eingabe!R19<>\"\",Eingabe!R19,\"\")","v":""},{"$f":"IF(Eingabe!S19<>\"\",Eingabe!S19,\"\")","v":""},null,null,null,null,{"$f":"IF(Eingabe!V19<>\"\",Eingabe!V19,\"\")","v":""},{"$f":"IF(Eingabe!W19<>\"\",Eingabe!W19,\"\")","v":""}]
[{"$f":"IF(Eingabe!Q20<>\"\",Eingabe!Q20,\"\")","v":""},{"$f":"IF(Eingabe!U20<>\"\",Eingabe!U20,\"\")","v":""},null,{"$f":"IF(Eingabe!B20<>\"\",Eingabe!B20,\"\")","v":""},{"$f":"IF(Eingabe!C20<>\"\",Eingabe!C20,\"\")","v":""},{"$f":"IF(Eingabe!D20<>\"\",Eingabe!D20,\"\")","v":""},{"$f":"IF(Eingabe!E20<>\"\",Eingabe!E20,\"\")","v":""},{"$f":"IF(Eingabe!F20<>\"\",Eingabe!F20,\"\")","v":""},{"$f":"IF(Eingabe!G20<>\"\",Eingabe!G20,\"\")","v":""},null,{"$f":"IF(Eingabe!H20<>\"\",Eingabe!H20,\"\")","v":""},{"$f":"IF(Eingabe!I20<>\"\",Eingabe!I20,\"\")","v":""},{"$f":"IF(Eingabe!L20<>\"\",Eingabe!L20,\"\")","v":""},{"$f":"IF(Eingabe!J20<>\"\",Eingabe!J20,\"\")","v":""},{"$f":"IF(Eingabe!K20<>\"\",Eingabe!K20,\"\")","v":""},{"$f":"IF(Eingabe!R20<>\"\",Eingabe!R20,\"\")","v":""},{"$f":"IF(Eingabe!S20<>\"\",Eingabe!S20,\"\")","v":""},null,null,null,null,{"$f":"IF(Eingabe!V20<>\"\",Eingabe!V20,\"\")","v":""},{"$f":"IF(Eingabe!W20<>\"\",Eingabe!W20,\"\")","v":""}]
[{"$f":"IF(Eingabe!Q21<>\"\",Eingabe!Q21,\"\")","v":""},{"$f":"IF(Eingabe!U21<>\"\",Eingabe!U21,\"\")","v":""},null,{"$f":"IF(Eingabe!B21<>\"\",Eingabe!B21,\"\")","v":""},{"$f":"IF(Eingabe!C21<>\"\",Eingabe!C21,\"\")","v":""},{"$f":"IF(Eingabe!D21<>\"\",Eingabe!D21,\"\")","v":""},{"$f":"IF(Eingabe!E21<>\"\",Eingabe!E21,\"\")","v":""},{"$f":"IF(Eingabe!F21<>\"\",Eingabe!F21,\"\")","v":""},{"$f":"IF(Eingabe!G21<>\"\",Eingabe!G21,\"\")","v":""},null,{"$f":"IF(Eingabe!H21<>\"\",Eingabe!H21,\"\")","v":""},{"$f":"IF(Eingabe!I21<>\"\",Eingabe!I21,\"\")","v":""},{"$f":"IF(Eingabe!L21<>\"\",Eingabe!L21,\"\")","v":""},{"$f":"IF(Eingabe!J21<>\"\",Eingabe!J21,\"\")","v":""},{"$f":"IF(Eingabe!K21<>\"\",Eingabe!K21,\"\")","v":""},{"$f":"IF(Eingabe!R21<>\"\",Eingabe!R21,\"\")","v":""},{"$f":"IF(Eingabe!S21<>\"\",Eingabe!S21,\"\")","v":""},null,null,null,null,{"$f":"IF(Eingabe!V21<>\"\",Eingabe!V21,\"\")","v":""},{"$f":"IF(Eingabe!W21<>\"\",Eingabe!W21,\"\")","v":""}]
[{"$f":"IF(Eingabe!Q22<>\"\",Eingabe!Q22,\"\")","v":""},{"$f":"IF(Eingabe!U22<>\"\",Eingabe!U22,\"\")","v":""},null,{"$f":"IF(Eingabe!B22<>\"\",Eingabe!B22,\"\")","v":""},{"$f":"IF(Eingabe!C22<>\"\",Eingabe!C22,\"\")","v":""},{"$f":"IF(Eingabe!D22<>\"\",Eingabe!D22,\"\")","v":""},{"$f":"IF(Eingabe!E22<>\"\",Eingabe!E22,\"\")","v":""},{"$f":"IF(Eingabe!F22<>\"\",Eingabe!F22,\"\")","v":""},{"$f":"IF(Eingabe!G22<>\"\",Eingabe!G22,\"\")","v":""},null,{"$f":"IF(Eingabe!H22<>\"\",Eingabe!H22,\"\")","v":""},{"$f":"IF(Eingabe!I22<>\"\",Eingabe!I22,\"\")","v":""},{"$f":"IF(Eingabe!L22<>\"\",Eingabe!L22,\"\")","v":""},{"$f":"IF(Eingabe!J22<>\"\",Eingabe!J22,\"\")","v":""},{"$f":"IF(Eingabe!K22<>\"\",Eingabe!K22,\"\")","v":""},{"$f":"IF(Eingabe!R22<>\"\",Eingabe!R22,\"\")","v":""},{"$f":"IF(Eingabe!S22<>\"\",Eingabe!S22,\"\")","v":""},null,null,null,null,{"$f":"IF(Eingabe!V22<>\"\",Eingabe!V22,\"\")","v":""},{"$f":"IF(Eingabe!W22<>\"\",Eingabe!W22,\"\")","v":""}]
[{"$f":"IF(Eingabe!Q23<>\"\",Eingabe!Q23,\"\")","v":""},{"$f":"IF(Eingabe!U23<>\"\",Eingabe!U23,\"\")","v":""},null,{"$f":"IF(Eingabe!B23<>\"\",Eingabe!B23,\"\")","v":""},{"$f":"IF(Eingabe!C23<>\"\",Eingabe!C23,\"\")","v":""},{"$f":"IF(Eingabe!D23<>\"\",Eingabe!D23,\"\")","v":""},{"$f":"IF(Eingabe!E23<>\"\",Eingabe!E23,\"\")","v":""},{"$f":"IF(Eingabe!F23<>\"\",Eingabe!F23,\"\")","v":""},{"$f":"IF(Eingabe!G23<>\"\",Eingabe!G23,\"\")","v":""},null,{"$f":"IF(Eingabe!H23<>\"\",Eingabe!H23,\"\")","v":""},{"$f":"IF(Eingabe!I23<>\"\",Eingabe!I23,\"\")","v":""},{"$f":"IF(Eingabe!L23<>\"\",Eingabe!L23,\"\")","v":""},{"$f":"IF(Eingabe!J23<>\"\",Eingabe!J23,\"\")","v":""},{"$f":"IF(Eingabe!K23<>\"\",Eingabe!K23,\"\")","v":""},{"$f":"IF(Eingabe!R23<>\"\",Eingabe!R23,\"\")","v":""},{"$f":"IF(Eingabe!S23<>\"\",Eingabe!S23,\"\")","v":""},null,null,null,null,{"$f":"IF(Eingabe!V23<>\"\",Eingabe!V23,\"\")","v":""},{"$f":"IF(Eingabe!W23<>\"\",Eingabe!W23,\"\")","v":""}]
[{"$f":"IF(Eingabe!Q24<>\"\",Eingabe!Q24,\"\")","v":""},{"$f":"IF(Eingabe!U24<>\"\",Eingabe!U24,\"\")","v":""},null,{"$f":"IF(Eingabe!B24<>\"\",Eingabe!B24,\"\")","v":""},{"$f":"IF(Eingabe!C24<>\"\",Eingabe!C24,\"\")","v":""},{"$f":"IF(Eingabe!D24<>\"\",Eingabe!D24,\"\")","v":""},{"$f":"IF(Eingabe!E24<>\"\",Eingabe!E24,\"\")","v":""},{"$f":"IF(Eingabe!F24<>\"\",Eingabe!F24,\"\")","v":""},{"$f":"IF(Eingabe!G24<>\"\",Eingabe!G24,\"\")","v":""},null,{"$f":"IF(Eingabe!H24<>\"\",Eingabe!H24,\"\")","v":""},{"$f":"IF(Eingabe!I24<>\"\",Eingabe!I24,\"\")","v":""},{"$f":"IF(Eingabe!L24<>\"\",Eingabe!L24,\"\")","v":""},{"$f":"IF(Eingabe!J24<>\"\",Eingabe!J24,\"\")","v":""},{"$f":"IF(Eingabe!K24<>\"\",Eingabe!K24,\"\")","v":""},{"$f":"IF(Eingabe!R24<>\"\",Eingabe!R24,\"\")","v":""},{"$f":"IF(Eingabe!S24<>\"\",Eingabe!S24,\"\")","v":""},null,null,null,null,{"$f":"IF(Eingabe!V24<>\"\",Eingabe!V24,\"\")","v":""},{"$f":"IF(Eingabe!W24<>\"\",Eingabe!W24,\"\")","v":""}]
[{"$f":"IF(Eingabe!Q25<>\"\",Eingabe!Q25,\"\")","v":""},{"$f":"IF(Eingabe!U25<>\"\",Eingabe!U25,\"\")","v":""},null,{"$f":"IF(Eingabe!B25<>\"\",Eingabe!B25,\"\")","v":""},{"$f":"IF(Eingabe!C25<>\"\",Eingabe!C25,\"\")","v":""},{"$f":"IF(Eingabe!D25<>\"\",Eingabe!D25,\"\")","v":""},{"$f":"IF(Eingabe!E25<>\"\",Eingabe!E25,\"\")","v":""},{"$f":"IF(Eingabe!F25<>\"\",Eingabe!F25,\"\")","v":""},{"$f":"IF(Eingabe!G25<>\"\",Eingabe!G25,\"\")","v":""},null,{"$f":"IF(Eingabe!H25<>\"\",Eingabe!H25,\"\")","v":""},{"$f":"IF(Eingabe!I25<>\"\",Eingabe!I25,\"\")","v":""},{"$f":"IF(Eingabe!L25<>\"\",Eingabe!L25,\"\")","v":""},{"$f":"IF(Eingabe!J25<>\"\",Eingabe!J25,\"\")","v":""},{"$f":"IF(Eingabe!K25<>\"\",Eingabe!K25,\"\")","v":""},{"$f":"IF(Eingabe!R25<>\"\",Eingabe!R25,\"\")","v":""},{"$f":"IF(Eingabe!S25<>\"\",Eingabe!S25,\"\")","v":""},null,null,null,null,{"$f":"IF(Eingabe!V25<>\"\",Eingabe!V25,\"\")","v":""},{"$f":"IF(Eingabe!W25<>\"\",Eingabe!W25,\"\")","v":""}]
[{"$f":"IF(Eingabe!Q26<>\"\",Eingabe!Q26,\"\")","v":""},{"$f":"IF(Eingabe!U26<>\"\",Eingabe!U26,\"\")","v":""},null,{"$f":"IF(Eingabe!B26<>\"\",Eingabe!B26,\"\")","v":""},{"$f":"IF(Eingabe!C26<>\"\",Eingabe!C26,\"\")","v":""},{"$f":"IF(Eingabe!D26<>\"\",Eingabe!D26,\"\")","v":""},{"$f":"IF(Eingabe!E26<>\"\",Eingabe!E26,\"\")","v":""},{"$f":"IF(Eingabe!F26<>\"\",Eingabe!F26,\"\")","v":""},{"$f":"IF(Eingabe!G26<>\"\",Eingabe!G26,\"\")","v":""},null,{"$f":"IF(Eingabe!H26<>\"\",Eingabe!H26,\"\")","v":""},{"$f":"IF(Eingabe!I26<>\"\",Eingabe!I26,\"\")","v":""},{"$f":"IF(Eingabe!L26<>\"\",Eingabe!L26,\"\")","v":""},{"$f":"IF(Eingabe!J26<>\"\",Eingabe!J26,\"\")","v":""},{"$f":"IF(Eingabe!K26<>\"\",Eingabe!K26,\"\")","v":""},{"$f":"IF(Eingabe!R26<>\"\",Eingabe!R26,\"\")","v":""},{"$f":"IF(Eingabe!S26<>\"\",Eingabe!S26,\"\")","v":""},null,null,null,null,{"$f":"IF(Eingabe!V26<>\"\",Eingabe!V26,\"\")","v":""},{"$f":"IF(Eingabe!W26<>\"\",Eingabe!W26,\"\")","v":""}]
[{"$f":"IF(Eingabe!Q27<>\"\",Eingabe!Q27,\"\")","v":""},{"$f":"IF(Eingabe!U27<>\"\",Eingabe!U27,\"\")","v":""},null,{"$f":"IF(Eingabe!B27<>\"\",Eingabe!B27,\"\")","v":""},{"$f":"IF(Eingabe!C27<>\"\",Eingabe!C27,\"\")","v":""},{"$f":"IF(Eingabe!D27<>\"\",Eingabe!D27,\"\")","v":""},{"$f":"IF(Eingabe!E27<>\"\",Eingabe!E27,\"\")","v":""},{"$f":"IF(Eingabe!F27<>\"\",Eingabe!F27,\"\")","v":""},{"$f":"IF(Eingabe!G27<>\"\",Eingabe!G27,\"\")","v":""},null,{"$f":"IF(Eingabe!H27<>\"\",Eingabe!H27,\"\")","v":""},{"$f":"IF(Eingabe!I27<>\"\",Eingabe!I27,\"\")","v":""},{"$f":"IF(Eingabe!L27<>\"\",Eingabe!L27,\"\")","v":""},{"$f":"IF(Eingabe!J27<>\"\",Eingabe!J27,\"\")","v":""},{"$f":"IF(Eingabe!K27<>\"\",Eingabe!K27,\"\")","v":""},{"$f":"IF(Eingabe!R27<>\"\",Eingabe!R27,\"\")","v":""},{"$f":"IF(Eingabe!S27<>\"\",Eingabe!S27,\"\")","v":""},null,null,null,null,{"$f":"IF(Eingabe!V27<>\"\",Eingabe!V27,\"\")","v":""},{"$f":"IF(Eingabe!W27<>\"\",Eingabe!W27,\"\")","v":""}]
[{"$f":"IF(Eingabe!Q28<>\"\",Eingabe!Q28,\"\")","v":""},{"$f":"IF(Eingabe!U28<>\"\",Eingabe!U28,\"\")","v":""},null,{"$f":"IF(Eingabe!B28<>\"\",Eingabe!B28,\"\")","v":""},{"$f":"IF(Eingabe!C28<>\"\",Eingabe!C28,\"\")","v":""},{"$f":"IF(Eingabe!D28<>\"\",Eingabe!D28,\"\")","v":""},{"$f":"IF(Eingabe!E28<>\"\",Eingabe!E28,\"\")","v":""},{"$f":"IF(Eingabe!F28<>\"\",Eingabe!F28,\"\")","v":""},{"$f":"IF(Eingabe!G28<>\"\",Eingabe!G28,\"\")","v":""},null,{"$f":"IF(Eingabe!H28<>\"\",Eingabe!H28,\"\")","v":""},{"$f":"IF(Eingabe!I28<>\"\",Eingabe!I28,\"\")","v":""},{"$f":"IF(Eingabe!L28<>\"\",Eingabe!L28,\"\")","v":""},{"$f":"IF(Eingabe!J28<>\"\",Eingabe!J28,\"\")","v":""},{"$f":"IF(Eingabe!K28<>\"\",Eingabe!K28,\"\")","v":""},{"$f":"IF(Eingabe!R28<>\"\",Eingabe!R28,\"\")","v":""},{"$f":"IF(Eingabe!S28<>\"\",Eingabe!S28,\"\")","v":""},null,null,null,null,{"$f":"IF(Eingabe!V28<>\"\",Eingabe!V28,\"\")","v":""},{"$f":"IF(Eingabe!W28<>\"\",Eingabe!W28,\"\")","v":""}]
[{"$f":"IF(Eingabe!Q29<>\"\",Eingabe!Q29,\"\")","v":""},{"$f":"IF(Eingabe!U29<>\"\",Eingabe!U29,\"\")","v":""},null,{"$f":"IF(Eingabe!B29<>\"\",Eingabe!B29,\"\")","v":""},{"$f":"IF(Eingabe!C29<>\"\",Eingabe!C29,\"\")","v":""},{"$f":"IF(Eingabe!D29<>\"\",Eingabe!D29,\"\")","v":""},{"$f":"IF(Eingabe!E29<>\"\",Eingabe!E29,\"\")","v":""},{"$f":"IF(Eingabe!F29<>\"\",Eingabe!F29,\"\")","v":""},{"$f":"IF(Eingabe!G29<>\"\",Eingabe!G29,\"\")","v":""},null,{"$f":"IF(Eingabe!H29<>\"\",Eingabe!H29,\"\")","v":""},{"$f":"IF(Eingabe!I29<>\"\",Eingabe!I29,\"\")","v":""},{"$f":"IF(Eingabe!L29<>\"\",Eingabe!L29,\"\")","v":""},{"$f":"IF(Eingabe!J29<>\"\",Eingabe!J29,\"\")","v":""},{"$f":"IF(Eingabe!K29<>\"\",Eingabe!K29,\"\")","v":""},{"$f":"IF(Eingabe!R29<>\"\",Eingabe!R29,\"\")","v":""},{"$f":"IF(Eingabe!S29<>\"\",Eingabe!S29,\"\")","v":""},null,null,null,null,{"$f":"IF(Eingabe!V29<>\"\",Eingabe!V29,\"\")","v":""},{"$f":"IF(Eingabe!W29<>\"\",Eingabe!W29,\"\")","v":""}]
[{"$f":"IF(Eingabe!Q30<>\"\",Eingabe!Q30,\"\")","v":""},{"$f":"IF(Eingabe!U30<>\"\",Eingabe!U30,\"\")","v":""},null,{"$f":"IF(Eingabe!B30<>\"\",Eingabe!B30,\"\")","v":""},{"$f":"IF(Eingabe!C30<>\"\",Eingabe!C30,\"\")","v":""},{"$f":"IF(Eingabe!D30<>\"\",Eingabe!D30,\"\")","v":""},{"$f":"IF(Eingabe!E30<>\"\",Eingabe!E30,\"\")","v":""},{"$f":"IF(Eingabe!F30<>\"\",Eingabe!F30,\"\")","v":""},{"$f":"IF(Eingabe!G30<>\"\",Eingabe!G30,\"\")","v":""},null,{"$f":"IF(Eingabe!H30<>\"\",Eingabe!H30,\"\")","v":""},{"$f":"IF(Eingabe!I30<>\"\",Eingabe!I30,\"\")","v":""},{"$f":"IF(Eingabe!L30<>\"\",Eingabe!L30,\"\")","v":""},{"$f":"IF(Eingabe!J30<>\"\",Eingabe!J30,\"\")","v":""},{"$f":"IF(Eingabe!K30<>\"\",Eingabe!K30,\"\")","v":""},{"$f":"IF(Eingabe!R30<>\"\",Eingabe!R30,\"\")","v":""},{"$f":"IF(Eingabe!S30<>\"\",Eingabe!S30,\"\")","v":""},null,null,null,null,{"$f":"IF(Eingabe!V30<>\"\",Eingabe!V30,\"\")","v":""},{"$f":"IF(Eingabe!W30<>\"\",Eingabe!W30,\"\")","v":""}]
[{"$f":"IF(Eingabe!Q31<>\"\",Eingabe!Q31,\"\")","v":""},{"$f":"IF(Eingabe!U31<>\"\",Eingabe!U31,\"\")","v":""},null,{"$f":"IF(Eingabe!B31<>\"\",Eingabe!B31,\"\")","v":""},{"$f":"IF(Eingabe!C31<>\"\",Eingabe!C31,\"\")","v":""},{"$f":"IF(Eingabe!D31<>\"\",Eingabe!D31,\"\")","v":""},{"$f":"IF(Eingabe!E31<>\"\",Eingabe!E31,\"\")","v":""},{"$f":"IF(Eingabe!F31<>\"\",Eingabe!F31,\"\")","v":""},{"$f":"IF(Eingabe!G31<>\"\",Eingabe!G31,\"\")","v":""},null,{"$f":"IF(Eingabe!H31<>\"\",Eingabe!H31,\"\")","v":""},{"$f":"IF(Eingabe!I31<>\"\",Eingabe!I31,\"\")","v":""},{"$f":"IF(Eingabe!L31<>\"\",Eingabe!L31,\"\")","v":""},{"$f":"IF(Eingabe!J31<>\"\",Eingabe!J31,\"\")","v":""},{"$f":"IF(Eingabe!K31<>\"\",Eingabe!K31,\"\")","v":""},{"$f":"IF(Eingabe!R31<>\"\",Eingabe!R31,\"\")","v":""},{"$f":"IF(Eingabe!S31<>\"\",Eingabe!S31,\"\")","v":""},null,null,null,null,{"$f":"IF(Eingabe!V31<>\"\",Eingabe!V31,\"\")","v":""},{"$f":"IF(Eingabe!W31<>\"\",Eingabe!W31,\"\")","v":""}]
[{"$f":"IF(Eingabe!Q32<>\"\",Eingabe!Q32,\"\")","v":""},{"$f":"IF(Eingabe!U32<>\"\",Eingabe!U32,\"\")","v":""},null,{"$f":"IF(Eingabe!B32<>\"\",Eingabe!B32,\"\")","v":""},{"$f":"IF(Eingabe!C32<>\"\",Eingabe!C32,\"\")","v":""},{"$f":"IF(Eingabe!D32<>\"\",Eingabe!D32,\"\")","v":""},{"$f":"IF(Eingabe!E32<>\"\",Eingabe!E32,\"\")","v":""},{"$f":"IF(Eingabe!F32<>\"\",Eingabe!F32,\"\")","v":""},{"$f":"IF(Eingabe!G32<>\"\",Eingabe!G32,\"\")","v":""},null,{"$f":"IF(Eingabe!H32<>\"\",Eingabe!H32,\"\")","v":""},{"$f":"IF(Eingabe!I32<>\"\",Eingabe!I32,\"\")","v":""},{"$f":"IF(Eingabe!L32<>\"\",Eingabe!L32,\"\")","v":""},{"$f":"IF(Eingabe!J32<>\"\",Eingabe!J32,\"\")","v":""},{"$f":"IF(Eingabe!K32<>\"\",Eingabe!K32,\"\")","v":""},{"$f":"IF(Eingabe!R32<>\"\",Eingabe!R32,\"\")","v":""},{"$f":"IF(Eingabe!S32<>\"\",Eingabe!S32,\"\")","v":""},null,null,null,null,{"$f":"IF(Eingabe!V32<>\"\",Eingabe!V32,\"\")","v":""},{"$f":"IF(Eingabe!W32<>\"\",Eingabe!W32,\"\")","v":""}]
[{"$f":"IF(Eingabe!Q33<>\"\",Eingabe!Q33,\"\")","v":""},{"$f":"IF(Eingabe!U33<>\"\",Eingabe!U33,\"\")","v":""},null,{"$f":"IF(Eingabe!B33<>\"\",Eingabe!B33,\"\")","v":""},{"$f":"IF(Eingabe!C33<>\"\",Eingabe!C33,\"\")","v":""},{"$f":"IF(Eingabe!D33<>\"\",Eingabe!D33,\"\")","v":""},{"$f":"IF(Eingabe!E33<>\"\",Eingabe!E33,\"\")","v":""},{"$f":"IF(Eingabe!F33<>\"\",Eingabe!F33,\"\")","v":""},{"$f":"IF(Eingabe!G33<>\"\",Eingabe!G33,\"\")","v":""},null,{"$f":"IF(Eingabe!H33<>\"\",Eingabe!H33,\"\")","v":""},{"$f":"IF(Eingabe!I33<>\"\",Eingabe!I33,\"\")","v":""},{"$f":"IF(Eingabe!L33<>\"\",Eingabe!L33,\"\")","v":""},{"$f":"IF(Eingabe!J33<>\"\",Eingabe!J33,\"\")","v":""},{"$f":"IF(Eingabe!K33<>\"\",Eingabe!K33,\"\")","v":""},{"$f":"IF(Eingabe!R33<>\"\",Eingabe!R33,\"\")","v":""},{"$f":"IF(Eingabe!S33<>\"\",Eingabe!S33,\"\")","v":""},null,null,null,null,{"$f":"IF(Eingabe!V33<>\"\",Eingabe!V33,\"\")","v":""},{"$f":"IF(Eingabe!W33<>\"\",Eingabe!W33,\"\")","v":""}]
[{"$f":"IF(Eingabe!Q34<>\"\",Eingabe!Q34,\"\")","v":""},{"$f":"IF(Eingabe!U34<>\"\",Eingabe!U34,\"\")","v":""},null,{"$f":"IF(Eingabe!B34<>\"\",Eingabe!B34,\"\")","v":""},{"$f":"IF(Eingabe!C34<>\"\",Eingabe!C34,\"\")","v":""},{"$f":"IF(Eingabe!D34<>\"\",Eingabe!D34,\"\")","v":""},{"$f":"IF(Eingabe!E34<>\"\",Eingabe!E34,\"\")","v":""},{"$f":"IF(Eingabe!F34<>\"\",Eingabe!F34,\"\")","v":""},{"$f":"IF(Eingabe!G34<>\"\",Eingabe!G34,\"\")","v":""},null,{"$f":"IF(Eingabe!H34<>\"\",Eingabe!H34,\"\")","v":""},{"$f":"IF(Eingabe!I34<>\"\",Eingabe!I34,\"\")","v":""},{"$f":"IF(Eingabe!L34<>\"\",Eingabe!L34,\"\")","v":""},{"$f":"IF(Eingabe!J34<>\"\",Eingabe!J34,\"\")","v":""},{"$f":"IF(Eingabe!K34<>\"\",Eingabe!K34,\"\")","v":""},{"$f":"IF(Eingabe!R34<>\"\",Eingabe!R34,\"\")","v":""},{"$f":"IF(Eingabe!S34<>\"\",Eingabe!S34,\"\")","v":""},null,null,null,null,{"$f":"IF(Eingabe!V34<>\"\",Eingabe!V34,\"\")","v":""},{"$f":"IF(Eingabe!W34<>\"\",Eingabe!W34,\"\")","v":""}]
[{"$f":"IF(Eingabe!Q35<>\"\",Eingabe!Q35,\"\")","v":""},{"$f":"IF(Eingabe!U35<>\"\",Eingabe!U35,\"\")","v":""},null,{"$f":"IF(Eingabe!B35<>\"\",Eingabe!B35,\"\")","v":""},{"$f":"IF(Eingabe!C35<>\"\",Eingabe!C35,\"\")","v":""},{"$f":"IF(Eingabe!D35<>\"\",Eingabe!D35,\"\")","v":""},{"$f":"IF(Eingabe!E35<>\"\",Eingabe!E35,\"\")","v":""},{"$f":"IF(Eingabe!F35<>\"\",Eingabe!F35,\"\")","v":""},{"$f":"IF(Eingabe!G35<>\"\",Eingabe!G35,\"\")","v":""},null,{"$f":"IF(Eingabe!H35<>\"\",Eingabe!H35,\"\")","v":""},{"$f":"IF(Eingabe!I35<>\"\",Eingabe!I35,\"\")","v":""},{"$f":"IF(Eingabe!L35<>\"\",Eingabe!L35,\"\")","v":""},{"$f":"IF(Eingabe!J35<>\"\",Eingabe!J35,\"\")","v":""},{"$f":"IF(Eingabe!K35<>\"\",Eingabe!K35,\"\")","v":""},{"$f":"IF(Eingabe!R35<>\"\",Eingabe!R35,\"\")","v":""},{"$f":"IF(Eingabe!S35<>\"\",Eingabe!S35,\"\")","v":""},null,null,null,null,{"$f":"IF(Eingabe!V35<>\"\",Eingabe!V35,\"\")","v":""},{"$f":"IF(Eingabe!W35<>\"\",Eingabe!W35,\"\")","v":""}]
[{"$f":"IF(Eingabe!Q36<>\"\",Eingabe!Q36,\"\")","v":""},{"$f":"IF(Eingabe!U36<>\"\",Eingabe!U36,\"\")","v":""},null,{"$f":"IF(Eingabe!B36<>\"\",Eingabe!B36,\"\")","v":""},{"$f":"IF(Eingabe!C36<>\"\",Eingabe!C36,\"\")","v":""},{"$f":"IF(Eingabe!D36<>\"\",Eingabe!D36,\"\")","v":""},{"$f":"IF(Eingabe!E36<>\"\",Eingabe!E36,\"\")","v":""},{"$f":"IF(Eingabe!F36<>\"\",Eingabe!F36,\"\")","v":""},{"$f":"IF(Eingabe!G36<>\"\",Eingabe!G36,\"\")","v":""},null,{"$f":"IF(Eingabe!H36<>\"\",Eingabe!H36,\"\")","v":""},{"$f":"IF(Eingabe!I36<>\"\",Eingabe!I36,\"\")","v":""},{"$f":"IF(Eingabe!L36<>\"\",Eingabe!L36,\"\")","v":""},{"$f":"IF(Eingabe!J36<>\"\",Eingabe!J36,\"\")","v":""},{"$f":"IF(Eingabe!K36<>\"\",Eingabe!K36,\"\")","v":""},{"$f":"IF(Eingabe!R36<>\"\",Eingabe!R36,\"\")","v":""},{"$f":"IF(Eingabe!S36<>\"\",Eingabe!S36,\"\")","v":""},null,null,null,null,{"$f":"IF(Eingabe!V36<>\"\",Eingabe!V36,\"\")","v":""},{"$f":"IF(Eingabe!W36<>\"\",Eingabe!W36,\"\")","v":""}]
[{"$f":"IF(Eingabe!Q37<>\"\",Eingabe!Q37,\"\")","v":""},{"$f":"IF(Eingabe!U37<>\"\",Eingabe!U37,\"\")","v":""},null,{"$f":"IF(Eingabe!B37<>\"\",Eingabe!B37,\"\")","v":""},{"$f":"IF(Eingabe!C37<>\"\",Eingabe!C37,\"\")","v":""},{"$f":"IF(Eingabe!D37<>\"\",Eingabe!D37,\"\")","v":""},{"$f":"IF(Eingabe!E37<>\"\",Eingabe!E37,\"\")","v":""},{"$f":"IF(Eingabe!F37<>\"\",Eingabe!F37,\"\")","v":""},{"$f":"IF(Eingabe!G37<>\"\",Eingabe!G37,\"\")","v":""},null,{"$f":"IF(Eingabe!H37<>\"\",Eingabe!H37,\"\")","v":""},{"$f":"IF(Eingabe!I37<>\"\",Eingabe!I37,\"\")","v":""},{"$f":"IF(Eingabe!L37<>\"\",Eingabe!L37,\"\")","v":""},{"$f":"IF(Eingabe!J37<>\"\",Eingabe!J37,\"\")","v":""},{"$f":"IF(Eingabe!K37<>\"\",Eingabe!K37,\"\")","v":""},{"$f":"IF(Eingabe!R37<>\"\",Eingabe!R37,\"\")","v":""},{"$f":"IF(Eingabe!S37<>\"\",Eingabe!S37,\"\")","v":""},null,null,null,null,{"$f":"IF(Eingabe!V37<>\"\",Eingabe!V37,\"\")","v":""},{"$f":"IF(Eingabe!W37<>\"\",Eingabe!W37,\"\")","v":""}]
[{"$f":"IF(Eingabe!Q38<>\"\",Eingabe!Q38,\"\")","v":""},{"$f":"IF(Eingabe!U38<>\"\",Eingabe!U38,\"\")","v":""},null,{"$f":"IF(Eingabe!B38<>\"\",Eingabe!B38,\"\")","v":""},{"$f":"IF(Eingabe!C38<>\"\",Eingabe!C38,\"\")","v":""},{"$f":"IF(Eingabe!D38<>\"\",Eingabe!D38,\"\")","v":""},{"$f":"IF(Eingabe!E38<>\"\",Eingabe!E38,\"\")","v":""},{"$f":"IF(Eingabe!F38<>\"\",Eingabe!F38,\"\")","v":""},{"$f":"IF(Eingabe!G38<>\"\",Eingabe!G38,\"\")","v":""},null,{"$f":"IF(Eingabe!H38<>\"\",Eingabe!H38,\"\")","v":""},{"$f":"IF(Eingabe!I38<>\"\",Eingabe!I38,\"\")","v":""},{"$f":"IF(Eingabe!L38<>\"\",Eingabe!L38,\"\")","v":""},{"$f":"IF(Eingabe!J38<>\"\",Eingabe!J38,\"\")","v":""},{"$f":"IF(Eingabe!K38<>\"\",Eingabe!K38,\"\")","v":""},{"$f":"IF(Eingabe!R38<>\"\",Eingabe!R38,\"\")","v":""},{"$f":"IF(Eingabe!S38<>\"\",Eingabe!S38,\"\")","v":""},null,null,null,null,{"$f":"IF(Eingabe!V38<>\"\",Eingabe!V38,\"\")","v":""},{"$f":"IF(Eingabe!W38<>\"\",Eingabe!W38,\"\")","v":""}]
[{"$f":"IF(Eingabe!Q39<>\"\",Eingabe!Q39,\"\")","v":""},{"$f":"IF(Eingabe!U39<>\"\",Eingabe!U39,\"\")","v":""},null,{"$f":"IF(Eingabe!B39<>\"\",Eingabe!B39,\"\")","v":""},{"$f":"IF(Eingabe!C39<>\"\",Eingabe!C39,\"\")","v":""},{"$f":"IF(Eingabe!D39<>\"\",Eingabe!D39,\"\")","v":""},{"$f":"IF(Eingabe!E39<>\"\",Eingabe!E39,\"\")","v":""},{"$f":"IF(Eingabe!F39<>\"\",Eingabe!F39,\"\")","v":""},{"$f":"IF(Eingabe!G39<>\"\",Eingabe!G39,\"\")","v":""},null,{"$f":"IF(Eingabe!H39<>\"\",Eingabe!H39,\"\")","v":""},{"$f":"IF(Eingabe!I39<>\"\",Eingabe!I39,\"\")","v":""},{"$f":"IF(Eingabe!L39<>\"\",Eingabe!L39,\"\")","v":""},{"$f":"IF(Eingabe!J39<>\"\",Eingabe!J39,\"\")","v":""},{"$f":"IF(Eingabe!K39<>\"\",Eingabe!K39,\"\")","v":""},{"$f":"IF(Eingabe!R39<>\"\",Eingabe!R39,\"\")","v":""},{"$f":"IF(Eingabe!S39<>\"\",Eingabe!S39,\"\")","v":""},null,null,null,null,{"$f":"IF(Eingabe!V39<>\"\",Eingabe!V39,\"\")","v":""},{"$f":"IF(Eingabe!W39<>\"\",Eingabe!W39,\"\")","v":""}]
[{"$f":"IF(Eingabe!Q40<>\"\",Eingabe!Q40,\"\")","v":""},{"$f":"IF(Eingabe!U40<>\"\",Eingabe!U40,\"\")","v":""},null,{"$f":"IF(Eingabe!B40<>\"\",Eingabe!B40,\"\")","v":""},{"$f":"IF(Eingabe!C40<>\"\",Eingabe!C40,\"\")","v":""},{"$f":"IF(Eingabe!D40<>\"\",Eingabe!D40,\"\")","v":""},{"$f":"IF(Eingabe!E40<>\"\",Eingabe!E40,\"\")","v":""},{"$f":"IF(Eingabe!F40<>\"\",Eingabe!F40,\"\")","v":""},{"$f":"IF(Eingabe!G40<>\"\",Eingabe!G40,\"\")","v":""},null,{"$f":"IF(Eingabe!H40<>\"\",Eingabe!H40,\"\")","v":""},{"$f":"IF(Eingabe!I40<>\"\",Eingabe!I40,\"\")","v":""},{"$f":"IF(Eingabe!L40<>\"\",Eingabe!L40,\"\")","v":""},{"$f":"IF(Eingabe!J40<>\"\",Eingabe!J40,\"\")","v":""},{"$f":"IF(Eingabe!K40<>\"\",Eingabe!K40,\"\")","v":""},{"$f":"IF(Eingabe!R40<>\"\",Eingabe!R40,\"\")","v":""},{"$f":"IF(Eingabe!S40<>\"\",Eingabe!S40,\"\")","v":""},null,null,null,null,{"$f":"IF(Eingabe!V40<>\"\",Eingabe!V40,\"\")","v":""},{"$f":"IF(Eingabe!W40<>\"\",Eingabe!W40,\"\")","v":""}]
[{"$f":"IF(Eingabe!Q41<>\"\",Eingabe!Q41,\"\")","v":""},{"$f":"IF(Eingabe!U41<>\"\",Eingabe!U41,\"\")","v":""},null,{"$f":"IF(Eingabe!B41<>\"\",Eingabe!B41,\"\")","v":""},{"$f":"IF(Eingabe!C41<>\"\",Eingabe!C41,\"\")","v":""},{"$f":"IF(Eingabe!D41<>\"\",Eingabe!D41,\"\")","v":""},{"$f":"IF(Eingabe!E41<>\"\",Eingabe!E41,\"\")","v":""},{"$f":"IF(Eingabe!F41<>\"\",Eingabe!F41,\"\")","v":""},{"$f":"IF(Eingabe!G41<>\"\",Eingabe!G41,\"\")","v":""},null,{"$f":"IF(Eingabe!H41<>\"\",Eingabe!H41,\"\")","v":""},{"$f":"IF(Eingabe!I41<>\"\",Eingabe!I41,\"\")","v":""},{"$f":"IF(Eingabe!L41<>\"\",Eingabe!L41,\"\")","v":""},{"$f":"IF(Eingabe!J41<>\"\",Eingabe!J41,\"\")","v":""},{"$f":"IF(Eingabe!K41<>\"\",Eingabe!K41,\"\")","v":""},{"$f":"IF(Eingabe!R41<>\"\",Eingabe!R41,\"\")","v":""},{"$f":"IF(Eingabe!S41<>\"\",Eingabe!S41,\"\")","v":""},null,null,null,null,{"$f":"IF(Eingabe!V41<>\"\",Eingabe!V41,\"\")","v":""},{"$f":"IF(Eingabe!W41<>\"\",Eingabe!W41,\"\")","v":""}]
[{"$f":"IF(Eingabe!Q42<>\"\",Eingabe!Q42,\"\")","v":""},{"$f":"IF(Eingabe!U42<>\"\",Eingabe!U42,\"\")","v":""},null,{"$f":"IF(Eingabe!B42<>\"\",Eingabe!B42,\"\")","v":""},{"$f":"IF(Eingabe!C42<>\"\",Eingabe!C42,\"\")","v":""},{"$f":"IF(Eingabe!D42<>\"\",Eingabe!D42,\"\")","v":""},{"$f":"IF(Eingabe!E42<>\"\",Eingabe!E42,\"\")","v":""},{"$f":"IF(Eingabe!F42<>\"\",Eingabe!F42,\"\")","v":""},{"$f":"IF(Eingabe!G42<>\"\",Eingabe!G42,\"\")","v":""},null,{"$f":"IF(Eingabe!H42<>\"\",Eingabe!H42,\"\")","v":""},{"$f":"IF(Eingabe!I42<>\"\",Eingabe!I42,\"\")","v":""},{"$f":"IF(Eingabe!L42<>\"\",Eingabe!L42,\"\")","v":""},{"$f":"IF(Eingabe!J42<>\"\",Eingabe!J42,\"\")","v":""},{"$f":"IF(Eingabe!K42<>\"\",Eingabe!K42,\"\")","v":""},{"$f":"IF(Eingabe!R42<>\"\",Eingabe!R42,\"\")","v":""},{"$f":"IF(Eingabe!S42<>\"\",Eingabe!S42,\"\")","v":""},null,null,null,null,{"$f":"IF(Eingabe!V42<>\"\",Eingabe!V42,\"\")","v":""},{"$f":"IF(Eingabe!W42<>\"\",Eingabe!W42,\"\")","v":""}]
[{"$f":"IF(Eingabe!Q43<>\"\",Eingabe!Q43,\"\")","v":""},{"$f":"IF(Eingabe!U43<>\"\",Eingabe!U43,\"\")","v":""},null,{"$f":"IF(Eingabe!B43<>\"\",Eingabe!B43,\"\")","v":""},{"$f":"IF(Eingabe!C43<>\"\",Eingabe!C43,\"\")","v":""},{"$f":"IF(Eingabe!D43<>\"\",Eingabe!D43,\"\")","v":""},{"$f":"IF(Eingabe!E43<>\"\",Eingabe!E43,\"\")","v":""},{"$f":"IF(Eingabe!F43<>\"\",Eingabe!F43,\"\")","v":""},{"$f":"IF(Eingabe!G43<>\"\",Eingabe!G43,\"\")","v":""},null,{"$f":"IF(Eingabe!H43<>\"\",Eingabe!H43,\"\")","v":""},{"$f":"IF(Eingabe!I43<>\"\",Eingabe!I43,\"\")","v":""},{"$f":"IF(Eingabe!L43<>\"\",Eingabe!L43,\"\")","v":""},{"$f":"IF(Eingabe!J43<>\"\",Eingabe!J43,\"\")","v":""},{"$f":"IF(Eingabe!K43<>\"\",Eingabe!K43,\"\")","v":""},{"$f":"IF(Eingabe!R43<>\"\",Eingabe!R43,\"\")","v":""},{"$f":"IF(Eingabe!S43<>\"\",Eingabe!S43,\"\")","v":""},null,null,null,null,{"$f":"IF(Eingabe!V43<>\"\",Eingabe!V43,\"\")","v":""},{"$f":"IF(Eingabe!W43<>\"\",Eingabe!W43,\"\")","v":""}]
[{"$f":"IF(Eingabe!Q44<>\"\",Eingabe!Q44,\"\")","v":""},{"$f":"IF(Eingabe!U44<>\"\",Eingabe!U44,\"\")","v":""},null,{"$f":"IF(Eingabe!B44<>\"\",Eingabe!B44,\"\")","v":""},{"$f":"IF(Eingabe!C44<>\"\",Eingabe!C44,\"\")","v":""},{"$f":"IF(Eingabe!D44<>\"\",Eingabe!D44,\"\")","v":""},{"$f":"IF(Eingabe!E44<>\"\",Eingabe!E44,\"\")","v":""},{"$f":"IF(Eingabe!F44<>\"\",Eingabe!F44,\"\")","v":""},{"$f":"IF(Eingabe!G44<>\"\",Eingabe!G44,\"\")","v":""},null,{"$f":"IF(Eingabe!H44<>\"\",Eingabe!H44,\"\")","v":""},{"$f":"IF(Eingabe!I44<>\"\",Eingabe!I44,\"\")","v":""},{"$f":"IF(Eingabe!L44<>\"\",Eingabe!L44,\"\")","v":""},{"$f":"IF(Eingabe!J44<>\"\",Eingabe!J44,\"\")","v":""},{"$f":"IF(Eingabe!K44<>\"\",Eingabe!K44,\"\")","v":""},{"$f":"IF(Eingabe!R44<>\"\",Eingabe!R44,\"\")","v":""},{"$f":"IF(Eingabe!S44<>\"\",Eingabe!S44,\"\")","v":""},null,null,null,null,{"$f":"IF(Eingabe!V44<>\"\",Eingabe!V44,\"\")","v":""},{"$f":"IF(Eingabe!W44<>\"\",Eingabe!W44,\"\")","v":""}]
[{"$f":"IF(Eingabe!Q45<>\"\",Eingabe!Q45,\"\")","v":""},{"$f":"IF(Eingabe!U45<>\"\",Eingabe!U45,\"\")","v":""},null,{"$f":"IF(Eingabe!B45<>\"\",Eingabe!B45,\"\")","v":""},{"$f":"IF(Eingabe!C45<>\"\",Eingabe!C45,\"\")","v":""},{"$f":"IF(Eingabe!D45<>\"\",Eingabe!D45,\"\")","v":""},{"$f":"IF(Eingabe!E45<>\"\",Eingabe!E45,\"\")","v":""},{"$f":"IF(Eingabe!F45<>\"\",Eingabe!F45,\"\")","v":""},{"$f":"IF(Eingabe!G45<>\"\",Eingabe!G45,\"\")","v":""},null,{"$f":"IF(Eingabe!H45<>\"\",Eingabe!H45,\"\")","v":""},{"$f":"IF(Eingabe!I45<>\"\",Eingabe!I45,\"\")","v":""},{"$f":"IF(Eingabe!L45<>\"\",Eingabe!L45,\"\")","v":""},{"$f":"IF(Eingabe!J45<>\"\",Eingabe!J45,\"\")","v":""},{"$f":"IF(Eingabe!K45<>\"\",Eingabe!K45,\"\")","v":""},{"$f":"IF(Eingabe!R45<>\"\",Eingabe!R45,\"\")","v":""},{"$f":"IF(Eingabe!S45<>\"\",Eingabe!S45,\"\")","v":""},null,null,null,null,{"$f":"IF(Eingabe!V45<>\"\",Eingabe!V45,\"\")","v":""},{"$f":"IF(Eingabe!W45<>\"\",Eingabe!W45,\"\")","v":""}]
[{"$f":"IF(Eingabe!Q46<>\"\",Eingabe!Q46,\"\")","v":""},{"$f":"IF(Eingabe!U46<>\"\",Eingabe!U46,\"\")","v":""},null,{"$f":"IF(Eingabe!B46<>\"\",Eingabe!B46,\"\")","v":""},{"$f":"IF(Eingabe!C46<>\"\",Eingabe!C46,\"\")","v":""},{"$f":"IF(Eingabe!D46<>\"\",Eingabe!D46,\"\")","v":""},{"$f":"IF(Eingabe!E46<>\"\",Eingabe!E46,\"\")","v":""},{"$f":"IF(Eingabe!F46<>\"\",Eingabe!F46,\"\")","v":""},{"$f":"IF(Eingabe!G46<>\"\",Eingabe!G46,\"\")","v":""},null,{"$f":"IF(Eingabe!H46<>\"\",Eingabe!H46,\"\")","v":""},{"$f":"IF(Eingabe!I46<>\"\",Eingabe!I46,\"\")","v":""},{"$f":"IF(Eingabe!L46<>\"\",Eingabe!L46,\"\")","v":""},{"$f":"IF(Eingabe!J46<>\"\",Eingabe!J46,\"\")","v":""},{"$f":"IF(Eingabe!K46<>\"\",Eingabe!K46,\"\")","v":""},{"$f":"IF(Eingabe!R46<>\"\",Eingabe!R46,\"\")","v":""},{"$f":"IF(Eingabe!S46<>\"\",Eingabe!S46,\"\")","v":""},null,null,null,null,{"$f":"IF(Eingabe!V46<>\"\",Eingabe!V46,\"\")","v":""},{"$f":"IF(Eingabe!W46<>\"\",Eingabe!W46,\"\")","v":""}]
[{"$f":"IF(Eingabe!Q47<>\"\",Eingabe!Q47,\"\")","v":""},{"$f":"IF(Eingabe!U47<>\"\",Eingabe!U47,\"\")","v":""},null,{"$f":"IF(Eingabe!B47<>\"\",Eingabe!B47,\"\")","v":""},{"$f":"IF(Eingabe!C47<>\"\",Eingabe!C47,\"\")","v":""},{"$f":"IF(Eingabe!D47<>\"\",Eingabe!D47,\"\")","v":""},{"$f":"IF(Eingabe!E47<>\"\",Eingabe!E47,\"\")","v":""},{"$f":"IF(Eingabe!F47<>\"\",Eingabe!F47,\"\")","v":""},{"$f":"IF(Eingabe!G47<>\"\",Eingabe!G47,\"\")","v":""},null,{"$f":"IF(Eingabe!H47<>\"\",Eingabe!H47,\"\")","v":""},{"$f":"IF(Eingabe!I47<>\"\",Eingabe!I47,\"\")","v":""},{"$f":"IF(Eingabe!L47<>\"\",Eingabe!L47,\"\")","v":""},{"$f":"IF(Eingabe!J47<>\"\",Eingabe!J47,\"\")","v":""},{"$f":"IF(Eingabe!K47<>\"\",Eingabe!K47,\"\")","v":""},{"$f":"IF(Eingabe!R47<>\"\",Eingabe!R47,\"\")","v":""},{"$f":"IF(Eingabe!S47<>\"\",Eingabe!S47,\"\")","v":""},null,null,null,null,{"$f":"IF(Eingabe!V47<>\"\",Eingabe!V47,\"\")","v":""},{"$f":"IF(Eingabe!W47<>\"\",Eingabe!W47,\"\")","v":""}]
[{"$f":"IF(Eingabe!Q48<>\"\",Eingabe!Q48,\"\")","v":""},{"$f":"IF(Eingabe!U48<>\"\",Eingabe!U48,\"\")","v":""},null,{"$f":"IF(Eingabe!B48<>\"\",Eingabe!B48,\"\")","v":""},{"$f":"IF(Eingabe!C48<>\"\",Eingabe!C48,\"\")","v":""},{"$f":"IF(Eingabe!D48<>\"\",Eingabe!D48,\"\")","v":""},{"$f":"IF(Eingabe!E48<>\"\",Eingabe!E48,\"\")","v":""},{"$f":"IF(Eingabe!F48<>\"\",Eingabe!F48,\"\")","v":""},{"$f":"IF(Eingabe!G48<>\"\",Eingabe!G48,\"\")","v":""},null,{"$f":"IF(Eingabe!H48<>\"\",Eingabe!H48,\"\")","v":""},{"$f":"IF(Eingabe!I48<>\"\",Eingabe!I48,\"\")","v":""},{"$f":"IF(Eingabe!L48<>\"\",Eingabe!L48,\"\")","v":""},{"$f":"IF(Eingabe!J48<>\"\",Eingabe!J48,\"\")","v":""},{"$f":"IF(Eingabe!K48<>\"\",Eingabe!K48,\"\")","v":""},{"$f":"IF(Eingabe!R48<>\"\",Eingabe!R48,\"\")","v":""},{"$f":"IF(Eingabe!S48<>\"\",Eingabe!S48,\"\")","v":""},null,null,null,null,{"$f":"IF(Eingabe!V48<>\"\",Eingabe!V48,\"\")","v":""},{"$f":"IF(Eingabe!W48<>\"\",Eingabe!W48,\"\")","v":""}]
[{"$f":"IF(Eingabe!Q49<>\"\",Eingabe!Q49,\"\")","v":""},{"$f":"IF(Eingabe!U49<>\"\",Eingabe!U49,\"\")","v":""},null,{"$f":"IF(Eingabe!B49<>\"\",Eingabe!B49,\"\")","v":""},{"$f":"IF(Eingabe!C49<>\"\",Eingabe!C49,\"\")","v":""},{"$f":"IF(Eingabe!D49<>\"\",Eingabe!D49,\"\")","v":""},{"$f":"IF(Eingabe!E49<>\"\",Eingabe!E49,\"\")","v":""},{"$f":"IF(Eingabe!F49<>\"\",Eingabe!F49,\"\")","v":""},{"$f":"IF(Eingabe!G49<>\"\",Eingabe!G49,\"\")","v":""},null,{"$f":"IF(Eingabe!H49<>\"\",Eingabe!H49,\"\")","v":""},{"$f":"IF(Eingabe!I49<>\"\",Eingabe!I49,\"\")","v":""},{"$f":"IF(Eingabe!L49<>\"\",Eingabe!L49,\"\")","v":""},{"$f":"IF(Eingabe!J49<>\"\",Eingabe!J49,\"\")","v":""},{"$f":"IF(Eingabe!K49<>\"\",Eingabe!K49,\"\")","v":""},{"$f":"IF(Eingabe!R49<>\"\",Eingabe!R49,\"\")","v":""},{"$f":"IF(Eingabe!S49<>\"\",Eingabe!S49,\"\")","v":""},null,null,null,null,{"$f":"IF(Eingabe!V49<>\"\",Eingabe!V49,\"\")","v":""},{"$f":"IF(Eingabe!W49<>\"\",Eingabe!W49,\"\")","v":""}]
[{"$f":"IF(Eingabe!Q50<>\"\",Eingabe!Q50,\"\")","v":""},{"$f":"IF(Eingabe!U50<>\"\",Eingabe!U50,\"\")","v":""},null,{"$f":"IF(Eingabe!B50<>\"\",Eingabe!B50,\"\")","v":""},{"$f":"IF(Eingabe!C50<>\"\",Eingabe!C50,\"\")","v":""},{"$f":"IF(Eingabe!D50<>\"\",Eingabe!D50,\"\")","v":""},{"$f":"IF(Eingabe!E50<>\"\",Eingabe!E50,\"\")","v":""},{"$f":"IF(Eingabe!F50<>\"\",Eingabe!F50,\"\")","v":""},{"$f":"IF(Eingabe!G50<>\"\",Eingabe!G50,\"\")","v":""},null,{"$f":"IF(Eingabe!H50<>\"\",Eingabe!H50,\"\")","v":""},{"$f":"IF(Eingabe!I50<>\"\",Eingabe!I50,\"\")","v":""},{"$f":"IF(Eingabe!L50<>\"\",Eingabe!L50,\"\")","v":""},{"$f":"IF(Eingabe!J50<>\"\",Eingabe!J50,\"\")","v":""},{"$f":"IF(Eingabe!K50<>\"\",Eingabe!K50,\"\")","v":""},{"$f":"IF(Eingabe!R50<>\"\",Eingabe!R50,\"\")","v":""},{"$f":"IF(Eingabe!S50<>\"\",Eingabe!S50,\"\")","v":""},null,null,null,null,{"$f":"IF(Eingabe!V50<>\"\",Eingabe!V50,\"\")","v":""},{"$f":"IF(Eingabe!W50<>\"\",Eingabe!W50,\"\")","v":""}]
[{"$f":"IF(Eingabe!Q51<>\"\",Eingabe!Q51,\"\")","v":""},{"$f":"IF(Eingabe!U51<>\"\",Eingabe!U51,\"\")","v":""},null,{"$f":"IF(Eingabe!B51<>\"\",Eingabe!B51,\"\")","v":""},{"$f":"IF(Eingabe!C51<>\"\",Eingabe!C51,\"\")","v":""},{"$f":"IF(Eingabe!D51<>\"\",Eingabe!D51,\"\")","v":""},{"$f":"IF(Eingabe!E51<>\"\",Eingabe!E51,\"\")","v":""},{"$f":"IF(Eingabe!F51<>\"\",Eingabe!F51,\"\")","v":""},{"$f":"IF(Eingabe!G51<>\"\",Eingabe!G51,\"\")","v":""},null,{"$f":"IF(Eingabe!H51<>\"\",Eingabe!H51,\"\")","v":""},{"$f":"IF(Eingabe!I51<>\"\",Eingabe!I51,\"\")","v":""},{"$f":"IF(Eingabe!L51<>\"\",Eingabe!L51,\"\")","v":""},{"$f":"IF(Eingabe!J51<>\"\",Eingabe!J51,\"\")","v":""},{"$f":"IF(Eingabe!K51<>\"\",Eingabe!K51,\"\")","v":""},{"$f":"IF(Eingabe!R51<>\"\",Eingabe!R51,\"\")","v":""},{"$f":"IF(Eingabe!S51<>\"\",Eingabe!S51,\"\")","v":""},null,null,null,null,{"$f":"IF(Eingabe!V51<>\"\",Eingabe!V51,\"\")","v":""},{"$f":"IF(Eingabe!W51<>\"\",Eingabe!W51,\"\")","v":""}]
[{"$f":"IF(Eingabe!Q52<>\"\",Eingabe!Q52,\"\")","v":""},{"$f":"IF(Eingabe!U52<>\"\",Eingabe!U52,\"\")","v":""},null,{"$f":"IF(Eingabe!B52<>\"\",Eingabe!B52,\"\")","v":""},{"$f":"IF(Eingabe!C52<>\"\",Eingabe!C52,\"\")","v":""},{"$f":"IF(Eingabe!D52<>\"\",Eingabe!D52,\"\")","v":""},{"$f":"IF(Eingabe!E52<>\"\",Eingabe!E52,\"\")","v":""},{"$f":"IF(Eingabe!F52<>\"\",Eingabe!F52,\"\")","v":""},{"$f":"IF(Eingabe!G52<>\"\",Eingabe!G52,\"\")","v":""},null,{"$f":"IF(Eingabe!H52<>\"\",Eingabe!H52,\"\")","v":""},{"$f":"IF(Eingabe!I52<>\"\",Eingabe!I52,\"\")","v":""},{"$f":"IF(Eingabe!L52<>\"\",Eingabe!L52,\"\")","v":""},{"$f":"IF(Eingabe!J52<>\"\",Eingabe!J52,\"\")","v":""},{"$f":"IF(Eingabe!K52<>\"\",Eingabe!K52,\"\")","v":""},{"$f":"IF(Eingabe!R52<>\"\",Eingabe!R52,\"\")","v":""},{"$f":"IF(Eingabe!S52<>\"\",Eingabe!S52,\"\")","v":""},null,null,null,null,{"$f":"IF(Eingabe!V52<>\"\",Eingabe!V52,\"\")","v":""},{"$f":"IF(Eingabe!W52<>\"\",Eingabe!W52,\"\")","v":""}]
[{"$f":"IF(Eingabe!Q53<>\"\",Eingabe!Q53,\"\")","v":""},{"$f":"IF(Eingabe!U53<>\"\",Eingabe!U53,\"\")","v":""},null,{"$f":"IF(Eingabe!B53<>\"\",Eingabe!B53,\"\")","v":""},{"$f":"IF(Eingabe!C53<>\"\",Eingabe!C53,\"\")","v":""},{"$f":"IF(Eingabe!D53<>\"\",Eingabe!D53,\"\")","v":""},{"$f":"IF(Eingabe!E53<>\"\",Eingabe!E53,\"\")","v":""},{"$f":"IF(Eingabe!F53<>\"\",Eingabe!F53,\"\")","v":""},{"$f":"IF(Eingabe!G53<>\"\",Eingabe!G53,\"\")","v":""},null,{"$f":"IF(Eingabe!H53<>\"\",Eingabe!H53,\"\")","v":""},{"$f":"IF(Eingabe!I53<>\"\",Eingabe!I53,\"\")","v":""},{"$f":"IF(Eingabe!L53<>\"\",Eingabe!L53,\"\")","v":""},{"$f":"IF(Eingabe!J53<>\"\",Eingabe!J53,\"\")","v":""},{"$f":"IF(Eingabe!K53<>\"\",Eingabe!K53,\"\")","v":""},{"$f":"IF(Eingabe!R53<>\"\",Eingabe!R53,\"\")","v":""},{"$f":"IF(Eingabe!S53<>\"\",Eingabe!S53,\"\")","v":""},null,null,null,null,{"$f":"IF(Eingabe!V53<>\"\",Eingabe!V53,\"\")","v":""},{"$f":"IF(Eingabe!W53<>\"\",Eingabe!W53,\"\")","v":""}]
[{"$f":"IF(Eingabe!Q54<>\"\",Eingabe!Q54,\"\")","v":""},{"$f":"IF(Eingabe!U54<>\"\",Eingabe!U54,\"\")","v":""},null,{"$f":"IF(Eingabe!B54<>\"\",Eingabe!B54,\"\")","v":""},{"$f":"IF(Eingabe!C54<>\"\",Eingabe!C54,\"\")","v":""},{"$f":"IF(Eingabe!D54<>\"\",Eingabe!D54,\"\")","v":""},{"$f":"IF(Eingabe!E54<>\"\",Eingabe!E54,\"\")","v":""},{"$f":"IF(Eingabe!F54<>\"\",Eingabe!F54,\"\")","v":""},{"$f":"IF(Eingabe!G54<>\"\",Eingabe!G54,\"\")","v":""},null,{"$f":"IF(Eingabe!H54<>\"\",Eingabe!H54,\"\")","v":""},{"$f":"IF(Eingabe!I54<>\"\",Eingabe!I54,\"\")","v":""},{"$f":"IF(Eingabe!L54<>\"\",Eingabe!L54,\"\")","v":""},{"$f":"IF(Eingabe!J54<>\"\",Eingabe!J54,\"\")","v":""},{"$f":"IF(Eingabe!K54<>\"\",Eingabe!K54,\"\")","v":""},{"$f":"IF(Eingabe!R54<>\"\",Eingabe!R54,\"\")","v":""},{"$f":"IF(Eingabe!S54<>\"\",Eingabe!S54,\"\")","v":""},null,null,null,null,{"$f":"IF(Eingabe!V54<>\"\",Eingabe!V54,\"\")","v":""},{"$f":"IF(Eingabe!W54<>\"\",Eingabe!W54,\"\")","v":""}]
[{"$f":"IF(Eingabe!Q55<>\"\",Eingabe!Q55,\"\")","v":""},{"$f":"IF(Eingabe!U55<>\"\",Eingabe!U55,\"\")","v":""},null,{"$f":"IF(Eingabe!B55<>\"\",Eingabe!B55,\"\")","v":""},{"$f":"IF(Eingabe!C55<>\"\",Eingabe!C55,\"\")","v":""},{"$f":"IF(Eingabe!D55<>\"\",Eingabe!D55,\"\")","v":""},{"$f":"IF(Eingabe!E55<>\"\",Eingabe!E55,\"\")","v":""},{"$f":"IF(Eingabe!F55<>\"\",Eingabe!F55,\"\")","v":""},{"$f":"IF(Eingabe!G55<>\"\",Eingabe!G55,\"\")","v":""},null,{"$f":"IF(Eingabe!H55<>\"\",Eingabe!H55,\"\")","v":""},{"$f":"IF(Eingabe!I55<>\"\",Eingabe!I55,\"\")","v":""},{"$f":"IF(Eingabe!L55<>\"\",Eingabe!L55,\"\")","v":""},{"$f":"IF(Eingabe!J55<>\"\",Eingabe!J55,\"\")","v":""},{"$f":"IF(Eingabe!K55<>\"\",Eingabe!K55,\"\")","v":""},{"$f":"IF(Eingabe!R55<>\"\",Eingabe!R55,\"\")","v":""},{"$f":"IF(Eingabe!S55<>\"\",Eingabe!S55,\"\")","v":""},null,null,null,null,{"$f":"IF(Eingabe!V55<>\"\",Eingabe!V55,\"\")","v":""},{"$f":"IF(Eingabe!W55<>\"\",Eingabe!W55,\"\")","v":""}]
[{"$f":"IF(Eingabe!Q56<>\"\",Eingabe!Q56,\"\")","v":""},{"$f":"IF(Eingabe!U56<>\"\",Eingabe!U56,\"\")","v":""},null,{"$f":"IF(Eingabe!B56<>\"\",Eingabe!B56,\"\")","v":""},{"$f":"IF(Eingabe!C56<>\"\",Eingabe!C56,\"\")","v":""},{"$f":"IF(Eingabe!D56<>\"\",Eingabe!D56,\"\")","v":""},{"$f":"IF(Eingabe!E56<>\"\",Eingabe!E56,\"\")","v":""},{"$f":"IF(Eingabe!F56<>\"\",Eingabe!F56,\"\")","v":""},{"$f":"IF(Eingabe!G56<>\"\",Eingabe!G56,\"\")","v":""},null,{"$f":"IF(Eingabe!H56<>\"\",Eingabe!H56,\"\")","v":""},{"$f":"IF(Eingabe!I56<>\"\",Eingabe!I56,\"\")","v":""},{"$f":"IF(Eingabe!L56<>\"\",Eingabe!L56,\"\")","v":""},{"$f":"IF(Eingabe!J56<>\"\",Eingabe!J56,\"\")","v":""},{"$f":"IF(Eingabe!K56<>\"\",Eingabe!K56,\"\")","v":""},{"$f":"IF(Eingabe!R56<>\"\",Eingabe!R56,\"\")","v":""},{"$f":"IF(Eingabe!S56<>\"\",Eingabe!S56,\"\")","v":""},null,null,null,null,{"$f":"IF(Eingabe!V56<>\"\",Eingabe!V56,\"\")","v":""},{"$f":"IF(Eingabe!W56<>\"\",Eingabe!W56,\"\")","v":""}]
[{"$f":"IF(Eingabe!Q57<>\"\",Eingabe!Q57,\"\")","v":""},{"$f":"IF(Eingabe!U57<>\"\",Eingabe!U57,\"\")","v":""},null,{"$f":"IF(Eingabe!B57<>\"\",Eingabe!B57,\"\")","v":""},{"$f":"IF(Eingabe!C57<>\"\",Eingabe!C57,\"\")","v":""},{"$f":"IF(Eingabe!D57<>\"\",Eingabe!D57,\"\")","v":""},{"$f":"IF(Eingabe!E57<>\"\",Eingabe!E57,\"\")","v":""},{"$f":"IF(Eingabe!F57<>\"\",Eingabe!F57,\"\")","v":""},{"$f":"IF(Eingabe!G57<>\"\",Eingabe!G57,\"\")","v":""},null,{"$f":"IF(Eingabe!H57<>\"\",Eingabe!H57,\"\")","v":""},{"$f":"IF(Eingabe!I57<>\"\",Eingabe!I57,\"\")","v":""},{"$f":"IF(Eingabe!L57<>\"\",Eingabe!L57,\"\")","v":""},{"$f":"IF(Eingabe!J57<>\"\",Eingabe!J57,\"\")","v":""},{"$f":"IF(Eingabe!K57<>\"\",Eingabe!K57,\"\")","v":""},{"$f":"IF(Eingabe!R57<>\"\",Eingabe!R57,\"\")","v":""},{"$f":"IF(Eingabe!S57<>\"\",Eingabe!S57,\"\")","v":""},null,null,null,null,{"$f":"IF(Eingabe!V57<>\"\",Eingabe!V57,\"\")","v":""},{"$f":"IF(Eingabe!W57<>\"\",Eingabe!W57,\"\")","v":""}]
[{"$f":"IF(Eingabe!Q58<>\"\",Eingabe!Q58,\"\")","v":""},{"$f":"IF(Eingabe!U58<>\"\",Eingabe!U58,\"\")","v":""},null,{"$f":"IF(Eingabe!B58<>\"\",Eingabe!B58,\"\")","v":""},{"$f":"IF(Eingabe!C58<>\"\",Eingabe!C58,\"\")","v":""},{"$f":"IF(Eingabe!D58<>\"\",Eingabe!D58,\"\")","v":""},{"$f":"IF(Eingabe!E58<>\"\",Eingabe!E58,\"\")","v":""},{"$f":"IF(Eingabe!F58<>\"\",Eingabe!F58,\"\")","v":""},{"$f":"IF(Eingabe!G58<>\"\",Eingabe!G58,\"\")","v":""},null,{"$f":"IF(Eingabe!H58<>\"\",Eingabe!H58,\"\")","v":""},{"$f":"IF(Eingabe!I58<>\"\",Eingabe!I58,\"\")","v":""},{"$f":"IF(Eingabe!L58<>\"\",Eingabe!L58,\"\")","v":""},{"$f":"IF(Eingabe!J58<>\"\",Eingabe!J58,\"\")","v":""},{"$f":"IF(Eingabe!K58<>\"\",Eingabe!K58,\"\")","v":""},{"$f":"IF(Eingabe!R58<>\"\",Eingabe!R58,\"\")","v":""},{"$f":"IF(Eingabe!S58<>\"\",Eingabe!S58,\"\")","v":""},null,null,null,null,{"$f":"IF(Eingabe!V58<>\"\",Eingabe!V58,\"\")","v":""},{"$f":"IF(Eingabe!W58<>\"\",Eingabe!W58,\"\")","v":""}]
[{"$f":"IF(Eingabe!Q59<>\"\",Eingabe!Q59,\"\")","v":""},{"$f":"IF(Eingabe!U59<>\"\",Eingabe!U59,\"\")","v":""},null,{"$f":"IF(Eingabe!B59<>\"\",Eingabe!B59,\"\")","v":""},{"$f":"IF(Eingabe!C59<>\"\",Eingabe!C59,\"\")","v":""},{"$f":"IF(Eingabe!D59<>\"\",Eingabe!D59,\"\")","v":""},{"$f":"IF(Eingabe!E59<>\"\",Eingabe!E59,\"\")","v":""},{"$f":"IF(Eingabe!F59<>\"\",Eingabe!F59,\"\")","v":""},{"$f":"IF(Eingabe!G59<>\"\",Eingabe!G59,\"\")","v":""},null,{"$f":"IF(Eingabe!H59<>\"\",Eingabe!H59,\"\")","v":""},{"$f":"IF(Eingabe!I59<>\"\",Eingabe!I59,\"\")","v":""},{"$f":"IF(Eingabe!L59<>\"\",Eingabe!L59,\"\")","v":""},{"$f":"IF(Eingabe!J59<>\"\",Eingabe!J59,\"\")","v":""},{"$f":"IF(Eingabe!K59<>\"\",Eingabe!K59,\"\")","v":""},{"$f":"IF(Eingabe!R59<>\"\",Eingabe!R59,\"\")","v":""},{"$f":"IF(Eingabe!S59<>\"\",Eingabe!S59,\"\")","v":""},null,null,null,null,{"$f":"IF(Eingabe!V59<>\"\",Eingabe!V59,\"\")","v":""},{"$f":"IF(Eingabe!W59<>\"\",Eingabe!W59,\"\")","v":""}]
[{"$f":"IF(Eingabe!Q60<>\"\",Eingabe!Q60,\"\")","v":""},{"$f":"IF(Eingabe!U60<>\"\",Eingabe!U60,\"\")","v":""},null,{"$f":"IF(Eingabe!B60<>\"\",Eingabe!B60,\"\")","v":""},{"$f":"IF(Eingabe!C60<>\"\",Eingabe!C60,\"\")","v":""},{"$f":"IF(Eingabe!D60<>\"\",Eingabe!D60,\"\")","v":""},{"$f":"IF(Eingabe!E60<>\"\",Eingabe!E60,\"\")","v":""},{"$f":"IF(Eingabe!F60<>\"\",Eingabe!F60,\"\")","v":""},{"$f":"IF(Eingabe!G60<>\"\",Eingabe!G60,\"\")","v":""},null,{"$f":"IF(Eingabe!H60<>\"\",Eingabe!H60,\"\")","v":""},{"$f":"IF(Eingabe!I60<>\"\",Eingabe!I60,\"\")","v":""},{"$f":"IF(Eingabe!L60<>\"\",Eingabe!L60,\"\")","v":""},{"$f":"IF(Eingabe!J60<>\"\",Eingabe!J60,\"\")","v":""},{"$f":"IF(Eingabe!K60<>\"\",Eingabe!K60,\"\")","v":""},{"$f":"IF(Eingabe!R60<>\"\",Eingabe!R60,\"\")","v":""},{"$f":"IF(Eingabe!S60<>\"\",Eingabe!S60,\"\")","v":""},null,null,null,null,{"$f":"IF(Eingabe!V60<>\"\",Eingabe!V60,\"\")","v":""},{"$f":"IF(Eingabe!W60<>\"\",Eingabe!W60,\"\")","v":""}]
[{"$f":"IF(Eingabe!Q61<>\"\",Eingabe!Q61,\"\")","v":""},{"$f":"IF(Eingabe!U61<>\"\",Eingabe!U61,\"\")","v":""},null,{"$f":"IF(Eingabe!B61<>\"\",Eingabe!B61,\"\")","v":""},{"$f":"IF(Eingabe!C61<>\"\",Eingabe!C61,\"\")","v":""},{"$f":"IF(Eingabe!D61<>\"\",Eingabe!D61,\"\")","v":""},{"$f":"IF(Eingabe!E61<>\"\",Eingabe!E61,\"\")","v":""},{"$f":"IF(Eingabe!F61<>\"\",Eingabe!F61,\"\")","v":""},{"$f":"IF(Eingabe!G61<>\"\",Eingabe!G61,\"\")","v":""},null,{"$f":"IF(Eingabe!H61<>\"\",Eingabe!H61,\"\")","v":""},{"$f":"IF(Eingabe!I61<>\"\",Eingabe!I61,\"\")","v":""},{"$f":"IF(Eingabe!L61<>\"\",Eingabe!L61,\"\")","v":""},{"$f":"IF(Eingabe!J61<>\"\",Eingabe!J61,\"\")","v":""},{"$f":"IF(Eingabe!K61<>\"\",Eingabe!K61,\"\")","v":""},{"$f":"IF(Eingabe!R61<>\"\",Eingabe!R61,\"\")","v":""},{"$f":"IF(Eingabe!S61<>\"\",Eingabe!S61,\"\")","v":""},null,null,null,null,{"$f":"IF(Eingabe!V61<>\"\",Eingabe!V61,\"\")","v":""},{"$f":"IF(Eingabe!W61<>\"\",Eingabe!W61,\"\")","v":""}]
[{"$f":"IF(Eingabe!Q62<>\"\",Eingabe!Q62,\"\")","v":""},{"$f":"IF(Eingabe!U62<>\"\",Eingabe!U62,\"\")","v":""},null,{"$f":"IF(Eingabe!B62<>\"\",Eingabe!B62,\"\")","v":""},{"$f":"IF(Eingabe!C62<>\"\",Eingabe!C62,\"\")","v":""},{"$f":"IF(Eingabe!D62<>\"\",Eingabe!D62,\"\")","v":""},{"$f":"IF(Eingabe!E62<>\"\",Eingabe!E62,\"\")","v":""},{"$f":"IF(Eingabe!F62<>\"\",Eingabe!F62,\"\")","v":""},{"$f":"IF(Eingabe!G62<>\"\",Eingabe!G62,\"\")","v":""},null,{"$f":"IF(Eingabe!H62<>\"\",Eingabe!H62,\"\")","v":""},{"$f":"IF(Eingabe!I62<>\"\",Eingabe!I62,\"\")","v":""},{"$f":"IF(Eingabe!L62<>\"\",Eingabe!L62,\"\")","v":""},{"$f":"IF(Eingabe!J62<>\"\",Eingabe!J62,\"\")","v":""},{"$f":"IF(Eingabe!K62<>\"\",Eingabe!K62,\"\")","v":""},{"$f":"IF(Eingabe!R62<>\"\",Eingabe!R62,\"\")","v":""},{"$f":"IF(Eingabe!S62<>\"\",Eingabe!S62,\"\")","v":""},null,null,null,null,{"$f":"IF(Eingabe!V62<>\"\",Eingabe!V62,\"\")","v":""},{"$f":"IF(Eingabe!W62<>\"\",Eingabe!W62,\"\")","v":""}]
[{"$f":"IF(Eingabe!Q63<>\"\",Eingabe!Q63,\"\")","v":""},{"$f":"IF(Eingabe!U63<>\"\",Eingabe!U63,\"\")","v":""},null,{"$f":"IF(Eingabe!B63<>\"\",Eingabe!B63,\"\")","v":""},{"$f":"IF(Eingabe!C63<>\"\",Eingabe!C63,\"\")","v":""},{"$f":"IF(Eingabe!D63<>\"\",Eingabe!D63,\"\")","v":""},{"$f":"IF(Eingabe!E63<>\"\",Eingabe!E63,\"\")","v":""},{"$f":"IF(Eingabe!F63<>\"\",Eingabe!F63,\"\")","v":""},{"$f":"IF(Eingabe!G63<>\"\",Eingabe!G63,\"\")","v":""},null,{"$f":"IF(Eingabe!H63<>\"\",Eingabe!H63,\"\")","v":""},{"$f":"IF(Eingabe!I63<>\"\",Eingabe!I63,\"\")","v":""},{"$f":"IF(Eingabe!L63<>\"\",Eingabe!L63,\"\")","v":""},{"$f":"IF(Eingabe!J63<>\"\",Eingabe!J63,\"\")","v":""},{"$f":"IF(Eingabe!K63<>\"\",Eingabe!K63,\"\")","v":""},{"$f":"IF(Eingabe!R63<>\"\",Eingabe!R63,\"\")","v":""},{"$f":"IF(Eingabe!S63<>\"\",Eingabe!S63,\"\")","v":""},null,null,null,null,{"$f":"IF(Eingabe!V63<>\"\",Eingabe!V63,\"\")","v":""},{"$f":"IF(Eingabe!W63<>\"\",Eingabe!W63,\"\")","v":""}]
[{"$f":"IF(Eingabe!Q64<>\"\",Eingabe!Q64,\"\")","v":""},{"$f":"IF(Eingabe!U64<>\"\",Eingabe!U64,\"\")","v":""},null,{"$f":"IF(Eingabe!B64<>\"\",Eingabe!B64,\"\")","v":""},{"$f":"IF(Eingabe!C64<>\"\",Eingabe!C64,\"\")","v":""},{"$f":"IF(Eingabe!D64<>\"\",Eingabe!D64,\"\")","v":""},{"$f":"IF(Eingabe!E64<>\"\",Eingabe!E64,\"\")","v":""},{"$f":"IF(Eingabe!F64<>\"\",Eingabe!F64,\"\")","v":""},{"$f":"IF(Eingabe!G64<>\"\",Eingabe!G64,\"\")","v":""},null,{"$f":"IF(Eingabe!H64<>\"\",Eingabe!H64,\"\")","v":""},{"$f":"IF(Eingabe!I64<>\"\",Eingabe!I64,\"\")","v":""},{"$f":"IF(Eingabe!L64<>\"\",Eingabe!L64,\"\")","v":""},{"$f":"IF(Eingabe!J64<>\"\",Eingabe!J64,\"\")","v":""},{"$f":"IF(Eingabe!K64<>\"\",Eingabe!K64,\"\")","v":""},{"$f":"IF(Eingabe!R64<>\"\",Eingabe!R64,\"\")","v":""},{"$f":"IF(Eingabe!S64<>\"\",Eingabe!S64,\"\")","v":""},null,null,null,null,{"$f":"IF(Eingabe!V64<>\"\",Eingabe!V64,\"\")","v":""},{"$f":"IF(Eingabe!W64<>\"\",Eingabe!W64,\"\")","v":""}]
[{"$f":"IF(Eingabe!Q65<>\"\",Eingabe!Q65,\"\")","v":""},{"$f":"IF(Eingabe!U65<>\"\",Eingabe!U65,\"\")","v":""},null,{"$f":"IF(Eingabe!B65<>\"\",Eingabe!B65,\"\")","v":""},{"$f":"IF(Eingabe!C65<>\"\",Eingabe!C65,\"\")","v":""},{"$f":"IF(Eingabe!D65<>\"\",Eingabe!D65,\"\")","v":""},{"$f":"IF(Eingabe!E65<>\"\",Eingabe!E65,\"\")","v":""},{"$f":"IF(Eingabe!F65<>\"\",Eingabe!F65,\"\")","v":""},{"$f":"IF(Eingabe!G65<>\"\",Eingabe!G65,\"\")","v":""},null,{"$f":"IF(Eingabe!H65<>\"\",Eingabe!H65,\"\")","v":""},{"$f":"IF(Eingabe!I65<>\"\",Eingabe!I65,\"\")","v":""},{"$f":"IF(Eingabe!L65<>\"\",Eingabe!L65,\"\")","v":""},{"$f":"IF(Eingabe!J65<>\"\",Eingabe!J65,\"\")","v":""},{"$f":"IF(Eingabe!K65<>\"\",Eingabe!K65,\"\")","v":""},{"$f":"IF(Eingabe!R65<>\"\",Eingabe!R65,\"\")","v":""},{"$f":"IF(Eingabe!S65<>\"\",Eingabe!S65,\"\")","v":""},null,null,null,null,{"$f":"IF(Eingabe!V65<>\"\",Eingabe!V65,\"\")","v":""},{"$f":"IF(Eingabe!W65<>\"\",Eingabe!W65,\"\")","v":""}]
[{"$f":"IF(Eingabe!Q66<>\"\",Eingabe!Q66,\"\")","v":""},{"$f":"IF(Eingabe!U66<>\"\",Eingabe!U66,\"\")","v":""},null,{"$f":"IF(Eingabe!B66<>\"\",Eingabe!B66,\"\")","v":""},{"$f":"IF(Eingabe!C66<>\"\",Eingabe!C66,\"\")","v":""},{"$f":"IF(Eingabe!D66<>\"\",Eingabe!D66,\"\")","v":""},{"$f":"IF(Eingabe!E66<>\"\",Eingabe!E66,\"\")","v":""},{"$f":"IF(Eingabe!F66<>\"\",Eingabe!F66,\"\")","v":""},{"$f":"IF(Eingabe!G66<>\"\",Eingabe!G66,\"\")","v":""},null,{"$f":"IF(Eingabe!H66<>\"\",Eingabe!H66,\"\")","v":""},{"$f":"IF(Eingabe!I66<>\"\",Eingabe!I66,\"\")","v":""},{"$f":"IF(Eingabe!L66<>\"\",Eingabe!L66,\"\")","v":""},{"$f":"IF(Eingabe!J66<>\"\",Eingabe!J66,\"\")","v":""},{"$f":"IF(Eingabe!K66<>\"\",Eingabe!K66,\"\")","v":""},{"$f":"IF(Eingabe!R66<>\"\",Eingabe!R66,\"\")","v":""},{"$f":"IF(Eingabe!S66<>\"\",Eingabe!S66,\"\")","v":""},null,null,null,null,{"$f":"IF(Eingabe!V66<>\"\",Eingabe!V66,\"\")","v":""},{"$f":"IF(Eingabe!W66<>\"\",Eingabe!W66,\"\")","v":""}]
[{"$f":"IF(Eingabe!Q67<>\"\",Eingabe!Q67,\"\")","v":""},{"$f":"IF(Eingabe!U67<>\"\",Eingabe!U67,\"\")","v":""},null,{"$f":"IF(Eingabe!B67<>\"\",Eingabe!B67,\"\")","v":""},{"$f":"IF(Eingabe!C67<>\"\",Eingabe!C67,\"\")","v":""},{"$f":"IF(Eingabe!D67<>\"\",Eingabe!D67,\"\")","v":""},{"$f":"IF(Eingabe!E67<>\"\",Eingabe!E67,\"\")","v":""},{"$f":"IF(Eingabe!F67<>\"\",Eingabe!F67,\"\")","v":""},{"$f":"IF(Eingabe!G67<>\"\",Eingabe!G67,\"\")","v":""},null,{"$f":"IF(Eingabe!H67<>\"\",Eingabe!H67,\"\")","v":""},{"$f":"IF(Eingabe!I67<>\"\",Eingabe!I67,\"\")","v":""},{"$f":"IF(Eingabe!L67<>\"\",Eingabe!L67,\"\")","v":""},{"$f":"IF(Eingabe!J67<>\"\",Eingabe!J67,\"\")","v":""},{"$f":"IF(Eingabe!K67<>\"\",Eingabe!K67,\"\")","v":""},{"$f":"IF(Eingabe!R67<>\"\",Eingabe!R67,\"\")","v":""},{"$f":"IF(Eingabe!S67<>\"\",Eingabe!S67,\"\")","v":""},null,null,null,null,{"$f":"IF(Eingabe!V67<>\"\",Eingabe!V67,\"\")","v":""},{"$f":"IF(Eingabe!W67<>\"\",Eingabe!W67,\"\")","v":""}]
[{"$f":"IF(Eingabe!Q68<>\"\",Eingabe!Q68,\"\")","v":""},{"$f":"IF(Eingabe!U68<>\"\",Eingabe!U68,\"\")","v":""},null,{"$f":"IF(Eingabe!B68<>\"\",Eingabe!B68,\"\")","v":""},{"$f":"IF(Eingabe!C68<>\"\",Eingabe!C68,\"\")","v":""},{"$f":"IF(Eingabe!D68<>\"\",Eingabe!D68,\"\")","v":""},{"$f":"IF(Eingabe!E68<>\"\",Eingabe!E68,\"\")","v":""},{"$f":"IF(Eingabe!F68<>\"\",Eingabe!F68,\"\")","v":""},{"$f":"IF(Eingabe!G68<>\"\",Eingabe!G68,\"\")","v":""},null,{"$f":"IF(Eingabe!H68<>\"\",Eingabe!H68,\"\")","v":""},{"$f":"IF(Eingabe!I68<>\"\",Eingabe!I68,\"\")","v":""},{"$f":"IF(Eingabe!L68<>\"\",Eingabe!L68,\"\")","v":""},{"$f":"IF(Eingabe!J68<>\"\",Eingabe!J68,\"\")","v":""},{"$f":"IF(Eingabe!K68<>\"\",Eingabe!K68,\"\")","v":""},{"$f":"IF(Eingabe!R68<>\"\",Eingabe!R68,\"\")","v":""},{"$f":"IF(Eingabe!S68<>\"\",Eingabe!S68,\"\")","v":""},null,null,null,null,{"$f":"IF(Eingabe!V68<>\"\",Eingabe!V68,\"\")","v":""},{"$f":"IF(Eingabe!W68<>\"\",Eingabe!W68,\"\")","v":""}]
[{"$f":"IF(Eingabe!Q69<>\"\",Eingabe!Q69,\"\")","v":""},{"$f":"IF(Eingabe!U69<>\"\",Eingabe!U69,\"\")","v":""},null,{"$f":"IF(Eingabe!B69<>\"\",Eingabe!B69,\"\")","v":""},{"$f":"IF(Eingabe!C69<>\"\",Eingabe!C69,\"\")","v":""},{"$f":"IF(Eingabe!D69<>\"\",Eingabe!D69,\"\")","v":""},{"$f":"IF(Eingabe!E69<>\"\",Eingabe!E69,\"\")","v":""},{"$f":"IF(Eingabe!F69<>\"\",Eingabe!F69,\"\")","v":""},{"$f":"IF(Eingabe!G69<>\"\",Eingabe!G69,\"\")","v":""},null,{"$f":"IF(Eingabe!H69<>\"\",Eingabe!H69,\"\")","v":""},{"$f":"IF(Eingabe!I69<>\"\",Eingabe!I69,\"\")","v":""},{"$f":"IF(Eingabe!L69<>\"\",Eingabe!L69,\"\")","v":""},{"$f":"IF(Eingabe!J69<>\"\",Eingabe!J69,\"\")","v":""},{"$f":"IF(Eingabe!K69<>\"\",Eingabe!K69,\"\")","v":""},{"$f":"IF(Eingabe!R69<>\"\",Eingabe!R69,\"\")","v":""},{"$f":"IF(Eingabe!S69<>\"\",Eingabe!S69,\"\")","v":""},null,null,null,null,{"$f":"IF(Eingabe!V69<>\"\",Eingabe!V69,\"\")","v":""},{"$f":"IF(Eingabe!W69<>\"\",Eingabe!W69,\"\")","v":""}]
[{"$f":"IF(Eingabe!Q70<>\"\",Eingabe!Q70,\"\")","v":""},{"$f":"IF(Eingabe!U70<>\"\",Eingabe!U70,\"\")","v":""},null,{"$f":"IF(Eingabe!B70<>\"\",Eingabe!B70,\"\")","v":""},{"$f":"IF(Eingabe!C70<>\"\",Eingabe!C70,\"\")","v":""},{"$f":"IF(Eingabe!D70<>\"\",Eingabe!D70,\"\")","v":""},{"$f":"IF(Eingabe!E70<>\"\",Eingabe!E70,\"\")","v":""},{"$f":"IF(Eingabe!F70<>\"\",Eingabe!F70,\"\")","v":""},{"$f":"IF(Eingabe!G70<>\"\",Eingabe!G70,\"\")","v":""},null,{"$f":"IF(Eingabe!H70<>\"\",Eingabe!H70,\"\")","v":""},{"$f":"IF(Eingabe!I70<>\"\",Eingabe!I70,\"\")","v":""},{"$f":"IF(Eingabe!L70<>\"\",Eingabe!L70,\"\")","v":""},{"$f":"IF(Eingabe!J70<>\"\",Eingabe!J70,\"\")","v":""},{"$f":"IF(Eingabe!K70<>\"\",Eingabe!K70,\"\")","v":""},{"$f":"IF(Eingabe!R70<>\"\",Eingabe!R70,\"\")","v":""},{"$f":"IF(Eingabe!S70<>\"\",Eingabe!S70,\"\")","v":""},null,null,null,null,{"$f":"IF(Eingabe!V70<>\"\",Eingabe!V70,\"\")","v":""},{"$f":"IF(Eingabe!W70<>\"\",Eingabe!W70,\"\")","v":""}]
[{"$f":"IF(Eingabe!Q71<>\"\",Eingabe!Q71,\"\")","v":""},{"$f":"IF(Eingabe!U71<>\"\",Eingabe!U71,\"\")","v":""},null,{"$f":"IF(Eingabe!B71<>\"\",Eingabe!B71,\"\")","v":""},{"$f":"IF(Eingabe!C71<>\"\",Eingabe!C71,\"\")","v":""},{"$f":"IF(Eingabe!D71<>\"\",Eingabe!D71,\"\")","v":""},{"$f":"IF(Eingabe!E71<>\"\",Eingabe!E71,\"\")","v":""},{"$f":"IF(Eingabe!F71<>\"\",Eingabe!F71,\"\")","v":""},{"$f":"IF(Eingabe!G71<>\"\",Eingabe!G71,\"\")","v":""},null,{"$f":"IF(Eingabe!H71<>\"\",Eingabe!H71,\"\")","v":""},{"$f":"IF(Eingabe!I71<>\"\",Eingabe!I71,\"\")","v":""},{"$f":"IF(Eingabe!L71<>\"\",Eingabe!L71,\"\")","v":""},{"$f":"IF(Eingabe!J71<>\"\",Eingabe!J71,\"\")","v":""},{"$f":"IF(Eingabe!K71<>\"\",Eingabe!K71,\"\")","v":""},{"$f":"IF(Eingabe!R71<>\"\",Eingabe!R71,\"\")","v":""},{"$f":"IF(Eingabe!S71<>\"\",Eingabe!S71,\"\")","v":""},null,null,null,null,{"$f":"IF(Eingabe!V71<>\"\",Eingabe!V71,\"\")","v":""},{"$f":"IF(Eingabe!W71<>\"\",Eingabe!W71,\"\")","v":""}]
[{"$f":"IF(Eingabe!Q72<>\"\",Eingabe!Q72,\"\")","v":""},{"$f":"IF(Eingabe!U72<>\"\",Eingabe!U72,\"\")","v":""},null,{"$f":"IF(Eingabe!B72<>\"\",Eingabe!B72,\"\")","v":""},{"$f":"IF(Eingabe!C72<>\"\",Eingabe!C72,\"\")","v":""},{"$f":"IF(Eingabe!D72<>\"\",Eingabe!D72,\"\")","v":""},{"$f":"IF(Eingabe!E72<>\"\",Eingabe!E72,\"\")","v":""},{"$f":"IF(Eingabe!F72<>\"\",Eingabe!F72,\"\")","v":""},{"$f":"IF(Eingabe!G72<>\"\",Eingabe!G72,\"\")","v":""},null,{"$f":"IF(Eingabe!H72<>\"\",Eingabe!H72,\"\")","v":""},{"$f":"IF(Eingabe!I72<>\"\",Eingabe!I72,\"\")","v":""},{"$f":"IF(Eingabe!L72<>\"\",Eingabe!L72,\"\")","v":""},{"$f":"IF(Eingabe!J72<>\"\",Eingabe!J72,\"\")","v":""},{"$f":"IF(Eingabe!K72<>\"\",Eingabe!K72,\"\")","v":""},{"$f":"IF(Eingabe!R72<>\"\",Eingabe!R72,\"\")","v":""},{"$f":"IF(Eingabe!S72<>\"\",Eingabe!S72,\"\")","v":""},null,null,null,null,{"$f":"IF(Eingabe!V72<>\"\",Eingabe!V72,\"\")","v":""},{"$f":"IF(Eingabe!W72<>\"\",Eingabe!W72,\"\")","v":""}]
[{"$f":"IF(Eingabe!Q73<>\"\",Eingabe!Q73,\"\")","v":""},{"$f":"IF(Eingabe!U73<>\"\",Eingabe!U73,\"\")","v":""},null,{"$f":"IF(Eingabe!B73<>\"\",Eingabe!B73,\"\")","v":""},{"$f":"IF(Eingabe!C73<>\"\",Eingabe!C73,\"\")","v":""},{"$f":"IF(Eingabe!D73<>\"\",Eingabe!D73,\"\")","v":""},{"$f":"IF(Eingabe!E73<>\"\",Eingabe!E73,\"\")","v":""},{"$f":"IF(Eingabe!F73<>\"\",Eingabe!F73,\"\")","v":""},{"$f":"IF(Eingabe!G73<>\"\",Eingabe!G73,\"\")","v":""},null,{"$f":"IF(Eingabe!H73<>\"\",Eingabe!H73,\"\")","v":""},{"$f":"IF(Eingabe!I73<>\"\",Eingabe!I73,\"\")","v":""},{"$f":"IF(Eingabe!L73<>\"\",Eingabe!L73,\"\")","v":""},{"$f":"IF(Eingabe!J73<>\"\",Eingabe!J73,\"\")","v":""},{"$f":"IF(Eingabe!K73<>\"\",Eingabe!K73,\"\")","v":""},{"$f":"IF(Eingabe!R73<>\"\",Eingabe!R73,\"\")","v":""},{"$f":"IF(Eingabe!S73<>\"\",Eingabe!S73,\"\")","v":""},null,null,null,null,{"$f":"IF(Eingabe!V73<>\"\",Eingabe!V73,\"\")","v":""},{"$f":"IF(Eingabe!W73<>\"\",Eingabe!W73,\"\")","v":""}]
[{"$f":"IF(Eingabe!Q74<>\"\",Eingabe!Q74,\"\")","v":""},{"$f":"IF(Eingabe!U74<>\"\",Eingabe!U74,\"\")","v":""},null,{"$f":"IF(Eingabe!B74<>\"\",Eingabe!B74,\"\")","v":""},{"$f":"IF(Eingabe!C74<>\"\",Eingabe!C74,\"\")","v":""},{"$f":"IF(Eingabe!D74<>\"\",Eingabe!D74,\"\")","v":""},{"$f":"IF(Eingabe!E74<>\"\",Eingabe!E74,\"\")","v":""},{"$f":"IF(Eingabe!F74<>\"\",Eingabe!F74,\"\")","v":""},{"$f":"IF(Eingabe!G74<>\"\",Eingabe!G74,\"\")","v":""},null,{"$f":"IF(Eingabe!H74<>\"\",Eingabe!H74,\"\")","v":""},{"$f":"IF(Eingabe!I74<>\"\",Eingabe!I74,\"\")","v":""},{"$f":"IF(Eingabe!L74<>\"\",Eingabe!L74,\"\")","v":""},{"$f":"IF(Eingabe!J74<>\"\",Eingabe!J74,\"\")","v":""},{"$f":"IF(Eingabe!K74<>\"\",Eingabe!K74,\"\")","v":""},{"$f":"IF(Eingabe!R74<>\"\",Eingabe!R74,\"\")","v":""},{"$f":"IF(Eingabe!S74<>\"\",Eingabe!S74,\"\")","v":""},null,null,null,null,{"$f":"IF(Eingabe!V74<>\"\",Eingabe!V74,\"\")","v":""},{"$f":"IF(Eingabe!W74<>\"\",Eingabe!W74,\"\")","v":""}]
[{"$f":"IF(Eingabe!Q75<>\"\",Eingabe!Q75,\"\")","v":""},{"$f":"IF(Eingabe!U75<>\"\",Eingabe!U75,\"\")","v":""},null,{"$f":"IF(Eingabe!B75<>\"\",Eingabe!B75,\"\")","v":""},{"$f":"IF(Eingabe!C75<>\"\",Eingabe!C75,\"\")","v":""},{"$f":"IF(Eingabe!D75<>\"\",Eingabe!D75,\"\")","v":""},{"$f":"IF(Eingabe!E75<>\"\",Eingabe!E75,\"\")","v":""},{"$f":"IF(Eingabe!F75<>\"\",Eingabe!F75,\"\")","v":""},{"$f":"IF(Eingabe!G75<>\"\",Eingabe!G75,\"\")","v":""},null,{"$f":"IF(Eingabe!H75<>\"\",Eingabe!H75,\"\")","v":""},{"$f":"IF(Eingabe!I75<>\"\",Eingabe!I75,\"\")","v":""},{"$f":"IF(Eingabe!L75<>\"\",Eingabe!L75,\"\")","v":""},{"$f":"IF(Eingabe!J75<>\"\",Eingabe!J75,\"\")","v":""},{"$f":"IF(Eingabe!K75<>\"\",Eingabe!K75,\"\")","v":""},{"$f":"IF(Eingabe!R75<>\"\",Eingabe!R75,\"\")","v":""},{"$f":"IF(Eingabe!S75<>\"\",Eingabe!S75,\"\")","v":""},null,null,null,null,{"$f":"IF(Eingabe!V75<>\"\",Eingabe!V75,\"\")","v":""},{"$f":"IF(Eingabe!W75<>\"\",Eingabe!W75,\"\")","v":""}]
[{"$f":"IF(Eingabe!Q76<>\"\",Eingabe!Q76,\"\")","v":""},{"$f":"IF(Eingabe!U76<>\"\",Eingabe!U76,\"\")","v":""},null,{"$f":"IF(Eingabe!B76<>\"\",Eingabe!B76,\"\")","v":""},{"$f":"IF(Eingabe!C76<>\"\",Eingabe!C76,\"\")","v":""},{"$f":"IF(Eingabe!D76<>\"\",Eingabe!D76,\"\")","v":""},{"$f":"IF(Eingabe!E76<>\"\",Eingabe!E76,\"\")","v":""},{"$f":"IF(Eingabe!F76<>\"\",Eingabe!F76,\"\")","v":""},{"$f":"IF(Eingabe!G76<>\"\",Eingabe!G76,\"\")","v":""},null,{"$f":"IF(Eingabe!H76<>\"\",Eingabe!H76,\"\")","v":""},{"$f":"IF(Eingabe!I76<>\"\",Eingabe!I76,\"\")","v":""},{"$f":"IF(Eingabe!L76<>\"\",Eingabe!L76,\"\")","v":""},{"$f":"IF(Eingabe!J76<>\"\",Eingabe!J76,\"\")","v":""},{"$f":"IF(Eingabe!K76<>\"\",Eingabe!K76,\"\")","v":""},{"$f":"IF(Eingabe!R76<>\"\",Eingabe!R76,\"\")","v":""},{"$f":"IF(Eingabe!S76<>\"\",Eingabe!S76,\"\")","v":""},null,null,null,null,{"$f":"IF(Eingabe!V76<>\"\",Eingabe!V76,\"\")","v":""},{"$f":"IF(Eingabe!W76<>\"\",Eingabe!W76,\"\")","v":""}]
[{"$f":"IF(Eingabe!Q77<>\"\",Eingabe!Q77,\"\")","v":""},{"$f":"IF(Eingabe!U77<>\"\",Eingabe!U77,\"\")","v":""},null,{"$f":"IF(Eingabe!B77<>\"\",Eingabe!B77,\"\")","v":""},{"$f":"IF(Eingabe!C77<>\"\",Eingabe!C77,\"\")","v":""},{"$f":"IF(Eingabe!D77<>\"\",Eingabe!D77,\"\")","v":""},{"$f":"IF(Eingabe!E77<>\"\",Eingabe!E77,\"\")","v":""},{"$f":"IF(Eingabe!F77<>\"\",Eingabe!F77,\"\")","v":""},{"$f":"IF(Eingabe!G77<>\"\",Eingabe!G77,\"\")","v":""},null,{"$f":"IF(Eingabe!H77<>\"\",Eingabe!H77,\"\")","v":""},{"$f":"IF(Eingabe!I77<>\"\",Eingabe!I77,\"\")","v":""},{"$f":"IF(Eingabe!L77<>\"\",Eingabe!L77,\"\")","v":""},{"$f":"IF(Eingabe!J77<>\"\",Eingabe!J77,\"\")","v":""},{"$f":"IF(Eingabe!K77<>\"\",Eingabe!K77,\"\")","v":""},{"$f":"IF(Eingabe!R77<>\"\",Eingabe!R77,\"\")","v":""},{"$f":"IF(Eingabe!S77<>\"\",Eingabe!S77,\"\")","v":""},null,null,null,null,{"$f":"IF(Eingabe!V77<>\"\",Eingabe!V77,\"\")","v":""},{"$f":"IF(Eingabe!W77<>\"\",Eingabe!W77,\"\")","v":""}]
[{"$f":"IF(Eingabe!Q78<>\"\",Eingabe!Q78,\"\")","v":""},{"$f":"IF(Eingabe!U78<>\"\",Eingabe!U78,\"\")","v":""},null,{"$f":"IF(Eingabe!B78<>\"\",Eingabe!B78,\"\")","v":""},{"$f":"IF(Eingabe!C78<>\"\",Eingabe!C78,\"\")","v":""},{"$f":"IF(Eingabe!D78<>\"\",Eingabe!D78,\"\")","v":""},{"$f":"IF(Eingabe!E78<>\"\",Eingabe!E78,\"\")","v":""},{"$f":"IF(Eingabe!F78<>\"\",Eingabe!F78,\"\")","v":""},{"$f":"IF(Eingabe!G78<>\"\",Eingabe!G78,\"\")","v":""},null,{"$f":"IF(Eingabe!H78<>\"\",Eingabe!H78,\"\")","v":""},{"$f":"IF(Eingabe!I78<>\"\",Eingabe!I78,\"\")","v":""},{"$f":"IF(Eingabe!L78<>\"\",Eingabe!L78,\"\")","v":""},{"$f":"IF(Eingabe!J78<>\"\",Eingabe!J78,\"\")","v":""},{"$f":"IF(Eingabe!K78<>\"\",Eingabe!K78,\"\")","v":""},{"$f":"IF(Eingabe!R78<>\"\",Eingabe!R78,\"\")","v":""},{"$f":"IF(Eingabe!S78<>\"\",Eingabe!S78,\"\")","v":""},null,null,null,null,{"$f":"IF(Eingabe!V78<>\"\",Eingabe!V78,\"\")","v":""},{"$f":"IF(Eingabe!W78<>\"\",Eingabe!W78,\"\")","v":""}]
[{"$f":"IF(Eingabe!Q79<>\"\",Eingabe!Q79,\"\")","v":""},{"$f":"IF(Eingabe!U79<>\"\",Eingabe!U79,\"\")","v":""},null,{"$f":"IF(Eingabe!B79<>\"\",Eingabe!B79,\"\")","v":""},{"$f":"IF(Eingabe!C79<>\"\",Eingabe!C79,\"\")","v":""},{"$f":"IF(Eingabe!D79<>\"\",Eingabe!D79,\"\")","v":""},{"$f":"IF(Eingabe!E79<>\"\",Eingabe!E79,\"\")","v":""},{"$f":"IF(Eingabe!F79<>\"\",Eingabe!F79,\"\")","v":""},{"$f":"IF(Eingabe!G79<>\"\",Eingabe!G79,\"\")","v":""},null,{"$f":"IF(Eingabe!H79<>\"\",Eingabe!H79,\"\")","v":""},{"$f":"IF(Eingabe!I79<>\"\",Eingabe!I79,\"\")","v":""},{"$f":"IF(Eingabe!L79<>\"\",Eingabe!L79,\"\")","v":""},{"$f":"IF(Eingabe!J79<>\"\",Eingabe!J79,\"\")","v":""},{"$f":"IF(Eingabe!K79<>\"\",Eingabe!K79,\"\")","v":""},{"$f":"IF(Eingabe!R79<>\"\",Eingabe!R79,\"\")","v":""},{"$f":"IF(Eingabe!S79<>\"\",Eingabe!S79,\"\")","v":""},null,null,null,null,{"$f":"IF(Eingabe!V79<>\"\",Eingabe!V79,\"\")","v":""},{"$f":"IF(Eingabe!W79<>\"\",Eingabe!W79,\"\")","v":""}]
[{"$f":"IF(Eingabe!Q80<>\"\",Eingabe!Q80,\"\")","v":""},{"$f":"IF(Eingabe!U80<>\"\",Eingabe!U80,\"\")","v":""},null,{"$f":"IF(Eingabe!B80<>\"\",Eingabe!B80,\"\")","v":""},{"$f":"IF(Eingabe!C80<>\"\",Eingabe!C80,\"\")","v":""},{"$f":"IF(Eingabe!D80<>\"\",Eingabe!D80,\"\")","v":""},{"$f":"IF(Eingabe!E80<>\"\",Eingabe!E80,\"\")","v":""},{"$f":"IF(Eingabe!F80<>\"\",Eingabe!F80,\"\")","v":""},{"$f":"IF(Eingabe!G80<>\"\",Eingabe!G80,\"\")","v":""},null,{"$f":"IF(Eingabe!H80<>\"\",Eingabe!H80,\"\")","v":""},{"$f":"IF(Eingabe!I80<>\"\",Eingabe!I80,\"\")","v":""},{"$f":"IF(Eingabe!L80<>\"\",Eingabe!L80,\"\")","v":""},{"$f":"IF(Eingabe!J80<>\"\",Eingabe!J80,\"\")","v":""},{"$f":"IF(Eingabe!K80<>\"\",Eingabe!K80,\"\")","v":""},{"$f":"IF(Eingabe!R80<>\"\",Eingabe!R80,\"\")","v":""},{"$f":"IF(Eingabe!S80<>\"\",Eingabe!S80,\"\")","v":""},null,null,null,null,{"$f":"IF(Eingabe!V80<>\"\",Eingabe!V80,\"\")","v":""},{"$f":"IF(Eingabe!W80<>\"\",Eingabe!W80,\"\")","v":""}]
[{"$f":"IF(Eingabe!Q81<>\"\",Eingabe!Q81,\"\")","v":""},{"$f":"IF(Eingabe!U81<>\"\",Eingabe!U81,\"\")","v":""},null,{"$f":"IF(Eingabe!B81<>\"\",Eingabe!B81,\"\")","v":""},{"$f":"IF(Eingabe!C81<>\"\",Eingabe!C81,\"\")","v":""},{"$f":"IF(Eingabe!D81<>\"\",Eingabe!D81,\"\")","v":""},{"$f":"IF(Eingabe!E81<>\"\",Eingabe!E81,\"\")","v":""},{"$f":"IF(Eingabe!F81<>\"\",Eingabe!F81,\"\")","v":""},{"$f":"IF(Eingabe!G81<>\"\",Eingabe!G81,\"\")","v":""},null,{"$f":"IF(Eingabe!H81<>\"\",Eingabe!H81,\"\")","v":""},{"$f":"IF(Eingabe!I81<>\"\",Eingabe!I81,\"\")","v":""},{"$f":"IF(Eingabe!L81<>\"\",Eingabe!L81,\"\")","v":""},{"$f":"IF(Eingabe!J81<>\"\",Eingabe!J81,\"\")","v":""},{"$f":"IF(Eingabe!K81<>\"\",Eingabe!K81,\"\")","v":""},{"$f":"IF(Eingabe!R81<>\"\",Eingabe!R81,\"\")","v":""},{"$f":"IF(Eingabe!S81<>\"\",Eingabe!S81,\"\")","v":""},null,null,null,null,{"$f":"IF(Eingabe!V81<>\"\",Eingabe!V81,\"\")","v":""},{"$f":"IF(Eingabe!W81<>\"\",Eingabe!W81,\"\")","v":""}]
[{"$f":"IF(Eingabe!Q82<>\"\",Eingabe!Q82,\"\")","v":""},{"$f":"IF(Eingabe!U82<>\"\",Eingabe!U82,\"\")","v":""},null,{"$f":"IF(Eingabe!B82<>\"\",Eingabe!B82,\"\")","v":""},{"$f":"IF(Eingabe!C82<>\"\",Eingabe!C82,\"\")","v":""},{"$f":"IF(Eingabe!D82<>\"\",Eingabe!D82,\"\")","v":""},{"$f":"IF(Eingabe!E82<>\"\",Eingabe!E82,\"\")","v":""},{"$f":"IF(Eingabe!F82<>\"\",Eingabe!F82,\"\")","v":""},{"$f":"IF(Eingabe!G82<>\"\",Eingabe!G82,\"\")","v":""},null,{"$f":"IF(Eingabe!H82<>\"\",Eingabe!H82,\"\")","v":""},{"$f":"IF(Eingabe!I82<>\"\",Eingabe!I82,\"\")","v":""},{"$f":"IF(Eingabe!L82<>\"\",Eingabe!L82,\"\")","v":""},{"$f":"IF(Eingabe!J82<>\"\",Eingabe!J82,\"\")","v":""},{"$f":"IF(Eingabe!K82<>\"\",Eingabe!K82,\"\")","v":""},{"$f":"IF(Eingabe!R82<>\"\",Eingabe!R82,\"\")","v":""},{"$f":"IF(Eingabe!S82<>\"\",Eingabe!S82,\"\")","v":""},null,null,null,null,{"$f":"IF(Eingabe!V82<>\"\",Eingabe!V82,\"\")","v":""},{"$f":"IF(Eingabe!W82<>\"\",Eingabe!W82,\"\")","v":""}]
[{"$f":"IF(Eingabe!Q83<>\"\",Eingabe!Q83,\"\")","v":""},{"$f":"IF(Eingabe!U83<>\"\",Eingabe!U83,\"\")","v":""},null,{"$f":"IF(Eingabe!B83<>\"\",Eingabe!B83,\"\")","v":""},{"$f":"IF(Eingabe!C83<>\"\",Eingabe!C83,\"\")","v":""},{"$f":"IF(Eingabe!D83<>\"\",Eingabe!D83,\"\")","v":""},{"$f":"IF(Eingabe!E83<>\"\",Eingabe!E83,\"\")","v":""},{"$f":"IF(Eingabe!F83<>\"\",Eingabe!F83,\"\")","v":""},{"$f":"IF(Eingabe!G83<>\"\",Eingabe!G83,\"\")","v":""},null,{"$f":"IF(Eingabe!H83<>\"\",Eingabe!H83,\"\")","v":""},{"$f":"IF(Eingabe!I83<>\"\",Eingabe!I83,\"\")","v":""},{"$f":"IF(Eingabe!L83<>\"\",Eingabe!L83,\"\")","v":""},{"$f":"IF(Eingabe!J83<>\"\",Eingabe!J83,\"\")","v":""},{"$f":"IF(Eingabe!K83<>\"\",Eingabe!K83,\"\")","v":""},{"$f":"IF(Eingabe!R83<>\"\",Eingabe!R83,\"\")","v":""},{"$f":"IF(Eingabe!S83<>\"\",Eingabe!S83,\"\")","v":""},null,null,null,null,{"$f":"IF(Eingabe!V83<>\"\",Eingabe!V83,\"\")","v":""},{"$f":"IF(Eingabe!W83<>\"\",Eingabe!W83,\"\")","v":""}]
[{"$f":"IF(Eingabe!Q84<>\"\",Eingabe!Q84,\"\")","v":""},{"$f":"IF(Eingabe!U84<>\"\",Eingabe!U84,\"\")","v":""},null,{"$f":"IF(Eingabe!B84<>\"\",Eingabe!B84,\"\")","v":""},{"$f":"IF(Eingabe!C84<>\"\",Eingabe!C84,\"\")","v":""},{"$f":"IF(Eingabe!D84<>\"\",Eingabe!D84,\"\")","v":""},{"$f":"IF(Eingabe!E84<>\"\",Eingabe!E84,\"\")","v":""},{"$f":"IF(Eingabe!F84<>\"\",Eingabe!F84,\"\")","v":""},{"$f":"IF(Eingabe!G84<>\"\",Eingabe!G84,\"\")","v":""},null,{"$f":"IF(Eingabe!H84<>\"\",Eingabe!H84,\"\")","v":""},{"$f":"IF(Eingabe!I84<>\"\",Eingabe!I84,\"\")","v":""},{"$f":"IF(Eingabe!L84<>\"\",Eingabe!L84,\"\")","v":""},{"$f":"IF(Eingabe!J84<>\"\",Eingabe!J84,\"\")","v":""},{"$f":"IF(Eingabe!K84<>\"\",Eingabe!K84,\"\")","v":""},{"$f":"IF(Eingabe!R84<>\"\",Eingabe!R84,\"\")","v":""},{"$f":"IF(Eingabe!S84<>\"\",Eingabe!S84,\"\")","v":""},null,null,null,null,{"$f":"IF(Eingabe!V84<>\"\",Eingabe!V84,\"\")","v":""},{"$f":"IF(Eingabe!W84<>\"\",Eingabe!W84,\"\")","v":""}]
[{"$f":"IF(Eingabe!Q85<>\"\",Eingabe!Q85,\"\")","v":""},{"$f":"IF(Eingabe!U85<>\"\",Eingabe!U85,\"\")","v":""},null,{"$f":"IF(Eingabe!B85<>\"\",Eingabe!B85,\"\")","v":""},{"$f":"IF(Eingabe!C85<>\"\",Eingabe!C85,\"\")","v":""},{"$f":"IF(Eingabe!D85<>\"\",Eingabe!D85,\"\")","v":""},{"$f":"IF(Eingabe!E85<>\"\",Eingabe!E85,\"\")","v":""},{"$f":"IF(Eingabe!F85<>\"\",Eingabe!F85,\"\")","v":""},{"$f":"IF(Eingabe!G85<>\"\",Eingabe!G85,\"\")","v":""},null,{"$f":"IF(Eingabe!H85<>\"\",Eingabe!H85,\"\")","v":""},{"$f":"IF(Eingabe!I85<>\"\",Eingabe!I85,\"\")","v":""},{"$f":"IF(Eingabe!L85<>\"\",Eingabe!L85,\"\")","v":""},{"$f":"IF(Eingabe!J85<>\"\",Eingabe!J85,\"\")","v":""},{"$f":"IF(Eingabe!K85<>\"\",Eingabe!K85,\"\")","v":""},{"$f":"IF(Eingabe!R85<>\"\",Eingabe!R85,\"\")","v":""},{"$f":"IF(Eingabe!S85<>\"\",Eingabe!S85,\"\")","v":""},null,null,null,null,{"$f":"IF(Eingabe!V85<>\"\",Eingabe!V85,\"\")","v":""},{"$f":"IF(Eingabe!W85<>\"\",Eingabe!W85,\"\")","v":""}]
[{"$f":"IF(Eingabe!Q86<>\"\",Eingabe!Q86,\"\")","v":""},{"$f":"IF(Eingabe!U86<>\"\",Eingabe!U86,\"\")","v":""},null,{"$f":"IF(Eingabe!B86<>\"\",Eingabe!B86,\"\")","v":""},{"$f":"IF(Eingabe!C86<>\"\",Eingabe!C86,\"\")","v":""},{"$f":"IF(Eingabe!D86<>\"\",Eingabe!D86,\"\")","v":""},{"$f":"IF(Eingabe!E86<>\"\",Eingabe!E86,\"\")","v":""},{"$f":"IF(Eingabe!F86<>\"\",Eingabe!F86,\"\")","v":""},{"$f":"IF(Eingabe!G86<>\"\",Eingabe!G86,\"\")","v":""},null,{"$f":"IF(Eingabe!H86<>\"\",Eingabe!H86,\"\")","v":""},{"$f":"IF(Eingabe!I86<>\"\",Eingabe!I86,\"\")","v":""},{"$f":"IF(Eingabe!L86<>\"\",Eingabe!L86,\"\")","v":""},{"$f":"IF(Eingabe!J86<>\"\",Eingabe!J86,\"\")","v":""},{"$f":"IF(Eingabe!K86<>\"\",Eingabe!K86,\"\")","v":""},{"$f":"IF(Eingabe!R86<>\"\",Eingabe!R86,\"\")","v":""},{"$f":"IF(Eingabe!S86<>\"\",Eingabe!S86,\"\")","v":""},null,null,null,null,{"$f":"IF(Eingabe!V86<>\"\",Eingabe!V86,\"\")","v":""},{"$f":"IF(Eingabe!W86<>\"\",Eingabe!W86,\"\")","v":""}]
[{"$f":"IF(Eingabe!Q87<>\"\",Eingabe!Q87,\"\")","v":""},{"$f":"IF(Eingabe!U87<>\"\",Eingabe!U87,\"\")","v":""},null,{"$f":"IF(Eingabe!B87<>\"\",Eingabe!B87,\"\")","v":""},{"$f":"IF(Eingabe!C87<>\"\",Eingabe!C87,\"\")","v":""},{"$f":"IF(Eingabe!D87<>\"\",Eingabe!D87,\"\")","v":""},{"$f":"IF(Eingabe!E87<>\"\",Eingabe!E87,\"\")","v":""},{"$f":"IF(Eingabe!F87<>\"\",Eingabe!F87,\"\")","v":""},{"$f":"IF(Eingabe!G87<>\"\",Eingabe!G87,\"\")","v":""},null,{"$f":"IF(Eingabe!H87<>\"\",Eingabe!H87,\"\")","v":""},{"$f":"IF(Eingabe!I87<>\"\",Eingabe!I87,\"\")","v":""},{"$f":"IF(Eingabe!L87<>\"\",Eingabe!L87,\"\")","v":""},{"$f":"IF(Eingabe!J87<>\"\",Eingabe!J87,\"\")","v":""},{"$f":"IF(Eingabe!K87<>\"\",Eingabe!K87,\"\")","v":""},{"$f":"IF(Eingabe!R87<>\"\",Eingabe!R87,\"\")","v":""},{"$f":"IF(Eingabe!S87<>\"\",Eingabe!S87,\"\")","v":""},null,null,null,null,{"$f":"IF(Eingabe!V87<>\"\",Eingabe!V87,\"\")","v":""},{"$f":"IF(Eingabe!W87<>\"\",Eingabe!W87,\"\")","v":""}]
[{"$f":"IF(Eingabe!Q88<>\"\",Eingabe!Q88,\"\")","v":""},{"$f":"IF(Eingabe!U88<>\"\",Eingabe!U88,\"\")","v":""},null,{"$f":"IF(Eingabe!B88<>\"\",Eingabe!B88,\"\")","v":""},{"$f":"IF(Eingabe!C88<>\"\",Eingabe!C88,\"\")","v":""},{"$f":"IF(Eingabe!D88<>\"\",Eingabe!D88,\"\")","v":""},{"$f":"IF(Eingabe!E88<>\"\",Eingabe!E88,\"\")","v":""},{"$f":"IF(Eingabe!F88<>\"\",Eingabe!F88,\"\")","v":""},{"$f":"IF(Eingabe!G88<>\"\",Eingabe!G88,\"\")","v":""},null,{"$f":"IF(Eingabe!H88<>\"\",Eingabe!H88,\"\")","v":""},{"$f":"IF(Eingabe!I88<>\"\",Eingabe!I88,\"\")","v":""},{"$f":"IF(Eingabe!L88<>\"\",Eingabe!L88,\"\")","v":""},{"$f":"IF(Eingabe!J88<>\"\",Eingabe!J88,\"\")","v":""},{"$f":"IF(Eingabe!K88<>\"\",Eingabe!K88,\"\")","v":""},{"$f":"IF(Eingabe!R88<>\"\",Eingabe!R88,\"\")","v":""},{"$f":"IF(Eingabe!S88<>\"\",Eingabe!S88,\"\")","v":""},null,null,null,null,{"$f":"IF(Eingabe!V88<>\"\",Eingabe!V88,\"\")","v":""},{"$f":"IF(Eingabe!W88<>\"\",Eingabe!W88,\"\")","v":""}]
[{"$f":"IF(Eingabe!Q89<>\"\",Eingabe!Q89,\"\")","v":""},{"$f":"IF(Eingabe!U89<>\"\",Eingabe!U89,\"\")","v":""},null,{"$f":"IF(Eingabe!B89<>\"\",Eingabe!B89,\"\")","v":""},{"$f":"IF(Eingabe!C89<>\"\",Eingabe!C89,\"\")","v":""},{"$f":"IF(Eingabe!D89<>\"\",Eingabe!D89,\"\")","v":""},{"$f":"IF(Eingabe!E89<>\"\",Eingabe!E89,\"\")","v":""},{"$f":"IF(Eingabe!F89<>\"\",Eingabe!F89,\"\")","v":""},{"$f":"IF(Eingabe!G89<>\"\",Eingabe!G89,\"\")","v":""},null,{"$f":"IF(Eingabe!H89<>\"\",Eingabe!H89,\"\")","v":""},{"$f":"IF(Eingabe!I89<>\"\",Eingabe!I89,\"\")","v":""},{"$f":"IF(Eingabe!L89<>\"\",Eingabe!L89,\"\")","v":""},{"$f":"IF(Eingabe!J89<>\"\",Eingabe!J89,\"\")","v":""},{"$f":"IF(Eingabe!K89<>\"\",Eingabe!K89,\"\")","v":""},{"$f":"IF(Eingabe!R89<>\"\",Eingabe!R89,\"\")","v":""},{"$f":"IF(Eingabe!S89<>\"\",Eingabe!S89,\"\")","v":""},null,null,null,null,{"$f":"IF(Eingabe!V89<>\"\",Eingabe!V89,\"\")","v":""},{"$f":"IF(Eingabe!W89<>\"\",Eingabe!W89,\"\")","v":""}]
[{"$f":"IF(Eingabe!Q90<>\"\",Eingabe!Q90,\"\")","v":""},{"$f":"IF(Eingabe!U90<>\"\",Eingabe!U90,\"\")","v":""},null,{"$f":"IF(Eingabe!B90<>\"\",Eingabe!B90,\"\")","v":""},{"$f":"IF(Eingabe!C90<>\"\",Eingabe!C90,\"\")","v":""},{"$f":"IF(Eingabe!D90<>\"\",Eingabe!D90,\"\")","v":""},{"$f":"IF(Eingabe!E90<>\"\",Eingabe!E90,\"\")","v":""},{"$f":"IF(Eingabe!F90<>\"\",Eingabe!F90,\"\")","v":""},{"$f":"IF(Eingabe!G90<>\"\",Eingabe!G90,\"\")","v":""},null,{"$f":"IF(Eingabe!H90<>\"\",Eingabe!H90,\"\")","v":""},{"$f":"IF(Eingabe!I90<>\"\",Eingabe!I90,\"\")","v":""},{"$f":"IF(Eingabe!L90<>\"\",Eingabe!L90,\"\")","v":""},{"$f":"IF(Eingabe!J90<>\"\",Eingabe!J90,\"\")","v":""},{"$f":"IF(Eingabe!K90<>\"\",Eingabe!K90,\"\")","v":""},{"$f":"IF(Eingabe!R90<>\"\",Eingabe!R90,\"\")","v":""},{"$f":"IF(Eingabe!S90<>\"\",Eingabe!S90,\"\")","v":""},null,null,null,null,{"$f":"IF(Eingabe!V90<>\"\",Eingabe!V90,\"\")","v":""},{"$f":"IF(Eingabe!W90<>\"\",Eingabe!W90,\"\")","v":""}]
[{"$f":"IF(Eingabe!Q91<>\"\",Eingabe!Q91,\"\")","v":""},{"$f":"IF(Eingabe!U91<>\"\",Eingabe!U91,\"\")","v":""},null,{"$f":"IF(Eingabe!B91<>\"\",Eingabe!B91,\"\")","v":""},{"$f":"IF(Eingabe!C91<>\"\",Eingabe!C91,\"\")","v":""},{"$f":"IF(Eingabe!D91<>\"\",Eingabe!D91,\"\")","v":""},{"$f":"IF(Eingabe!E91<>\"\",Eingabe!E91,\"\")","v":""},{"$f":"IF(Eingabe!F91<>\"\",Eingabe!F91,\"\")","v":""},{"$f":"IF(Eingabe!G91<>\"\",Eingabe!G91,\"\")","v":""},null,{"$f":"IF(Eingabe!H91<>\"\",Eingabe!H91,\"\")","v":""},{"$f":"IF(Eingabe!I91<>\"\",Eingabe!I91,\"\")","v":""},{"$f":"IF(Eingabe!L91<>\"\",Eingabe!L91,\"\")","v":""},{"$f":"IF(Eingabe!J91<>\"\",Eingabe!J91,\"\")","v":""},{"$f":"IF(Eingabe!K91<>\"\",Eingabe!K91,\"\")","v":""},{"$f":"IF(Eingabe!R91<>\"\",Eingabe!R91,\"\")","v":""},{"$f":"IF(Eingabe!S91<>\"\",Eingabe!S91,\"\")","v":""},null,null,null,null,{"$f":"IF(Eingabe!V91<>\"\",Eingabe!V91,\"\")","v":""},{"$f":"IF(Eingabe!W91<>\"\",Eingabe!W91,\"\")","v":""}]
[{"$f":"IF(Eingabe!Q92<>\"\",Eingabe!Q92,\"\")","v":""},{"$f":"IF(Eingabe!U92<>\"\",Eingabe!U92,\"\")","v":""},null,{"$f":"IF(Eingabe!B92<>\"\",Eingabe!B92,\"\")","v":""},{"$f":"IF(Eingabe!C92<>\"\",Eingabe!C92,\"\")","v":""},{"$f":"IF(Eingabe!D92<>\"\",Eingabe!D92,\"\")","v":""},{"$f":"IF(Eingabe!E92<>\"\",Eingabe!E92,\"\")","v":""},{"$f":"IF(Eingabe!F92<>\"\",Eingabe!F92,\"\")","v":""},{"$f":"IF(Eingabe!G92<>\"\",Eingabe!G92,\"\")","v":""},null,{"$f":"IF(Eingabe!H92<>\"\",Eingabe!H92,\"\")","v":""},{"$f":"IF(Eingabe!I92<>\"\",Eingabe!I92,\"\")","v":""},{"$f":"IF(Eingabe!L92<>\"\",Eingabe!L92,\"\")","v":""},{"$f":"IF(Eingabe!J92<>\"\",Eingabe!J92,\"\")","v":""},{"$f":"IF(Eingabe!K92<>\"\",Eingabe!K92,\"\")","v":""},{"$f":"IF(Eingabe!R92<>\"\",Eingabe!R92,\"\")","v":""},{"$f":"IF(Eingabe!S92<>\"\",Eingabe!S92,\"\")","v":""},null,null,null,null,{"$f":"IF(Eingabe!V92<>\"\",Eingabe!V92,\"\")","v":""},{"$f":"IF(Eingabe!W92<>\"\",Eingabe!W92,\"\")","v":""}]
[{"$f":"IF(Eingabe!Q93<>\"\",Eingabe!Q93,\"\")","v":""},{"$f":"IF(Eingabe!U93<>\"\",Eingabe!U93,\"\")","v":""},null,{"$f":"IF(Eingabe!B93<>\"\",Eingabe!B93,\"\")","v":""},{"$f":"IF(Eingabe!C93<>\"\",Eingabe!C93,\"\")","v":""},{"$f":"IF(Eingabe!D93<>\"\",Eingabe!D93,\"\")","v":""},{"$f":"IF(Eingabe!E93<>\"\",Eingabe!E93,\"\")","v":""},{"$f":"IF(Eingabe!F93<>\"\",Eingabe!F93,\"\")","v":""},{"$f":"IF(Eingabe!G93<>\"\",Eingabe!G93,\"\")","v":""},null,{"$f":"IF(Eingabe!H93<>\"\",Eingabe!H93,\"\")","v":""},{"$f":"IF(Eingabe!I93<>\"\",Eingabe!I93,\"\")","v":""},{"$f":"IF(Eingabe!L93<>\"\",Eingabe!L93,\"\")","v":""},{"$f":"IF(Eingabe!J93<>\"\",Eingabe!J93,\"\")","v":""},{"$f":"IF(Eingabe!K93<>\"\",Eingabe!K93,\"\")","v":""},{"$f":"IF(Eingabe!R93<>\"\",Eingabe!R93,\"\")","v":""},{"$f":"IF(Eingabe!S93<>\"\",Eingabe!S93,\"\")","v":""},null,null,null,null,{"$f":"IF(Eingabe!V93<>\"\",Eingabe!V93,\"\")","v":""},{"$f":"IF(Eingabe!W93<>\"\",Eingabe!W93,\"\")","v":""}]
[{"$f":"IF(Eingabe!Q94<>\"\",Eingabe!Q94,\"\")","v":""},{"$f":"IF(Eingabe!U94<>\"\",Eingabe!U94,\"\")","v":""},null,{"$f":"IF(Eingabe!B94<>\"\",Eingabe!B94,\"\")","v":""},{"$f":"IF(Eingabe!C94<>\"\",Eingabe!C94,\"\")","v":""},{"$f":"IF(Eingabe!D94<>\"\",Eingabe!D94,\"\")","v":""},{"$f":"IF(Eingabe!E94<>\"\",Eingabe!E94,\"\")","v":""},{"$f":"IF(Eingabe!F94<>\"\",Eingabe!F94,\"\")","v":""},{"$f":"IF(Eingabe!G94<>\"\",Eingabe!G94,\"\")","v":""},null,{"$f":"IF(Eingabe!H94<>\"\",Eingabe!H94,\"\")","v":""},{"$f":"IF(Eingabe!I94<>\"\",Eingabe!I94,\"\")","v":""},{"$f":"IF(Eingabe!L94<>\"\",Eingabe!L94,\"\")","v":""},{"$f":"IF(Eingabe!J94<>\"\",Eingabe!J94,\"\")","v":""},{"$f":"IF(Eingabe!K94<>\"\",Eingabe!K94,\"\")","v":""},{"$f":"IF(Eingabe!R94<>\"\",Eingabe!R94,\"\")","v":""},{"$f":"IF(Eingabe!S94<>\"\",Eingabe!S94,\"\")","v":""},null,null,null,null,{"$f":"IF(Eingabe!V94<>\"\",Eingabe!V94,\"\")","v":""},{"$f":"IF(Eingabe!W94<>\"\",Eingabe!W94,\"\")","v":""}]
[{"$f":"IF(Eingabe!Q95<>\"\",Eingabe!Q95,\"\")","v":""},{"$f":"IF(Eingabe!U95<>\"\",Eingabe!U95,\"\")","v":""},null,{"$f":"IF(Eingabe!B95<>\"\",Eingabe!B95,\"\")","v":""},{"$f":"IF(Eingabe!C95<>\"\",Eingabe!C95,\"\")","v":""},{"$f":"IF(Eingabe!D95<>\"\",Eingabe!D95,\"\")","v":""},{"$f":"IF(Eingabe!E95<>\"\",Eingabe!E95,\"\")","v":""},{"$f":"IF(Eingabe!F95<>\"\",Eingabe!F95,\"\")","v":""},{"$f":"IF(Eingabe!G95<>\"\",Eingabe!G95,\"\")","v":""},null,{"$f":"IF(Eingabe!H95<>\"\",Eingabe!H95,\"\")","v":""},{"$f":"IF(Eingabe!I95<>\"\",Eingabe!I95,\"\")","v":""},{"$f":"IF(Eingabe!L95<>\"\",Eingabe!L95,\"\")","v":""},{"$f":"IF(Eingabe!J95<>\"\",Eingabe!J95,\"\")","v":""},{"$f":"IF(Eingabe!K95<>\"\",Eingabe!K95,\"\")","v":""},{"$f":"IF(Eingabe!R95<>\"\",Eingabe!R95,\"\")","v":""},{"$f":"IF(Eingabe!S95<>\"\",Eingabe!S95,\"\")","v":""},null,null,null,null,{"$f":"IF(Eingabe!V95<>\"\",Eingabe!V95,\"\")","v":""},{"$f":"IF(Eingabe!W95<>\"\",Eingabe!W95,\"\")","v":""}]
[{"$f":"IF(Eingabe!Q96<>\"\",Eingabe!Q96,\"\")","v":""},{"$f":"IF(Eingabe!U96<>\"\",Eingabe!U96,\"\")","v":""},null,{"$f":"IF(Eingabe!B96<>\"\",Eingabe!B96,\"\")","v":""},{"$f":"IF(Eingabe!C96<>\"\",Eingabe!C96,\"\")","v":""},{"$f":"IF(Eingabe!D96<>\"\",Eingabe!D96,\"\")","v":""},{"$f":"IF(Eingabe!E96<>\"\",Eingabe!E96,\"\")","v":""},{"$f":"IF(Eingabe!F96<>\"\",Eingabe!F96,\"\")","v":""},{"$f":"IF(Eingabe!G96<>\"\",Eingabe!G96,\"\")","v":""},null,{"$f":"IF(Eingabe!H96<>\"\",Eingabe!H96,\"\")","v":""},{"$f":"IF(Eingabe!I96<>\"\",Eingabe!I96,\"\")","v":""},{"$f":"IF(Eingabe!L96<>\"\",Eingabe!L96,\"\")","v":""},{"$f":"IF(Eingabe!J96<>\"\",Eingabe!J96,\"\")","v":""},{"$f":"IF(Eingabe!K96<>\"\",Eingabe!K96,\"\")","v":""},{"$f":"IF(Eingabe!R96<>\"\",Eingabe!R96,\"\")","v":""},{"$f":"IF(Eingabe!S96<>\"\",Eingabe!S96,\"\")","v":""},null,null,null,null,{"$f":"IF(Eingabe!V96<>\"\",Eingabe!V96,\"\")","v":""},{"$f":"IF(Eingabe!W96<>\"\",Eingabe!W96,\"\")","v":""}]
[{"$f":"IF(Eingabe!Q97<>\"\",Eingabe!Q97,\"\")","v":""},{"$f":"IF(Eingabe!U97<>\"\",Eingabe!U97,\"\")","v":""},null,{"$f":"IF(Eingabe!B97<>\"\",Eingabe!B97,\"\")","v":""},{"$f":"IF(Eingabe!C97<>\"\",Eingabe!C97,\"\")","v":""},{"$f":"IF(Eingabe!D97<>\"\",Eingabe!D97,\"\")","v":""},{"$f":"IF(Eingabe!E97<>\"\",Eingabe!E97,\"\")","v":""},{"$f":"IF(Eingabe!F97<>\"\",Eingabe!F97,\"\")","v":""},{"$f":"IF(Eingabe!G97<>\"\",Eingabe!G97,\"\")","v":""},null,{"$f":"IF(Eingabe!H97<>\"\",Eingabe!H97,\"\")","v":""},{"$f":"IF(Eingabe!I97<>\"\",Eingabe!I97,\"\")","v":""},{"$f":"IF(Eingabe!L97<>\"\",Eingabe!L97,\"\")","v":""},{"$f":"IF(Eingabe!J97<>\"\",Eingabe!J97,\"\")","v":""},{"$f":"IF(Eingabe!K97<>\"\",Eingabe!K97,\"\")","v":""},{"$f":"IF(Eingabe!R97<>\"\",Eingabe!R97,\"\")","v":""},{"$f":"IF(Eingabe!S97<>\"\",Eingabe!S97,\"\")","v":""},null,null,null,null,{"$f":"IF(Eingabe!V97<>\"\",Eingabe!V97,\"\")","v":""},{"$f":"IF(Eingabe!W97<>\"\",Eingabe!W97,\"\")","v":""}]
[{"$f":"IF(Eingabe!Q98<>\"\",Eingabe!Q98,\"\")","v":""},{"$f":"IF(Eingabe!U98<>\"\",Eingabe!U98,\"\")","v":""},null,{"$f":"IF(Eingabe!B98<>\"\",Eingabe!B98,\"\")","v":""},{"$f":"IF(Eingabe!C98<>\"\",Eingabe!C98,\"\")","v":""},{"$f":"IF(Eingabe!D98<>\"\",Eingabe!D98,\"\")","v":""},{"$f":"IF(Eingabe!E98<>\"\",Eingabe!E98,\"\")","v":""},{"$f":"IF(Eingabe!F98<>\"\",Eingabe!F98,\"\")","v":""},{"$f":"IF(Eingabe!G98<>\"\",Eingabe!G98,\"\")","v":""},null,{"$f":"IF(Eingabe!H98<>\"\",Eingabe!H98,\"\")","v":""},{"$f":"IF(Eingabe!I98<>\"\",Eingabe!I98,\"\")","v":""},{"$f":"IF(Eingabe!L98<>\"\",Eingabe!L98,\"\")","v":""},{"$f":"IF(Eingabe!J98<>\"\",Eingabe!J98,\"\")","v":""},{"$f":"IF(Eingabe!K98<>\"\",Eingabe!K98,\"\")","v":""},{"$f":"IF(Eingabe!R98<>\"\",Eingabe!R98,\"\")","v":""},{"$f":"IF(Eingabe!S98<>\"\",Eingabe!S98,\"\")","v":""},null,null,null,null,{"$f":"IF(Eingabe!V98<>\"\",Eingabe!V98,\"\")","v":""},{"$f":"IF(Eingabe!W98<>\"\",Eingabe!W98,\"\")","v":""}]
[{"$f":"IF(Eingabe!Q99<>\"\",Eingabe!Q99,\"\")","v":""},{"$f":"IF(Eingabe!U99<>\"\",Eingabe!U99,\"\")","v":""},null,{"$f":"IF(Eingabe!B99<>\"\",Eingabe!B99,\"\")","v":""},{"$f":"IF(Eingabe!C99<>\"\",Eingabe!C99,\"\")","v":""},{"$f":"IF(Eingabe!D99<>\"\",Eingabe!D99,\"\")","v":""},{"$f":"IF(Eingabe!E99<>\"\",Eingabe!E99,\"\")","v":""},{"$f":"IF(Eingabe!F99<>\"\",Eingabe!F99,\"\")","v":""},{"$f":"IF(Eingabe!G99<>\"\",Eingabe!G99,\"\")","v":""},null,{"$f":"IF(Eingabe!H99<>\"\",Eingabe!H99,\"\")","v":""},{"$f":"IF(Eingabe!I99<>\"\",Eingabe!I99,\"\")","v":""},{"$f":"IF(Eingabe!L99<>\"\",Eingabe!L99,\"\")","v":""},{"$f":"IF(Eingabe!J99<>\"\",Eingabe!J99,\"\")","v":""},{"$f":"IF(Eingabe!K99<>\"\",Eingabe!K99,\"\")","v":""},{"$f":"IF(Eingabe!R99<>\"\",Eingabe!R99,\"\")","v":""},{"$f":"IF(Eingabe!S99<>\"\",Eingabe!S99,\"\")","v":""},null,null,null,null,{"$f":"IF(Eingabe!V99<>\"\",Eingabe!V99,\"\")","v":""},{"$f":"IF(Eingabe!W99<>\"\",Eingabe!W99,\"\")","v":""}]
[{"$f":"IF(Eingabe!Q100<>\"\",Eingabe!Q100,\"\")","v":""},{"$f":"IF(Eingabe!U100<>\"\",Eingabe!U100,\"\")","v":""},null,{"$f":"IF(Eingabe!B100<>\"\",Eingabe!B100,\"\")","v":""},{"$f":"IF(Eingabe!C100<>\"\",Eingabe!C100,\"\")","v":""},{"$f":"IF(Eingabe!D100<>\"\",Eingabe!D100,\"\")","v":""},{"$f":"IF(Eingabe!E100<>\"\",Eingabe!E100,\"\")","v":""},{"$f":"IF(Eingabe!F100<>\"\",Eingabe!F100,\"\")","v":""},{"$f":"IF(Eingabe!G100<>\"\",Eingabe!G100,\"\")","v":""},null,{"$f":"IF(Eingabe!H100<>\"\",Eingabe!H100,\"\")","v":""},{"$f":"IF(Eingabe!I100<>\"\",Eingabe!I100,\"\")","v":""},{"$f":"IF(Eingabe!L100<>\"\",Eingabe!L100,\"\")","v":""},{"$f":"IF(Eingabe!J100<>\"\",Eingabe!J100,\"\")","v":""},{"$f":"IF(Eingabe!K100<>\"\",Eingabe!K100,\"\")","v":""},{"$f":"IF(Eingabe!R100<>\"\",Eingabe!R100,\"\")","v":""},{"$f":"IF(Eingabe!S100<>\"\",Eingabe!S100,\"\")","v":""},null,null,null,null,{"$f":"IF(Eingabe!V100<>\"\",Eingabe!V100,\"\")","v":""},{"$f":"IF(Eingabe!W100<>\"\",Eingabe!W100,\"\")","v":""}]
[{"$f":"IF(Eingabe!Q101<>\"\",Eingabe!Q101,\"\")","v":""},{"$f":"IF(Eingabe!U101<>\"\",Eingabe!U101,\"\")","v":""},null,{"$f":"IF(Eingabe!B101<>\"\",Eingabe!B101,\"\")","v":""},{"$f":"IF(Eingabe!C101<>\"\",Eingabe!C101,\"\")","v":""},{"$f":"IF(Eingabe!D101<>\"\",Eingabe!D101,\"\")","v":""},{"$f":"IF(Eingabe!E101<>\"\",Eingabe!E101,\"\")","v":""},{"$f":"IF(Eingabe!F101<>\"\",Eingabe!F101,\"\")","v":""},{"$f":"IF(Eingabe!G101<>\"\",Eingabe!G101,\"\")","v":""},null,{"$f":"IF(Eingabe!H101<>\"\",Eingabe!H101,\"\")","v":""},{"$f":"IF(Eingabe!I101<>\"\",Eingabe!I101,\"\")","v":""},{"$f":"IF(Eingabe!L101<>\"\",Eingabe!L101,\"\")","v":""},{"$f":"IF(Eingabe!J101<>\"\",Eingabe!J101,\"\")","v":""},{"$f":"IF(Eingabe!K101<>\"\",Eingabe!K101,\"\")","v":""},{"$f":"IF(Eingabe!R101<>\"\",Eingabe!R101,\"\")","v":""},{"$f":"IF(Eingabe!S101<>\"\",Eingabe!S101,\"\")","v":""},null,null,null,null,{"$f":"IF(Eingabe!V101<>\"\",Eingabe!V101,\"\")","v":""},{"$f":"IF(Eingabe!W101<>\"\",Eingabe!W101,\"\")","v":""}]
[{"$f":"IF(Eingabe!Q102<>\"\",Eingabe!Q102,\"\")","v":""},{"$f":"IF(Eingabe!U102<>\"\",Eingabe!U102,\"\")","v":""},null,{"$f":"IF(Eingabe!B102<>\"\",Eingabe!B102,\"\")","v":""},{"$f":"IF(Eingabe!C102<>\"\",Eingabe!C102,\"\")","v":""},{"$f":"IF(Eingabe!D102<>\"\",Eingabe!D102,\"\")","v":""},{"$f":"IF(Eingabe!E102<>\"\",Eingabe!E102,\"\")","v":""},{"$f":"IF(Eingabe!F102<>\"\",Eingabe!F102,\"\")","v":""},{"$f":"IF(Eingabe!G102<>\"\",Eingabe!G102,\"\")","v":""},null,{"$f":"IF(Eingabe!H102<>\"\",Eingabe!H102,\"\")","v":""},{"$f":"IF(Eingabe!I102<>\"\",Eingabe!I102,\"\")","v":""},{"$f":"IF(Eingabe!L102<>\"\",Eingabe!L102,\"\")","v":""},{"$f":"IF(Eingabe!J102<>\"\",Eingabe!J102,\"\")","v":""},{"$f":"IF(Eingabe!K102<>\"\",Eingabe!K102,\"\")","v":""},{"$f":"IF(Eingabe!R102<>\"\",Eingabe!R102,\"\")","v":""},{"$f":"IF(Eingabe!S102<>\"\",Eingabe!S102,\"\")","v":""},null,null,null,null,{"$f":"IF(Eingabe!V102<>\"\",Eingabe!V102,\"\")","v":""},{"$f":"IF(Eingabe!W102<>\"\",Eingabe!W102,\"\")","v":""}]
[{"$f":"IF(Eingabe!Q103<>\"\",Eingabe!Q103,\"\")","v":""},{"$f":"IF(Eingabe!U103<>\"\",Eingabe!U103,\"\")","v":""},null,{"$f":"IF(Eingabe!B103<>\"\",Eingabe!B103,\"\")","v":""},{"$f":"IF(Eingabe!C103<>\"\",Eingabe!C103,\"\")","v":""},{"$f":"IF(Eingabe!D103<>\"\",Eingabe!D103,\"\")","v":""},{"$f":"IF(Eingabe!E103<>\"\",Eingabe!E103,\"\")","v":""},{"$f":"IF(Eingabe!F103<>\"\",Eingabe!F103,\"\")","v":""},{"$f":"IF(Eingabe!G103<>\"\",Eingabe!G103,\"\")","v":""},null,{"$f":"IF(Eingabe!H103<>\"\",Eingabe!H103,\"\")","v":""},{"$f":"IF(Eingabe!I103<>\"\",Eingabe!I103,\"\")","v":""},{"$f":"IF(Eingabe!L103<>\"\",Eingabe!L103,\"\")","v":""},{"$f":"IF(Eingabe!J103<>\"\",Eingabe!J103,\"\")","v":""},{"$f":"IF(Eingabe!K103<>\"\",Eingabe!K103,\"\")","v":""},{"$f":"IF(Eingabe!R103<>\"\",Eingabe!R103,\"\")","v":""},{"$f":"IF(Eingabe!S103<>\"\",Eingabe!S103,\"\")","v":""},null,null,null,null,{"$f":"IF(Eingabe!V103<>\"\",Eingabe!V103,\"\")","v":""},{"$f":"IF(Eingabe!W103<>\"\",Eingabe!W103,\"\")","v":""}]
[{"$f":"IF(Eingabe!Q104<>\"\",Eingabe!Q104,\"\")","v":""},{"$f":"IF(Eingabe!U104<>\"\",Eingabe!U104,\"\")","v":""},null,{"$f":"IF(Eingabe!B104<>\"\",Eingabe!B104,\"\")","v":""},{"$f":"IF(Eingabe!C104<>\"\",Eingabe!C104,\"\")","v":""},{"$f":"IF(Eingabe!D104<>\"\",Eingabe!D104,\"\")","v":""},{"$f":"IF(Eingabe!E104<>\"\",Eingabe!E104,\"\")","v":""},{"$f":"IF(Eingabe!F104<>\"\",Eingabe!F104,\"\")","v":""},{"$f":"IF(Eingabe!G104<>\"\",Eingabe!G104,\"\")","v":""},null,{"$f":"IF(Eingabe!H104<>\"\",Eingabe!H104,\"\")","v":""},{"$f":"IF(Eingabe!I104<>\"\",Eingabe!I104,\"\")","v":""},{"$f":"IF(Eingabe!L104<>\"\",Eingabe!L104,\"\")","v":""},{"$f":"IF(Eingabe!J104<>\"\",Eingabe!J104,\"\")","v":""},{"$f":"IF(Eingabe!K104<>\"\",Eingabe!K104,\"\")","v":""},{"$f":"IF(Eingabe!R104<>\"\",Eingabe!R104,\"\")","v":""},{"$f":"IF(Eingabe!S104<>\"\",Eingabe!S104,\"\")","v":""},null,null,null,null,{"$f":"IF(Eingabe!V104<>\"\",Eingabe!V104,\"\")","v":""},{"$f":"IF(Eingabe!W104<>\"\",Eingabe!W104,\"\")","v":""}]
[{"$f":"IF(Eingabe!Q105<>\"\",Eingabe!Q105,\"\")","v":""},{"$f":"IF(Eingabe!U105<>\"\",Eingabe!U105,\"\")","v":""},null,{"$f":"IF(Eingabe!B105<>\"\",Eingabe!B105,\"\")","v":""},{"$f":"IF(Eingabe!C105<>\"\",Eingabe!C105,\"\")","v":""},{"$f":"IF(Eingabe!D105<>\"\",Eingabe!D105,\"\")","v":""},{"$f":"IF(Eingabe!E105<>\"\",Eingabe!E105,\"\")","v":""},{"$f":"IF(Eingabe!F105<>\"\",Eingabe!F105,\"\")","v":""},{"$f":"IF(Eingabe!G105<>\"\",Eingabe!G105,\"\")","v":""},null,{"$f":"IF(Eingabe!H105<>\"\",Eingabe!H105,\"\")","v":""},{"$f":"IF(Eingabe!I105<>\"\",Eingabe!I105,\"\")","v":""},{"$f":"IF(Eingabe!L105<>\"\",Eingabe!L105,\"\")","v":""},{"$f":"IF(Eingabe!J105<>\"\",Eingabe!J105,\"\")","v":""},{"$f":"IF(Eingabe!K105<>\"\",Eingabe!K105,\"\")","v":""},{"$f":"IF(Eingabe!R105<>\"\",Eingabe!R105,\"\")","v":""},{"$f":"IF(Eingabe!S105<>\"\",Eingabe!S105,\"\")","v":""},null,null,null,null,{"$f":"IF(Eingabe!V105<>\"\",Eingabe!V105,\"\")","v":""},{"$f":"IF(Eingabe!W105<>\"\",Eingabe!W105,\"\")","v":""}]
[{"$f":"IF(Eingabe!Q106<>\"\",Eingabe!Q106,\"\")","v":""},{"$f":"IF(Eingabe!U106<>\"\",Eingabe!U106,\"\")","v":""},null,{"$f":"IF(Eingabe!B106<>\"\",Eingabe!B106,\"\")","v":""},{"$f":"IF(Eingabe!C106<>\"\",Eingabe!C106,\"\")","v":""},{"$f":"IF(Eingabe!D106<>\"\",Eingabe!D106,\"\")","v":""},{"$f":"IF(Eingabe!E106<>\"\",Eingabe!E106,\"\")","v":""},{"$f":"IF(Eingabe!F106<>\"\",Eingabe!F106,\"\")","v":""},{"$f":"IF(Eingabe!G106<>\"\",Eingabe!G106,\"\")","v":""},null,{"$f":"IF(Eingabe!H106<>\"\",Eingabe!H106,\"\")","v":""},{"$f":"IF(Eingabe!I106<>\"\",Eingabe!I106,\"\")","v":""},{"$f":"IF(Eingabe!L106<>\"\",Eingabe!L106,\"\")","v":""},{"$f":"IF(Eingabe!J106<>\"\",Eingabe!J106,\"\")","v":""},{"$f":"IF(Eingabe!K106<>\"\",Eingabe!K106,\"\")","v":""},{"$f":"IF(Eingabe!R106<>\"\",Eingabe!R106,\"\")","v":""},{"$f":"IF(Eingabe!S106<>\"\",Eingabe!S106,\"\")","v":""},null,null,null,null,{"$f":"IF(Eingabe!V106<>\"\",Eingabe!V106,\"\")","v":""},{"$f":"IF(Eingabe!W106<>\"\",Eingabe!W106,\"\")","v":""}]
[{"$f":"IF(Eingabe!Q107<>\"\",Eingabe!Q107,\"\")","v":""},{"$f":"IF(Eingabe!U107<>\"\",Eingabe!U107,\"\")","v":""},null,{"$f":"IF(Eingabe!B107<>\"\",Eingabe!B107,\"\")","v":""},{"$f":"IF(Eingabe!C107<>\"\",Eingabe!C107,\"\")","v":""},{"$f":"IF(Eingabe!D107<>\"\",Eingabe!D107,\"\")","v":""},{"$f":"IF(Eingabe!E107<>\"\",Eingabe!E107,\"\")","v":""},{"$f":"IF(Eingabe!F107<>\"\",Eingabe!F107,\"\")","v":""},{"$f":"IF(Eingabe!G107<>\"\",Eingabe!G107,\"\")","v":""},null,{"$f":"IF(Eingabe!H107<>\"\",Eingabe!H107,\"\")","v":""},{"$f":"IF(Eingabe!I107<>\"\",Eingabe!I107,\"\")","v":""},{"$f":"IF(Eingabe!L107<>\"\",Eingabe!L107,\"\")","v":""},{"$f":"IF(Eingabe!J107<>\"\",Eingabe!J107,\"\")","v":""},{"$f":"IF(Eingabe!K107<>\"\",Eingabe!K107,\"\")","v":""},{"$f":"IF(Eingabe!R107<>\"\",Eingabe!R107,\"\")","v":""},{"$f":"IF(Eingabe!S107<>\"\",Eingabe!S107,\"\")","v":""},null,null,null,null,{"$f":"IF(Eingabe!V107<>\"\",Eingabe!V107,\"\")","v":""},{"$f":"IF(Eingabe!W107<>\"\",Eingabe!W107,\"\")","v":""}]
[{"$f":"IF(Eingabe!Q108<>\"\",Eingabe!Q108,\"\")","v":""},{"$f":"IF(Eingabe!U108<>\"\",Eingabe!U108,\"\")","v":""},null,{"$f":"IF(Eingabe!B108<>\"\",Eingabe!B108,\"\")","v":""},{"$f":"IF(Eingabe!C108<>\"\",Eingabe!C108,\"\")","v":""},{"$f":"IF(Eingabe!D108<>\"\",Eingabe!D108,\"\")","v":""},{"$f":"IF(Eingabe!E108<>\"\",Eingabe!E108,\"\")","v":""},{"$f":"IF(Eingabe!F108<>\"\",Eingabe!F108,\"\")","v":""},{"$f":"IF(Eingabe!G108<>\"\",Eingabe!G108,\"\")","v":""},null,{"$f":"IF(Eingabe!H108<>\"\",Eingabe!H108,\"\")","v":""},{"$f":"IF(Eingabe!I108<>\"\",Eingabe!I108,\"\")","v":""},{"$f":"IF(Eingabe!L108<>\"\",Eingabe!L108,\"\")","v":""},{"$f":"IF(Eingabe!J108<>\"\",Eingabe!J108,\"\")","v":""},{"$f":"IF(Eingabe!K108<>\"\",Eingabe!K108,\"\")","v":""},{"$f":"IF(Eingabe!R108<>\"\",Eingabe!R108,\"\")","v":""},{"$f":"IF(Eingabe!S108<>\"\",Eingabe!S108,\"\")","v":""},null,null,null,null,{"$f":"IF(Eingabe!V108<>\"\",Eingabe!V108,\"\")","v":""},{"$f":"IF(Eingabe!W108<>\"\",Eingabe!W108,\"\")","v":""}]
[{"$f":"IF(Eingabe!Q109<>\"\",Eingabe!Q109,\"\")","v":""},{"$f":"IF(Eingabe!U109<>\"\",Eingabe!U109,\"\")","v":""},null,{"$f":"IF(Eingabe!B109<>\"\",Eingabe!B109,\"\")","v":""},{"$f":"IF(Eingabe!C109<>\"\",Eingabe!C109,\"\")","v":""},{"$f":"IF(Eingabe!D109<>\"\",Eingabe!D109,\"\")","v":""},{"$f":"IF(Eingabe!E109<>\"\",Eingabe!E109,\"\")","v":""},{"$f":"IF(Eingabe!F109<>\"\",Eingabe!F109,\"\")","v":""},{"$f":"IF(Eingabe!G109<>\"\",Eingabe!G109,\"\")","v":""},null,{"$f":"IF(Eingabe!H109<>\"\",Eingabe!H109,\"\")","v":""},{"$f":"IF(Eingabe!I109<>\"\",Eingabe!I109,\"\")","v":""},{"$f":"IF(Eingabe!L109<>\"\",Eingabe!L109,\"\")","v":""},{"$f":"IF(Eingabe!J109<>\"\",Eingabe!J109,\"\")","v":""},{"$f":"IF(Eingabe!K109<>\"\",Eingabe!K109,\"\")","v":""},{"$f":"IF(Eingabe!R109<>\"\",Eingabe!R109,\"\")","v":""},{"$f":"IF(Eingabe!S109<>\"\",Eingabe!S109,\"\")","v":""},null,null,null,null,{"$f":"IF(Eingabe!V109<>\"\",Eingabe!V109,\"\")","v":""},{"$f":"IF(Eingabe!W109<>\"\",Eingabe!W109,\"\")","v":""}]
[{"$f":"IF(Eingabe!Q110<>\"\",Eingabe!Q110,\"\")","v":""},{"$f":"IF(Eingabe!U110<>\"\",Eingabe!U110,\"\")","v":""},null,{"$f":"IF(Eingabe!B110<>\"\",Eingabe!B110,\"\")","v":""},{"$f":"IF(Eingabe!C110<>\"\",Eingabe!C110,\"\")","v":""},{"$f":"IF(Eingabe!D110<>\"\",Eingabe!D110,\"\")","v":""},{"$f":"IF(Eingabe!E110<>\"\",Eingabe!E110,\"\")","v":""},{"$f":"IF(Eingabe!F110<>\"\",Eingabe!F110,\"\")","v":""},{"$f":"IF(Eingabe!G110<>\"\",Eingabe!G110,\"\")","v":""},null,{"$f":"IF(Eingabe!H110<>\"\",Eingabe!H110,\"\")","v":""},{"$f":"IF(Eingabe!I110<>\"\",Eingabe!I110,\"\")","v":""},{"$f":"IF(Eingabe!L110<>\"\",Eingabe!L110,\"\")","v":""},{"$f":"IF(Eingabe!J110<>\"\",Eingabe!J110,\"\")","v":""},{"$f":"IF(Eingabe!K110<>\"\",Eingabe!K110,\"\")","v":""},{"$f":"IF(Eingabe!R110<>\"\",Eingabe!R110,\"\")","v":""},{"$f":"IF(Eingabe!S110<>\"\",Eingabe!S110,\"\")","v":""},null,null,null,null,{"$f":"IF(Eingabe!V110<>\"\",Eingabe!V110,\"\")","v":""},{"$f":"IF(Eingabe!W110<>\"\",Eingabe!W110,\"\")","v":""}]
[{"$f":"IF(Eingabe!Q111<>\"\",Eingabe!Q111,\"\")","v":""},{"$f":"IF(Eingabe!U111<>\"\",Eingabe!U111,\"\")","v":""},null,{"$f":"IF(Eingabe!B111<>\"\",Eingabe!B111,\"\")","v":""},{"$f":"IF(Eingabe!C111<>\"\",Eingabe!C111,\"\")","v":""},{"$f":"IF(Eingabe!D111<>\"\",Eingabe!D111,\"\")","v":""},{"$f":"IF(Eingabe!E111<>\"\",Eingabe!E111,\"\")","v":""},{"$f":"IF(Eingabe!F111<>\"\",Eingabe!F111,\"\")","v":""},{"$f":"IF(Eingabe!G111<>\"\",Eingabe!G111,\"\")","v":""},null,{"$f":"IF(Eingabe!H111<>\"\",Eingabe!H111,\"\")","v":""},{"$f":"IF(Eingabe!I111<>\"\",Eingabe!I111,\"\")","v":""},{"$f":"IF(Eingabe!L111<>\"\",Eingabe!L111,\"\")","v":""},{"$f":"IF(Eingabe!J111<>\"\",Eingabe!J111,\"\")","v":""},{"$f":"IF(Eingabe!K111<>\"\",Eingabe!K111,\"\")","v":""},{"$f":"IF(Eingabe!R111<>\"\",Eingabe!R111,\"\")","v":""},{"$f":"IF(Eingabe!S111<>\"\",Eingabe!S111,\"\")","v":""},null,null,null,null,{"$f":"IF(Eingabe!V111<>\"\",Eingabe!V111,\"\")","v":""},{"$f":"IF(Eingabe!W111<>\"\",Eingabe!W111,\"\")","v":""}]
[{"$f":"IF(Eingabe!Q112<>\"\",Eingabe!Q112,\"\")","v":""},{"$f":"IF(Eingabe!U112<>\"\",Eingabe!U112,\"\")","v":""},null,{"$f":"IF(Eingabe!B112<>\"\",Eingabe!B112,\"\")","v":""},{"$f":"IF(Eingabe!C112<>\"\",Eingabe!C112,\"\")","v":""},{"$f":"IF(Eingabe!D112<>\"\",Eingabe!D112,\"\")","v":""},{"$f":"IF(Eingabe!E112<>\"\",Eingabe!E112,\"\")","v":""},{"$f":"IF(Eingabe!F112<>\"\",Eingabe!F112,\"\")","v":""},{"$f":"IF(Eingabe!G112<>\"\",Eingabe!G112,\"\")","v":""},null,{"$f":"IF(Eingabe!H112<>\"\",Eingabe!H112,\"\")","v":""},{"$f":"IF(Eingabe!I112<>\"\",Eingabe!I112,\"\")","v":""},{"$f":"IF(Eingabe!L112<>\"\",Eingabe!L112,\"\")","v":""},{"$f":"IF(Eingabe!J112<>\"\",Eingabe!J112,\"\")","v":""},{"$f":"IF(Eingabe!K112<>\"\",Eingabe!K112,\"\")","v":""},{"$f":"IF(Eingabe!R112<>\"\",Eingabe!R112,\"\")","v":""},{"$f":"IF(Eingabe!S112<>\"\",Eingabe!S112,\"\")","v":""},null,null,null,null,{"$f":"IF(Eingabe!V112<>\"\",Eingabe!V112,\"\")","v":""},{"$f":"IF(Eingabe!W112<>\"\",Eingabe!W112,\"\")","v":""}]
[{"$f":"IF(Eingabe!Q113<>\"\",Eingabe!Q113,\"\")","v":""},{"$f":"IF(Eingabe!U113<>\"\",Eingabe!U113,\"\")","v":""},null,{"$f":"IF(Eingabe!B113<>\"\",Eingabe!B113,\"\")","v":""},{"$f":"IF(Eingabe!C113<>\"\",Eingabe!C113,\"\")","v":""},{"$f":"IF(Eingabe!D113<>\"\",Eingabe!D113,\"\")","v":""},{"$f":"IF(Eingabe!E113<>\"\",Eingabe!E113,\"\")","v":""},{"$f":"IF(Eingabe!F113<>\"\",Eingabe!F113,\"\")","v":""},{"$f":"IF(Eingabe!G113<>\"\",Eingabe!G113,\"\")","v":""},null,{"$f":"IF(Eingabe!H113<>\"\",Eingabe!H113,\"\")","v":""},{"$f":"IF(Eingabe!I113<>\"\",Eingabe!I113,\"\")","v":""},{"$f":"IF(Eingabe!L113<>\"\",Eingabe!L113,\"\")","v":""},{"$f":"IF(Eingabe!J113<>\"\",Eingabe!J113,\"\")","v":""},{"$f":"IF(Eingabe!K113<>\"\",Eingabe!K113,\"\")","v":""},{"$f":"IF(Eingabe!R113<>\"\",Eingabe!R113,\"\")","v":""},{"$f":"IF(Eingabe!S113<>\"\",Eingabe!S113,\"\")","v":""},null,null,null,null,{"$f":"IF(Eingabe!V113<>\"\",Eingabe!V113,\"\")","v":""},{"$f":"IF(Eingabe!W113<>\"\",Eingabe!W113,\"\")","v":""}]
[{"$f":"IF(Eingabe!Q114<>\"\",Eingabe!Q114,\"\")","v":""},{"$f":"IF(Eingabe!U114<>\"\",Eingabe!U114,\"\")","v":""},null,{"$f":"IF(Eingabe!B114<>\"\",Eingabe!B114,\"\")","v":""},{"$f":"IF(Eingabe!C114<>\"\",Eingabe!C114,\"\")","v":""},{"$f":"IF(Eingabe!D114<>\"\",Eingabe!D114,\"\")","v":""},{"$f":"IF(Eingabe!E114<>\"\",Eingabe!E114,\"\")","v":""},{"$f":"IF(Eingabe!F114<>\"\",Eingabe!F114,\"\")","v":""},{"$f":"IF(Eingabe!G114<>\"\",Eingabe!G114,\"\")","v":""},null,{"$f":"IF(Eingabe!H114<>\"\",Eingabe!H114,\"\")","v":""},{"$f":"IF(Eingabe!I114<>\"\",Eingabe!I114,\"\")","v":""},{"$f":"IF(Eingabe!L114<>\"\",Eingabe!L114,\"\")","v":""},{"$f":"IF(Eingabe!J114<>\"\",Eingabe!J114,\"\")","v":""},{"$f":"IF(Eingabe!K114<>\"\",Eingabe!K114,\"\")","v":""},{"$f":"IF(Eingabe!R114<>\"\",Eingabe!R114,\"\")","v":""},{"$f":"IF(Eingabe!S114<>\"\",Eingabe!S114,\"\")","v":""},null,null,null,null,{"$f":"IF(Eingabe!V114<>\"\",Eingabe!V114,\"\")","v":""},{"$f":"IF(Eingabe!W114<>\"\",Eingabe!W114,\"\")","v":""}]
[{"$f":"IF(Eingabe!Q115<>\"\",Eingabe!Q115,\"\")","v":""},{"$f":"IF(Eingabe!U115<>\"\",Eingabe!U115,\"\")","v":""},null,{"$f":"IF(Eingabe!B115<>\"\",Eingabe!B115,\"\")","v":""},{"$f":"IF(Eingabe!C115<>\"\",Eingabe!C115,\"\")","v":""},{"$f":"IF(Eingabe!D115<>\"\",Eingabe!D115,\"\")","v":""},{"$f":"IF(Eingabe!E115<>\"\",Eingabe!E115,\"\")","v":""},{"$f":"IF(Eingabe!F115<>\"\",Eingabe!F115,\"\")","v":""},{"$f":"IF(Eingabe!G115<>\"\",Eingabe!G115,\"\")","v":""},null,{"$f":"IF(Eingabe!H115<>\"\",Eingabe!H115,\"\")","v":""},{"$f":"IF(Eingabe!I115<>\"\",Eingabe!I115,\"\")","v":""},{"$f":"IF(Eingabe!L115<>\"\",Eingabe!L115,\"\")","v":""},{"$f":"IF(Eingabe!J115<>\"\",Eingabe!J115,\"\")","v":""},{"$f":"IF(Eingabe!K115<>\"\",Eingabe!K115,\"\")","v":""},{"$f":"IF(Eingabe!R115<>\"\",Eingabe!R115,\"\")","v":""},{"$f":"IF(Eingabe!S115<>\"\",Eingabe!S115,\"\")","v":""},null,null,null,null,{"$f":"IF(Eingabe!V115<>\"\",Eingabe!V115,\"\")","v":""},{"$f":"IF(Eingabe!W115<>\"\",Eingabe!W115,\"\")","v":""}]
[{"$f":"IF(Eingabe!Q116<>\"\",Eingabe!Q116,\"\")","v":""},{"$f":"IF(Eingabe!U116<>\"\",Eingabe!U116,\"\")","v":""},null,{"$f":"IF(Eingabe!B116<>\"\",Eingabe!B116,\"\")","v":""},{"$f":"IF(Eingabe!C116<>\"\",Eingabe!C116,\"\")","v":""},{"$f":"IF(Eingabe!D116<>\"\",Eingabe!D116,\"\")","v":""},{"$f":"IF(Eingabe!E116<>\"\",Eingabe!E116,\"\")","v":""},{"$f":"IF(Eingabe!F116<>\"\",Eingabe!F116,\"\")","v":""},{"$f":"IF(Eingabe!G116<>\"\",Eingabe!G116,\"\")","v":""},null,{"$f":"IF(Eingabe!H116<>\"\",Eingabe!H116,\"\")","v":""},{"$f":"IF(Eingabe!I116<>\"\",Eingabe!I116,\"\")","v":""},{"$f":"IF(Eingabe!L116<>\"\",Eingabe!L116,\"\")","v":""},{"$f":"IF(Eingabe!J116<>\"\",Eingabe!J116,\"\")","v":""},{"$f":"IF(Eingabe!K116<>\"\",Eingabe!K116,\"\")","v":""},{"$f":"IF(Eingabe!R116<>\"\",Eingabe!R116,\"\")","v":""},{"$f":"IF(Eingabe!S116<>\"\",Eingabe!S116,\"\")","v":""},null,null,null,null,{"$f":"IF(Eingabe!V116<>\"\",Eingabe!V116,\"\")","v":""},{"$f":"IF(Eingabe!W116<>\"\",Eingabe!W116,\"\")","v":""}]
[{"$f":"IF(Eingabe!Q117<>\"\",Eingabe!Q117,\"\")","v":""},{"$f":"IF(Eingabe!U117<>\"\",Eingabe!U117,\"\")","v":""},null,{"$f":"IF(Eingabe!B117<>\"\",Eingabe!B117,\"\")","v":""},{"$f":"IF(Eingabe!C117<>\"\",Eingabe!C117,\"\")","v":""},{"$f":"IF(Eingabe!D117<>\"\",Eingabe!D117,\"\")","v":""},{"$f":"IF(Eingabe!E117<>\"\",Eingabe!E117,\"\")","v":""},{"$f":"IF(Eingabe!F117<>\"\",Eingabe!F117,\"\")","v":""},{"$f":"IF(Eingabe!G117<>\"\",Eingabe!G117,\"\")","v":""},null,{"$f":"IF(Eingabe!H117<>\"\",Eingabe!H117,\"\")","v":""},{"$f":"IF(Eingabe!I117<>\"\",Eingabe!I117,\"\")","v":""},{"$f":"IF(Eingabe!L117<>\"\",Eingabe!L117,\"\")","v":""},{"$f":"IF(Eingabe!J117<>\"\",Eingabe!J117,\"\")","v":""},{"$f":"IF(Eingabe!K117<>\"\",Eingabe!K117,\"\")","v":""},{"$f":"IF(Eingabe!R117<>\"\",Eingabe!R117,\"\")","v":""},{"$f":"IF(Eingabe!S117<>\"\",Eingabe!S117,\"\")","v":""},null,null,null,null,{"$f":"IF(Eingabe!V117<>\"\",Eingabe!V117,\"\")","v":""},{"$f":"IF(Eingabe!W117<>\"\",Eingabe!W117,\"\")","v":""}]
[{"$f":"IF(Eingabe!Q118<>\"\",Eingabe!Q118,\"\")","v":""},{"$f":"IF(Eingabe!U118<>\"\",Eingabe!U118,\"\")","v":""},null,{"$f":"IF(Eingabe!B118<>\"\",Eingabe!B118,\"\")","v":""},{"$f":"IF(Eingabe!C118<>\"\",Eingabe!C118,\"\")","v":""},{"$f":"IF(Eingabe!D118<>\"\",Eingabe!D118,\"\")","v":""},{"$f":"IF(Eingabe!E118<>\"\",Eingabe!E118,\"\")","v":""},{"$f":"IF(Eingabe!F118<>\"\",Eingabe!F118,\"\")","v":""},{"$f":"IF(Eingabe!G118<>\"\",Eingabe!G118,\"\")","v":""},null,{"$f":"IF(Eingabe!H118<>\"\",Eingabe!H118,\"\")","v":""},{"$f":"IF(Eingabe!I118<>\"\",Eingabe!I118,\"\")","v":""},{"$f":"IF(Eingabe!L118<>\"\",Eingabe!L118,\"\")","v":""},{"$f":"IF(Eingabe!J118<>\"\",Eingabe!J118,\"\")","v":""},{"$f":"IF(Eingabe!K118<>\"\",Eingabe!K118,\"\")","v":""},{"$f":"IF(Eingabe!R118<>\"\",Eingabe!R118,\"\")","v":""},{"$f":"IF(Eingabe!S118<>\"\",Eingabe!S118,\"\")","v":""},null,null,null,null,{"$f":"IF(Eingabe!V118<>\"\",Eingabe!V118,\"\")","v":""},{"$f":"IF(Eingabe!W118<>\"\",Eingabe!W118,\"\")","v":""}]
[{"$f":"IF(Eingabe!Q119<>\"\",Eingabe!Q119,\"\")","v":""},{"$f":"IF(Eingabe!U119<>\"\",Eingabe!U119,\"\")","v":""},null,{"$f":"IF(Eingabe!B119<>\"\",Eingabe!B119,\"\")","v":""},{"$f":"IF(Eingabe!C119<>\"\",Eingabe!C119,\"\")","v":""},{"$f":"IF(Eingabe!D119<>\"\",Eingabe!D119,\"\")","v":""},{"$f":"IF(Eingabe!E119<>\"\",Eingabe!E119,\"\")","v":""},{"$f":"IF(Eingabe!F119<>\"\",Eingabe!F119,\"\")","v":""},{"$f":"IF(Eingabe!G119<>\"\",Eingabe!G119,\"\")","v":""},null,{"$f":"IF(Eingabe!H119<>\"\",Eingabe!H119,\"\")","v":""},{"$f":"IF(Eingabe!I119<>\"\",Eingabe!I119,\"\")","v":""},{"$f":"IF(Eingabe!L119<>\"\",Eingabe!L119,\"\")","v":""},{"$f":"IF(Eingabe!J119<>\"\",Eingabe!J119,\"\")","v":""},{"$f":"IF(Eingabe!K119<>\"\",Eingabe!K119,\"\")","v":""},{"$f":"IF(Eingabe!R119<>\"\",Eingabe!R119,\"\")","v":""},{"$f":"IF(Eingabe!S119<>\"\",Eingabe!S119,\"\")","v":""},null,null,null,null,{"$f":"IF(Eingabe!V119<>\"\",Eingabe!V119,\"\")","v":""},{"$f":"IF(Eingabe!W119<>\"\",Eingabe!W119,\"\")","v":""}]
[{"$f":"IF(Eingabe!Q120<>\"\",Eingabe!Q120,\"\")","v":""},{"$f":"IF(Eingabe!U120<>\"\",Eingabe!U120,\"\")","v":""},null,{"$f":"IF(Eingabe!B120<>\"\",Eingabe!B120,\"\")","v":""},{"$f":"IF(Eingabe!C120<>\"\",Eingabe!C120,\"\")","v":""},{"$f":"IF(Eingabe!D120<>\"\",Eingabe!D120,\"\")","v":""},{"$f":"IF(Eingabe!E120<>\"\",Eingabe!E120,\"\")","v":""},{"$f":"IF(Eingabe!F120<>\"\",Eingabe!F120,\"\")","v":""},{"$f":"IF(Eingabe!G120<>\"\",Eingabe!G120,\"\")","v":""},null,{"$f":"IF(Eingabe!H120<>\"\",Eingabe!H120,\"\")","v":""},{"$f":"IF(Eingabe!I120<>\"\",Eingabe!I120,\"\")","v":""},{"$f":"IF(Eingabe!L120<>\"\",Eingabe!L120,\"\")","v":""},{"$f":"IF(Eingabe!J120<>\"\",Eingabe!J120,\"\")","v":""},{"$f":"IF(Eingabe!K120<>\"\",Eingabe!K120,\"\")","v":""},{"$f":"IF(Eingabe!R120<>\"\",Eingabe!R120,\"\")","v":""},{"$f":"IF(Eingabe!S120<>\"\",Eingabe!S120,\"\")","v":""},null,null,null,null,{"$f":"IF(Eingabe!V120<>\"\",Eingabe!V120,\"\")","v":""},{"$f":"IF(Eingabe!W120<>\"\",Eingabe!W120,\"\")","v":""}]
[{"$f":"IF(Eingabe!Q121<>\"\",Eingabe!Q121,\"\")","v":""},{"$f":"IF(Eingabe!U121<>\"\",Eingabe!U121,\"\")","v":""},null,{"$f":"IF(Eingabe!B121<>\"\",Eingabe!B121,\"\")","v":""},{"$f":"IF(Eingabe!C121<>\"\",Eingabe!C121,\"\")","v":""},{"$f":"IF(Eingabe!D121<>\"\",Eingabe!D121,\"\")","v":""},{"$f":"IF(Eingabe!E121<>\"\",Eingabe!E121,\"\")","v":""},{"$f":"IF(Eingabe!F121<>\"\",Eingabe!F121,\"\")","v":""},{"$f":"IF(Eingabe!G121<>\"\",Eingabe!G121,\"\")","v":""},null,{"$f":"IF(Eingabe!H121<>\"\",Eingabe!H121,\"\")","v":""},{"$f":"IF(Eingabe!I121<>\"\",Eingabe!I121,\"\")","v":""},{"$f":"IF(Eingabe!L121<>\"\",Eingabe!L121,\"\")","v":""},{"$f":"IF(Eingabe!J121<>\"\",Eingabe!J121,\"\")","v":""},{"$f":"IF(Eingabe!K121<>\"\",Eingabe!K121,\"\")","v":""},{"$f":"IF(Eingabe!R121<>\"\",Eingabe!R121,\"\")","v":""},{"$f":"IF(Eingabe!S121<>\"\",Eingabe!S121,\"\")","v":""},null,null,null,null,{"$f":"IF(Eingabe!V121<>\"\",Eingabe!V121,\"\")","v":""},{"$f":"IF(Eingabe!W121<>\"\",Eingabe!W121,\"\")","v":""}]
[{"$f":"IF(Eingabe!Q122<>\"\",Eingabe!Q122,\"\")","v":""},{"$f":"IF(Eingabe!U122<>\"\",Eingabe!U122,\"\")","v":""},null,{"$f":"IF(Eingabe!B122<>\"\",Eingabe!B122,\"\")","v":""},{"$f":"IF(Eingabe!C122<>\"\",Eingabe!C122,\"\")","v":""},{"$f":"IF(Eingabe!D122<>\"\",Eingabe!D122,\"\")","v":""},{"$f":"IF(Eingabe!E122<>\"\",Eingabe!E122,\"\")","v":""},{"$f":"IF(Eingabe!F122<>\"\",Eingabe!F122,\"\")","v":""},{"$f":"IF(Eingabe!G122<>\"\",Eingabe!G122,\"\")","v":""},null,{"$f":"IF(Eingabe!H122<>\"\",Eingabe!H122,\"\")","v":""},{"$f":"IF(Eingabe!I122<>\"\",Eingabe!I122,\"\")","v":""},{"$f":"IF(Eingabe!L122<>\"\",Eingabe!L122,\"\")","v":""},{"$f":"IF(Eingabe!J122<>\"\",Eingabe!J122,\"\")","v":""},{"$f":"IF(Eingabe!K122<>\"\",Eingabe!K122,\"\")","v":""},{"$f":"IF(Eingabe!R122<>\"\",Eingabe!R122,\"\")","v":""},{"$f":"IF(Eingabe!S122<>\"\",Eingabe!S122,\"\")","v":""},null,null,null,null,{"$f":"IF(Eingabe!V122<>\"\",Eingabe!V122,\"\")","v":""},{"$f":"IF(Eingabe!W122<>\"\",Eingabe!W122,\"\")","v":""}]
[{"$f":"IF(Eingabe!Q123<>\"\",Eingabe!Q123,\"\")","v":""},{"$f":"IF(Eingabe!U123<>\"\",Eingabe!U123,\"\")","v":""},null,{"$f":"IF(Eingabe!B123<>\"\",Eingabe!B123,\"\")","v":""},{"$f":"IF(Eingabe!C123<>\"\",Eingabe!C123,\"\")","v":""},{"$f":"IF(Eingabe!D123<>\"\",Eingabe!D123,\"\")","v":""},{"$f":"IF(Eingabe!E123<>\"\",Eingabe!E123,\"\")","v":""},{"$f":"IF(Eingabe!F123<>\"\",Eingabe!F123,\"\")","v":""},{"$f":"IF(Eingabe!G123<>\"\",Eingabe!G123,\"\")","v":""},null,{"$f":"IF(Eingabe!H123<>\"\",Eingabe!H123,\"\")","v":""},{"$f":"IF(Eingabe!I123<>\"\",Eingabe!I123,\"\")","v":""},{"$f":"IF(Eingabe!L123<>\"\",Eingabe!L123,\"\")","v":""},{"$f":"IF(Eingabe!J123<>\"\",Eingabe!J123,\"\")","v":""},{"$f":"IF(Eingabe!K123<>\"\",Eingabe!K123,\"\")","v":""},{"$f":"IF(Eingabe!R123<>\"\",Eingabe!R123,\"\")","v":""},{"$f":"IF(Eingabe!S123<>\"\",Eingabe!S123,\"\")","v":""},null,null,null,null,{"$f":"IF(Eingabe!V123<>\"\",Eingabe!V123,\"\")","v":""},{"$f":"IF(Eingabe!W123<>\"\",Eingabe!W123,\"\")","v":""}]
[{"$f":"IF(Eingabe!Q124<>\"\",Eingabe!Q124,\"\")","v":""},{"$f":"IF(Eingabe!U124<>\"\",Eingabe!U124,\"\")","v":""},null,{"$f":"IF(Eingabe!B124<>\"\",Eingabe!B124,\"\")","v":""},{"$f":"IF(Eingabe!C124<>\"\",Eingabe!C124,\"\")","v":""},{"$f":"IF(Eingabe!D124<>\"\",Eingabe!D124,\"\")","v":""},{"$f":"IF(Eingabe!E124<>\"\",Eingabe!E124,\"\")","v":""},{"$f":"IF(Eingabe!F124<>\"\",Eingabe!F124,\"\")","v":""},{"$f":"IF(Eingabe!G124<>\"\",Eingabe!G124,\"\")","v":""},null,{"$f":"IF(Eingabe!H124<>\"\",Eingabe!H124,\"\")","v":""},{"$f":"IF(Eingabe!I124<>\"\",Eingabe!I124,\"\")","v":""},{"$f":"IF(Eingabe!L124<>\"\",Eingabe!L124,\"\")","v":""},{"$f":"IF(Eingabe!J124<>\"\",Eingabe!J124,\"\")","v":""},{"$f":"IF(Eingabe!K124<>\"\",Eingabe!K124,\"\")","v":""},{"$f":"IF(Eingabe!R124<>\"\",Eingabe!R124,\"\")","v":""},{"$f":"IF(Eingabe!S124<>\"\",Eingabe!S124,\"\")","v":""},null,null,null,null,{"$f":"IF(Eingabe!V124<>\"\",Eingabe!V124,\"\")","v":""},{"$f":"IF(Eingabe!W124<>\"\",Eingabe!W124,\"\")","v":""}]
[{"$f":"IF(Eingabe!Q125<>\"\",Eingabe!Q125,\"\")","v":""},{"$f":"IF(Eingabe!U125<>\"\",Eingabe!U125,\"\")","v":""},null,{"$f":"IF(Eingabe!B125<>\"\",Eingabe!B125,\"\")","v":""},{"$f":"IF(Eingabe!C125<>\"\",Eingabe!C125,\"\")","v":""},{"$f":"IF(Eingabe!D125<>\"\",Eingabe!D125,\"\")","v":""},{"$f":"IF(Eingabe!E125<>\"\",Eingabe!E125,\"\")","v":""},{"$f":"IF(Eingabe!F125<>\"\",Eingabe!F125,\"\")","v":""},{"$f":"IF(Eingabe!G125<>\"\",Eingabe!G125,\"\")","v":""},null,{"$f":"IF(Eingabe!H125<>\"\",Eingabe!H125,\"\")","v":""},{"$f":"IF(Eingabe!I125<>\"\",Eingabe!I125,\"\")","v":""},{"$f":"IF(Eingabe!L125<>\"\",Eingabe!L125,\"\")","v":""},{"$f":"IF(Eingabe!J125<>\"\",Eingabe!J125,\"\")","v":""},{"$f":"IF(Eingabe!K125<>\"\",Eingabe!K125,\"\")","v":""},{"$f":"IF(Eingabe!R125<>\"\",Eingabe!R125,\"\")","v":""},{"$f":"IF(Eingabe!S125<>\"\",Eingabe!S125,\"\")","v":""},null,null,null,null,{"$f":"IF(Eingabe!V125<>\"\",Eingabe!V125,\"\")","v":""},{"$f":"IF(Eingabe!W125<>\"\",Eingabe!W125,\"\")","v":""}]
[{"$f":"IF(Eingabe!Q126<>\"\",Eingabe!Q126,\"\")","v":""},{"$f":"IF(Eingabe!U126<>\"\",Eingabe!U126,\"\")","v":""},null,{"$f":"IF(Eingabe!B126<>\"\",Eingabe!B126,\"\")","v":""},{"$f":"IF(Eingabe!C126<>\"\",Eingabe!C126,\"\")","v":""},{"$f":"IF(Eingabe!D126<>\"\",Eingabe!D126,\"\")","v":""},{"$f":"IF(Eingabe!E126<>\"\",Eingabe!E126,\"\")","v":""},{"$f":"IF(Eingabe!F126<>\"\",Eingabe!F126,\"\")","v":""},{"$f":"IF(Eingabe!G126<>\"\",Eingabe!G126,\"\")","v":""},null,{"$f":"IF(Eingabe!H126<>\"\",Eingabe!H126,\"\")","v":""},{"$f":"IF(Eingabe!I126<>\"\",Eingabe!I126,\"\")","v":""},{"$f":"IF(Eingabe!L126<>\"\",Eingabe!L126,\"\")","v":""},{"$f":"IF(Eingabe!J126<>\"\",Eingabe!J126,\"\")","v":""},{"$f":"IF(Eingabe!K126<>\"\",Eingabe!K126,\"\")","v":""},{"$f":"IF(Eingabe!R126<>\"\",Eingabe!R126,\"\")","v":""},{"$f":"IF(Eingabe!S126<>\"\",Eingabe!S126,\"\")","v":""},null,null,null,null,{"$f":"IF(Eingabe!V126<>\"\",Eingabe!V126,\"\")","v":""},{"$f":"IF(Eingabe!W126<>\"\",Eingabe!W126,\"\")","v":""}]
[{"$f":"IF(Eingabe!Q127<>\"\",Eingabe!Q127,\"\")","v":""},{"$f":"IF(Eingabe!U127<>\"\",Eingabe!U127,\"\")","v":""},null,{"$f":"IF(Eingabe!B127<>\"\",Eingabe!B127,\"\")","v":""},{"$f":"IF(Eingabe!C127<>\"\",Eingabe!C127,\"\")","v":""},{"$f":"IF(Eingabe!D127<>\"\",Eingabe!D127,\"\")","v":""},{"$f":"IF(Eingabe!E127<>\"\",Eingabe!E127,\"\")","v":""},{"$f":"IF(Eingabe!F127<>\"\",Eingabe!F127,\"\")","v":""},{"$f":"IF(Eingabe!G127<>\"\",Eingabe!G127,\"\")","v":""},null,{"$f":"IF(Eingabe!H127<>\"\",Eingabe!H127,\"\")","v":""},{"$f":"IF(Eingabe!I127<>\"\",Eingabe!I127,\"\")","v":""},{"$f":"IF(Eingabe!L127<>\"\",Eingabe!L127,\"\")","v":""},{"$f":"IF(Eingabe!J127<>\"\",Eingabe!J127,\"\")","v":""},{"$f":"IF(Eingabe!K127<>\"\",Eingabe!K127,\"\")","v":""},{"$f":"IF(Eingabe!R127<>\"\",Eingabe!R127,\"\")","v":""},{"$f":"IF(Eingabe!S127<>\"\",Eingabe!S127,\"\")","v":""},null,null,null,null,{"$f":"IF(Eingabe!V127<>\"\",Eingabe!V127,\"\")","v":""},{"$f":"IF(Eingabe!W127<>\"\",Eingabe!W127,\"\")","v":""}]
[{"$f":"IF(Eingabe!Q128<>\"\",Eingabe!Q128,\"\")","v":""},{"$f":"IF(Eingabe!U128<>\"\",Eingabe!U128,\"\")","v":""},null,{"$f":"IF(Eingabe!B128<>\"\",Eingabe!B128,\"\")","v":""},{"$f":"IF(Eingabe!C128<>\"\",Eingabe!C128,\"\")","v":""},{"$f":"IF(Eingabe!D128<>\"\",Eingabe!D128,\"\")","v":""},{"$f":"IF(Eingabe!E128<>\"\",Eingabe!E128,\"\")","v":""},{"$f":"IF(Eingabe!F128<>\"\",Eingabe!F128,\"\")","v":""},{"$f":"IF(Eingabe!G128<>\"\",Eingabe!G128,\"\")","v":""},null,{"$f":"IF(Eingabe!H128<>\"\",Eingabe!H128,\"\")","v":""},{"$f":"IF(Eingabe!I128<>\"\",Eingabe!I128,\"\")","v":""},{"$f":"IF(Eingabe!L128<>\"\",Eingabe!L128,\"\")","v":""},{"$f":"IF(Eingabe!J128<>\"\",Eingabe!J128,\"\")","v":""},{"$f":"IF(Eingabe!K128<>\"\",Eingabe!K128,\"\")","v":""},{"$f":"IF(Eingabe!R128<>\"\",Eingabe!R128,\"\")","v":""},{"$f":"IF(Eingabe!S128<>\"\",Eingabe!S128,\"\")","v":""},null,null,null,null,{"$f":"IF(Eingabe!V128<>\"\",Eingabe!V128,\"\")","v":""},{"$f":"IF(Eingabe!W128<>\"\",Eingabe!W128,\"\")","v":""}]
[{"$f":"IF(Eingabe!Q129<>\"\",Eingabe!Q129,\"\")","v":""},{"$f":"IF(Eingabe!U129<>\"\",Eingabe!U129,\"\")","v":""},null,{"$f":"IF(Eingabe!B129<>\"\",Eingabe!B129,\"\")","v":""},{"$f":"IF(Eingabe!C129<>\"\",Eingabe!C129,\"\")","v":""},{"$f":"IF(Eingabe!D129<>\"\",Eingabe!D129,\"\")","v":""},{"$f":"IF(Eingabe!E129<>\"\",Eingabe!E129,\"\")","v":""},{"$f":"IF(Eingabe!F129<>\"\",Eingabe!F129,\"\")","v":""},{"$f":"IF(Eingabe!G129<>\"\",Eingabe!G129,\"\")","v":""},null,{"$f":"IF(Eingabe!H129<>\"\",Eingabe!H129,\"\")","v":""},{"$f":"IF(Eingabe!I129<>\"\",Eingabe!I129,\"\")","v":""},{"$f":"IF(Eingabe!L129<>\"\",Eingabe!L129,\"\")","v":""},{"$f":"IF(Eingabe!J129<>\"\",Eingabe!J129,\"\")","v":""},{"$f":"IF(Eingabe!K129<>\"\",Eingabe!K129,\"\")","v":""},{"$f":"IF(Eingabe!R129<>\"\",Eingabe!R129,\"\")","v":""},{"$f":"IF(Eingabe!S129<>\"\",Eingabe!S129,\"\")","v":""},null,null,null,null,{"$f":"IF(Eingabe!V129<>\"\",Eingabe!V129,\"\")","v":""},{"$f":"IF(Eingabe!W129<>\"\",Eingabe!W129,\"\")","v":""}]
[{"$f":"IF(Eingabe!Q130<>\"\",Eingabe!Q130,\"\")","v":""},{"$f":"IF(Eingabe!U130<>\"\",Eingabe!U130,\"\")","v":""},null,{"$f":"IF(Eingabe!B130<>\"\",Eingabe!B130,\"\")","v":""},{"$f":"IF(Eingabe!C130<>\"\",Eingabe!C130,\"\")","v":""},{"$f":"IF(Eingabe!D130<>\"\",Eingabe!D130,\"\")","v":""},{"$f":"IF(Eingabe!E130<>\"\",Eingabe!E130,\"\")","v":""},{"$f":"IF(Eingabe!F130<>\"\",Eingabe!F130,\"\")","v":""},{"$f":"IF(Eingabe!G130<>\"\",Eingabe!G130,\"\")","v":""},null,{"$f":"IF(Eingabe!H130<>\"\",Eingabe!H130,\"\")","v":""},{"$f":"IF(Eingabe!I130<>\"\",Eingabe!I130,\"\")","v":""},{"$f":"IF(Eingabe!L130<>\"\",Eingabe!L130,\"\")","v":""},{"$f":"IF(Eingabe!J130<>\"\",Eingabe!J130,\"\")","v":""},{"$f":"IF(Eingabe!K130<>\"\",Eingabe!K130,\"\")","v":""},{"$f":"IF(Eingabe!R130<>\"\",Eingabe!R130,\"\")","v":""},{"$f":"IF(Eingabe!S130<>\"\",Eingabe!S130,\"\")","v":""},null,null,null,null,{"$f":"IF(Eingabe!V130<>\"\",Eingabe!V130,\"\")","v":""},{"$f":"IF(Eingabe!W130<>\"\",Eingabe!W130,\"\")","v":""}]
[{"$f":"IF(Eingabe!Q131<>\"\",Eingabe!Q131,\"\")","v":""},{"$f":"IF(Eingabe!U131<>\"\",Eingabe!U131,\"\")","v":""},null,{"$f":"IF(Eingabe!B131<>\"\",Eingabe!B131,\"\")","v":""},{"$f":"IF(Eingabe!C131<>\"\",Eingabe!C131,\"\")","v":""},{"$f":"IF(Eingabe!D131<>\"\",Eingabe!D131,\"\")","v":""},{"$f":"IF(Eingabe!E131<>\"\",Eingabe!E131,\"\")","v":""},{"$f":"IF(Eingabe!F131<>\"\",Eingabe!F131,\"\")","v":""},{"$f":"IF(Eingabe!G131<>\"\",Eingabe!G131,\"\")","v":""},null,{"$f":"IF(Eingabe!H131<>\"\",Eingabe!H131,\"\")","v":""},{"$f":"IF(Eingabe!I131<>\"\",Eingabe!I131,\"\")","v":""},{"$f":"IF(Eingabe!L131<>\"\",Eingabe!L131,\"\")","v":""},{"$f":"IF(Eingabe!J131<>\"\",Eingabe!J131,\"\")","v":""},{"$f":"IF(Eingabe!K131<>\"\",Eingabe!K131,\"\")","v":""},{"$f":"IF(Eingabe!R131<>\"\",Eingabe!R131,\"\")","v":""},{"$f":"IF(Eingabe!S131<>\"\",Eingabe!S131,\"\")","v":""},null,null,null,null,{"$f":"IF(Eingabe!V131<>\"\",Eingabe!V131,\"\")","v":""},{"$f":"IF(Eingabe!W131<>\"\",Eingabe!W131,\"\")","v":""}]
[{"$f":"IF(Eingabe!Q132<>\"\",Eingabe!Q132,\"\")","v":""},{"$f":"IF(Eingabe!U132<>\"\",Eingabe!U132,\"\")","v":""},null,{"$f":"IF(Eingabe!B132<>\"\",Eingabe!B132,\"\")","v":""},{"$f":"IF(Eingabe!C132<>\"\",Eingabe!C132,\"\")","v":""},{"$f":"IF(Eingabe!D132<>\"\",Eingabe!D132,\"\")","v":""},{"$f":"IF(Eingabe!E132<>\"\",Eingabe!E132,\"\")","v":""},{"$f":"IF(Eingabe!F132<>\"\",Eingabe!F132,\"\")","v":""},{"$f":"IF(Eingabe!G132<>\"\",Eingabe!G132,\"\")","v":""},null,{"$f":"IF(Eingabe!H132<>\"\",Eingabe!H132,\"\")","v":""},{"$f":"IF(Eingabe!I132<>\"\",Eingabe!I132,\"\")","v":""},{"$f":"IF(Eingabe!L132<>\"\",Eingabe!L132,\"\")","v":""},{"$f":"IF(Eingabe!J132<>\"\",Eingabe!J132,\"\")","v":""},{"$f":"IF(Eingabe!K132<>\"\",Eingabe!K132,\"\")","v":""},{"$f":"IF(Eingabe!R132<>\"\",Eingabe!R132,\"\")","v":""},{"$f":"IF(Eingabe!S132<>\"\",Eingabe!S132,\"\")","v":""},null,null,null,null,{"$f":"IF(Eingabe!V132<>\"\",Eingabe!V132,\"\")","v":""},{"$f":"IF(Eingabe!W132<>\"\",Eingabe!W132,\"\")","v":""}]
[{"$f":"IF(Eingabe!Q133<>\"\",Eingabe!Q133,\"\")","v":""},{"$f":"IF(Eingabe!U133<>\"\",Eingabe!U133,\"\")","v":""},null,{"$f":"IF(Eingabe!B133<>\"\",Eingabe!B133,\"\")","v":""},{"$f":"IF(Eingabe!C133<>\"\",Eingabe!C133,\"\")","v":""},{"$f":"IF(Eingabe!D133<>\"\",Eingabe!D133,\"\")","v":""},{"$f":"IF(Eingabe!E133<>\"\",Eingabe!E133,\"\")","v":""},{"$f":"IF(Eingabe!F133<>\"\",Eingabe!F133,\"\")","v":""},{"$f":"IF(Eingabe!G133<>\"\",Eingabe!G133,\"\")","v":""},null,{"$f":"IF(Eingabe!H133<>\"\",Eingabe!H133,\"\")","v":""},{"$f":"IF(Eingabe!I133<>\"\",Eingabe!I133,\"\")","v":""},{"$f":"IF(Eingabe!L133<>\"\",Eingabe!L133,\"\")","v":""},{"$f":"IF(Eingabe!J133<>\"\",Eingabe!J133,\"\")","v":""},{"$f":"IF(Eingabe!K133<>\"\",Eingabe!K133,\"\")","v":""},{"$f":"IF(Eingabe!R133<>\"\",Eingabe!R133,\"\")","v":""},{"$f":"IF(Eingabe!S133<>\"\",Eingabe!S133,\"\")","v":""},null,null,null,null,{"$f":"IF(Eingabe!V133<>\"\",Eingabe!V133,\"\")","v":""},{"$f":"IF(Eingabe!W133<>\"\",Eingabe!W133,\"\")","v":""}]
[{"$f":"IF(Eingabe!Q134<>\"\",Eingabe!Q134,\"\")","v":""},{"$f":"IF(Eingabe!U134<>\"\",Eingabe!U134,\"\")","v":""},null,{"$f":"IF(Eingabe!B134<>\"\",Eingabe!B134,\"\")","v":""},{"$f":"IF(Eingabe!C134<>\"\",Eingabe!C134,\"\")","v":""},{"$f":"IF(Eingabe!D134<>\"\",Eingabe!D134,\"\")","v":""},{"$f":"IF(Eingabe!E134<>\"\",Eingabe!E134,\"\")","v":""},{"$f":"IF(Eingabe!F134<>\"\",Eingabe!F134,\"\")","v":""},{"$f":"IF(Eingabe!G134<>\"\",Eingabe!G134,\"\")","v":""},null,{"$f":"IF(Eingabe!H134<>\"\",Eingabe!H134,\"\")","v":""},{"$f":"IF(Eingabe!I134<>\"\",Eingabe!I134,\"\")","v":""},{"$f":"IF(Eingabe!L134<>\"\",Eingabe!L134,\"\")","v":""},{"$f":"IF(Eingabe!J134<>\"\",Eingabe!J134,\"\")","v":""},{"$f":"IF(Eingabe!K134<>\"\",Eingabe!K134,\"\")","v":""},{"$f":"IF(Eingabe!R134<>\"\",Eingabe!R134,\"\")","v":""},{"$f":"IF(Eingabe!S134<>\"\",Eingabe!S134,\"\")","v":""},null,null,null,null,{"$f":"IF(Eingabe!V134<>\"\",Eingabe!V134,\"\")","v":""},{"$f":"IF(Eingabe!W134<>\"\",Eingabe!W134,\"\")","v":""}]
[{"$f":"IF(Eingabe!Q135<>\"\",Eingabe!Q135,\"\")","v":""},{"$f":"IF(Eingabe!U135<>\"\",Eingabe!U135,\"\")","v":""},null,{"$f":"IF(Eingabe!B135<>\"\",Eingabe!B135,\"\")","v":""},{"$f":"IF(Eingabe!C135<>\"\",Eingabe!C135,\"\")","v":""},{"$f":"IF(Eingabe!D135<>\"\",Eingabe!D135,\"\")","v":""},{"$f":"IF(Eingabe!E135<>\"\",Eingabe!E135,\"\")","v":""},{"$f":"IF(Eingabe!F135<>\"\",Eingabe!F135,\"\")","v":""},{"$f":"IF(Eingabe!G135<>\"\",Eingabe!G135,\"\")","v":""},null,{"$f":"IF(Eingabe!H135<>\"\",Eingabe!H135,\"\")","v":""},{"$f":"IF(Eingabe!I135<>\"\",Eingabe!I135,\"\")","v":""},{"$f":"IF(Eingabe!L135<>\"\",Eingabe!L135,\"\")","v":""},{"$f":"IF(Eingabe!J135<>\"\",Eingabe!J135,\"\")","v":""},{"$f":"IF(Eingabe!K135<>\"\",Eingabe!K135,\"\")","v":""},{"$f":"IF(Eingabe!R135<>\"\",Eingabe!R135,\"\")","v":""},{"$f":"IF(Eingabe!S135<>\"\",Eingabe!S135,\"\")","v":""},null,null,null,null,{"$f":"IF(Eingabe!V135<>\"\",Eingabe!V135,\"\")","v":""},{"$f":"IF(Eingabe!W135<>\"\",Eingabe!W135,\"\")","v":""}]
[{"$f":"IF(Eingabe!Q136<>\"\",Eingabe!Q136,\"\")","v":""},{"$f":"IF(Eingabe!U136<>\"\",Eingabe!U136,\"\")","v":""},null,{"$f":"IF(Eingabe!B136<>\"\",Eingabe!B136,\"\")","v":""},{"$f":"IF(Eingabe!C136<>\"\",Eingabe!C136,\"\")","v":""},{"$f":"IF(Eingabe!D136<>\"\",Eingabe!D136,\"\")","v":""},{"$f":"IF(Eingabe!E136<>\"\",Eingabe!E136,\"\")","v":""},{"$f":"IF(Eingabe!F136<>\"\",Eingabe!F136,\"\")","v":""},{"$f":"IF(Eingabe!G136<>\"\",Eingabe!G136,\"\")","v":""},null,{"$f":"IF(Eingabe!H136<>\"\",Eingabe!H136,\"\")","v":""},{"$f":"IF(Eingabe!I136<>\"\",Eingabe!I136,\"\")","v":""},{"$f":"IF(Eingabe!L136<>\"\",Eingabe!L136,\"\")","v":""},{"$f":"IF(Eingabe!J136<>\"\",Eingabe!J136,\"\")","v":""},{"$f":"IF(Eingabe!K136<>\"\",Eingabe!K136,\"\")","v":""},{"$f":"IF(Eingabe!R136<>\"\",Eingabe!R136,\"\")","v":""},{"$f":"IF(Eingabe!S136<>\"\",Eingabe!S136,\"\")","v":""},null,null,null,null,{"$f":"IF(Eingabe!V136<>\"\",Eingabe!V136,\"\")","v":""},{"$f":"IF(Eingabe!W136<>\"\",Eingabe!W136,\"\")","v":""}]
[{"$f":"IF(Eingabe!Q137<>\"\",Eingabe!Q137,\"\")","v":""},{"$f":"IF(Eingabe!U137<>\"\",Eingabe!U137,\"\")","v":""},null,{"$f":"IF(Eingabe!B137<>\"\",Eingabe!B137,\"\")","v":""},{"$f":"IF(Eingabe!C137<>\"\",Eingabe!C137,\"\")","v":""},{"$f":"IF(Eingabe!D137<>\"\",Eingabe!D137,\"\")","v":""},{"$f":"IF(Eingabe!E137<>\"\",Eingabe!E137,\"\")","v":""},{"$f":"IF(Eingabe!F137<>\"\",Eingabe!F137,\"\")","v":""},{"$f":"IF(Eingabe!G137<>\"\",Eingabe!G137,\"\")","v":""},null,{"$f":"IF(Eingabe!H137<>\"\",Eingabe!H137,\"\")","v":""},{"$f":"IF(Eingabe!I137<>\"\",Eingabe!I137,\"\")","v":""},{"$f":"IF(Eingabe!L137<>\"\",Eingabe!L137,\"\")","v":""},{"$f":"IF(Eingabe!J137<>\"\",Eingabe!J137,\"\")","v":""},{"$f":"IF(Eingabe!K137<>\"\",Eingabe!K137,\"\")","v":""},{"$f":"IF(Eingabe!R137<>\"\",Eingabe!R137,\"\")","v":""},{"$f":"IF(Eingabe!S137<>\"\",Eingabe!S137,\"\")","v":""},null,null,null,null,{"$f":"IF(Eingabe!V137<>\"\",Eingabe!V137,\"\")","v":""},{"$f":"IF(Eingabe!W137<>\"\",Eingabe!W137,\"\")","v":""}]
[{"$f":"IF(Eingabe!Q138<>\"\",Eingabe!Q138,\"\")","v":""},{"$f":"IF(Eingabe!U138<>\"\",Eingabe!U138,\"\")","v":""},null,{"$f":"IF(Eingabe!B138<>\"\",Eingabe!B138,\"\")","v":""},{"$f":"IF(Eingabe!C138<>\"\",Eingabe!C138,\"\")","v":""},{"$f":"IF(Eingabe!D138<>\"\",Eingabe!D138,\"\")","v":""},{"$f":"IF(Eingabe!E138<>\"\",Eingabe!E138,\"\")","v":""},{"$f":"IF(Eingabe!F138<>\"\",Eingabe!F138,\"\")","v":""},{"$f":"IF(Eingabe!G138<>\"\",Eingabe!G138,\"\")","v":""},null,{"$f":"IF(Eingabe!H138<>\"\",Eingabe!H138,\"\")","v":""},{"$f":"IF(Eingabe!I138<>\"\",Eingabe!I138,\"\")","v":""},{"$f":"IF(Eingabe!L138<>\"\",Eingabe!L138,\"\")","v":""},{"$f":"IF(Eingabe!J138<>\"\",Eingabe!J138,\"\")","v":""},{"$f":"IF(Eingabe!K138<>\"\",Eingabe!K138,\"\")","v":""},{"$f":"IF(Eingabe!R138<>\"\",Eingabe!R138,\"\")","v":""},{"$f":"IF(Eingabe!S138<>\"\",Eingabe!S138,\"\")","v":""},null,null,null,null,{"$f":"IF(Eingabe!V138<>\"\",Eingabe!V138,\"\")","v":""},{"$f":"IF(Eingabe!W138<>\"\",Eingabe!W138,\"\")","v":""}]
[{"$f":"IF(Eingabe!Q139<>\"\",Eingabe!Q139,\"\")","v":""},{"$f":"IF(Eingabe!U139<>\"\",Eingabe!U139,\"\")","v":""},null,{"$f":"IF(Eingabe!B139<>\"\",Eingabe!B139,\"\")","v":""},{"$f":"IF(Eingabe!C139<>\"\",Eingabe!C139,\"\")","v":""},{"$f":"IF(Eingabe!D139<>\"\",Eingabe!D139,\"\")","v":""},{"$f":"IF(Eingabe!E139<>\"\",Eingabe!E139,\"\")","v":""},{"$f":"IF(Eingabe!F139<>\"\",Eingabe!F139,\"\")","v":""},{"$f":"IF(Eingabe!G139<>\"\",Eingabe!G139,\"\")","v":""},null,{"$f":"IF(Eingabe!H139<>\"\",Eingabe!H139,\"\")","v":""},{"$f":"IF(Eingabe!I139<>\"\",Eingabe!I139,\"\")","v":""},{"$f":"IF(Eingabe!L139<>\"\",Eingabe!L139,\"\")","v":""},{"$f":"IF(Eingabe!J139<>\"\",Eingabe!J139,\"\")","v":""},{"$f":"IF(Eingabe!K139<>\"\",Eingabe!K139,\"\")","v":""},{"$f":"IF(Eingabe!R139<>\"\",Eingabe!R139,\"\")","v":""},{"$f":"IF(Eingabe!S139<>\"\",Eingabe!S139,\"\")","v":""},null,null,null,null,{"$f":"IF(Eingabe!V139<>\"\",Eingabe!V139,\"\")","v":""},{"$f":"IF(Eingabe!W139<>\"\",Eingabe!W139,\"\")","v":""}]
[{"$f":"IF(Eingabe!Q140<>\"\",Eingabe!Q140,\"\")","v":""},{"$f":"IF(Eingabe!U140<>\"\",Eingabe!U140,\"\")","v":""},null,{"$f":"IF(Eingabe!B140<>\"\",Eingabe!B140,\"\")","v":""},{"$f":"IF(Eingabe!C140<>\"\",Eingabe!C140,\"\")","v":""},{"$f":"IF(Eingabe!D140<>\"\",Eingabe!D140,\"\")","v":""},{"$f":"IF(Eingabe!E140<>\"\",Eingabe!E140,\"\")","v":""},{"$f":"IF(Eingabe!F140<>\"\",Eingabe!F140,\"\")","v":""},{"$f":"IF(Eingabe!G140<>\"\",Eingabe!G140,\"\")","v":""},null,{"$f":"IF(Eingabe!H140<>\"\",Eingabe!H140,\"\")","v":""},{"$f":"IF(Eingabe!I140<>\"\",Eingabe!I140,\"\")","v":""},{"$f":"IF(Eingabe!L140<>\"\",Eingabe!L140,\"\")","v":""},{"$f":"IF(Eingabe!J140<>\"\",Eingabe!J140,\"\")","v":""},{"$f":"IF(Eingabe!K140<>\"\",Eingabe!K140,\"\")","v":""},{"$f":"IF(Eingabe!R140<>\"\",Eingabe!R140,\"\")","v":""},{"$f":"IF(Eingabe!S140<>\"\",Eingabe!S140,\"\")","v":""},null,null,null,null,{"$f":"IF(Eingabe!V140<>\"\",Eingabe!V140,\"\")","v":""},{"$f":"IF(Eingabe!W140<>\"\",Eingabe!W140,\"\")","v":""}]
[{"$f":"IF(Eingabe!Q141<>\"\",Eingabe!Q141,\"\")","v":""},{"$f":"IF(Eingabe!U141<>\"\",Eingabe!U141,\"\")","v":""},null,{"$f":"IF(Eingabe!B141<>\"\",Eingabe!B141,\"\")","v":""},{"$f":"IF(Eingabe!C141<>\"\",Eingabe!C141,\"\")","v":""},{"$f":"IF(Eingabe!D141<>\"\",Eingabe!D141,\"\")","v":""},{"$f":"IF(Eingabe!E141<>\"\",Eingabe!E141,\"\")","v":""},{"$f":"IF(Eingabe!F141<>\"\",Eingabe!F141,\"\")","v":""},{"$f":"IF(Eingabe!G141<>\"\",Eingabe!G141,\"\")","v":""},null,{"$f":"IF(Eingabe!H141<>\"\",Eingabe!H141,\"\")","v":""},{"$f":"IF(Eingabe!I141<>\"\",Eingabe!I141,\"\")","v":""},{"$f":"IF(Eingabe!L141<>\"\",Eingabe!L141,\"\")","v":""},{"$f":"IF(Eingabe!J141<>\"\",Eingabe!J141,\"\")","v":""},{"$f":"IF(Eingabe!K141<>\"\",Eingabe!K141,\"\")","v":""},{"$f":"IF(Eingabe!R141<>\"\",Eingabe!R141,\"\")","v":""},{"$f":"IF(Eingabe!S141<>\"\",Eingabe!S141,\"\")","v":""},null,null,null,null,{"$f":"IF(Eingabe!V141<>\"\",Eingabe!V141,\"\")","v":""},{"$f":"IF(Eingabe!W141<>\"\",Eingabe!W141,\"\")","v":""}]
[{"$f":"IF(Eingabe!Q142<>\"\",Eingabe!Q142,\"\")","v":""},{"$f":"IF(Eingabe!U142<>\"\",Eingabe!U142,\"\")","v":""},null,{"$f":"IF(Eingabe!B142<>\"\",Eingabe!B142,\"\")","v":""},{"$f":"IF(Eingabe!C142<>\"\",Eingabe!C142,\"\")","v":""},{"$f":"IF(Eingabe!D142<>\"\",Eingabe!D142,\"\")","v":""},{"$f":"IF(Eingabe!E142<>\"\",Eingabe!E142,\"\")","v":""},{"$f":"IF(Eingabe!F142<>\"\",Eingabe!F142,\"\")","v":""},{"$f":"IF(Eingabe!G142<>\"\",Eingabe!G142,\"\")","v":""},null,{"$f":"IF(Eingabe!H142<>\"\",Eingabe!H142,\"\")","v":""},{"$f":"IF(Eingabe!I142<>\"\",Eingabe!I142,\"\")","v":""},{"$f":"IF(Eingabe!L142<>\"\",Eingabe!L142,\"\")","v":""},{"$f":"IF(Eingabe!J142<>\"\",Eingabe!J142,\"\")","v":""},{"$f":"IF(Eingabe!K142<>\"\",Eingabe!K142,\"\")","v":""},{"$f":"IF(Eingabe!R142<>\"\",Eingabe!R142,\"\")","v":""},{"$f":"IF(Eingabe!S142<>\"\",Eingabe!S142,\"\")","v":""},null,null,null,null,{"$f":"IF(Eingabe!V142<>\"\",Eingabe!V142,\"\")","v":""},{"$f":"IF(Eingabe!W142<>\"\",Eingabe!W142,\"\")","v":""}]
[{"$f":"IF(Eingabe!Q143<>\"\",Eingabe!Q143,\"\")","v":""},{"$f":"IF(Eingabe!U143<>\"\",Eingabe!U143,\"\")","v":""},null,{"$f":"IF(Eingabe!B143<>\"\",Eingabe!B143,\"\")","v":""},{"$f":"IF(Eingabe!C143<>\"\",Eingabe!C143,\"\")","v":""},{"$f":"IF(Eingabe!D143<>\"\",Eingabe!D143,\"\")","v":""},{"$f":"IF(Eingabe!E143<>\"\",Eingabe!E143,\"\")","v":""},{"$f":"IF(Eingabe!F143<>\"\",Eingabe!F143,\"\")","v":""},{"$f":"IF(Eingabe!G143<>\"\",Eingabe!G143,\"\")","v":""},null,{"$f":"IF(Eingabe!H143<>\"\",Eingabe!H143,\"\")","v":""},{"$f":"IF(Eingabe!I143<>\"\",Eingabe!I143,\"\")","v":""},{"$f":"IF(Eingabe!L143<>\"\",Eingabe!L143,\"\")","v":""},{"$f":"IF(Eingabe!J143<>\"\",Eingabe!J143,\"\")","v":""},{"$f":"IF(Eingabe!K143<>\"\",Eingabe!K143,\"\")","v":""},{"$f":"IF(Eingabe!R143<>\"\",Eingabe!R143,\"\")","v":""},{"$f":"IF(Eingabe!S143<>\"\",Eingabe!S143,\"\")","v":""},null,null,null,null,{"$f":"IF(Eingabe!V143<>\"\",Eingabe!V143,\"\")","v":""},{"$f":"IF(Eingabe!W143<>\"\",Eingabe!W143,\"\")","v":""}]
[{"$f":"IF(Eingabe!Q144<>\"\",Eingabe!Q144,\"\")","v":""},{"$f":"IF(Eingabe!U144<>\"\",Eingabe!U144,\"\")","v":""},null,{"$f":"IF(Eingabe!B144<>\"\",Eingabe!B144,\"\")","v":""},{"$f":"IF(Eingabe!C144<>\"\",Eingabe!C144,\"\")","v":""},{"$f":"IF(Eingabe!D144<>\"\",Eingabe!D144,\"\")","v":""},{"$f":"IF(Eingabe!E144<>\"\",Eingabe!E144,\"\")","v":""},{"$f":"IF(Eingabe!F144<>\"\",Eingabe!F144,\"\")","v":""},{"$f":"IF(Eingabe!G144<>\"\",Eingabe!G144,\"\")","v":""},null,{"$f":"IF(Eingabe!H144<>\"\",Eingabe!H144,\"\")","v":""},{"$f":"IF(Eingabe!I144<>\"\",Eingabe!I144,\"\")","v":""},{"$f":"IF(Eingabe!L144<>\"\",Eingabe!L144,\"\")","v":""},{"$f":"IF(Eingabe!J144<>\"\",Eingabe!J144,\"\")","v":""},{"$f":"IF(Eingabe!K144<>\"\",Eingabe!K144,\"\")","v":""},{"$f":"IF(Eingabe!R144<>\"\",Eingabe!R144,\"\")","v":""},{"$f":"IF(Eingabe!S144<>\"\",Eingabe!S144,\"\")","v":""},null,null,null,null,{"$f":"IF(Eingabe!V144<>\"\",Eingabe!V144,\"\")","v":""},{"$f":"IF(Eingabe!W144<>\"\",Eingabe!W144,\"\")","v":""}]
[{"$f":"IF(Eingabe!Q145<>\"\",Eingabe!Q145,\"\")","v":""},{"$f":"IF(Eingabe!U145<>\"\",Eingabe!U145,\"\")","v":""},null,{"$f":"IF(Eingabe!B145<>\"\",Eingabe!B145,\"\")","v":""},{"$f":"IF(Eingabe!C145<>\"\",Eingabe!C145,\"\")","v":""},{"$f":"IF(Eingabe!D145<>\"\",Eingabe!D145,\"\")","v":""},{"$f":"IF(Eingabe!E145<>\"\",Eingabe!E145,\"\")","v":""},{"$f":"IF(Eingabe!F145<>\"\",Eingabe!F145,\"\")","v":""},{"$f":"IF(Eingabe!G145<>\"\",Eingabe!G145,\"\")","v":""},null,{"$f":"IF(Eingabe!H145<>\"\",Eingabe!H145,\"\")","v":""},{"$f":"IF(Eingabe!I145<>\"\",Eingabe!I145,\"\")","v":""},{"$f":"IF(Eingabe!L145<>\"\",Eingabe!L145,\"\")","v":""},{"$f":"IF(Eingabe!J145<>\"\",Eingabe!J145,\"\")","v":""},{"$f":"IF(Eingabe!K145<>\"\",Eingabe!K145,\"\")","v":""},{"$f":"IF(Eingabe!R145<>\"\",Eingabe!R145,\"\")","v":""},{"$f":"IF(Eingabe!S145<>\"\",Eingabe!S145,\"\")","v":""},null,null,null,null,{"$f":"IF(Eingabe!V145<>\"\",Eingabe!V145,\"\")","v":""},{"$f":"IF(Eingabe!W145<>\"\",Eingabe!W145,\"\")","v":""}]
[{"$f":"IF(Eingabe!Q146<>\"\",Eingabe!Q146,\"\")","v":""},{"$f":"IF(Eingabe!U146<>\"\",Eingabe!U146,\"\")","v":""},null,{"$f":"IF(Eingabe!B146<>\"\",Eingabe!B146,\"\")","v":""},{"$f":"IF(Eingabe!C146<>\"\",Eingabe!C146,\"\")","v":""},{"$f":"IF(Eingabe!D146<>\"\",Eingabe!D146,\"\")","v":""},{"$f":"IF(Eingabe!E146<>\"\",Eingabe!E146,\"\")","v":""},{"$f":"IF(Eingabe!F146<>\"\",Eingabe!F146,\"\")","v":""},{"$f":"IF(Eingabe!G146<>\"\",Eingabe!G146,\"\")","v":""},null,{"$f":"IF(Eingabe!H146<>\"\",Eingabe!H146,\"\")","v":""},{"$f":"IF(Eingabe!I146<>\"\",Eingabe!I146,\"\")","v":""},{"$f":"IF(Eingabe!L146<>\"\",Eingabe!L146,\"\")","v":""},{"$f":"IF(Eingabe!J146<>\"\",Eingabe!J146,\"\")","v":""},{"$f":"IF(Eingabe!K146<>\"\",Eingabe!K146,\"\")","v":""},{"$f":"IF(Eingabe!R146<>\"\",Eingabe!R146,\"\")","v":""},{"$f":"IF(Eingabe!S146<>\"\",Eingabe!S146,\"\")","v":""},null,null,null,null,{"$f":"IF(Eingabe!V146<>\"\",Eingabe!V146,\"\")","v":""},{"$f":"IF(Eingabe!W146<>\"\",Eingabe!W146,\"\")","v":""}]
[{"$f":"IF(Eingabe!Q147<>\"\",Eingabe!Q147,\"\")","v":""},{"$f":"IF(Eingabe!U147<>\"\",Eingabe!U147,\"\")","v":""},null,{"$f":"IF(Eingabe!B147<>\"\",Eingabe!B147,\"\")","v":""},{"$f":"IF(Eingabe!C147<>\"\",Eingabe!C147,\"\")","v":""},{"$f":"IF(Eingabe!D147<>\"\",Eingabe!D147,\"\")","v":""},{"$f":"IF(Eingabe!E147<>\"\",Eingabe!E147,\"\")","v":""},{"$f":"IF(Eingabe!F147<>\"\",Eingabe!F147,\"\")","v":""},{"$f":"IF(Eingabe!G147<>\"\",Eingabe!G147,\"\")","v":""},null,{"$f":"IF(Eingabe!H147<>\"\",Eingabe!H147,\"\")","v":""},{"$f":"IF(Eingabe!I147<>\"\",Eingabe!I147,\"\")","v":""},{"$f":"IF(Eingabe!L147<>\"\",Eingabe!L147,\"\")","v":""},{"$f":"IF(Eingabe!J147<>\"\",Eingabe!J147,\"\")","v":""},{"$f":"IF(Eingabe!K147<>\"\",Eingabe!K147,\"\")","v":""},{"$f":"IF(Eingabe!R147<>\"\",Eingabe!R147,\"\")","v":""},{"$f":"IF(Eingabe!S147<>\"\",Eingabe!S147,\"\")","v":""},null,null,null,null,{"$f":"IF(Eingabe!V147<>\"\",Eingabe!V147,\"\")","v":""},{"$f":"IF(Eingabe!W147<>\"\",Eingabe!W147,\"\")","v":""}]
[{"$f":"IF(Eingabe!Q148<>\"\",Eingabe!Q148,\"\")","v":""},{"$f":"IF(Eingabe!U148<>\"\",Eingabe!U148,\"\")","v":""},null,{"$f":"IF(Eingabe!B148<>\"\",Eingabe!B148,\"\")","v":""},{"$f":"IF(Eingabe!C148<>\"\",Eingabe!C148,\"\")","v":""},{"$f":"IF(Eingabe!D148<>\"\",Eingabe!D148,\"\")","v":""},{"$f":"IF(Eingabe!E148<>\"\",Eingabe!E148,\"\")","v":""},{"$f":"IF(Eingabe!F148<>\"\",Eingabe!F148,\"\")","v":""},{"$f":"IF(Eingabe!G148<>\"\",Eingabe!G148,\"\")","v":""},null,{"$f":"IF(Eingabe!H148<>\"\",Eingabe!H148,\"\")","v":""},{"$f":"IF(Eingabe!I148<>\"\",Eingabe!I148,\"\")","v":""},{"$f":"IF(Eingabe!L148<>\"\",Eingabe!L148,\"\")","v":""},{"$f":"IF(Eingabe!J148<>\"\",Eingabe!J148,\"\")","v":""},{"$f":"IF(Eingabe!K148<>\"\",Eingabe!K148,\"\")","v":""},{"$f":"IF(Eingabe!R148<>\"\",Eingabe!R148,\"\")","v":""},{"$f":"IF(Eingabe!S148<>\"\",Eingabe!S148,\"\")","v":""},null,null,null,null,{"$f":"IF(Eingabe!V148<>\"\",Eingabe!V148,\"\")","v":""},{"$f":"IF(Eingabe!W148<>\"\",Eingabe!W148,\"\")","v":""}]
[{"$f":"IF(Eingabe!Q149<>\"\",Eingabe!Q149,\"\")","v":""},{"$f":"IF(Eingabe!U149<>\"\",Eingabe!U149,\"\")","v":""},null,{"$f":"IF(Eingabe!B149<>\"\",Eingabe!B149,\"\")","v":""},{"$f":"IF(Eingabe!C149<>\"\",Eingabe!C149,\"\")","v":""},{"$f":"IF(Eingabe!D149<>\"\",Eingabe!D149,\"\")","v":""},{"$f":"IF(Eingabe!E149<>\"\",Eingabe!E149,\"\")","v":""},{"$f":"IF(Eingabe!F149<>\"\",Eingabe!F149,\"\")","v":""},{"$f":"IF(Eingabe!G149<>\"\",Eingabe!G149,\"\")","v":""},null,{"$f":"IF(Eingabe!H149<>\"\",Eingabe!H149,\"\")","v":""},{"$f":"IF(Eingabe!I149<>\"\",Eingabe!I149,\"\")","v":""},{"$f":"IF(Eingabe!L149<>\"\",Eingabe!L149,\"\")","v":""},{"$f":"IF(Eingabe!J149<>\"\",Eingabe!J149,\"\")","v":""},{"$f":"IF(Eingabe!K149<>\"\",Eingabe!K149,\"\")","v":""},{"$f":"IF(Eingabe!R149<>\"\",Eingabe!R149,\"\")","v":""},{"$f":"IF(Eingabe!S149<>\"\",Eingabe!S149,\"\")","v":""},null,null,null,null,{"$f":"IF(Eingabe!V149<>\"\",Eingabe!V149,\"\")","v":""},{"$f":"IF(Eingabe!W149<>\"\",Eingabe!W149,\"\")","v":""}]
[{"$f":"IF(Eingabe!Q150<>\"\",Eingabe!Q150,\"\")","v":""},{"$f":"IF(Eingabe!U150<>\"\",Eingabe!U150,\"\")","v":""},null,{"$f":"IF(Eingabe!B150<>\"\",Eingabe!B150,\"\")","v":""},{"$f":"IF(Eingabe!C150<>\"\",Eingabe!C150,\"\")","v":""},{"$f":"IF(Eingabe!D150<>\"\",Eingabe!D150,\"\")","v":""},{"$f":"IF(Eingabe!E150<>\"\",Eingabe!E150,\"\")","v":""},{"$f":"IF(Eingabe!F150<>\"\",Eingabe!F150,\"\")","v":""},{"$f":"IF(Eingabe!G150<>\"\",Eingabe!G150,\"\")","v":""},null,{"$f":"IF(Eingabe!H150<>\"\",Eingabe!H150,\"\")","v":""},{"$f":"IF(Eingabe!I150<>\"\",Eingabe!I150,\"\")","v":""},{"$f":"IF(Eingabe!L150<>\"\",Eingabe!L150,\"\")","v":""},{"$f":"IF(Eingabe!J150<>\"\",Eingabe!J150,\"\")","v":""},{"$f":"IF(Eingabe!K150<>\"\",Eingabe!K150,\"\")","v":""},{"$f":"IF(Eingabe!R150<>\"\",Eingabe!R150,\"\")","v":""},{"$f":"IF(Eingabe!S150<>\"\",Eingabe!S150,\"\")","v":""},null,null,null,null,{"$f":"IF(Eingabe!V150<>\"\",Eingabe!V150,\"\")","v":""},{"$f":"IF(Eingabe!W150<>\"\",Eingabe!W150,\"\")","v":""}]
[{"$f":"IF(Eingabe!Q151<>\"\",Eingabe!Q151,\"\")","v":""},{"$f":"IF(Eingabe!U151<>\"\",Eingabe!U151,\"\")","v":""},null,{"$f":"IF(Eingabe!B151<>\"\",Eingabe!B151,\"\")","v":""},{"$f":"IF(Eingabe!C151<>\"\",Eingabe!C151,\"\")","v":""},{"$f":"IF(Eingabe!D151<>\"\",Eingabe!D151,\"\")","v":""},{"$f":"IF(Eingabe!E151<>\"\",Eingabe!E151,\"\")","v":""},{"$f":"IF(Eingabe!F151<>\"\",Eingabe!F151,\"\")","v":""},{"$f":"IF(Eingabe!G151<>\"\",Eingabe!G151,\"\")","v":""},null,{"$f":"IF(Eingabe!H151<>\"\",Eingabe!H151,\"\")","v":""},{"$f":"IF(Eingabe!I151<>\"\",Eingabe!I151,\"\")","v":""},{"$f":"IF(Eingabe!L151<>\"\",Eingabe!L151,\"\")","v":""},{"$f":"IF(Eingabe!J151<>\"\",Eingabe!J151,\"\")","v":""},{"$f":"IF(Eingabe!K151<>\"\",Eingabe!K151,\"\")","v":""},{"$f":"IF(Eingabe!R151<>\"\",Eingabe!R151,\"\")","v":""},{"$f":"IF(Eingabe!S151<>\"\",Eingabe!S151,\"\")","v":""},null,null,null,null,{"$f":"IF(Eingabe!V151<>\"\",Eingabe!V151,\"\")","v":""},{"$f":"IF(Eingabe!W151<>\"\",Eingabe!W151,\"\")","v":""}]
[{"$f":"IF(Eingabe!Q152<>\"\",Eingabe!Q152,\"\")","v":""},{"$f":"IF(Eingabe!U152<>\"\",Eingabe!U152,\"\")","v":""},null,{"$f":"IF(Eingabe!B152<>\"\",Eingabe!B152,\"\")","v":""},{"$f":"IF(Eingabe!C152<>\"\",Eingabe!C152,\"\")","v":""},{"$f":"IF(Eingabe!D152<>\"\",Eingabe!D152,\"\")","v":""},{"$f":"IF(Eingabe!E152<>\"\",Eingabe!E152,\"\")","v":""},{"$f":"IF(Eingabe!F152<>\"\",Eingabe!F152,\"\")","v":""},{"$f":"IF(Eingabe!G152<>\"\",Eingabe!G152,\"\")","v":""},null,{"$f":"IF(Eingabe!H152<>\"\",Eingabe!H152,\"\")","v":""},{"$f":"IF(Eingabe!I152<>\"\",Eingabe!I152,\"\")","v":""},{"$f":"IF(Eingabe!L152<>\"\",Eingabe!L152,\"\")","v":""},{"$f":"IF(Eingabe!J152<>\"\",Eingabe!J152,\"\")","v":""},{"$f":"IF(Eingabe!K152<>\"\",Eingabe!K152,\"\")","v":""},{"$f":"IF(Eingabe!R152<>\"\",Eingabe!R152,\"\")","v":""},{"$f":"IF(Eingabe!S152<>\"\",Eingabe!S152,\"\")","v":""},null,null,null,null,{"$f":"IF(Eingabe!V152<>\"\",Eingabe!V152,\"\")","v":""},{"$f":"IF(Eingabe!W152<>\"\",Eingabe!W152,\"\")","v":""}]
[{"$f":"IF(Eingabe!Q153<>\"\",Eingabe!Q153,\"\")","v":""},{"$f":"IF(Eingabe!U153<>\"\",Eingabe!U153,\"\")","v":""},null,{"$f":"IF(Eingabe!B153<>\"\",Eingabe!B153,\"\")","v":""},{"$f":"IF(Eingabe!C153<>\"\",Eingabe!C153,\"\")","v":""},{"$f":"IF(Eingabe!D153<>\"\",Eingabe!D153,\"\")","v":""},{"$f":"IF(Eingabe!E153<>\"\",Eingabe!E153,\"\")","v":""},{"$f":"IF(Eingabe!F153<>\"\",Eingabe!F153,\"\")","v":""},{"$f":"IF(Eingabe!G153<>\"\",Eingabe!G153,\"\")","v":""},null,{"$f":"IF(Eingabe!H153<>\"\",Eingabe!H153,\"\")","v":""},{"$f":"IF(Eingabe!I153<>\"\",Eingabe!I153,\"\")","v":""},{"$f":"IF(Eingabe!L153<>\"\",Eingabe!L153,\"\")","v":""},{"$f":"IF(Eingabe!J153<>\"\",Eingabe!J153,\"\")","v":""},{"$f":"IF(Eingabe!K153<>\"\",Eingabe!K153,\"\")","v":""},{"$f":"IF(Eingabe!R153<>\"\",Eingabe!R153,\"\")","v":""},{"$f":"IF(Eingabe!S153<>\"\",Eingabe!S153,\"\")","v":""},null,null,null,null,{"$f":"IF(Eingabe!V153<>\"\",Eingabe!V153,\"\")","v":""},{"$f":"IF(Eingabe!W153<>\"\",Eingabe!W153,\"\")","v":""}]
[{"$f":"IF(Eingabe!Q154<>\"\",Eingabe!Q154,\"\")","v":""},{"$f":"IF(Eingabe!U154<>\"\",Eingabe!U154,\"\")","v":""},null,{"$f":"IF(Eingabe!B154<>\"\",Eingabe!B154,\"\")","v":""},{"$f":"IF(Eingabe!C154<>\"\",Eingabe!C154,\"\")","v":""},{"$f":"IF(Eingabe!D154<>\"\",Eingabe!D154,\"\")","v":""},{"$f":"IF(Eingabe!E154<>\"\",Eingabe!E154,\"\")","v":""},{"$f":"IF(Eingabe!F154<>\"\",Eingabe!F154,\"\")","v":""},{"$f":"IF(Eingabe!G154<>\"\",Eingabe!G154,\"\")","v":""},null,{"$f":"IF(Eingabe!H154<>\"\",Eingabe!H154,\"\")","v":""},{"$f":"IF(Eingabe!I154<>\"\",Eingabe!I154,\"\")","v":""},{"$f":"IF(Eingabe!L154<>\"\",Eingabe!L154,\"\")","v":""},{"$f":"IF(Eingabe!J154<>\"\",Eingabe!J154,\"\")","v":""},{"$f":"IF(Eingabe!K154<>\"\",Eingabe!K154,\"\")","v":""},{"$f":"IF(Eingabe!R154<>\"\",Eingabe!R154,\"\")","v":""},{"$f":"IF(Eingabe!S154<>\"\",Eingabe!S154,\"\")","v":""},null,null,null,null,{"$f":"IF(Eingabe!V154<>\"\",Eingabe!V154,\"\")","v":""},{"$f":"IF(Eingabe!W154<>\"\",Eingabe!W154,\"\")","v":""}]
[{"$f":"IF(Eingabe!Q155<>\"\",Eingabe!Q155,\"\")","v":""},{"$f":"IF(Eingabe!U155<>\"\",Eingabe!U155,\"\")","v":""},null,{"$f":"IF(Eingabe!B155<>\"\",Eingabe!B155,\"\")","v":""},{"$f":"IF(Eingabe!C155<>\"\",Eingabe!C155,\"\")","v":""},{"$f":"IF(Eingabe!D155<>\"\",Eingabe!D155,\"\")","v":""},{"$f":"IF(Eingabe!E155<>\"\",Eingabe!E155,\"\")","v":""},{"$f":"IF(Eingabe!F155<>\"\",Eingabe!F155,\"\")","v":""},{"$f":"IF(Eingabe!G155<>\"\",Eingabe!G155,\"\")","v":""},null,{"$f":"IF(Eingabe!H155<>\"\",Eingabe!H155,\"\")","v":""},{"$f":"IF(Eingabe!I155<>\"\",Eingabe!I155,\"\")","v":""},{"$f":"IF(Eingabe!L155<>\"\",Eingabe!L155,\"\")","v":""},{"$f":"IF(Eingabe!J155<>\"\",Eingabe!J155,\"\")","v":""},{"$f":"IF(Eingabe!K155<>\"\",Eingabe!K155,\"\")","v":""},{"$f":"IF(Eingabe!R155<>\"\",Eingabe!R155,\"\")","v":""},{"$f":"IF(Eingabe!S155<>\"\",Eingabe!S155,\"\")","v":""},null,null,null,null,{"$f":"IF(Eingabe!V155<>\"\",Eingabe!V155,\"\")","v":""},{"$f":"IF(Eingabe!W155<>\"\",Eingabe!W155,\"\")","v":""}]
[{"$f":"IF(Eingabe!Q156<>\"\",Eingabe!Q156,\"\")","v":""},{"$f":"IF(Eingabe!U156<>\"\",Eingabe!U156,\"\")","v":""},null,{"$f":"IF(Eingabe!B156<>\"\",Eingabe!B156,\"\")","v":""},{"$f":"IF(Eingabe!C156<>\"\",Eingabe!C156,\"\")","v":""},{"$f":"IF(Eingabe!D156<>\"\",Eingabe!D156,\"\")","v":""},{"$f":"IF(Eingabe!E156<>\"\",Eingabe!E156,\"\")","v":""},{"$f":"IF(Eingabe!F156<>\"\",Eingabe!F156,\"\")","v":""},{"$f":"IF(Eingabe!G156<>\"\",Eingabe!G156,\"\")","v":""},null,{"$f":"IF(Eingabe!H156<>\"\",Eingabe!H156,\"\")","v":""},{"$f":"IF(Eingabe!I156<>\"\",Eingabe!I156,\"\")","v":""},{"$f":"IF(Eingabe!L156<>\"\",Eingabe!L156,\"\")","v":""},{"$f":"IF(Eingabe!J156<>\"\",Eingabe!J156,\"\")","v":""},{"$f":"IF(Eingabe!K156<>\"\",Eingabe!K156,\"\")","v":""},{"$f":"IF(Eingabe!R156<>\"\",Eingabe!R156,\"\")","v":""},{"$f":"IF(Eingabe!S156<>\"\",Eingabe!S156,\"\")","v":""},null,null,null,null,{"$f":"IF(Eingabe!V156<>\"\",Eingabe!V156,\"\")","v":""},{"$f":"IF(Eingabe!W156<>\"\",Eingabe!W156,\"\")","v":""}]
[{"$f":"IF(Eingabe!Q157<>\"\",Eingabe!Q157,\"\")","v":""},{"$f":"IF(Eingabe!U157<>\"\",Eingabe!U157,\"\")","v":""},null,{"$f":"IF(Eingabe!B157<>\"\",Eingabe!B157,\"\")","v":""},{"$f":"IF(Eingabe!C157<>\"\",Eingabe!C157,\"\")","v":""},{"$f":"IF(Eingabe!D157<>\"\",Eingabe!D157,\"\")","v":""},{"$f":"IF(Eingabe!E157<>\"\",Eingabe!E157,\"\")","v":""},{"$f":"IF(Eingabe!F157<>\"\",Eingabe!F157,\"\")","v":""},{"$f":"IF(Eingabe!G157<>\"\",Eingabe!G157,\"\")","v":""},null,{"$f":"IF(Eingabe!H157<>\"\",Eingabe!H157,\"\")","v":""},{"$f":"IF(Eingabe!I157<>\"\",Eingabe!I157,\"\")","v":""},{"$f":"IF(Eingabe!L157<>\"\",Eingabe!L157,\"\")","v":""},{"$f":"IF(Eingabe!J157<>\"\",Eingabe!J157,\"\")","v":""},{"$f":"IF(Eingabe!K157<>\"\",Eingabe!K157,\"\")","v":""},{"$f":"IF(Eingabe!R157<>\"\",Eingabe!R157,\"\")","v":""},{"$f":"IF(Eingabe!S157<>\"\",Eingabe!S157,\"\")","v":""},null,null,null,null,{"$f":"IF(Eingabe!V157<>\"\",Eingabe!V157,\"\")","v":""},{"$f":"IF(Eingabe!W157<>\"\",Eingabe!W157,\"\")","v":""}]
[{"$f":"IF(Eingabe!Q158<>\"\",Eingabe!Q158,\"\")","v":""},{"$f":"IF(Eingabe!U158<>\"\",Eingabe!U158,\"\")","v":""},null,{"$f":"IF(Eingabe!B158<>\"\",Eingabe!B158,\"\")","v":""},{"$f":"IF(Eingabe!C158<>\"\",Eingabe!C158,\"\")","v":""},{"$f":"IF(Eingabe!D158<>\"\",Eingabe!D158,\"\")","v":""},{"$f":"IF(Eingabe!E158<>\"\",Eingabe!E158,\"\")","v":""},{"$f":"IF(Eingabe!F158<>\"\",Eingabe!F158,\"\")","v":""},{"$f":"IF(Eingabe!G158<>\"\",Eingabe!G158,\"\")","v":""},null,{"$f":"IF(Eingabe!H158<>\"\",Eingabe!H158,\"\")","v":""},{"$f":"IF(Eingabe!I158<>\"\",Eingabe!I158,\"\")","v":""},{"$f":"IF(Eingabe!L158<>\"\",Eingabe!L158,\"\")","v":""},{"$f":"IF(Eingabe!J158<>\"\",Eingabe!J158,\"\")","v":""},{"$f":"IF(Eingabe!K158<>\"\",Eingabe!K158,\"\")","v":""},{"$f":"IF(Eingabe!R158<>\"\",Eingabe!R158,\"\")","v":""},{"$f":"IF(Eingabe!S158<>\"\",Eingabe!S158,\"\")","v":""},null,null,null,null,{"$f":"IF(Eingabe!V158<>\"\",Eingabe!V158,\"\")","v":""},{"$f":"IF(Eingabe!W158<>\"\",Eingabe!W158,\"\")","v":""}]
[{"$f":"IF(Eingabe!Q159<>\"\",Eingabe!Q159,\"\")","v":""},{"$f":"IF(Eingabe!U159<>\"\",Eingabe!U159,\"\")","v":""},null,{"$f":"IF(Eingabe!B159<>\"\",Eingabe!B159,\"\")","v":""},{"$f":"IF(Eingabe!C159<>\"\",Eingabe!C159,\"\")","v":""},{"$f":"IF(Eingabe!D159<>\"\",Eingabe!D159,\"\")","v":""},{"$f":"IF(Eingabe!E159<>\"\",Eingabe!E159,\"\")","v":""},{"$f":"IF(Eingabe!F159<>\"\",Eingabe!F159,\"\")","v":""},{"$f":"IF(Eingabe!G159<>\"\",Eingabe!G159,\"\")","v":""},null,{"$f":"IF(Eingabe!H159<>\"\",Eingabe!H159,\"\")","v":""},{"$f":"IF(Eingabe!I159<>\"\",Eingabe!I159,\"\")","v":""},{"$f":"IF(Eingabe!L159<>\"\",Eingabe!L159,\"\")","v":""},{"$f":"IF(Eingabe!J159<>\"\",Eingabe!J159,\"\")","v":""},{"$f":"IF(Eingabe!K159<>\"\",Eingabe!K159,\"\")","v":""},{"$f":"IF(Eingabe!R159<>\"\",Eingabe!R159,\"\")","v":""},{"$f":"IF(Eingabe!S159<>\"\",Eingabe!S159,\"\")","v":""},null,null,null,null,{"$f":"IF(Eingabe!V159<>\"\",Eingabe!V159,\"\")","v":""},{"$f":"IF(Eingabe!W159<>\"\",Eingabe!W159,\"\")","v":""}]
[{"$f":"IF(Eingabe!Q160<>\"\",Eingabe!Q160,\"\")","v":""},{"$f":"IF(Eingabe!U160<>\"\",Eingabe!U160,\"\")","v":""},null,{"$f":"IF(Eingabe!B160<>\"\",Eingabe!B160,\"\")","v":""},{"$f":"IF(Eingabe!C160<>\"\",Eingabe!C160,\"\")","v":""},{"$f":"IF(Eingabe!D160<>\"\",Eingabe!D160,\"\")","v":""},{"$f":"IF(Eingabe!E160<>\"\",Eingabe!E160,\"\")","v":""},{"$f":"IF(Eingabe!F160<>\"\",Eingabe!F160,\"\")","v":""},{"$f":"IF(Eingabe!G160<>\"\",Eingabe!G160,\"\")","v":""},null,{"$f":"IF(Eingabe!H160<>\"\",Eingabe!H160,\"\")","v":""},{"$f":"IF(Eingabe!I160<>\"\",Eingabe!I160,\"\")","v":""},{"$f":"IF(Eingabe!L160<>\"\",Eingabe!L160,\"\")","v":""},{"$f":"IF(Eingabe!J160<>\"\",Eingabe!J160,\"\")","v":""},{"$f":"IF(Eingabe!K160<>\"\",Eingabe!K160,\"\")","v":""},{"$f":"IF(Eingabe!R160<>\"\",Eingabe!R160,\"\")","v":""},{"$f":"IF(Eingabe!S160<>\"\",Eingabe!S160,\"\")","v":""},null,null,null,null,{"$f":"IF(Eingabe!V160<>\"\",Eingabe!V160,\"\")","v":""},{"$f":"IF(Eingabe!W160<>\"\",Eingabe!W160,\"\")","v":""}]
[{"$f":"IF(Eingabe!Q161<>\"\",Eingabe!Q161,\"\")","v":""},{"$f":"IF(Eingabe!U161<>\"\",Eingabe!U161,\"\")","v":""},null,{"$f":"IF(Eingabe!B161<>\"\",Eingabe!B161,\"\")","v":""},{"$f":"IF(Eingabe!C161<>\"\",Eingabe!C161,\"\")","v":""},{"$f":"IF(Eingabe!D161<>\"\",Eingabe!D161,\"\")","v":""},{"$f":"IF(Eingabe!E161<>\"\",Eingabe!E161,\"\")","v":""},{"$f":"IF(Eingabe!F161<>\"\",Eingabe!F161,\"\")","v":""},{"$f":"IF(Eingabe!G161<>\"\",Eingabe!G161,\"\")","v":""},null,{"$f":"IF(Eingabe!H161<>\"\",Eingabe!H161,\"\")","v":""},{"$f":"IF(Eingabe!I161<>\"\",Eingabe!I161,\"\")","v":""},{"$f":"IF(Eingabe!L161<>\"\",Eingabe!L161,\"\")","v":""},{"$f":"IF(Eingabe!J161<>\"\",Eingabe!J161,\"\")","v":""},{"$f":"IF(Eingabe!K161<>\"\",Eingabe!K161,\"\")","v":""},{"$f":"IF(Eingabe!R161<>\"\",Eingabe!R161,\"\")","v":""},{"$f":"IF(Eingabe!S161<>\"\",Eingabe!S161,\"\")","v":""},null,null,null,null,{"$f":"IF(Eingabe!V161<>\"\",Eingabe!V161,\"\")","v":""},{"$f":"IF(Eingabe!W161<>\"\",Eingabe!W161,\"\")","v":""}]
[{"$f":"IF(Eingabe!Q162<>\"\",Eingabe!Q162,\"\")","v":""},{"$f":"IF(Eingabe!U162<>\"\",Eingabe!U162,\"\")","v":""},null,{"$f":"IF(Eingabe!B162<>\"\",Eingabe!B162,\"\")","v":""},{"$f":"IF(Eingabe!C162<>\"\",Eingabe!C162,\"\")","v":""},{"$f":"IF(Eingabe!D162<>\"\",Eingabe!D162,\"\")","v":""},{"$f":"IF(Eingabe!E162<>\"\",Eingabe!E162,\"\")","v":""},{"$f":"IF(Eingabe!F162<>\"\",Eingabe!F162,\"\")","v":""},{"$f":"IF(Eingabe!G162<>\"\",Eingabe!G162,\"\")","v":""},null,{"$f":"IF(Eingabe!H162<>\"\",Eingabe!H162,\"\")","v":""},{"$f":"IF(Eingabe!I162<>\"\",Eingabe!I162,\"\")","v":""},{"$f":"IF(Eingabe!L162<>\"\",Eingabe!L162,\"\")","v":""},{"$f":"IF(Eingabe!J162<>\"\",Eingabe!J162,\"\")","v":""},{"$f":"IF(Eingabe!K162<>\"\",Eingabe!K162,\"\")","v":""},{"$f":"IF(Eingabe!R162<>\"\",Eingabe!R162,\"\")","v":""},{"$f":"IF(Eingabe!S162<>\"\",Eingabe!S162,\"\")","v":""},null,null,null,null,{"$f":"IF(Eingabe!V162<>\"\",Eingabe!V162,\"\")","v":""},{"$f":"IF(Eingabe!W162<>\"\",Eingabe!W162,\"\")","v":""}]
[{"$f":"IF(Eingabe!Q163<>\"\",Eingabe!Q163,\"\")","v":""},{"$f":"IF(Eingabe!U163<>\"\",Eingabe!U163,\"\")","v":""},null,{"$f":"IF(Eingabe!B163<>\"\",Eingabe!B163,\"\")","v":""},{"$f":"IF(Eingabe!C163<>\"\",Eingabe!C163,\"\")","v":""},{"$f":"IF(Eingabe!D163<>\"\",Eingabe!D163,\"\")","v":""},{"$f":"IF(Eingabe!E163<>\"\",Eingabe!E163,\"\")","v":""},{"$f":"IF(Eingabe!F163<>\"\",Eingabe!F163,\"\")","v":""},{"$f":"IF(Eingabe!G163<>\"\",Eingabe!G163,\"\")","v":""},null,{"$f":"IF(Eingabe!H163<>\"\",Eingabe!H163,\"\")","v":""},{"$f":"IF(Eingabe!I163<>\"\",Eingabe!I163,\"\")","v":""},{"$f":"IF(Eingabe!L163<>\"\",Eingabe!L163,\"\")","v":""},{"$f":"IF(Eingabe!J163<>\"\",Eingabe!J163,\"\")","v":""},{"$f":"IF(Eingabe!K163<>\"\",Eingabe!K163,\"\")","v":""},{"$f":"IF(Eingabe!R163<>\"\",Eingabe!R163,\"\")","v":""},{"$f":"IF(Eingabe!S163<>\"\",Eingabe!S163,\"\")","v":""},null,null,null,null,{"$f":"IF(Eingabe!V163<>\"\",Eingabe!V163,\"\")","v":""},{"$f":"IF(Eingabe!W163<>\"\",Eingabe!W163,\"\")","v":""}]
[{"$f":"IF(Eingabe!Q164<>\"\",Eingabe!Q164,\"\")","v":""},{"$f":"IF(Eingabe!U164<>\"\",Eingabe!U164,\"\")","v":""},null,{"$f":"IF(Eingabe!B164<>\"\",Eingabe!B164,\"\")","v":""},{"$f":"IF(Eingabe!C164<>\"\",Eingabe!C164,\"\")","v":""},{"$f":"IF(Eingabe!D164<>\"\",Eingabe!D164,\"\")","v":""},{"$f":"IF(Eingabe!E164<>\"\",Eingabe!E164,\"\")","v":""},{"$f":"IF(Eingabe!F164<>\"\",Eingabe!F164,\"\")","v":""},{"$f":"IF(Eingabe!G164<>\"\",Eingabe!G164,\"\")","v":""},null,{"$f":"IF(Eingabe!H164<>\"\",Eingabe!H164,\"\")","v":""},{"$f":"IF(Eingabe!I164<>\"\",Eingabe!I164,\"\")","v":""},{"$f":"IF(Eingabe!L164<>\"\",Eingabe!L164,\"\")","v":""},{"$f":"IF(Eingabe!J164<>\"\",Eingabe!J164,\"\")","v":""},{"$f":"IF(Eingabe!K164<>\"\",Eingabe!K164,\"\")","v":""},{"$f":"IF(Eingabe!R164<>\"\",Eingabe!R164,\"\")","v":""},{"$f":"IF(Eingabe!S164<>\"\",Eingabe!S164,\"\")","v":""},null,null,null,null,{"$f":"IF(Eingabe!V164<>\"\",Eingabe!V164,\"\")","v":""},{"$f":"IF(Eingabe!W164<>\"\",Eingabe!W164,\"\")","v":""}]
[{"$f":"IF(Eingabe!Q165<>\"\",Eingabe!Q165,\"\")","v":""},{"$f":"IF(Eingabe!U165<>\"\",Eingabe!U165,\"\")","v":""},null,{"$f":"IF(Eingabe!B165<>\"\",Eingabe!B165,\"\")","v":""},{"$f":"IF(Eingabe!C165<>\"\",Eingabe!C165,\"\")","v":""},{"$f":"IF(Eingabe!D165<>\"\",Eingabe!D165,\"\")","v":""},{"$f":"IF(Eingabe!E165<>\"\",Eingabe!E165,\"\")","v":""},{"$f":"IF(Eingabe!F165<>\"\",Eingabe!F165,\"\")","v":""},{"$f":"IF(Eingabe!G165<>\"\",Eingabe!G165,\"\")","v":""},null,{"$f":"IF(Eingabe!H165<>\"\",Eingabe!H165,\"\")","v":""},{"$f":"IF(Eingabe!I165<>\"\",Eingabe!I165,\"\")","v":""},{"$f":"IF(Eingabe!L165<>\"\",Eingabe!L165,\"\")","v":""},{"$f":"IF(Eingabe!J165<>\"\",Eingabe!J165,\"\")","v":""},{"$f":"IF(Eingabe!K165<>\"\",Eingabe!K165,\"\")","v":""},{"$f":"IF(Eingabe!R165<>\"\",Eingabe!R165,\"\")","v":""},{"$f":"IF(Eingabe!S165<>\"\",Eingabe!S165,\"\")","v":""},null,null,null,null,{"$f":"IF(Eingabe!V165<>\"\",Eingabe!V165,\"\")","v":""},{"$f":"IF(Eingabe!W165<>\"\",Eingabe!W165,\"\")","v":""}]
[{"$f":"IF(Eingabe!Q166<>\"\",Eingabe!Q166,\"\")","v":""},{"$f":"IF(Eingabe!U166<>\"\",Eingabe!U166,\"\")","v":""},null,{"$f":"IF(Eingabe!B166<>\"\",Eingabe!B166,\"\")","v":""},{"$f":"IF(Eingabe!C166<>\"\",Eingabe!C166,\"\")","v":""},{"$f":"IF(Eingabe!D166<>\"\",Eingabe!D166,\"\")","v":""},{"$f":"IF(Eingabe!E166<>\"\",Eingabe!E166,\"\")","v":""},{"$f":"IF(Eingabe!F166<>\"\",Eingabe!F166,\"\")","v":""},{"$f":"IF(Eingabe!G166<>\"\",Eingabe!G166,\"\")","v":""},null,{"$f":"IF(Eingabe!H166<>\"\",Eingabe!H166,\"\")","v":""},{"$f":"IF(Eingabe!I166<>\"\",Eingabe!I166,\"\")","v":""},{"$f":"IF(Eingabe!L166<>\"\",Eingabe!L166,\"\")","v":""},{"$f":"IF(Eingabe!J166<>\"\",Eingabe!J166,\"\")","v":""},{"$f":"IF(Eingabe!K166<>\"\",Eingabe!K166,\"\")","v":""},{"$f":"IF(Eingabe!R166<>\"\",Eingabe!R166,\"\")","v":""},{"$f":"IF(Eingabe!S166<>\"\",Eingabe!S166,\"\")","v":""},null,null,null,null,{"$f":"IF(Eingabe!V166<>\"\",Eingabe!V166,\"\")","v":""},{"$f":"IF(Eingabe!W166<>\"\",Eingabe!W166,\"\")","v":""}]
[{"$f":"IF(Eingabe!Q167<>\"\",Eingabe!Q167,\"\")","v":""},{"$f":"IF(Eingabe!U167<>\"\",Eingabe!U167,\"\")","v":""},null,{"$f":"IF(Eingabe!B167<>\"\",Eingabe!B167,\"\")","v":""},{"$f":"IF(Eingabe!C167<>\"\",Eingabe!C167,\"\")","v":""},{"$f":"IF(Eingabe!D167<>\"\",Eingabe!D167,\"\")","v":""},{"$f":"IF(Eingabe!E167<>\"\",Eingabe!E167,\"\")","v":""},{"$f":"IF(Eingabe!F167<>\"\",Eingabe!F167,\"\")","v":""},{"$f":"IF(Eingabe!G167<>\"\",Eingabe!G167,\"\")","v":""},null,{"$f":"IF(Eingabe!H167<>\"\",Eingabe!H167,\"\")","v":""},{"$f":"IF(Eingabe!I167<>\"\",Eingabe!I167,\"\")","v":""},{"$f":"IF(Eingabe!L167<>\"\",Eingabe!L167,\"\")","v":""},{"$f":"IF(Eingabe!J167<>\"\",Eingabe!J167,\"\")","v":""},{"$f":"IF(Eingabe!K167<>\"\",Eingabe!K167,\"\")","v":""},{"$f":"IF(Eingabe!R167<>\"\",Eingabe!R167,\"\")","v":""},{"$f":"IF(Eingabe!S167<>\"\",Eingabe!S167,\"\")","v":""},null,null,null,null,{"$f":"IF(Eingabe!V167<>\"\",Eingabe!V167,\"\")","v":""},{"$f":"IF(Eingabe!W167<>\"\",Eingabe!W167,\"\")","v":""}]
[{"$f":"IF(Eingabe!Q168<>\"\",Eingabe!Q168,\"\")","v":""},{"$f":"IF(Eingabe!U168<>\"\",Eingabe!U168,\"\")","v":""},null,{"$f":"IF(Eingabe!B168<>\"\",Eingabe!B168,\"\")","v":""},{"$f":"IF(Eingabe!C168<>\"\",Eingabe!C168,\"\")","v":""},{"$f":"IF(Eingabe!D168<>\"\",Eingabe!D168,\"\")","v":""},{"$f":"IF(Eingabe!E168<>\"\",Eingabe!E168,\"\")","v":""},{"$f":"IF(Eingabe!F168<>\"\",Eingabe!F168,\"\")","v":""},{"$f":"IF(Eingabe!G168<>\"\",Eingabe!G168,\"\")","v":""},null,{"$f":"IF(Eingabe!H168<>\"\",Eingabe!H168,\"\")","v":""},{"$f":"IF(Eingabe!I168<>\"\",Eingabe!I168,\"\")","v":""},{"$f":"IF(Eingabe!L168<>\"\",Eingabe!L168,\"\")","v":""},{"$f":"IF(Eingabe!J168<>\"\",Eingabe!J168,\"\")","v":""},{"$f":"IF(Eingabe!K168<>\"\",Eingabe!K168,\"\")","v":""},{"$f":"IF(Eingabe!R168<>\"\",Eingabe!R168,\"\")","v":""},{"$f":"IF(Eingabe!S168<>\"\",Eingabe!S168,\"\")","v":""},null,null,null,null,{"$f":"IF(Eingabe!V168<>\"\",Eingabe!V168,\"\")","v":""},{"$f":"IF(Eingabe!W168<>\"\",Eingabe!W168,\"\")","v":""}]
[{"$f":"IF(Eingabe!Q169<>\"\",Eingabe!Q169,\"\")","v":""},{"$f":"IF(Eingabe!U169<>\"\",Eingabe!U169,\"\")","v":""},null,{"$f":"IF(Eingabe!B169<>\"\",Eingabe!B169,\"\")","v":""},{"$f":"IF(Eingabe!C169<>\"\",Eingabe!C169,\"\")","v":""},{"$f":"IF(Eingabe!D169<>\"\",Eingabe!D169,\"\")","v":""},{"$f":"IF(Eingabe!E169<>\"\",Eingabe!E169,\"\")","v":""},{"$f":"IF(Eingabe!F169<>\"\",Eingabe!F169,\"\")","v":""},{"$f":"IF(Eingabe!G169<>\"\",Eingabe!G169,\"\")","v":""},null,{"$f":"IF(Eingabe!H169<>\"\",Eingabe!H169,\"\")","v":""},{"$f":"IF(Eingabe!I169<>\"\",Eingabe!I169,\"\")","v":""},{"$f":"IF(Eingabe!L169<>\"\",Eingabe!L169,\"\")","v":""},{"$f":"IF(Eingabe!J169<>\"\",Eingabe!J169,\"\")","v":""},{"$f":"IF(Eingabe!K169<>\"\",Eingabe!K169,\"\")","v":""},{"$f":"IF(Eingabe!R169<>\"\",Eingabe!R169,\"\")","v":""},{"$f":"IF(Eingabe!S169<>\"\",Eingabe!S169,\"\")","v":""},null,null,null,null,{"$f":"IF(Eingabe!V169<>\"\",Eingabe!V169,\"\")","v":""},{"$f":"IF(Eingabe!W169<>\"\",Eingabe!W169,\"\")","v":""}]
[{"$f":"IF(Eingabe!Q170<>\"\",Eingabe!Q170,\"\")","v":""},{"$f":"IF(Eingabe!U170<>\"\",Eingabe!U170,\"\")","v":""},null,{"$f":"IF(Eingabe!B170<>\"\",Eingabe!B170,\"\")","v":""},{"$f":"IF(Eingabe!C170<>\"\",Eingabe!C170,\"\")","v":""},{"$f":"IF(Eingabe!D170<>\"\",Eingabe!D170,\"\")","v":""},{"$f":"IF(Eingabe!E170<>\"\",Eingabe!E170,\"\")","v":""},{"$f":"IF(Eingabe!F170<>\"\",Eingabe!F170,\"\")","v":""},{"$f":"IF(Eingabe!G170<>\"\",Eingabe!G170,\"\")","v":""},null,{"$f":"IF(Eingabe!H170<>\"\",Eingabe!H170,\"\")","v":""},{"$f":"IF(Eingabe!I170<>\"\",Eingabe!I170,\"\")","v":""},{"$f":"IF(Eingabe!L170<>\"\",Eingabe!L170,\"\")","v":""},{"$f":"IF(Eingabe!J170<>\"\",Eingabe!J170,\"\")","v":""},{"$f":"IF(Eingabe!K170<>\"\",Eingabe!K170,\"\")","v":""},{"$f":"IF(Eingabe!R170<>\"\",Eingabe!R170,\"\")","v":""},{"$f":"IF(Eingabe!S170<>\"\",Eingabe!S170,\"\")","v":""},null,null,null,null,{"$f":"IF(Eingabe!V170<>\"\",Eingabe!V170,\"\")","v":""},{"$f":"IF(Eingabe!W170<>\"\",Eingabe!W170,\"\")","v":""}]
[{"$f":"IF(Eingabe!Q171<>\"\",Eingabe!Q171,\"\")","v":""},{"$f":"IF(Eingabe!U171<>\"\",Eingabe!U171,\"\")","v":""},null,{"$f":"IF(Eingabe!B171<>\"\",Eingabe!B171,\"\")","v":""},{"$f":"IF(Eingabe!C171<>\"\",Eingabe!C171,\"\")","v":""},{"$f":"IF(Eingabe!D171<>\"\",Eingabe!D171,\"\")","v":""},{"$f":"IF(Eingabe!E171<>\"\",Eingabe!E171,\"\")","v":""},{"$f":"IF(Eingabe!F171<>\"\",Eingabe!F171,\"\")","v":""},{"$f":"IF(Eingabe!G171<>\"\",Eingabe!G171,\"\")","v":""},null,{"$f":"IF(Eingabe!H171<>\"\",Eingabe!H171,\"\")","v":""},{"$f":"IF(Eingabe!I171<>\"\",Eingabe!I171,\"\")","v":""},{"$f":"IF(Eingabe!L171<>\"\",Eingabe!L171,\"\")","v":""},{"$f":"IF(Eingabe!J171<>\"\",Eingabe!J171,\"\")","v":""},{"$f":"IF(Eingabe!K171<>\"\",Eingabe!K171,\"\")","v":""},{"$f":"IF(Eingabe!R171<>\"\",Eingabe!R171,\"\")","v":""},{"$f":"IF(Eingabe!S171<>\"\",Eingabe!S171,\"\")","v":""},null,null,null,null,{"$f":"IF(Eingabe!V171<>\"\",Eingabe!V171,\"\")","v":""},{"$f":"IF(Eingabe!W171<>\"\",Eingabe!W171,\"\")","v":""}]
[{"$f":"IF(Eingabe!Q172<>\"\",Eingabe!Q172,\"\")","v":""},{"$f":"IF(Eingabe!U172<>\"\",Eingabe!U172,\"\")","v":""},null,{"$f":"IF(Eingabe!B172<>\"\",Eingabe!B172,\"\")","v":""},{"$f":"IF(Eingabe!C172<>\"\",Eingabe!C172,\"\")","v":""},{"$f":"IF(Eingabe!D172<>\"\",Eingabe!D172,\"\")","v":""},{"$f":"IF(Eingabe!E172<>\"\",Eingabe!E172,\"\")","v":""},{"$f":"IF(Eingabe!F172<>\"\",Eingabe!F172,\"\")","v":""},{"$f":"IF(Eingabe!G172<>\"\",Eingabe!G172,\"\")","v":""},null,{"$f":"IF(Eingabe!H172<>\"\",Eingabe!H172,\"\")","v":""},{"$f":"IF(Eingabe!I172<>\"\",Eingabe!I172,\"\")","v":""},{"$f":"IF(Eingabe!L172<>\"\",Eingabe!L172,\"\")","v":""},{"$f":"IF(Eingabe!J172<>\"\",Eingabe!J172,\"\")","v":""},{"$f":"IF(Eingabe!K172<>\"\",Eingabe!K172,\"\")","v":""},{"$f":"IF(Eingabe!R172<>\"\",Eingabe!R172,\"\")","v":""},{"$f":"IF(Eingabe!S172<>\"\",Eingabe!S172,\"\")","v":""},null,null,null,null,{"$f":"IF(Eingabe!V172<>\"\",Eingabe!V172,\"\")","v":""},{"$f":"IF(Eingabe!W172<>\"\",Eingabe!W172,\"\")","v":""}]
[{"$f":"IF(Eingabe!Q173<>\"\",Eingabe!Q173,\"\")","v":""},{"$f":"IF(Eingabe!U173<>\"\",Eingabe!U173,\"\")","v":""},null,{"$f":"IF(Eingabe!B173<>\"\",Eingabe!B173,\"\")","v":""},{"$f":"IF(Eingabe!C173<>\"\",Eingabe!C173,\"\")","v":""},{"$f":"IF(Eingabe!D173<>\"\",Eingabe!D173,\"\")","v":""},{"$f":"IF(Eingabe!E173<>\"\",Eingabe!E173,\"\")","v":""},{"$f":"IF(Eingabe!F173<>\"\",Eingabe!F173,\"\")","v":""},{"$f":"IF(Eingabe!G173<>\"\",Eingabe!G173,\"\")","v":""},null,{"$f":"IF(Eingabe!H173<>\"\",Eingabe!H173,\"\")","v":""},{"$f":"IF(Eingabe!I173<>\"\",Eingabe!I173,\"\")","v":""},{"$f":"IF(Eingabe!L173<>\"\",Eingabe!L173,\"\")","v":""},{"$f":"IF(Eingabe!J173<>\"\",Eingabe!J173,\"\")","v":""},{"$f":"IF(Eingabe!K173<>\"\",Eingabe!K173,\"\")","v":""},{"$f":"IF(Eingabe!R173<>\"\",Eingabe!R173,\"\")","v":""},{"$f":"IF(Eingabe!S173<>\"\",Eingabe!S173,\"\")","v":""},null,null,null,null,{"$f":"IF(Eingabe!V173<>\"\",Eingabe!V173,\"\")","v":""},{"$f":"IF(Eingabe!W173<>\"\",Eingabe!W173,\"\")","v":""}]
[{"$f":"IF(Eingabe!Q174<>\"\",Eingabe!Q174,\"\")","v":""},{"$f":"IF(Eingabe!U174<>\"\",Eingabe!U174,\"\")","v":""},null,{"$f":"IF(Eingabe!B174<>\"\",Eingabe!B174,\"\")","v":""},{"$f":"IF(Eingabe!C174<>\"\",Eingabe!C174,\"\")","v":""},{"$f":"IF(Eingabe!D174<>\"\",Eingabe!D174,\"\")","v":""},{"$f":"IF(Eingabe!E174<>\"\",Eingabe!E174,\"\")","v":""},{"$f":"IF(Eingabe!F174<>\"\",Eingabe!F174,\"\")","v":""},{"$f":"IF(Eingabe!G174<>\"\",Eingabe!G174,\"\")","v":""},null,{"$f":"IF(Eingabe!H174<>\"\",Eingabe!H174,\"\")","v":""},{"$f":"IF(Eingabe!I174<>\"\",Eingabe!I174,\"\")","v":""},{"$f":"IF(Eingabe!L174<>\"\",Eingabe!L174,\"\")","v":""},{"$f":"IF(Eingabe!J174<>\"\",Eingabe!J174,\"\")","v":""},{"$f":"IF(Eingabe!K174<>\"\",Eingabe!K174,\"\")","v":""},{"$f":"IF(Eingabe!R174<>\"\",Eingabe!R174,\"\")","v":""},{"$f":"IF(Eingabe!S174<>\"\",Eingabe!S174,\"\")","v":""},null,null,null,null,{"$f":"IF(Eingabe!V174<>\"\",Eingabe!V174,\"\")","v":""},{"$f":"IF(Eingabe!W174<>\"\",Eingabe!W174,\"\")","v":""}]
[{"$f":"IF(Eingabe!Q175<>\"\",Eingabe!Q175,\"\")","v":""},{"$f":"IF(Eingabe!U175<>\"\",Eingabe!U175,\"\")","v":""},null,{"$f":"IF(Eingabe!B175<>\"\",Eingabe!B175,\"\")","v":""},{"$f":"IF(Eingabe!C175<>\"\",Eingabe!C175,\"\")","v":""},{"$f":"IF(Eingabe!D175<>\"\",Eingabe!D175,\"\")","v":""},{"$f":"IF(Eingabe!E175<>\"\",Eingabe!E175,\"\")","v":""},{"$f":"IF(Eingabe!F175<>\"\",Eingabe!F175,\"\")","v":""},{"$f":"IF(Eingabe!G175<>\"\",Eingabe!G175,\"\")","v":""},null,{"$f":"IF(Eingabe!H175<>\"\",Eingabe!H175,\"\")","v":""},{"$f":"IF(Eingabe!I175<>\"\",Eingabe!I175,\"\")","v":""},{"$f":"IF(Eingabe!L175<>\"\",Eingabe!L175,\"\")","v":""},{"$f":"IF(Eingabe!J175<>\"\",Eingabe!J175,\"\")","v":""},{"$f":"IF(Eingabe!K175<>\"\",Eingabe!K175,\"\")","v":""},{"$f":"IF(Eingabe!R175<>\"\",Eingabe!R175,\"\")","v":""},{"$f":"IF(Eingabe!S175<>\"\",Eingabe!S175,\"\")","v":""},null,null,null,null,{"$f":"IF(Eingabe!V175<>\"\",Eingabe!V175,\"\")","v":""},{"$f":"IF(Eingabe!W175<>\"\",Eingabe!W175,\"\")","v":""}]
[{"$f":"IF(Eingabe!Q176<>\"\",Eingabe!Q176,\"\")","v":""},{"$f":"IF(Eingabe!U176<>\"\",Eingabe!U176,\"\")","v":""},null,{"$f":"IF(Eingabe!B176<>\"\",Eingabe!B176,\"\")","v":""},{"$f":"IF(Eingabe!C176<>\"\",Eingabe!C176,\"\")","v":""},{"$f":"IF(Eingabe!D176<>\"\",Eingabe!D176,\"\")","v":""},{"$f":"IF(Eingabe!E176<>\"\",Eingabe!E176,\"\")","v":""},{"$f":"IF(Eingabe!F176<>\"\",Eingabe!F176,\"\")","v":""},{"$f":"IF(Eingabe!G176<>\"\",Eingabe!G176,\"\")","v":""},null,{"$f":"IF(Eingabe!H176<>\"\",Eingabe!H176,\"\")","v":""},{"$f":"IF(Eingabe!I176<>\"\",Eingabe!I176,\"\")","v":""},{"$f":"IF(Eingabe!L176<>\"\",Eingabe!L176,\"\")","v":""},{"$f":"IF(Eingabe!J176<>\"\",Eingabe!J176,\"\")","v":""},{"$f":"IF(Eingabe!K176<>\"\",Eingabe!K176,\"\")","v":""},{"$f":"IF(Eingabe!R176<>\"\",Eingabe!R176,\"\")","v":""},{"$f":"IF(Eingabe!S176<>\"\",Eingabe!S176,\"\")","v":""},null,null,null,null,{"$f":"IF(Eingabe!V176<>\"\",Eingabe!V176,\"\")","v":""},{"$f":"IF(Eingabe!W176<>\"\",Eingabe!W176,\"\")","v":""}]
[{"$f":"IF(Eingabe!Q177<>\"\",Eingabe!Q177,\"\")","v":""},{"$f":"IF(Eingabe!U177<>\"\",Eingabe!U177,\"\")","v":""},null,{"$f":"IF(Eingabe!B177<>\"\",Eingabe!B177,\"\")","v":""},{"$f":"IF(Eingabe!C177<>\"\",Eingabe!C177,\"\")","v":""},{"$f":"IF(Eingabe!D177<>\"\",Eingabe!D177,\"\")","v":""},{"$f":"IF(Eingabe!E177<>\"\",Eingabe!E177,\"\")","v":""},{"$f":"IF(Eingabe!F177<>\"\",Eingabe!F177,\"\")","v":""},{"$f":"IF(Eingabe!G177<>\"\",Eingabe!G177,\"\")","v":""},null,{"$f":"IF(Eingabe!H177<>\"\",Eingabe!H177,\"\")","v":""},{"$f":"IF(Eingabe!I177<>\"\",Eingabe!I177,\"\")","v":""},{"$f":"IF(Eingabe!L177<>\"\",Eingabe!L177,\"\")","v":""},{"$f":"IF(Eingabe!J177<>\"\",Eingabe!J177,\"\")","v":""},{"$f":"IF(Eingabe!K177<>\"\",Eingabe!K177,\"\")","v":""},{"$f":"IF(Eingabe!R177<>\"\",Eingabe!R177,\"\")","v":""},{"$f":"IF(Eingabe!S177<>\"\",Eingabe!S177,\"\")","v":""},null,null,null,null,{"$f":"IF(Eingabe!V177<>\"\",Eingabe!V177,\"\")","v":""},{"$f":"IF(Eingabe!W177<>\"\",Eingabe!W177,\"\")","v":""}]
[{"$f":"IF(Eingabe!Q178<>\"\",Eingabe!Q178,\"\")","v":""},{"$f":"IF(Eingabe!U178<>\"\",Eingabe!U178,\"\")","v":""},null,{"$f":"IF(Eingabe!B178<>\"\",Eingabe!B178,\"\")","v":""},{"$f":"IF(Eingabe!C178<>\"\",Eingabe!C178,\"\")","v":""},{"$f":"IF(Eingabe!D178<>\"\",Eingabe!D178,\"\")","v":""},{"$f":"IF(Eingabe!E178<>\"\",Eingabe!E178,\"\")","v":""},{"$f":"IF(Eingabe!F178<>\"\",Eingabe!F178,\"\")","v":""},{"$f":"IF(Eingabe!G178<>\"\",Eingabe!G178,\"\")","v":""},null,{"$f":"IF(Eingabe!H178<>\"\",Eingabe!H178,\"\")","v":""},{"$f":"IF(Eingabe!I178<>\"\",Eingabe!I178,\"\")","v":""},{"$f":"IF(Eingabe!L178<>\"\",Eingabe!L178,\"\")","v":""},{"$f":"IF(Eingabe!J178<>\"\",Eingabe!J178,\"\")","v":""},{"$f":"IF(Eingabe!K178<>\"\",Eingabe!K178,\"\")","v":""},{"$f":"IF(Eingabe!R178<>\"\",Eingabe!R178,\"\")","v":""},{"$f":"IF(Eingabe!S178<>\"\",Eingabe!S178,\"\")","v":""},null,null,null,null,{"$f":"IF(Eingabe!V178<>\"\",Eingabe!V178,\"\")","v":""},{"$f":"IF(Eingabe!W178<>\"\",Eingabe!W178,\"\")","v":""}]
[{"$f":"IF(Eingabe!Q179<>\"\",Eingabe!Q179,\"\")","v":""},{"$f":"IF(Eingabe!U179<>\"\",Eingabe!U179,\"\")","v":""},null,{"$f":"IF(Eingabe!B179<>\"\",Eingabe!B179,\"\")","v":""},{"$f":"IF(Eingabe!C179<>\"\",Eingabe!C179,\"\")","v":""},{"$f":"IF(Eingabe!D179<>\"\",Eingabe!D179,\"\")","v":""},{"$f":"IF(Eingabe!E179<>\"\",Eingabe!E179,\"\")","v":""},{"$f":"IF(Eingabe!F179<>\"\",Eingabe!F179,\"\")","v":""},{"$f":"IF(Eingabe!G179<>\"\",Eingabe!G179,\"\")","v":""},null,{"$f":"IF(Eingabe!H179<>\"\",Eingabe!H179,\"\")","v":""},{"$f":"IF(Eingabe!I179<>\"\",Eingabe!I179,\"\")","v":""},{"$f":"IF(Eingabe!L179<>\"\",Eingabe!L179,\"\")","v":""},{"$f":"IF(Eingabe!J179<>\"\",Eingabe!J179,\"\")","v":""},{"$f":"IF(Eingabe!K179<>\"\",Eingabe!K179,\"\")","v":""},{"$f":"IF(Eingabe!R179<>\"\",Eingabe!R179,\"\")","v":""},{"$f":"IF(Eingabe!S179<>\"\",Eingabe!S179,\"\")","v":""},null,null,null,null,{"$f":"IF(Eingabe!V179<>\"\",Eingabe!V179,\"\")","v":""},{"$f":"IF(Eingabe!W179<>\"\",Eingabe!W179,\"\")","v":""}]
[{"$f":"IF(Eingabe!Q180<>\"\",Eingabe!Q180,\"\")","v":""},{"$f":"IF(Eingabe!U180<>\"\",Eingabe!U180,\"\")","v":""},null,{"$f":"IF(Eingabe!B180<>\"\",Eingabe!B180,\"\")","v":""},{"$f":"IF(Eingabe!C180<>\"\",Eingabe!C180,\"\")","v":""},{"$f":"IF(Eingabe!D180<>\"\",Eingabe!D180,\"\")","v":""},{"$f":"IF(Eingabe!E180<>\"\",Eingabe!E180,\"\")","v":""},{"$f":"IF(Eingabe!F180<>\"\",Eingabe!F180,\"\")","v":""},{"$f":"IF(Eingabe!G180<>\"\",Eingabe!G180,\"\")","v":""},null,{"$f":"IF(Eingabe!H180<>\"\",Eingabe!H180,\"\")","v":""},{"$f":"IF(Eingabe!I180<>\"\",Eingabe!I180,\"\")","v":""},{"$f":"IF(Eingabe!L180<>\"\",Eingabe!L180,\"\")","v":""},{"$f":"IF(Eingabe!J180<>\"\",Eingabe!J180,\"\")","v":""},{"$f":"IF(Eingabe!K180<>\"\",Eingabe!K180,\"\")","v":""},{"$f":"IF(Eingabe!R180<>\"\",Eingabe!R180,\"\")","v":""},{"$f":"IF(Eingabe!S180<>\"\",Eingabe!S180,\"\")","v":""},null,null,null,null,{"$f":"IF(Eingabe!V180<>\"\",Eingabe!V180,\"\")","v":""},{"$f":"IF(Eingabe!W180<>\"\",Eingabe!W180,\"\")","v":""}]
[{"$f":"IF(Eingabe!Q181<>\"\",Eingabe!Q181,\"\")","v":""},{"$f":"IF(Eingabe!U181<>\"\",Eingabe!U181,\"\")","v":""},null,{"$f":"IF(Eingabe!B181<>\"\",Eingabe!B181,\"\")","v":""},{"$f":"IF(Eingabe!C181<>\"\",Eingabe!C181,\"\")","v":""},{"$f":"IF(Eingabe!D181<>\"\",Eingabe!D181,\"\")","v":""},{"$f":"IF(Eingabe!E181<>\"\",Eingabe!E181,\"\")","v":""},{"$f":"IF(Eingabe!F181<>\"\",Eingabe!F181,\"\")","v":""},{"$f":"IF(Eingabe!G181<>\"\",Eingabe!G181,\"\")","v":""},null,{"$f":"IF(Eingabe!H181<>\"\",Eingabe!H181,\"\")","v":""},{"$f":"IF(Eingabe!I181<>\"\",Eingabe!I181,\"\")","v":""},{"$f":"IF(Eingabe!L181<>\"\",Eingabe!L181,\"\")","v":""},{"$f":"IF(Eingabe!J181<>\"\",Eingabe!J181,\"\")","v":""},{"$f":"IF(Eingabe!K181<>\"\",Eingabe!K181,\"\")","v":""},{"$f":"IF(Eingabe!R181<>\"\",Eingabe!R181,\"\")","v":""},{"$f":"IF(Eingabe!S181<>\"\",Eingabe!S181,\"\")","v":""},null,null,null,null,{"$f":"IF(Eingabe!V181<>\"\",Eingabe!V181,\"\")","v":""},{"$f":"IF(Eingabe!W181<>\"\",Eingabe!W181,\"\")","v":""}]
[{"$f":"IF(Eingabe!Q182<>\"\",Eingabe!Q182,\"\")","v":""},{"$f":"IF(Eingabe!U182<>\"\",Eingabe!U182,\"\")","v":""},null,{"$f":"IF(Eingabe!B182<>\"\",Eingabe!B182,\"\")","v":""},{"$f":"IF(Eingabe!C182<>\"\",Eingabe!C182,\"\")","v":""},{"$f":"IF(Eingabe!D182<>\"\",Eingabe!D182,\"\")","v":""},{"$f":"IF(Eingabe!E182<>\"\",Eingabe!E182,\"\")","v":""},{"$f":"IF(Eingabe!F182<>\"\",Eingabe!F182,\"\")","v":""},{"$f":"IF(Eingabe!G182<>\"\",Eingabe!G182,\"\")","v":""},null,{"$f":"IF(Eingabe!H182<>\"\",Eingabe!H182,\"\")","v":""},{"$f":"IF(Eingabe!I182<>\"\",Eingabe!I182,\"\")","v":""},{"$f":"IF(Eingabe!L182<>\"\",Eingabe!L182,\"\")","v":""},{"$f":"IF(Eingabe!J182<>\"\",Eingabe!J182,\"\")","v":""},{"$f":"IF(Eingabe!K182<>\"\",Eingabe!K182,\"\")","v":""},{"$f":"IF(Eingabe!R182<>\"\",Eingabe!R182,\"\")","v":""},{"$f":"IF(Eingabe!S182<>\"\",Eingabe!S182,\"\")","v":""},null,null,null,null,{"$f":"IF(Eingabe!V182<>\"\",Eingabe!V182,\"\")","v":""},{"$f":"IF(Eingabe!W182<>\"\",Eingabe!W182,\"\")","v":""}]
[{"$f":"IF(Eingabe!Q183<>\"\",Eingabe!Q183,\"\")","v":""},{"$f":"IF(Eingabe!U183<>\"\",Eingabe!U183,\"\")","v":""},null,{"$f":"IF(Eingabe!B183<>\"\",Eingabe!B183,\"\")","v":""},{"$f":"IF(Eingabe!C183<>\"\",Eingabe!C183,\"\")","v":""},{"$f":"IF(Eingabe!D183<>\"\",Eingabe!D183,\"\")","v":""},{"$f":"IF(Eingabe!E183<>\"\",Eingabe!E183,\"\")","v":""},{"$f":"IF(Eingabe!F183<>\"\",Eingabe!F183,\"\")","v":""},{"$f":"IF(Eingabe!G183<>\"\",Eingabe!G183,\"\")","v":""},null,{"$f":"IF(Eingabe!H183<>\"\",Eingabe!H183,\"\")","v":""},{"$f":"IF(Eingabe!I183<>\"\",Eingabe!I183,\"\")","v":""},{"$f":"IF(Eingabe!L183<>\"\",Eingabe!L183,\"\")","v":""},{"$f":"IF(Eingabe!J183<>\"\",Eingabe!J183,\"\")","v":""},{"$f":"IF(Eingabe!K183<>\"\",Eingabe!K183,\"\")","v":""},{"$f":"IF(Eingabe!R183<>\"\",Eingabe!R183,\"\")","v":""},{"$f":"IF(Eingabe!S183<>\"\",Eingabe!S183,\"\")","v":""},null,null,null,null,{"$f":"IF(Eingabe!V183<>\"\",Eingabe!V183,\"\")","v":""},{"$f":"IF(Eingabe!W183<>\"\",Eingabe!W183,\"\")","v":""}]
[{"$f":"IF(Eingabe!Q184<>\"\",Eingabe!Q184,\"\")","v":""},{"$f":"IF(Eingabe!U184<>\"\",Eingabe!U184,\"\")","v":""},null,{"$f":"IF(Eingabe!B184<>\"\",Eingabe!B184,\"\")","v":""},{"$f":"IF(Eingabe!C184<>\"\",Eingabe!C184,\"\")","v":""},{"$f":"IF(Eingabe!D184<>\"\",Eingabe!D184,\"\")","v":""},{"$f":"IF(Eingabe!E184<>\"\",Eingabe!E184,\"\")","v":""},{"$f":"IF(Eingabe!F184<>\"\",Eingabe!F184,\"\")","v":""},{"$f":"IF(Eingabe!G184<>\"\",Eingabe!G184,\"\")","v":""},null,{"$f":"IF(Eingabe!H184<>\"\",Eingabe!H184,\"\")","v":""},{"$f":"IF(Eingabe!I184<>\"\",Eingabe!I184,\"\")","v":""},{"$f":"IF(Eingabe!L184<>\"\",Eingabe!L184,\"\")","v":""},{"$f":"IF(Eingabe!J184<>\"\",Eingabe!J184,\"\")","v":""},{"$f":"IF(Eingabe!K184<>\"\",Eingabe!K184,\"\")","v":""},{"$f":"IF(Eingabe!R184<>\"\",Eingabe!R184,\"\")","v":""},{"$f":"IF(Eingabe!S184<>\"\",Eingabe!S184,\"\")","v":""},null,null,null,null,{"$f":"IF(Eingabe!V184<>\"\",Eingabe!V184,\"\")","v":""},{"$f":"IF(Eingabe!W184<>\"\",Eingabe!W184,\"\")","v":""}]
[{"$f":"IF(Eingabe!Q185<>\"\",Eingabe!Q185,\"\")","v":""},{"$f":"IF(Eingabe!U185<>\"\",Eingabe!U185,\"\")","v":""},null,{"$f":"IF(Eingabe!B185<>\"\",Eingabe!B185,\"\")","v":""},{"$f":"IF(Eingabe!C185<>\"\",Eingabe!C185,\"\")","v":""},{"$f":"IF(Eingabe!D185<>\"\",Eingabe!D185,\"\")","v":""},{"$f":"IF(Eingabe!E185<>\"\",Eingabe!E185,\"\")","v":""},{"$f":"IF(Eingabe!F185<>\"\",Eingabe!F185,\"\")","v":""},{"$f":"IF(Eingabe!G185<>\"\",Eingabe!G185,\"\")","v":""},null,{"$f":"IF(Eingabe!H185<>\"\",Eingabe!H185,\"\")","v":""},{"$f":"IF(Eingabe!I185<>\"\",Eingabe!I185,\"\")","v":""},{"$f":"IF(Eingabe!L185<>\"\",Eingabe!L185,\"\")","v":""},{"$f":"IF(Eingabe!J185<>\"\",Eingabe!J185,\"\")","v":""},{"$f":"IF(Eingabe!K185<>\"\",Eingabe!K185,\"\")","v":""},{"$f":"IF(Eingabe!R185<>\"\",Eingabe!R185,\"\")","v":""},{"$f":"IF(Eingabe!S185<>\"\",Eingabe!S185,\"\")","v":""},null,null,null,null,{"$f":"IF(Eingabe!V185<>\"\",Eingabe!V185,\"\")","v":""},{"$f":"IF(Eingabe!W185<>\"\",Eingabe!W185,\"\")","v":""}]
[{"$f":"IF(Eingabe!Q186<>\"\",Eingabe!Q186,\"\")","v":""},{"$f":"IF(Eingabe!U186<>\"\",Eingabe!U186,\"\")","v":""},null,{"$f":"IF(Eingabe!B186<>\"\",Eingabe!B186,\"\")","v":""},{"$f":"IF(Eingabe!C186<>\"\",Eingabe!C186,\"\")","v":""},{"$f":"IF(Eingabe!D186<>\"\",Eingabe!D186,\"\")","v":""},{"$f":"IF(Eingabe!E186<>\"\",Eingabe!E186,\"\")","v":""},{"$f":"IF(Eingabe!F186<>\"\",Eingabe!F186,\"\")","v":""},{"$f":"IF(Eingabe!G186<>\"\",Eingabe!G186,\"\")","v":""},null,{"$f":"IF(Eingabe!H186<>\"\",Eingabe!H186,\"\")","v":""},{"$f":"IF(Eingabe!I186<>\"\",Eingabe!I186,\"\")","v":""},{"$f":"IF(Eingabe!L186<>\"\",Eingabe!L186,\"\")","v":""},{"$f":"IF(Eingabe!J186<>\"\",Eingabe!J186,\"\")","v":""},{"$f":"IF(Eingabe!K186<>\"\",Eingabe!K186,\"\")","v":""},{"$f":"IF(Eingabe!R186<>\"\",Eingabe!R186,\"\")","v":""},{"$f":"IF(Eingabe!S186<>\"\",Eingabe!S186,\"\")","v":""},null,null,null,null,{"$f":"IF(Eingabe!V186<>\"\",Eingabe!V186,\"\")","v":""},{"$f":"IF(Eingabe!W186<>\"\",Eingabe!W186,\"\")","v":""}]
[{"$f":"IF(Eingabe!Q187<>\"\",Eingabe!Q187,\"\")","v":""},{"$f":"IF(Eingabe!U187<>\"\",Eingabe!U187,\"\")","v":""},null,{"$f":"IF(Eingabe!B187<>\"\",Eingabe!B187,\"\")","v":""},{"$f":"IF(Eingabe!C187<>\"\",Eingabe!C187,\"\")","v":""},{"$f":"IF(Eingabe!D187<>\"\",Eingabe!D187,\"\")","v":""},{"$f":"IF(Eingabe!E187<>\"\",Eingabe!E187,\"\")","v":""},{"$f":"IF(Eingabe!F187<>\"\",Eingabe!F187,\"\")","v":""},{"$f":"IF(Eingabe!G187<>\"\",Eingabe!G187,\"\")","v":""},null,{"$f":"IF(Eingabe!H187<>\"\",Eingabe!H187,\"\")","v":""},{"$f":"IF(Eingabe!I187<>\"\",Eingabe!I187,\"\")","v":""},{"$f":"IF(Eingabe!L187<>\"\",Eingabe!L187,\"\")","v":""},{"$f":"IF(Eingabe!J187<>\"\",Eingabe!J187,\"\")","v":""},{"$f":"IF(Eingabe!K187<>\"\",Eingabe!K187,\"\")","v":""},{"$f":"IF(Eingabe!R187<>\"\",Eingabe!R187,\"\")","v":""},{"$f":"IF(Eingabe!S187<>\"\",Eingabe!S187,\"\")","v":""},null,null,null,null,{"$f":"IF(Eingabe!V187<>\"\",Eingabe!V187,\"\")","v":""},{"$f":"IF(Eingabe!W187<>\"\",Eingabe!W187,\"\")","v":""}]
[{"$f":"IF(Eingabe!Q188<>\"\",Eingabe!Q188,\"\")","v":""},{"$f":"IF(Eingabe!U188<>\"\",Eingabe!U188,\"\")","v":""},null,{"$f":"IF(Eingabe!B188<>\"\",Eingabe!B188,\"\")","v":""},{"$f":"IF(Eingabe!C188<>\"\",Eingabe!C188,\"\")","v":""},{"$f":"IF(Eingabe!D188<>\"\",Eingabe!D188,\"\")","v":""},{"$f":"IF(Eingabe!E188<>\"\",Eingabe!E188,\"\")","v":""},{"$f":"IF(Eingabe!F188<>\"\",Eingabe!F188,\"\")","v":""},{"$f":"IF(Eingabe!G188<>\"\",Eingabe!G188,\"\")","v":""},null,{"$f":"IF(Eingabe!H188<>\"\",Eingabe!H188,\"\")","v":""},{"$f":"IF(Eingabe!I188<>\"\",Eingabe!I188,\"\")","v":""},{"$f":"IF(Eingabe!L188<>\"\",Eingabe!L188,\"\")","v":""},{"$f":"IF(Eingabe!J188<>\"\",Eingabe!J188,\"\")","v":""},{"$f":"IF(Eingabe!K188<>\"\",Eingabe!K188,\"\")","v":""},{"$f":"IF(Eingabe!R188<>\"\",Eingabe!R188,\"\")","v":""},{"$f":"IF(Eingabe!S188<>\"\",Eingabe!S188,\"\")","v":""},null,null,null,null,{"$f":"IF(Eingabe!V188<>\"\",Eingabe!V188,\"\")","v":""},{"$f":"IF(Eingabe!W188<>\"\",Eingabe!W188,\"\")","v":""}]
[{"$f":"IF(Eingabe!Q189<>\"\",Eingabe!Q189,\"\")","v":""},{"$f":"IF(Eingabe!U189<>\"\",Eingabe!U189,\"\")","v":""},null,{"$f":"IF(Eingabe!B189<>\"\",Eingabe!B189,\"\")","v":""},{"$f":"IF(Eingabe!C189<>\"\",Eingabe!C189,\"\")","v":""},{"$f":"IF(Eingabe!D189<>\"\",Eingabe!D189,\"\")","v":""},{"$f":"IF(Eingabe!E189<>\"\",Eingabe!E189,\"\")","v":""},{"$f":"IF(Eingabe!F189<>\"\",Eingabe!F189,\"\")","v":""},{"$f":"IF(Eingabe!G189<>\"\",Eingabe!G189,\"\")","v":""},null,{"$f":"IF(Eingabe!H189<>\"\",Eingabe!H189,\"\")","v":""},{"$f":"IF(Eingabe!I189<>\"\",Eingabe!I189,\"\")","v":""},{"$f":"IF(Eingabe!L189<>\"\",Eingabe!L189,\"\")","v":""},{"$f":"IF(Eingabe!J189<>\"\",Eingabe!J189,\"\")","v":""},{"$f":"IF(Eingabe!K189<>\"\",Eingabe!K189,\"\")","v":""},{"$f":"IF(Eingabe!R189<>\"\",Eingabe!R189,\"\")","v":""},{"$f":"IF(Eingabe!S189<>\"\",Eingabe!S189,\"\")","v":""},null,null,null,null,{"$f":"IF(Eingabe!V189<>\"\",Eingabe!V189,\"\")","v":""},{"$f":"IF(Eingabe!W189<>\"\",Eingabe!W189,\"\")","v":""}]
[{"$f":"IF(Eingabe!Q190<>\"\",Eingabe!Q190,\"\")","v":""},{"$f":"IF(Eingabe!U190<>\"\",Eingabe!U190,\"\")","v":""},null,{"$f":"IF(Eingabe!B190<>\"\",Eingabe!B190,\"\")","v":""},{"$f":"IF(Eingabe!C190<>\"\",Eingabe!C190,\"\")","v":""},{"$f":"IF(Eingabe!D190<>\"\",Eingabe!D190,\"\")","v":""},{"$f":"IF(Eingabe!E190<>\"\",Eingabe!E190,\"\")","v":""},{"$f":"IF(Eingabe!F190<>\"\",Eingabe!F190,\"\")","v":""},{"$f":"IF(Eingabe!G190<>\"\",Eingabe!G190,\"\")","v":""},null,{"$f":"IF(Eingabe!H190<>\"\",Eingabe!H190,\"\")","v":""},{"$f":"IF(Eingabe!I190<>\"\",Eingabe!I190,\"\")","v":""},{"$f":"IF(Eingabe!L190<>\"\",Eingabe!L190,\"\")","v":""},{"$f":"IF(Eingabe!J190<>\"\",Eingabe!J190,\"\")","v":""},{"$f":"IF(Eingabe!K190<>\"\",Eingabe!K190,\"\")","v":""},{"$f":"IF(Eingabe!R190<>\"\",Eingabe!R190,\"\")","v":""},{"$f":"IF(Eingabe!S190<>\"\",Eingabe!S190,\"\")","v":""},null,null,null,null,{"$f":"IF(Eingabe!V190<>\"\",Eingabe!V190,\"\")","v":""},{"$f":"IF(Eingabe!W190<>\"\",Eingabe!W190,\"\")","v":""}]
[{"$f":"IF(Eingabe!Q191<>\"\",Eingabe!Q191,\"\")","v":""},{"$f":"IF(Eingabe!U191<>\"\",Eingabe!U191,\"\")","v":""},null,{"$f":"IF(Eingabe!B191<>\"\",Eingabe!B191,\"\")","v":""},{"$f":"IF(Eingabe!C191<>\"\",Eingabe!C191,\"\")","v":""},{"$f":"IF(Eingabe!D191<>\"\",Eingabe!D191,\"\")","v":""},{"$f":"IF(Eingabe!E191<>\"\",Eingabe!E191,\"\")","v":""},{"$f":"IF(Eingabe!F191<>\"\",Eingabe!F191,\"\")","v":""},{"$f":"IF(Eingabe!G191<>\"\",Eingabe!G191,\"\")","v":""},null,{"$f":"IF(Eingabe!H191<>\"\",Eingabe!H191,\"\")","v":""},{"$f":"IF(Eingabe!I191<>\"\",Eingabe!I191,\"\")","v":""},{"$f":"IF(Eingabe!L191<>\"\",Eingabe!L191,\"\")","v":""},{"$f":"IF(Eingabe!J191<>\"\",Eingabe!J191,\"\")","v":""},{"$f":"IF(Eingabe!K191<>\"\",Eingabe!K191,\"\")","v":""},{"$f":"IF(Eingabe!R191<>\"\",Eingabe!R191,\"\")","v":""},{"$f":"IF(Eingabe!S191<>\"\",Eingabe!S191,\"\")","v":""},null,null,null,null,{"$f":"IF(Eingabe!V191<>\"\",Eingabe!V191,\"\")","v":""},{"$f":"IF(Eingabe!W191<>\"\",Eingabe!W191,\"\")","v":""}]
[{"$f":"IF(Eingabe!Q192<>\"\",Eingabe!Q192,\"\")","v":""},{"$f":"IF(Eingabe!U192<>\"\",Eingabe!U192,\"\")","v":""},null,{"$f":"IF(Eingabe!B192<>\"\",Eingabe!B192,\"\")","v":""},{"$f":"IF(Eingabe!C192<>\"\",Eingabe!C192,\"\")","v":""},{"$f":"IF(Eingabe!D192<>\"\",Eingabe!D192,\"\")","v":""},{"$f":"IF(Eingabe!E192<>\"\",Eingabe!E192,\"\")","v":""},{"$f":"IF(Eingabe!F192<>\"\",Eingabe!F192,\"\")","v":""},{"$f":"IF(Eingabe!G192<>\"\",Eingabe!G192,\"\")","v":""},null,{"$f":"IF(Eingabe!H192<>\"\",Eingabe!H192,\"\")","v":""},{"$f":"IF(Eingabe!I192<>\"\",Eingabe!I192,\"\")","v":""},{"$f":"IF(Eingabe!L192<>\"\",Eingabe!L192,\"\")","v":""},{"$f":"IF(Eingabe!J192<>\"\",Eingabe!J192,\"\")","v":""},{"$f":"IF(Eingabe!K192<>\"\",Eingabe!K192,\"\")","v":""},{"$f":"IF(Eingabe!R192<>\"\",Eingabe!R192,\"\")","v":""},{"$f":"IF(Eingabe!S192<>\"\",Eingabe!S192,\"\")","v":""},null,null,null,null,{"$f":"IF(Eingabe!V192<>\"\",Eingabe!V192,\"\")","v":""},{"$f":"IF(Eingabe!W192<>\"\",Eingabe!W192,\"\")","v":""}]
[{"$f":"IF(Eingabe!Q193<>\"\",Eingabe!Q193,\"\")","v":""},{"$f":"IF(Eingabe!U193<>\"\",Eingabe!U193,\"\")","v":""},null,{"$f":"IF(Eingabe!B193<>\"\",Eingabe!B193,\"\")","v":""},{"$f":"IF(Eingabe!C193<>\"\",Eingabe!C193,\"\")","v":""},{"$f":"IF(Eingabe!D193<>\"\",Eingabe!D193,\"\")","v":""},{"$f":"IF(Eingabe!E193<>\"\",Eingabe!E193,\"\")","v":""},{"$f":"IF(Eingabe!F193<>\"\",Eingabe!F193,\"\")","v":""},{"$f":"IF(Eingabe!G193<>\"\",Eingabe!G193,\"\")","v":""},null,{"$f":"IF(Eingabe!H193<>\"\",Eingabe!H193,\"\")","v":""},{"$f":"IF(Eingabe!I193<>\"\",Eingabe!I193,\"\")","v":""},{"$f":"IF(Eingabe!L193<>\"\",Eingabe!L193,\"\")","v":""},{"$f":"IF(Eingabe!J193<>\"\",Eingabe!J193,\"\")","v":""},{"$f":"IF(Eingabe!K193<>\"\",Eingabe!K193,\"\")","v":""},{"$f":"IF(Eingabe!R193<>\"\",Eingabe!R193,\"\")","v":""},{"$f":"IF(Eingabe!S193<>\"\",Eingabe!S193,\"\")","v":""},null,null,null,null,{"$f":"IF(Eingabe!V193<>\"\",Eingabe!V193,\"\")","v":""},{"$f":"IF(Eingabe!W193<>\"\",Eingabe!W193,\"\")","v":""}]
[{"$f":"IF(Eingabe!Q194<>\"\",Eingabe!Q194,\"\")","v":""},{"$f":"IF(Eingabe!U194<>\"\",Eingabe!U194,\"\")","v":""},null,{"$f":"IF(Eingabe!B194<>\"\",Eingabe!B194,\"\")","v":""},{"$f":"IF(Eingabe!C194<>\"\",Eingabe!C194,\"\")","v":""},{"$f":"IF(Eingabe!D194<>\"\",Eingabe!D194,\"\")","v":""},{"$f":"IF(Eingabe!E194<>\"\",Eingabe!E194,\"\")","v":""},{"$f":"IF(Eingabe!F194<>\"\",Eingabe!F194,\"\")","v":""},{"$f":"IF(Eingabe!G194<>\"\",Eingabe!G194,\"\")","v":""},null,{"$f":"IF(Eingabe!H194<>\"\",Eingabe!H194,\"\")","v":""},{"$f":"IF(Eingabe!I194<>\"\",Eingabe!I194,\"\")","v":""},{"$f":"IF(Eingabe!L194<>\"\",Eingabe!L194,\"\")","v":""},{"$f":"IF(Eingabe!J194<>\"\",Eingabe!J194,\"\")","v":""},{"$f":"IF(Eingabe!K194<>\"\",Eingabe!K194,\"\")","v":""},{"$f":"IF(Eingabe!R194<>\"\",Eingabe!R194,\"\")","v":""},{"$f":"IF(Eingabe!S194<>\"\",Eingabe!S194,\"\")","v":""},null,null,null,null,{"$f":"IF(Eingabe!V194<>\"\",Eingabe!V194,\"\")","v":""},{"$f":"IF(Eingabe!W194<>\"\",Eingabe!W194,\"\")","v":""}]
[{"$f":"IF(Eingabe!Q195<>\"\",Eingabe!Q195,\"\")","v":""},{"$f":"IF(Eingabe!U195<>\"\",Eingabe!U195,\"\")","v":""},null,{"$f":"IF(Eingabe!B195<>\"\",Eingabe!B195,\"\")","v":""},{"$f":"IF(Eingabe!C195<>\"\",Eingabe!C195,\"\")","v":""},{"$f":"IF(Eingabe!D195<>\"\",Eingabe!D195,\"\")","v":""},{"$f":"IF(Eingabe!E195<>\"\",Eingabe!E195,\"\")","v":""},{"$f":"IF(Eingabe!F195<>\"\",Eingabe!F195,\"\")","v":""},{"$f":"IF(Eingabe!G195<>\"\",Eingabe!G195,\"\")","v":""},null,{"$f":"IF(Eingabe!H195<>\"\",Eingabe!H195,\"\")","v":""},{"$f":"IF(Eingabe!I195<>\"\",Eingabe!I195,\"\")","v":""},{"$f":"IF(Eingabe!L195<>\"\",Eingabe!L195,\"\")","v":""},{"$f":"IF(Eingabe!J195<>\"\",Eingabe!J195,\"\")","v":""},{"$f":"IF(Eingabe!K195<>\"\",Eingabe!K195,\"\")","v":""},{"$f":"IF(Eingabe!R195<>\"\",Eingabe!R195,\"\")","v":""},{"$f":"IF(Eingabe!S195<>\"\",Eingabe!S195,\"\")","v":""},null,null,null,null,{"$f":"IF(Eingabe!V195<>\"\",Eingabe!V195,\"\")","v":""},{"$f":"IF(Eingabe!W195<>\"\",Eingabe!W195,\"\")","v":""}]
[{"$f":"IF(Eingabe!Q196<>\"\",Eingabe!Q196,\"\")","v":""},{"$f":"IF(Eingabe!U196<>\"\",Eingabe!U196,\"\")","v":""},null,{"$f":"IF(Eingabe!B196<>\"\",Eingabe!B196,\"\")","v":""},{"$f":"IF(Eingabe!C196<>\"\",Eingabe!C196,\"\")","v":""},{"$f":"IF(Eingabe!D196<>\"\",Eingabe!D196,\"\")","v":""},{"$f":"IF(Eingabe!E196<>\"\",Eingabe!E196,\"\")","v":""},{"$f":"IF(Eingabe!F196<>\"\",Eingabe!F196,\"\")","v":""},{"$f":"IF(Eingabe!G196<>\"\",Eingabe!G196,\"\")","v":""},null,{"$f":"IF(Eingabe!H196<>\"\",Eingabe!H196,\"\")","v":""},{"$f":"IF(Eingabe!I196<>\"\",Eingabe!I196,\"\")","v":""},{"$f":"IF(Eingabe!L196<>\"\",Eingabe!L196,\"\")","v":""},{"$f":"IF(Eingabe!J196<>\"\",Eingabe!J196,\"\")","v":""},{"$f":"IF(Eingabe!K196<>\"\",Eingabe!K196,\"\")","v":""},{"$f":"IF(Eingabe!R196<>\"\",Eingabe!R196,\"\")","v":""},{"$f":"IF(Eingabe!S196<>\"\",Eingabe!S196,\"\")","v":""},null,null,null,null,{"$f":"IF(Eingabe!V196<>\"\",Eingabe!V196,\"\")","v":""},{"$f":"IF(Eingabe!W196<>\"\",Eingabe!W196,\"\")","v":""}]
[{"$f":"IF(Eingabe!Q197<>\"\",Eingabe!Q197,\"\")","v":""},{"$f":"IF(Eingabe!U197<>\"\",Eingabe!U197,\"\")","v":""},null,{"$f":"IF(Eingabe!B197<>\"\",Eingabe!B197,\"\")","v":""},{"$f":"IF(Eingabe!C197<>\"\",Eingabe!C197,\"\")","v":""},{"$f":"IF(Eingabe!D197<>\"\",Eingabe!D197,\"\")","v":""},{"$f":"IF(Eingabe!E197<>\"\",Eingabe!E197,\"\")","v":""},{"$f":"IF(Eingabe!F197<>\"\",Eingabe!F197,\"\")","v":""},{"$f":"IF(Eingabe!G197<>\"\",Eingabe!G197,\"\")","v":""},null,{"$f":"IF(Eingabe!H197<>\"\",Eingabe!H197,\"\")","v":""},{"$f":"IF(Eingabe!I197<>\"\",Eingabe!I197,\"\")","v":""},{"$f":"IF(Eingabe!L197<>\"\",Eingabe!L197,\"\")","v":""},{"$f":"IF(Eingabe!J197<>\"\",Eingabe!J197,\"\")","v":""},{"$f":"IF(Eingabe!K197<>\"\",Eingabe!K197,\"\")","v":""},{"$f":"IF(Eingabe!R197<>\"\",Eingabe!R197,\"\")","v":""},{"$f":"IF(Eingabe!S197<>\"\",Eingabe!S197,\"\")","v":""},null,null,null,null,{"$f":"IF(Eingabe!V197<>\"\",Eingabe!V197,\"\")","v":""},{"$f":"IF(Eingabe!W197<>\"\",Eingabe!W197,\"\")","v":""}]
[{"$f":"IF(Eingabe!Q198<>\"\",Eingabe!Q198,\"\")","v":""},{"$f":"IF(Eingabe!U198<>\"\",Eingabe!U198,\"\")","v":""},null,{"$f":"IF(Eingabe!B198<>\"\",Eingabe!B198,\"\")","v":""},{"$f":"IF(Eingabe!C198<>\"\",Eingabe!C198,\"\")","v":""},{"$f":"IF(Eingabe!D198<>\"\",Eingabe!D198,\"\")","v":""},{"$f":"IF(Eingabe!E198<>\"\",Eingabe!E198,\"\")","v":""},{"$f":"IF(Eingabe!F198<>\"\",Eingabe!F198,\"\")","v":""},{"$f":"IF(Eingabe!G198<>\"\",Eingabe!G198,\"\")","v":""},null,{"$f":"IF(Eingabe!H198<>\"\",Eingabe!H198,\"\")","v":""},{"$f":"IF(Eingabe!I198<>\"\",Eingabe!I198,\"\")","v":""},{"$f":"IF(Eingabe!L198<>\"\",Eingabe!L198,\"\")","v":""},{"$f":"IF(Eingabe!J198<>\"\",Eingabe!J198,\"\")","v":""},{"$f":"IF(Eingabe!K198<>\"\",Eingabe!K198,\"\")","v":""},{"$f":"IF(Eingabe!R198<>\"\",Eingabe!R198,\"\")","v":""},{"$f":"IF(Eingabe!S198<>\"\",Eingabe!S198,\"\")","v":""},null,null,null,null,{"$f":"IF(Eingabe!V198<>\"\",Eingabe!V198,\"\")","v":""},{"$f":"IF(Eingabe!W198<>\"\",Eingabe!W198,\"\")","v":""}]
[{"$f":"IF(Eingabe!Q199<>\"\",Eingabe!Q199,\"\")","v":""},{"$f":"IF(Eingabe!U199<>\"\",Eingabe!U199,\"\")","v":""},null,{"$f":"IF(Eingabe!B199<>\"\",Eingabe!B199,\"\")","v":""},{"$f":"IF(Eingabe!C199<>\"\",Eingabe!C199,\"\")","v":""},{"$f":"IF(Eingabe!D199<>\"\",Eingabe!D199,\"\")","v":""},{"$f":"IF(Eingabe!E199<>\"\",Eingabe!E199,\"\")","v":""},{"$f":"IF(Eingabe!F199<>\"\",Eingabe!F199,\"\")","v":""},{"$f":"IF(Eingabe!G199<>\"\",Eingabe!G199,\"\")","v":""},null,{"$f":"IF(Eingabe!H199<>\"\",Eingabe!H199,\"\")","v":""},{"$f":"IF(Eingabe!I199<>\"\",Eingabe!I199,\"\")","v":""},{"$f":"IF(Eingabe!L199<>\"\",Eingabe!L199,\"\")","v":""},{"$f":"IF(Eingabe!J199<>\"\",Eingabe!J199,\"\")","v":""},{"$f":"IF(Eingabe!K199<>\"\",Eingabe!K199,\"\")","v":""},{"$f":"IF(Eingabe!R199<>\"\",Eingabe!R199,\"\")","v":""},{"$f":"IF(Eingabe!S199<>\"\",Eingabe!S199,\"\")","v":""},null,null,null,null,{"$f":"IF(Eingabe!V199<>\"\",Eingabe!V199,\"\")","v":""},{"$f":"IF(Eingabe!W199<>\"\",Eingabe!W199,\"\")","v":""}]
[{"$f":"IF(Eingabe!Q200<>\"\",Eingabe!Q200,\"\")","v":""},{"$f":"IF(Eingabe!U200<>\"\",Eingabe!U200,\"\")","v":""},null,{"$f":"IF(Eingabe!B200<>\"\",Eingabe!B200,\"\")","v":""},{"$f":"IF(Eingabe!C200<>\"\",Eingabe!C200,\"\")","v":""},{"$f":"IF(Eingabe!D200<>\"\",Eingabe!D200,\"\")","v":""},{"$f":"IF(Eingabe!E200<>\"\",Eingabe!E200,\"\")","v":""},{"$f":"IF(Eingabe!F200<>\"\",Eingabe!F200,\"\")","v":""},{"$f":"IF(Eingabe!G200<>\"\",Eingabe!G200,\"\")","v":""},null,{"$f":"IF(Eingabe!H200<>\"\",Eingabe!H200,\"\")","v":""},{"$f":"IF(Eingabe!I200<>\"\",Eingabe!I200,\"\")","v":""},{"$f":"IF(Eingabe!L200<>\"\",Eingabe!L200,\"\")","v":""},{"$f":"IF(Eingabe!J200<>\"\",Eingabe!J200,\"\")","v":""},{"$f":"IF(Eingabe!K200<>\"\",Eingabe!K200,\"\")","v":""},{"$f":"IF(Eingabe!R200<>\"\",Eingabe!R200,\"\")","v":""},{"$f":"IF(Eingabe!S200<>\"\",Eingabe!S200,\"\")","v":""},null,null,null,null,{"$f":"IF(Eingabe!V200<>\"\",Eingabe!V200,\"\")","v":""},{"$f":"IF(Eingabe!W200<>\"\",Eingabe!W200,\"\")","v":""}]
[{"$f":"IF(Eingabe!Q201<>\"\",Eingabe!Q201,\"\")","v":""},{"$f":"IF(Eingabe!U201<>\"\",Eingabe!U201,\"\")","v":""},null,{"$f":"IF(Eingabe!B201<>\"\",Eingabe!B201,\"\")","v":""},{"$f":"IF(Eingabe!C201<>\"\",Eingabe!C201,\"\")","v":""},{"$f":"IF(Eingabe!D201<>\"\",Eingabe!D201,\"\")","v":""},{"$f":"IF(Eingabe!E201<>\"\",Eingabe!E201,\"\")","v":""},{"$f":"IF(Eingabe!F201<>\"\",Eingabe!F201,\"\")","v":""},{"$f":"IF(Eingabe!G201<>\"\",Eingabe!G201,\"\")","v":""},null,{"$f":"IF(Eingabe!H201<>\"\",Eingabe!H201,\"\")","v":""},{"$f":"IF(Eingabe!I201<>\"\",Eingabe!I201,\"\")","v":""},{"$f":"IF(Eingabe!L201<>\"\",Eingabe!L201,\"\")","v":""},{"$f":"IF(Eingabe!J201<>\"\",Eingabe!J201,\"\")","v":""},{"$f":"IF(Eingabe!K201<>\"\",Eingabe!K201,\"\")","v":""},{"$f":"IF(Eingabe!R201<>\"\",Eingabe!R201,\"\")","v":""},{"$f":"IF(Eingabe!S201<>\"\",Eingabe!S201,\"\")","v":""},null,null,null,null,{"$f":"IF(Eingabe!V201<>\"\",Eingabe!V201,\"\")","v":""},{"$f":"IF(Eingabe!W201<>\"\",Eingabe!W201,\"\")","v":""}]
[{"$f":"IF(Eingabe!Q202<>\"\",Eingabe!Q202,\"\")","v":""},{"$f":"IF(Eingabe!U202<>\"\",Eingabe!U202,\"\")","v":""},null,{"$f":"IF(Eingabe!B202<>\"\",Eingabe!B202,\"\")","v":""},{"$f":"IF(Eingabe!C202<>\"\",Eingabe!C202,\"\")","v":""},{"$f":"IF(Eingabe!D202<>\"\",Eingabe!D202,\"\")","v":""},{"$f":"IF(Eingabe!E202<>\"\",Eingabe!E202,\"\")","v":""},{"$f":"IF(Eingabe!F202<>\"\",Eingabe!F202,\"\")","v":""},{"$f":"IF(Eingabe!G202<>\"\",Eingabe!G202,\"\")","v":""},null,{"$f":"IF(Eingabe!H202<>\"\",Eingabe!H202,\"\")","v":""},{"$f":"IF(Eingabe!I202<>\"\",Eingabe!I202,\"\")","v":""},{"$f":"IF(Eingabe!L202<>\"\",Eingabe!L202,\"\")","v":""},{"$f":"IF(Eingabe!J202<>\"\",Eingabe!J202,\"\")","v":""},{"$f":"IF(Eingabe!K202<>\"\",Eingabe!K202,\"\")","v":""},{"$f":"IF(Eingabe!R202<>\"\",Eingabe!R202,\"\")","v":""},{"$f":"IF(Eingabe!S202<>\"\",Eingabe!S202,\"\")","v":""},null,null,null,null,{"$f":"IF(Eingabe!V202<>\"\",Eingabe!V202,\"\")","v":""},{"$f":"IF(Eingabe!W202<>\"\",Eingabe!W202,\"\")","v":""}]
[{"$f":"IF(Eingabe!Q203<>\"\",Eingabe!Q203,\"\")","v":""},{"$f":"IF(Eingabe!U203<>\"\",Eingabe!U203,\"\")","v":""},null,{"$f":"IF(Eingabe!B203<>\"\",Eingabe!B203,\"\")","v":""},{"$f":"IF(Eingabe!C203<>\"\",Eingabe!C203,\"\")","v":""},{"$f":"IF(Eingabe!D203<>\"\",Eingabe!D203,\"\")","v":""},{"$f":"IF(Eingabe!E203<>\"\",Eingabe!E203,\"\")","v":""},{"$f":"IF(Eingabe!F203<>\"\",Eingabe!F203,\"\")","v":""},{"$f":"IF(Eingabe!G203<>\"\",Eingabe!G203,\"\")","v":""},null,{"$f":"IF(Eingabe!H203<>\"\",Eingabe!H203,\"\")","v":""},{"$f":"IF(Eingabe!I203<>\"\",Eingabe!I203,\"\")","v":""},{"$f":"IF(Eingabe!L203<>\"\",Eingabe!L203,\"\")","v":""},{"$f":"IF(Eingabe!J203<>\"\",Eingabe!J203,\"\")","v":""},{"$f":"IF(Eingabe!K203<>\"\",Eingabe!K203,\"\")","v":""},{"$f":"IF(Eingabe!R203<>\"\",Eingabe!R203,\"\")","v":""},{"$f":"IF(Eingabe!S203<>\"\",Eingabe!S203,\"\")","v":""},null,null,null,null,{"$f":"IF(Eingabe!V203<>\"\",Eingabe!V203,\"\")","v":""},{"$f":"IF(Eingabe!W203<>\"\",Eingabe!W203,\"\")","v":""}]
[{"$f":"IF(Eingabe!Q204<>\"\",Eingabe!Q204,\"\")","v":""},{"$f":"IF(Eingabe!U204<>\"\",Eingabe!U204,\"\")","v":""},null,{"$f":"IF(Eingabe!B204<>\"\",Eingabe!B204,\"\")","v":""},{"$f":"IF(Eingabe!C204<>\"\",Eingabe!C204,\"\")","v":""},{"$f":"IF(Eingabe!D204<>\"\",Eingabe!D204,\"\")","v":""},{"$f":"IF(Eingabe!E204<>\"\",Eingabe!E204,\"\")","v":""},{"$f":"IF(Eingabe!F204<>\"\",Eingabe!F204,\"\")","v":""},{"$f":"IF(Eingabe!G204<>\"\",Eingabe!G204,\"\")","v":""},null,{"$f":"IF(Eingabe!H204<>\"\",Eingabe!H204,\"\")","v":""},{"$f":"IF(Eingabe!I204<>\"\",Eingabe!I204,\"\")","v":""},{"$f":"IF(Eingabe!L204<>\"\",Eingabe!L204,\"\")","v":""},{"$f":"IF(Eingabe!J204<>\"\",Eingabe!J204,\"\")","v":""},{"$f":"IF(Eingabe!K204<>\"\",Eingabe!K204,\"\")","v":""},{"$f":"IF(Eingabe!R204<>\"\",Eingabe!R204,\"\")","v":""},{"$f":"IF(Eingabe!S204<>\"\",Eingabe!S204,\"\")","v":""},null,null,null,null,{"$f":"IF(Eingabe!V204<>\"\",Eingabe!V204,\"\")","v":""},{"$f":"IF(Eingabe!W204<>\"\",Eingabe!W204,\"\")","v":""}]
[{"$f":"IF(Eingabe!Q205<>\"\",Eingabe!Q205,\"\")","v":""},{"$f":"IF(Eingabe!U205<>\"\",Eingabe!U205,\"\")","v":""},null,{"$f":"IF(Eingabe!B205<>\"\",Eingabe!B205,\"\")","v":""},{"$f":"IF(Eingabe!C205<>\"\",Eingabe!C205,\"\")","v":""},{"$f":"IF(Eingabe!D205<>\"\",Eingabe!D205,\"\")","v":""},{"$f":"IF(Eingabe!E205<>\"\",Eingabe!E205,\"\")","v":""},{"$f":"IF(Eingabe!F205<>\"\",Eingabe!F205,\"\")","v":""},{"$f":"IF(Eingabe!G205<>\"\",Eingabe!G205,\"\")","v":""},null,{"$f":"IF(Eingabe!H205<>\"\",Eingabe!H205,\"\")","v":""},{"$f":"IF(Eingabe!I205<>\"\",Eingabe!I205,\"\")","v":""},{"$f":"IF(Eingabe!L205<>\"\",Eingabe!L205,\"\")","v":""},{"$f":"IF(Eingabe!J205<>\"\",Eingabe!J205,\"\")","v":""},{"$f":"IF(Eingabe!K205<>\"\",Eingabe!K205,\"\")","v":""},{"$f":"IF(Eingabe!R205<>\"\",Eingabe!R205,\"\")","v":""},{"$f":"IF(Eingabe!S205<>\"\",Eingabe!S205,\"\")","v":""},null,null,null,null,{"$f":"IF(Eingabe!V205<>\"\",Eingabe!V205,\"\")","v":""},{"$f":"IF(Eingabe!W205<>\"\",Eingabe!W205,\"\")","v":""}]
[{"$f":"IF(Eingabe!Q206<>\"\",Eingabe!Q206,\"\")","v":""},{"$f":"IF(Eingabe!U206<>\"\",Eingabe!U206,\"\")","v":""},null,{"$f":"IF(Eingabe!B206<>\"\",Eingabe!B206,\"\")","v":""},{"$f":"IF(Eingabe!C206<>\"\",Eingabe!C206,\"\")","v":""},{"$f":"IF(Eingabe!D206<>\"\",Eingabe!D206,\"\")","v":""},{"$f":"IF(Eingabe!E206<>\"\",Eingabe!E206,\"\")","v":""},{"$f":"IF(Eingabe!F206<>\"\",Eingabe!F206,\"\")","v":""},{"$f":"IF(Eingabe!G206<>\"\",Eingabe!G206,\"\")","v":""},null,{"$f":"IF(Eingabe!H206<>\"\",Eingabe!H206,\"\")","v":""},{"$f":"IF(Eingabe!I206<>\"\",Eingabe!I206,\"\")","v":""},{"$f":"IF(Eingabe!L206<>\"\",Eingabe!L206,\"\")","v":""},{"$f":"IF(Eingabe!J206<>\"\",Eingabe!J206,\"\")","v":""},{"$f":"IF(Eingabe!K206<>\"\",Eingabe!K206,\"\")","v":""},{"$f":"IF(Eingabe!R206<>\"\",Eingabe!R206,\"\")","v":""},{"$f":"IF(Eingabe!S206<>\"\",Eingabe!S206,\"\")","v":""},null,null,null,null,{"$f":"IF(Eingabe!V206<>\"\",Eingabe!V206,\"\")","v":""},{"$f":"IF(Eingabe!W206<>\"\",Eingabe!W206,\"\")","v":""}]
[{"$f":"IF(Eingabe!Q207<>\"\",Eingabe!Q207,\"\")","v":""},{"$f":"IF(Eingabe!U207<>\"\",Eingabe!U207,\"\")","v":""},null,{"$f":"IF(Eingabe!B207<>\"\",Eingabe!B207,\"\")","v":""},{"$f":"IF(Eingabe!C207<>\"\",Eingabe!C207,\"\")","v":""},{"$f":"IF(Eingabe!D207<>\"\",Eingabe!D207,\"\")","v":""},{"$f":"IF(Eingabe!E207<>\"\",Eingabe!E207,\"\")","v":""},{"$f":"IF(Eingabe!F207<>\"\",Eingabe!F207,\"\")","v":""},{"$f":"IF(Eingabe!G207<>\"\",Eingabe!G207,\"\")","v":""},null,{"$f":"IF(Eingabe!H207<>\"\",Eingabe!H207,\"\")","v":""},{"$f":"IF(Eingabe!I207<>\"\",Eingabe!I207,\"\")","v":""},{"$f":"IF(Eingabe!L207<>\"\",Eingabe!L207,\"\")","v":""},{"$f":"IF(Eingabe!J207<>\"\",Eingabe!J207,\"\")","v":""},{"$f":"IF(Eingabe!K207<>\"\",Eingabe!K207,\"\")","v":""},{"$f":"IF(Eingabe!R207<>\"\",Eingabe!R207,\"\")","v":""},{"$f":"IF(Eingabe!S207<>\"\",Eingabe!S207,\"\")","v":""},null,null,null,null,{"$f":"IF(Eingabe!V207<>\"\",Eingabe!V207,\"\")","v":""},{"$f":"IF(Eingabe!W207<>\"\",Eingabe!W207,\"\")","v":""}]
[{"$f":"IF(Eingabe!Q208<>\"\",Eingabe!Q208,\"\")","v":""},{"$f":"IF(Eingabe!U208<>\"\",Eingabe!U208,\"\")","v":""},null,{"$f":"IF(Eingabe!B208<>\"\",Eingabe!B208,\"\")","v":""},{"$f":"IF(Eingabe!C208<>\"\",Eingabe!C208,\"\")","v":""},{"$f":"IF(Eingabe!D208<>\"\",Eingabe!D208,\"\")","v":""},{"$f":"IF(Eingabe!E208<>\"\",Eingabe!E208,\"\")","v":""},{"$f":"IF(Eingabe!F208<>\"\",Eingabe!F208,\"\")","v":""},{"$f":"IF(Eingabe!G208<>\"\",Eingabe!G208,\"\")","v":""},null,{"$f":"IF(Eingabe!H208<>\"\",Eingabe!H208,\"\")","v":""},{"$f":"IF(Eingabe!I208<>\"\",Eingabe!I208,\"\")","v":""},{"$f":"IF(Eingabe!L208<>\"\",Eingabe!L208,\"\")","v":""},{"$f":"IF(Eingabe!J208<>\"\",Eingabe!J208,\"\")","v":""},{"$f":"IF(Eingabe!K208<>\"\",Eingabe!K208,\"\")","v":""},{"$f":"IF(Eingabe!R208<>\"\",Eingabe!R208,\"\")","v":""},{"$f":"IF(Eingabe!S208<>\"\",Eingabe!S208,\"\")","v":""},null,null,null,null,{"$f":"IF(Eingabe!V208<>\"\",Eingabe!V208,\"\")","v":""},{"$f":"IF(Eingabe!W208<>\"\",Eingabe!W208,\"\")","v":""}]
[{"$f":"IF(Eingabe!Q209<>\"\",Eingabe!Q209,\"\")","v":""},{"$f":"IF(Eingabe!U209<>\"\",Eingabe!U209,\"\")","v":""},null,{"$f":"IF(Eingabe!B209<>\"\",Eingabe!B209,\"\")","v":""},{"$f":"IF(Eingabe!C209<>\"\",Eingabe!C209,\"\")","v":""},{"$f":"IF(Eingabe!D209<>\"\",Eingabe!D209,\"\")","v":""},{"$f":"IF(Eingabe!E209<>\"\",Eingabe!E209,\"\")","v":""},{"$f":"IF(Eingabe!F209<>\"\",Eingabe!F209,\"\")","v":""},{"$f":"IF(Eingabe!G209<>\"\",Eingabe!G209,\"\")","v":""},null,{"$f":"IF(Eingabe!H209<>\"\",Eingabe!H209,\"\")","v":""},{"$f":"IF(Eingabe!I209<>\"\",Eingabe!I209,\"\")","v":""},{"$f":"IF(Eingabe!L209<>\"\",Eingabe!L209,\"\")","v":""},{"$f":"IF(Eingabe!J209<>\"\",Eingabe!J209,\"\")","v":""},{"$f":"IF(Eingabe!K209<>\"\",Eingabe!K209,\"\")","v":""},{"$f":"IF(Eingabe!R209<>\"\",Eingabe!R209,\"\")","v":""},{"$f":"IF(Eingabe!S209<>\"\",Eingabe!S209,\"\")","v":""},null,null,null,null,{"$f":"IF(Eingabe!V209<>\"\",Eingabe!V209,\"\")","v":""},{"$f":"IF(Eingabe!W209<>\"\",Eingabe!W209,\"\")","v":""}]
[{"$f":"IF(Eingabe!Q210<>\"\",Eingabe!Q210,\"\")","v":""},{"$f":"IF(Eingabe!U210<>\"\",Eingabe!U210,\"\")","v":""},null,{"$f":"IF(Eingabe!B210<>\"\",Eingabe!B210,\"\")","v":""},{"$f":"IF(Eingabe!C210<>\"\",Eingabe!C210,\"\")","v":""},{"$f":"IF(Eingabe!D210<>\"\",Eingabe!D210,\"\")","v":""},{"$f":"IF(Eingabe!E210<>\"\",Eingabe!E210,\"\")","v":""},{"$f":"IF(Eingabe!F210<>\"\",Eingabe!F210,\"\")","v":""},{"$f":"IF(Eingabe!G210<>\"\",Eingabe!G210,\"\")","v":""},null,{"$f":"IF(Eingabe!H210<>\"\",Eingabe!H210,\"\")","v":""},{"$f":"IF(Eingabe!I210<>\"\",Eingabe!I210,\"\")","v":""},{"$f":"IF(Eingabe!L210<>\"\",Eingabe!L210,\"\")","v":""},{"$f":"IF(Eingabe!J210<>\"\",Eingabe!J210,\"\")","v":""},{"$f":"IF(Eingabe!K210<>\"\",Eingabe!K210,\"\")","v":""},{"$f":"IF(Eingabe!R210<>\"\",Eingabe!R210,\"\")","v":""},{"$f":"IF(Eingabe!S210<>\"\",Eingabe!S210,\"\")","v":""},null,null,null,null,{"$f":"IF(Eingabe!V210<>\"\",Eingabe!V210,\"\")","v":""},{"$f":"IF(Eingabe!W210<>\"\",Eingabe!W210,\"\")","v":""}]
[{"$f":"IF(Eingabe!Q211<>\"\",Eingabe!Q211,\"\")","v":""},{"$f":"IF(Eingabe!U211<>\"\",Eingabe!U211,\"\")","v":""},null,{"$f":"IF(Eingabe!B211<>\"\",Eingabe!B211,\"\")","v":""},{"$f":"IF(Eingabe!C211<>\"\",Eingabe!C211,\"\")","v":""},{"$f":"IF(Eingabe!D211<>\"\",Eingabe!D211,\"\")","v":""},{"$f":"IF(Eingabe!E211<>\"\",Eingabe!E211,\"\")","v":""},{"$f":"IF(Eingabe!F211<>\"\",Eingabe!F211,\"\")","v":""},{"$f":"IF(Eingabe!G211<>\"\",Eingabe!G211,\"\")","v":""},null,{"$f":"IF(Eingabe!H211<>\"\",Eingabe!H211,\"\")","v":""},{"$f":"IF(Eingabe!I211<>\"\",Eingabe!I211,\"\")","v":""},{"$f":"IF(Eingabe!L211<>\"\",Eingabe!L211,\"\")","v":""},{"$f":"IF(Eingabe!J211<>\"\",Eingabe!J211,\"\")","v":""},{"$f":"IF(Eingabe!K211<>\"\",Eingabe!K211,\"\")","v":""},{"$f":"IF(Eingabe!R211<>\"\",Eingabe!R211,\"\")","v":""},{"$f":"IF(Eingabe!S211<>\"\",Eingabe!S211,\"\")","v":""},null,null,null,null,{"$f":"IF(Eingabe!V211<>\"\",Eingabe!V211,\"\")","v":""},{"$f":"IF(Eingabe!W211<>\"\",Eingabe!W211,\"\")","v":""}]
[{"$f":"IF(Eingabe!Q212<>\"\",Eingabe!Q212,\"\")","v":""},{"$f":"IF(Eingabe!U212<>\"\",Eingabe!U212,\"\")","v":""},null,{"$f":"IF(Eingabe!B212<>\"\",Eingabe!B212,\"\")","v":""},{"$f":"IF(Eingabe!C212<>\"\",Eingabe!C212,\"\")","v":""},{"$f":"IF(Eingabe!D212<>\"\",Eingabe!D212,\"\")","v":""},{"$f":"IF(Eingabe!E212<>\"\",Eingabe!E212,\"\")","v":""},{"$f":"IF(Eingabe!F212<>\"\",Eingabe!F212,\"\")","v":""},{"$f":"IF(Eingabe!G212<>\"\",Eingabe!G212,\"\")","v":""},null,{"$f":"IF(Eingabe!H212<>\"\",Eingabe!H212,\"\")","v":""},{"$f":"IF(Eingabe!I212<>\"\",Eingabe!I212,\"\")","v":""},{"$f":"IF(Eingabe!L212<>\"\",Eingabe!L212,\"\")","v":""},{"$f":"IF(Eingabe!J212<>\"\",Eingabe!J212,\"\")","v":""},{"$f":"IF(Eingabe!K212<>\"\",Eingabe!K212,\"\")","v":""},{"$f":"IF(Eingabe!R212<>\"\",Eingabe!R212,\"\")","v":""},{"$f":"IF(Eingabe!S212<>\"\",Eingabe!S212,\"\")","v":""},null,null,null,null,{"$f":"IF(Eingabe!V212<>\"\",Eingabe!V212,\"\")","v":""},{"$f":"IF(Eingabe!W212<>\"\",Eingabe!W212,\"\")","v":""}]
[{"$f":"IF(Eingabe!Q213<>\"\",Eingabe!Q213,\"\")","v":""},{"$f":"IF(Eingabe!U213<>\"\",Eingabe!U213,\"\")","v":""},null,{"$f":"IF(Eingabe!B213<>\"\",Eingabe!B213,\"\")","v":""},{"$f":"IF(Eingabe!C213<>\"\",Eingabe!C213,\"\")","v":""},{"$f":"IF(Eingabe!D213<>\"\",Eingabe!D213,\"\")","v":""},{"$f":"IF(Eingabe!E213<>\"\",Eingabe!E213,\"\")","v":""},{"$f":"IF(Eingabe!F213<>\"\",Eingabe!F213,\"\")","v":""},{"$f":"IF(Eingabe!G213<>\"\",Eingabe!G213,\"\")","v":""},null,{"$f":"IF(Eingabe!H213<>\"\",Eingabe!H213,\"\")","v":""},{"$f":"IF(Eingabe!I213<>\"\",Eingabe!I213,\"\")","v":""},{"$f":"IF(Eingabe!L213<>\"\",Eingabe!L213,\"\")","v":""},{"$f":"IF(Eingabe!J213<>\"\",Eingabe!J213,\"\")","v":""},{"$f":"IF(Eingabe!K213<>\"\",Eingabe!K213,\"\")","v":""},{"$f":"IF(Eingabe!R213<>\"\",Eingabe!R213,\"\")","v":""},{"$f":"IF(Eingabe!S213<>\"\",Eingabe!S213,\"\")","v":""},null,null,null,null,{"$f":"IF(Eingabe!V213<>\"\",Eingabe!V213,\"\")","v":""},{"$f":"IF(Eingabe!W213<>\"\",Eingabe!W213,\"\")","v":""}]
[{"$f":"IF(Eingabe!Q214<>\"\",Eingabe!Q214,\"\")","v":""},{"$f":"IF(Eingabe!U214<>\"\",Eingabe!U214,\"\")","v":""},null,{"$f":"IF(Eingabe!B214<>\"\",Eingabe!B214,\"\")","v":""},{"$f":"IF(Eingabe!C214<>\"\",Eingabe!C214,\"\")","v":""},{"$f":"IF(Eingabe!D214<>\"\",Eingabe!D214,\"\")","v":""},{"$f":"IF(Eingabe!E214<>\"\",Eingabe!E214,\"\")","v":""},{"$f":"IF(Eingabe!F214<>\"\",Eingabe!F214,\"\")","v":""},{"$f":"IF(Eingabe!G214<>\"\",Eingabe!G214,\"\")","v":""},null,{"$f":"IF(Eingabe!H214<>\"\",Eingabe!H214,\"\")","v":""},{"$f":"IF(Eingabe!I214<>\"\",Eingabe!I214,\"\")","v":""},{"$f":"IF(Eingabe!L214<>\"\",Eingabe!L214,\"\")","v":""},{"$f":"IF(Eingabe!J214<>\"\",Eingabe!J214,\"\")","v":""},{"$f":"IF(Eingabe!K214<>\"\",Eingabe!K214,\"\")","v":""},{"$f":"IF(Eingabe!R214<>\"\",Eingabe!R214,\"\")","v":""},{"$f":"IF(Eingabe!S214<>\"\",Eingabe!S214,\"\")","v":""},null,null,null,null,{"$f":"IF(Eingabe!V214<>\"\",Eingabe!V214,\"\")","v":""},{"$f":"IF(Eingabe!W214<>\"\",Eingabe!W214,\"\")","v":""}]
[{"$f":"IF(Eingabe!Q215<>\"\",Eingabe!Q215,\"\")","v":""},{"$f":"IF(Eingabe!U215<>\"\",Eingabe!U215,\"\")","v":""},null,{"$f":"IF(Eingabe!B215<>\"\",Eingabe!B215,\"\")","v":""},{"$f":"IF(Eingabe!C215<>\"\",Eingabe!C215,\"\")","v":""},{"$f":"IF(Eingabe!D215<>\"\",Eingabe!D215,\"\")","v":""},{"$f":"IF(Eingabe!E215<>\"\",Eingabe!E215,\"\")","v":""},{"$f":"IF(Eingabe!F215<>\"\",Eingabe!F215,\"\")","v":""},{"$f":"IF(Eingabe!G215<>\"\",Eingabe!G215,\"\")","v":""},null,{"$f":"IF(Eingabe!H215<>\"\",Eingabe!H215,\"\")","v":""},{"$f":"IF(Eingabe!I215<>\"\",Eingabe!I215,\"\")","v":""},{"$f":"IF(Eingabe!L215<>\"\",Eingabe!L215,\"\")","v":""},{"$f":"IF(Eingabe!J215<>\"\",Eingabe!J215,\"\")","v":""},{"$f":"IF(Eingabe!K215<>\"\",Eingabe!K215,\"\")","v":""},{"$f":"IF(Eingabe!R215<>\"\",Eingabe!R215,\"\")","v":""},{"$f":"IF(Eingabe!S215<>\"\",Eingabe!S215,\"\")","v":""},null,null,null,null,{"$f":"IF(Eingabe!V215<>\"\",Eingabe!V215,\"\")","v":""},{"$f":"IF(Eingabe!W215<>\"\",Eingabe!W215,\"\")","v":""}]
[{"$f":"IF(Eingabe!Q216<>\"\",Eingabe!Q216,\"\")","v":""},{"$f":"IF(Eingabe!U216<>\"\",Eingabe!U216,\"\")","v":""},null,{"$f":"IF(Eingabe!B216<>\"\",Eingabe!B216,\"\")","v":""},{"$f":"IF(Eingabe!C216<>\"\",Eingabe!C216,\"\")","v":""},{"$f":"IF(Eingabe!D216<>\"\",Eingabe!D216,\"\")","v":""},{"$f":"IF(Eingabe!E216<>\"\",Eingabe!E216,\"\")","v":""},{"$f":"IF(Eingabe!F216<>\"\",Eingabe!F216,\"\")","v":""},{"$f":"IF(Eingabe!G216<>\"\",Eingabe!G216,\"\")","v":""},null,{"$f":"IF(Eingabe!H216<>\"\",Eingabe!H216,\"\")","v":""},{"$f":"IF(Eingabe!I216<>\"\",Eingabe!I216,\"\")","v":""},{"$f":"IF(Eingabe!L216<>\"\",Eingabe!L216,\"\")","v":""},{"$f":"IF(Eingabe!J216<>\"\",Eingabe!J216,\"\")","v":""},{"$f":"IF(Eingabe!K216<>\"\",Eingabe!K216,\"\")","v":""},{"$f":"IF(Eingabe!R216<>\"\",Eingabe!R216,\"\")","v":""},{"$f":"IF(Eingabe!S216<>\"\",Eingabe!S216,\"\")","v":""},null,null,null,null,{"$f":"IF(Eingabe!V216<>\"\",Eingabe!V216,\"\")","v":""},{"$f":"IF(Eingabe!W216<>\"\",Eingabe!W216,\"\")","v":""}]
[{"$f":"IF(Eingabe!Q217<>\"\",Eingabe!Q217,\"\")","v":""},{"$f":"IF(Eingabe!U217<>\"\",Eingabe!U217,\"\")","v":""},null,{"$f":"IF(Eingabe!B217<>\"\",Eingabe!B217,\"\")","v":""},{"$f":"IF(Eingabe!C217<>\"\",Eingabe!C217,\"\")","v":""},{"$f":"IF(Eingabe!D217<>\"\",Eingabe!D217,\"\")","v":""},{"$f":"IF(Eingabe!E217<>\"\",Eingabe!E217,\"\")","v":""},{"$f":"IF(Eingabe!F217<>\"\",Eingabe!F217,\"\")","v":""},{"$f":"IF(Eingabe!G217<>\"\",Eingabe!G217,\"\")","v":""},null,{"$f":"IF(Eingabe!H217<>\"\",Eingabe!H217,\"\")","v":""},{"$f":"IF(Eingabe!I217<>\"\",Eingabe!I217,\"\")","v":""},{"$f":"IF(Eingabe!L217<>\"\",Eingabe!L217,\"\")","v":""},{"$f":"IF(Eingabe!J217<>\"\",Eingabe!J217,\"\")","v":""},{"$f":"IF(Eingabe!K217<>\"\",Eingabe!K217,\"\")","v":""},{"$f":"IF(Eingabe!R217<>\"\",Eingabe!R217,\"\")","v":""},{"$f":"IF(Eingabe!S217<>\"\",Eingabe!S217,\"\")","v":""},null,null,null,null,{"$f":"IF(Eingabe!V217<>\"\",Eingabe!V217,\"\")","v":""},{"$f":"IF(Eingabe!W217<>\"\",Eingabe!W217,\"\")","v":""}]
[{"$f":"IF(Eingabe!Q218<>\"\",Eingabe!Q218,\"\")","v":""},{"$f":"IF(Eingabe!U218<>\"\",Eingabe!U218,\"\")","v":""},null,{"$f":"IF(Eingabe!B218<>\"\",Eingabe!B218,\"\")","v":""},{"$f":"IF(Eingabe!C218<>\"\",Eingabe!C218,\"\")","v":""},{"$f":"IF(Eingabe!D218<>\"\",Eingabe!D218,\"\")","v":""},{"$f":"IF(Eingabe!E218<>\"\",Eingabe!E218,\"\")","v":""},{"$f":"IF(Eingabe!F218<>\"\",Eingabe!F218,\"\")","v":""},{"$f":"IF(Eingabe!G218<>\"\",Eingabe!G218,\"\")","v":""},null,{"$f":"IF(Eingabe!H218<>\"\",Eingabe!H218,\"\")","v":""},{"$f":"IF(Eingabe!I218<>\"\",Eingabe!I218,\"\")","v":""},{"$f":"IF(Eingabe!L218<>\"\",Eingabe!L218,\"\")","v":""},{"$f":"IF(Eingabe!J218<>\"\",Eingabe!J218,\"\")","v":""},{"$f":"IF(Eingabe!K218<>\"\",Eingabe!K218,\"\")","v":""},{"$f":"IF(Eingabe!R218<>\"\",Eingabe!R218,\"\")","v":""},{"$f":"IF(Eingabe!S218<>\"\",Eingabe!S218,\"\")","v":""},null,null,null,null,{"$f":"IF(Eingabe!V218<>\"\",Eingabe!V218,\"\")","v":""},{"$f":"IF(Eingabe!W218<>\"\",Eingabe!W218,\"\")","v":""}]
[{"$f":"IF(Eingabe!Q219<>\"\",Eingabe!Q219,\"\")","v":""},{"$f":"IF(Eingabe!U219<>\"\",Eingabe!U219,\"\")","v":""},null,{"$f":"IF(Eingabe!B219<>\"\",Eingabe!B219,\"\")","v":""},{"$f":"IF(Eingabe!C219<>\"\",Eingabe!C219,\"\")","v":""},{"$f":"IF(Eingabe!D219<>\"\",Eingabe!D219,\"\")","v":""},{"$f":"IF(Eingabe!E219<>\"\",Eingabe!E219,\"\")","v":""},{"$f":"IF(Eingabe!F219<>\"\",Eingabe!F219,\"\")","v":""},{"$f":"IF(Eingabe!G219<>\"\",Eingabe!G219,\"\")","v":""},null,{"$f":"IF(Eingabe!H219<>\"\",Eingabe!H219,\"\")","v":""},{"$f":"IF(Eingabe!I219<>\"\",Eingabe!I219,\"\")","v":""},{"$f":"IF(Eingabe!L219<>\"\",Eingabe!L219,\"\")","v":""},{"$f":"IF(Eingabe!J219<>\"\",Eingabe!J219,\"\")","v":""},{"$f":"IF(Eingabe!K219<>\"\",Eingabe!K219,\"\")","v":""},{"$f":"IF(Eingabe!R219<>\"\",Eingabe!R219,\"\")","v":""},{"$f":"IF(Eingabe!S219<>\"\",Eingabe!S219,\"\")","v":""},null,null,null,null,{"$f":"IF(Eingabe!V219<>\"\",Eingabe!V219,\"\")","v":""},{"$f":"IF(Eingabe!W219<>\"\",Eingabe!W219,\"\")","v":""}]
[{"$f":"IF(Eingabe!Q220<>\"\",Eingabe!Q220,\"\")","v":""},{"$f":"IF(Eingabe!U220<>\"\",Eingabe!U220,\"\")","v":""},null,{"$f":"IF(Eingabe!B220<>\"\",Eingabe!B220,\"\")","v":""},{"$f":"IF(Eingabe!C220<>\"\",Eingabe!C220,\"\")","v":""},{"$f":"IF(Eingabe!D220<>\"\",Eingabe!D220,\"\")","v":""},{"$f":"IF(Eingabe!E220<>\"\",Eingabe!E220,\"\")","v":""},{"$f":"IF(Eingabe!F220<>\"\",Eingabe!F220,\"\")","v":""},{"$f":"IF(Eingabe!G220<>\"\",Eingabe!G220,\"\")","v":""},null,{"$f":"IF(Eingabe!H220<>\"\",Eingabe!H220,\"\")","v":""},{"$f":"IF(Eingabe!I220<>\"\",Eingabe!I220,\"\")","v":""},{"$f":"IF(Eingabe!L220<>\"\",Eingabe!L220,\"\")","v":""},{"$f":"IF(Eingabe!J220<>\"\",Eingabe!J220,\"\")","v":""},{"$f":"IF(Eingabe!K220<>\"\",Eingabe!K220,\"\")","v":""},{"$f":"IF(Eingabe!R220<>\"\",Eingabe!R220,\"\")","v":""},{"$f":"IF(Eingabe!S220<>\"\",Eingabe!S220,\"\")","v":""},null,null,null,null,{"$f":"IF(Eingabe!V220<>\"\",Eingabe!V220,\"\")","v":""},{"$f":"IF(Eingabe!W220<>\"\",Eingabe!W220,\"\")","v":""}]
[{"$f":"IF(Eingabe!Q221<>\"\",Eingabe!Q221,\"\")","v":""},{"$f":"IF(Eingabe!U221<>\"\",Eingabe!U221,\"\")","v":""},null,{"$f":"IF(Eingabe!B221<>\"\",Eingabe!B221,\"\")","v":""},{"$f":"IF(Eingabe!C221<>\"\",Eingabe!C221,\"\")","v":""},{"$f":"IF(Eingabe!D221<>\"\",Eingabe!D221,\"\")","v":""},{"$f":"IF(Eingabe!E221<>\"\",Eingabe!E221,\"\")","v":""},{"$f":"IF(Eingabe!F221<>\"\",Eingabe!F221,\"\")","v":""},{"$f":"IF(Eingabe!G221<>\"\",Eingabe!G221,\"\")","v":""},null,{"$f":"IF(Eingabe!H221<>\"\",Eingabe!H221,\"\")","v":""},{"$f":"IF(Eingabe!I221<>\"\",Eingabe!I221,\"\")","v":""},{"$f":"IF(Eingabe!L221<>\"\",Eingabe!L221,\"\")","v":""},{"$f":"IF(Eingabe!J221<>\"\",Eingabe!J221,\"\")","v":""},{"$f":"IF(Eingabe!K221<>\"\",Eingabe!K221,\"\")","v":""},{"$f":"IF(Eingabe!R221<>\"\",Eingabe!R221,\"\")","v":""},{"$f":"IF(Eingabe!S221<>\"\",Eingabe!S221,\"\")","v":""},null,null,null,null,{"$f":"IF(Eingabe!V221<>\"\",Eingabe!V221,\"\")","v":""},{"$f":"IF(Eingabe!W221<>\"\",Eingabe!W221,\"\")","v":""}]
[{"$f":"IF(Eingabe!Q222<>\"\",Eingabe!Q222,\"\")","v":""},{"$f":"IF(Eingabe!U222<>\"\",Eingabe!U222,\"\")","v":""},null,{"$f":"IF(Eingabe!B222<>\"\",Eingabe!B222,\"\")","v":""},{"$f":"IF(Eingabe!C222<>\"\",Eingabe!C222,\"\")","v":""},{"$f":"IF(Eingabe!D222<>\"\",Eingabe!D222,\"\")","v":""},{"$f":"IF(Eingabe!E222<>\"\",Eingabe!E222,\"\")","v":""},{"$f":"IF(Eingabe!F222<>\"\",Eingabe!F222,\"\")","v":""},{"$f":"IF(Eingabe!G222<>\"\",Eingabe!G222,\"\")","v":""},null,{"$f":"IF(Eingabe!H222<>\"\",Eingabe!H222,\"\")","v":""},{"$f":"IF(Eingabe!I222<>\"\",Eingabe!I222,\"\")","v":""},{"$f":"IF(Eingabe!L222<>\"\",Eingabe!L222,\"\")","v":""},{"$f":"IF(Eingabe!J222<>\"\",Eingabe!J222,\"\")","v":""},{"$f":"IF(Eingabe!K222<>\"\",Eingabe!K222,\"\")","v":""},{"$f":"IF(Eingabe!R222<>\"\",Eingabe!R222,\"\")","v":""},{"$f":"IF(Eingabe!S222<>\"\",Eingabe!S222,\"\")","v":""},null,null,null,null,{"$f":"IF(Eingabe!V222<>\"\",Eingabe!V222,\"\")","v":""},{"$f":"IF(Eingabe!W222<>\"\",Eingabe!W222,\"\")","v":""}]
[{"$f":"IF(Eingabe!Q223<>\"\",Eingabe!Q223,\"\")","v":""},{"$f":"IF(Eingabe!U223<>\"\",Eingabe!U223,\"\")","v":""},null,{"$f":"IF(Eingabe!B223<>\"\",Eingabe!B223,\"\")","v":""},{"$f":"IF(Eingabe!C223<>\"\",Eingabe!C223,\"\")","v":""},{"$f":"IF(Eingabe!D223<>\"\",Eingabe!D223,\"\")","v":""},{"$f":"IF(Eingabe!E223<>\"\",Eingabe!E223,\"\")","v":""},{"$f":"IF(Eingabe!F223<>\"\",Eingabe!F223,\"\")","v":""},{"$f":"IF(Eingabe!G223<>\"\",Eingabe!G223,\"\")","v":""},null,{"$f":"IF(Eingabe!H223<>\"\",Eingabe!H223,\"\")","v":""},{"$f":"IF(Eingabe!I223<>\"\",Eingabe!I223,\"\")","v":""},{"$f":"IF(Eingabe!L223<>\"\",Eingabe!L223,\"\")","v":""},{"$f":"IF(Eingabe!J223<>\"\",Eingabe!J223,\"\")","v":""},{"$f":"IF(Eingabe!K223<>\"\",Eingabe!K223,\"\")","v":""},{"$f":"IF(Eingabe!R223<>\"\",Eingabe!R223,\"\")","v":""},{"$f":"IF(Eingabe!S223<>\"\",Eingabe!S223,\"\")","v":""},null,null,null,null,{"$f":"IF(Eingabe!V223<>\"\",Eingabe!V223,\"\")","v":""},{"$f":"IF(Eingabe!W223<>\"\",Eingabe!W223,\"\")","v":""}]
[{"$f":"IF(Eingabe!Q224<>\"\",Eingabe!Q224,\"\")","v":""},{"$f":"IF(Eingabe!U224<>\"\",Eingabe!U224,\"\")","v":""},null,{"$f":"IF(Eingabe!B224<>\"\",Eingabe!B224,\"\")","v":""},{"$f":"IF(Eingabe!C224<>\"\",Eingabe!C224,\"\")","v":""},{"$f":"IF(Eingabe!D224<>\"\",Eingabe!D224,\"\")","v":""},{"$f":"IF(Eingabe!E224<>\"\",Eingabe!E224,\"\")","v":""},{"$f":"IF(Eingabe!F224<>\"\",Eingabe!F224,\"\")","v":""},{"$f":"IF(Eingabe!G224<>\"\",Eingabe!G224,\"\")","v":""},null,{"$f":"IF(Eingabe!H224<>\"\",Eingabe!H224,\"\")","v":""},{"$f":"IF(Eingabe!I224<>\"\",Eingabe!I224,\"\")","v":""},{"$f":"IF(Eingabe!L224<>\"\",Eingabe!L224,\"\")","v":""},{"$f":"IF(Eingabe!J224<>\"\",Eingabe!J224,\"\")","v":""},{"$f":"IF(Eingabe!K224<>\"\",Eingabe!K224,\"\")","v":""},{"$f":"IF(Eingabe!R224<>\"\",Eingabe!R224,\"\")","v":""},{"$f":"IF(Eingabe!S224<>\"\",Eingabe!S224,\"\")","v":""},null,null,null,null,{"$f":"IF(Eingabe!V224<>\"\",Eingabe!V224,\"\")","v":""},{"$f":"IF(Eingabe!W224<>\"\",Eingabe!W224,\"\")","v":""}]
[{"$f":"IF(Eingabe!Q225<>\"\",Eingabe!Q225,\"\")","v":""},{"$f":"IF(Eingabe!U225<>\"\",Eingabe!U225,\"\")","v":""},null,{"$f":"IF(Eingabe!B225<>\"\",Eingabe!B225,\"\")","v":""},{"$f":"IF(Eingabe!C225<>\"\",Eingabe!C225,\"\")","v":""},{"$f":"IF(Eingabe!D225<>\"\",Eingabe!D225,\"\")","v":""},{"$f":"IF(Eingabe!E225<>\"\",Eingabe!E225,\"\")","v":""},{"$f":"IF(Eingabe!F225<>\"\",Eingabe!F225,\"\")","v":""},{"$f":"IF(Eingabe!G225<>\"\",Eingabe!G225,\"\")","v":""},null,{"$f":"IF(Eingabe!H225<>\"\",Eingabe!H225,\"\")","v":""},{"$f":"IF(Eingabe!I225<>\"\",Eingabe!I225,\"\")","v":""},{"$f":"IF(Eingabe!L225<>\"\",Eingabe!L225,\"\")","v":""},{"$f":"IF(Eingabe!J225<>\"\",Eingabe!J225,\"\")","v":""},{"$f":"IF(Eingabe!K225<>\"\",Eingabe!K225,\"\")","v":""},{"$f":"IF(Eingabe!R225<>\"\",Eingabe!R225,\"\")","v":""},{"$f":"IF(Eingabe!S225<>\"\",Eingabe!S225,\"\")","v":""},null,null,null,null,{"$f":"IF(Eingabe!V225<>\"\",Eingabe!V225,\"\")","v":""},{"$f":"IF(Eingabe!W225<>\"\",Eingabe!W225,\"\")","v":""}]
[{"$f":"IF(Eingabe!Q226<>\"\",Eingabe!Q226,\"\")","v":""},{"$f":"IF(Eingabe!U226<>\"\",Eingabe!U226,\"\")","v":""},null,{"$f":"IF(Eingabe!B226<>\"\",Eingabe!B226,\"\")","v":""},{"$f":"IF(Eingabe!C226<>\"\",Eingabe!C226,\"\")","v":""},{"$f":"IF(Eingabe!D226<>\"\",Eingabe!D226,\"\")","v":""},{"$f":"IF(Eingabe!E226<>\"\",Eingabe!E226,\"\")","v":""},{"$f":"IF(Eingabe!F226<>\"\",Eingabe!F226,\"\")","v":""},{"$f":"IF(Eingabe!G226<>\"\",Eingabe!G226,\"\")","v":""},null,{"$f":"IF(Eingabe!H226<>\"\",Eingabe!H226,\"\")","v":""},{"$f":"IF(Eingabe!I226<>\"\",Eingabe!I226,\"\")","v":""},{"$f":"IF(Eingabe!L226<>\"\",Eingabe!L226,\"\")","v":""},{"$f":"IF(Eingabe!J226<>\"\",Eingabe!J226,\"\")","v":""},{"$f":"IF(Eingabe!K226<>\"\",Eingabe!K226,\"\")","v":""},{"$f":"IF(Eingabe!R226<>\"\",Eingabe!R226,\"\")","v":""},{"$f":"IF(Eingabe!S226<>\"\",Eingabe!S226,\"\")","v":""},null,null,null,null,{"$f":"IF(Eingabe!V226<>\"\",Eingabe!V226,\"\")","v":""},{"$f":"IF(Eingabe!W226<>\"\",Eingabe!W226,\"\")","v":""}]
[{"$f":"IF(Eingabe!Q227<>\"\",Eingabe!Q227,\"\")","v":""},{"$f":"IF(Eingabe!U227<>\"\",Eingabe!U227,\"\")","v":""},null,{"$f":"IF(Eingabe!B227<>\"\",Eingabe!B227,\"\")","v":""},{"$f":"IF(Eingabe!C227<>\"\",Eingabe!C227,\"\")","v":""},{"$f":"IF(Eingabe!D227<>\"\",Eingabe!D227,\"\")","v":""},{"$f":"IF(Eingabe!E227<>\"\",Eingabe!E227,\"\")","v":""},{"$f":"IF(Eingabe!F227<>\"\",Eingabe!F227,\"\")","v":""},{"$f":"IF(Eingabe!G227<>\"\",Eingabe!G227,\"\")","v":""},null,{"$f":"IF(Eingabe!H227<>\"\",Eingabe!H227,\"\")","v":""},{"$f":"IF(Eingabe!I227<>\"\",Eingabe!I227,\"\")","v":""},{"$f":"IF(Eingabe!L227<>\"\",Eingabe!L227,\"\")","v":""},{"$f":"IF(Eingabe!J227<>\"\",Eingabe!J227,\"\")","v":""},{"$f":"IF(Eingabe!K227<>\"\",Eingabe!K227,\"\")","v":""},{"$f":"IF(Eingabe!R227<>\"\",Eingabe!R227,\"\")","v":""},{"$f":"IF(Eingabe!S227<>\"\",Eingabe!S227,\"\")","v":""},null,null,null,null,{"$f":"IF(Eingabe!V227<>\"\",Eingabe!V227,\"\")","v":""},{"$f":"IF(Eingabe!W227<>\"\",Eingabe!W227,\"\")","v":""}]
[{"$f":"IF(Eingabe!Q228<>\"\",Eingabe!Q228,\"\")","v":""},{"$f":"IF(Eingabe!U228<>\"\",Eingabe!U228,\"\")","v":""},null,{"$f":"IF(Eingabe!B228<>\"\",Eingabe!B228,\"\")","v":""},{"$f":"IF(Eingabe!C228<>\"\",Eingabe!C228,\"\")","v":""},{"$f":"IF(Eingabe!D228<>\"\",Eingabe!D228,\"\")","v":""},{"$f":"IF(Eingabe!E228<>\"\",Eingabe!E228,\"\")","v":""},{"$f":"IF(Eingabe!F228<>\"\",Eingabe!F228,\"\")","v":""},{"$f":"IF(Eingabe!G228<>\"\",Eingabe!G228,\"\")","v":""},null,{"$f":"IF(Eingabe!H228<>\"\",Eingabe!H228,\"\")","v":""},{"$f":"IF(Eingabe!I228<>\"\",Eingabe!I228,\"\")","v":""},{"$f":"IF(Eingabe!L228<>\"\",Eingabe!L228,\"\")","v":""},{"$f":"IF(Eingabe!J228<>\"\",Eingabe!J228,\"\")","v":""},{"$f":"IF(Eingabe!K228<>\"\",Eingabe!K228,\"\")","v":""},{"$f":"IF(Eingabe!R228<>\"\",Eingabe!R228,\"\")","v":""},{"$f":"IF(Eingabe!S228<>\"\",Eingabe!S228,\"\")","v":""},null,null,null,null,{"$f":"IF(Eingabe!V228<>\"\",Eingabe!V228,\"\")","v":""},{"$f":"IF(Eingabe!W228<>\"\",Eingabe!W228,\"\")","v":""}]
[{"$f":"IF(Eingabe!Q229<>\"\",Eingabe!Q229,\"\")","v":""},{"$f":"IF(Eingabe!U229<>\"\",Eingabe!U229,\"\")","v":""},null,{"$f":"IF(Eingabe!B229<>\"\",Eingabe!B229,\"\")","v":""},{"$f":"IF(Eingabe!C229<>\"\",Eingabe!C229,\"\")","v":""},{"$f":"IF(Eingabe!D229<>\"\",Eingabe!D229,\"\")","v":""},{"$f":"IF(Eingabe!E229<>\"\",Eingabe!E229,\"\")","v":""},{"$f":"IF(Eingabe!F229<>\"\",Eingabe!F229,\"\")","v":""},{"$f":"IF(Eingabe!G229<>\"\",Eingabe!G229,\"\")","v":""},null,{"$f":"IF(Eingabe!H229<>\"\",Eingabe!H229,\"\")","v":""},{"$f":"IF(Eingabe!I229<>\"\",Eingabe!I229,\"\")","v":""},{"$f":"IF(Eingabe!L229<>\"\",Eingabe!L229,\"\")","v":""},{"$f":"IF(Eingabe!J229<>\"\",Eingabe!J229,\"\")","v":""},{"$f":"IF(Eingabe!K229<>\"\",Eingabe!K229,\"\")","v":""},{"$f":"IF(Eingabe!R229<>\"\",Eingabe!R229,\"\")","v":""},{"$f":"IF(Eingabe!S229<>\"\",Eingabe!S229,\"\")","v":""},null,null,null,null,{"$f":"IF(Eingabe!V229<>\"\",Eingabe!V229,\"\")","v":""},{"$f":"IF(Eingabe!W229<>\"\",Eingabe!W229,\"\")","v":""}]
[{"$f":"IF(Eingabe!Q230<>\"\",Eingabe!Q230,\"\")","v":""},{"$f":"IF(Eingabe!U230<>\"\",Eingabe!U230,\"\")","v":""},null,{"$f":"IF(Eingabe!B230<>\"\",Eingabe!B230,\"\")","v":""},{"$f":"IF(Eingabe!C230<>\"\",Eingabe!C230,\"\")","v":""},{"$f":"IF(Eingabe!D230<>\"\",Eingabe!D230,\"\")","v":""},{"$f":"IF(Eingabe!E230<>\"\",Eingabe!E230,\"\")","v":""},{"$f":"IF(Eingabe!F230<>\"\",Eingabe!F230,\"\")","v":""},{"$f":"IF(Eingabe!G230<>\"\",Eingabe!G230,\"\")","v":""},null,{"$f":"IF(Eingabe!H230<>\"\",Eingabe!H230,\"\")","v":""},{"$f":"IF(Eingabe!I230<>\"\",Eingabe!I230,\"\")","v":""},{"$f":"IF(Eingabe!L230<>\"\",Eingabe!L230,\"\")","v":""},{"$f":"IF(Eingabe!J230<>\"\",Eingabe!J230,\"\")","v":""},{"$f":"IF(Eingabe!K230<>\"\",Eingabe!K230,\"\")","v":""},{"$f":"IF(Eingabe!R230<>\"\",Eingabe!R230,\"\")","v":""},{"$f":"IF(Eingabe!S230<>\"\",Eingabe!S230,\"\")","v":""},null,null,null,null,{"$f":"IF(Eingabe!V230<>\"\",Eingabe!V230,\"\")","v":""},{"$f":"IF(Eingabe!W230<>\"\",Eingabe!W230,\"\")","v":""}]
[{"$f":"IF(Eingabe!Q231<>\"\",Eingabe!Q231,\"\")","v":""},{"$f":"IF(Eingabe!U231<>\"\",Eingabe!U231,\"\")","v":""},null,{"$f":"IF(Eingabe!B231<>\"\",Eingabe!B231,\"\")","v":""},{"$f":"IF(Eingabe!C231<>\"\",Eingabe!C231,\"\")","v":""},{"$f":"IF(Eingabe!D231<>\"\",Eingabe!D231,\"\")","v":""},{"$f":"IF(Eingabe!E231<>\"\",Eingabe!E231,\"\")","v":""},{"$f":"IF(Eingabe!F231<>\"\",Eingabe!F231,\"\")","v":""},{"$f":"IF(Eingabe!G231<>\"\",Eingabe!G231,\"\")","v":""},null,{"$f":"IF(Eingabe!H231<>\"\",Eingabe!H231,\"\")","v":""},{"$f":"IF(Eingabe!I231<>\"\",Eingabe!I231,\"\")","v":""},{"$f":"IF(Eingabe!L231<>\"\",Eingabe!L231,\"\")","v":""},{"$f":"IF(Eingabe!J231<>\"\",Eingabe!J231,\"\")","v":""},{"$f":"IF(Eingabe!K231<>\"\",Eingabe!K231,\"\")","v":""},{"$f":"IF(Eingabe!R231<>\"\",Eingabe!R231,\"\")","v":""},{"$f":"IF(Eingabe!S231<>\"\",Eingabe!S231,\"\")","v":""},null,null,null,null,{"$f":"IF(Eingabe!V231<>\"\",Eingabe!V231,\"\")","v":""},{"$f":"IF(Eingabe!W231<>\"\",Eingabe!W231,\"\")","v":""}]
[{"$f":"IF(Eingabe!Q232<>\"\",Eingabe!Q232,\"\")","v":""},{"$f":"IF(Eingabe!U232<>\"\",Eingabe!U232,\"\")","v":""},null,{"$f":"IF(Eingabe!B232<>\"\",Eingabe!B232,\"\")","v":""},{"$f":"IF(Eingabe!C232<>\"\",Eingabe!C232,\"\")","v":""},{"$f":"IF(Eingabe!D232<>\"\",Eingabe!D232,\"\")","v":""},{"$f":"IF(Eingabe!E232<>\"\",Eingabe!E232,\"\")","v":""},{"$f":"IF(Eingabe!F232<>\"\",Eingabe!F232,\"\")","v":""},{"$f":"IF(Eingabe!G232<>\"\",Eingabe!G232,\"\")","v":""},null,{"$f":"IF(Eingabe!H232<>\"\",Eingabe!H232,\"\")","v":""},{"$f":"IF(Eingabe!I232<>\"\",Eingabe!I232,\"\")","v":""},{"$f":"IF(Eingabe!L232<>\"\",Eingabe!L232,\"\")","v":""},{"$f":"IF(Eingabe!J232<>\"\",Eingabe!J232,\"\")","v":""},{"$f":"IF(Eingabe!K232<>\"\",Eingabe!K232,\"\")","v":""},{"$f":"IF(Eingabe!R232<>\"\",Eingabe!R232,\"\")","v":""},{"$f":"IF(Eingabe!S232<>\"\",Eingabe!S232,\"\")","v":""},null,null,null,null,{"$f":"IF(Eingabe!V232<>\"\",Eingabe!V232,\"\")","v":""},{"$f":"IF(Eingabe!W232<>\"\",Eingabe!W232,\"\")","v":""}]
[{"$f":"IF(Eingabe!Q233<>\"\",Eingabe!Q233,\"\")","v":""},{"$f":"IF(Eingabe!U233<>\"\",Eingabe!U233,\"\")","v":""},null,{"$f":"IF(Eingabe!B233<>\"\",Eingabe!B233,\"\")","v":""},{"$f":"IF(Eingabe!C233<>\"\",Eingabe!C233,\"\")","v":""},{"$f":"IF(Eingabe!D233<>\"\",Eingabe!D233,\"\")","v":""},{"$f":"IF(Eingabe!E233<>\"\",Eingabe!E233,\"\")","v":""},{"$f":"IF(Eingabe!F233<>\"\",Eingabe!F233,\"\")","v":""},{"$f":"IF(Eingabe!G233<>\"\",Eingabe!G233,\"\")","v":""},null,{"$f":"IF(Eingabe!H233<>\"\",Eingabe!H233,\"\")","v":""},{"$f":"IF(Eingabe!I233<>\"\",Eingabe!I233,\"\")","v":""},{"$f":"IF(Eingabe!L233<>\"\",Eingabe!L233,\"\")","v":""},{"$f":"IF(Eingabe!J233<>\"\",Eingabe!J233,\"\")","v":""},{"$f":"IF(Eingabe!K233<>\"\",Eingabe!K233,\"\")","v":""},{"$f":"IF(Eingabe!R233<>\"\",Eingabe!R233,\"\")","v":""},{"$f":"IF(Eingabe!S233<>\"\",Eingabe!S233,\"\")","v":""},null,null,null,null,{"$f":"IF(Eingabe!V233<>\"\",Eingabe!V233,\"\")","v":""},{"$f":"IF(Eingabe!W233<>\"\",Eingabe!W233,\"\")","v":""}]
[{"$f":"IF(Eingabe!Q234<>\"\",Eingabe!Q234,\"\")","v":""},{"$f":"IF(Eingabe!U234<>\"\",Eingabe!U234,\"\")","v":""},null,{"$f":"IF(Eingabe!B234<>\"\",Eingabe!B234,\"\")","v":""},{"$f":"IF(Eingabe!C234<>\"\",Eingabe!C234,\"\")","v":""},{"$f":"IF(Eingabe!D234<>\"\",Eingabe!D234,\"\")","v":""},{"$f":"IF(Eingabe!E234<>\"\",Eingabe!E234,\"\")","v":""},{"$f":"IF(Eingabe!F234<>\"\",Eingabe!F234,\"\")","v":""},{"$f":"IF(Eingabe!G234<>\"\",Eingabe!G234,\"\")","v":""},null,{"$f":"IF(Eingabe!H234<>\"\",Eingabe!H234,\"\")","v":""},{"$f":"IF(Eingabe!I234<>\"\",Eingabe!I234,\"\")","v":""},{"$f":"IF(Eingabe!L234<>\"\",Eingabe!L234,\"\")","v":""},{"$f":"IF(Eingabe!J234<>\"\",Eingabe!J234,\"\")","v":""},{"$f":"IF(Eingabe!K234<>\"\",Eingabe!K234,\"\")","v":""},{"$f":"IF(Eingabe!R234<>\"\",Eingabe!R234,\"\")","v":""},{"$f":"IF(Eingabe!S234<>\"\",Eingabe!S234,\"\")","v":""},null,null,null,null,{"$f":"IF(Eingabe!V234<>\"\",Eingabe!V234,\"\")","v":""},{"$f":"IF(Eingabe!W234<>\"\",Eingabe!W234,\"\")","v":""}]
[{"$f":"IF(Eingabe!Q235<>\"\",Eingabe!Q235,\"\")","v":""},{"$f":"IF(Eingabe!U235<>\"\",Eingabe!U235,\"\")","v":""},null,{"$f":"IF(Eingabe!B235<>\"\",Eingabe!B235,\"\")","v":""},{"$f":"IF(Eingabe!C235<>\"\",Eingabe!C235,\"\")","v":""},{"$f":"IF(Eingabe!D235<>\"\",Eingabe!D235,\"\")","v":""},{"$f":"IF(Eingabe!E235<>\"\",Eingabe!E235,\"\")","v":""},{"$f":"IF(Eingabe!F235<>\"\",Eingabe!F235,\"\")","v":""},{"$f":"IF(Eingabe!G235<>\"\",Eingabe!G235,\"\")","v":""},null,{"$f":"IF(Eingabe!H235<>\"\",Eingabe!H235,\"\")","v":""},{"$f":"IF(Eingabe!I235<>\"\",Eingabe!I235,\"\")","v":""},{"$f":"IF(Eingabe!L235<>\"\",Eingabe!L235,\"\")","v":""},{"$f":"IF(Eingabe!J235<>\"\",Eingabe!J235,\"\")","v":""},{"$f":"IF(Eingabe!K235<>\"\",Eingabe!K235,\"\")","v":""},{"$f":"IF(Eingabe!R235<>\"\",Eingabe!R235,\"\")","v":""},{"$f":"IF(Eingabe!S235<>\"\",Eingabe!S235,\"\")","v":""},null,null,null,null,{"$f":"IF(Eingabe!V235<>\"\",Eingabe!V235,\"\")","v":""},{"$f":"IF(Eingabe!W235<>\"\",Eingabe!W235,\"\")","v":""}]
[{"$f":"IF(Eingabe!Q236<>\"\",Eingabe!Q236,\"\")","v":""},{"$f":"IF(Eingabe!U236<>\"\",Eingabe!U236,\"\")","v":""},null,{"$f":"IF(Eingabe!B236<>\"\",Eingabe!B236,\"\")","v":""},{"$f":"IF(Eingabe!C236<>\"\",Eingabe!C236,\"\")","v":""},{"$f":"IF(Eingabe!D236<>\"\",Eingabe!D236,\"\")","v":""},{"$f":"IF(Eingabe!E236<>\"\",Eingabe!E236,\"\")","v":""},{"$f":"IF(Eingabe!F236<>\"\",Eingabe!F236,\"\")","v":""},{"$f":"IF(Eingabe!G236<>\"\",Eingabe!G236,\"\")","v":""},null,{"$f":"IF(Eingabe!H236<>\"\",Eingabe!H236,\"\")","v":""},{"$f":"IF(Eingabe!I236<>\"\",Eingabe!I236,\"\")","v":""},{"$f":"IF(Eingabe!L236<>\"\",Eingabe!L236,\"\")","v":""},{"$f":"IF(Eingabe!J236<>\"\",Eingabe!J236,\"\")","v":""},{"$f":"IF(Eingabe!K236<>\"\",Eingabe!K236,\"\")","v":""},{"$f":"IF(Eingabe!R236<>\"\",Eingabe!R236,\"\")","v":""},{"$f":"IF(Eingabe!S236<>\"\",Eingabe!S236,\"\")","v":""},null,null,null,null,{"$f":"IF(Eingabe!V236<>\"\",Eingabe!V236,\"\")","v":""},{"$f":"IF(Eingabe!W236<>\"\",Eingabe!W236,\"\")","v":""}]
[{"$f":"IF(Eingabe!Q237<>\"\",Eingabe!Q237,\"\")","v":""},{"$f":"IF(Eingabe!U237<>\"\",Eingabe!U237,\"\")","v":""},null,{"$f":"IF(Eingabe!B237<>\"\",Eingabe!B237,\"\")","v":""},{"$f":"IF(Eingabe!C237<>\"\",Eingabe!C237,\"\")","v":""},{"$f":"IF(Eingabe!D237<>\"\",Eingabe!D237,\"\")","v":""},{"$f":"IF(Eingabe!E237<>\"\",Eingabe!E237,\"\")","v":""},{"$f":"IF(Eingabe!F237<>\"\",Eingabe!F237,\"\")","v":""},{"$f":"IF(Eingabe!G237<>\"\",Eingabe!G237,\"\")","v":""},null,{"$f":"IF(Eingabe!H237<>\"\",Eingabe!H237,\"\")","v":""},{"$f":"IF(Eingabe!I237<>\"\",Eingabe!I237,\"\")","v":""},{"$f":"IF(Eingabe!L237<>\"\",Eingabe!L237,\"\")","v":""},{"$f":"IF(Eingabe!J237<>\"\",Eingabe!J237,\"\")","v":""},{"$f":"IF(Eingabe!K237<>\"\",Eingabe!K237,\"\")","v":""},{"$f":"IF(Eingabe!R237<>\"\",Eingabe!R237,\"\")","v":""},{"$f":"IF(Eingabe!S237<>\"\",Eingabe!S237,\"\")","v":""},null,null,null,null,{"$f":"IF(Eingabe!V237<>\"\",Eingabe!V237,\"\")","v":""},{"$f":"IF(Eingabe!W237<>\"\",Eingabe!W237,\"\")","v":""}]
[{"$f":"IF(Eingabe!Q238<>\"\",Eingabe!Q238,\"\")","v":""},{"$f":"IF(Eingabe!U238<>\"\",Eingabe!U238,\"\")","v":""},null,{"$f":"IF(Eingabe!B238<>\"\",Eingabe!B238,\"\")","v":""},{"$f":"IF(Eingabe!C238<>\"\",Eingabe!C238,\"\")","v":""},{"$f":"IF(Eingabe!D238<>\"\",Eingabe!D238,\"\")","v":""},{"$f":"IF(Eingabe!E238<>\"\",Eingabe!E238,\"\")","v":""},{"$f":"IF(Eingabe!F238<>\"\",Eingabe!F238,\"\")","v":""},{"$f":"IF(Eingabe!G238<>\"\",Eingabe!G238,\"\")","v":""},null,{"$f":"IF(Eingabe!H238<>\"\",Eingabe!H238,\"\")","v":""},{"$f":"IF(Eingabe!I238<>\"\",Eingabe!I238,\"\")","v":""},{"$f":"IF(Eingabe!L238<>\"\",Eingabe!L238,\"\")","v":""},{"$f":"IF(Eingabe!J238<>\"\",Eingabe!J238,\"\")","v":""},{"$f":"IF(Eingabe!K238<>\"\",Eingabe!K238,\"\")","v":""},{"$f":"IF(Eingabe!R238<>\"\",Eingabe!R238,\"\")","v":""},{"$f":"IF(Eingabe!S238<>\"\",Eingabe!S238,\"\")","v":""},null,null,null,null,{"$f":"IF(Eingabe!V238<>\"\",Eingabe!V238,\"\")","v":""},{"$f":"IF(Eingabe!W238<>\"\",Eingabe!W238,\"\")","v":""}]
[{"$f":"IF(Eingabe!Q239<>\"\",Eingabe!Q239,\"\")","v":""},{"$f":"IF(Eingabe!U239<>\"\",Eingabe!U239,\"\")","v":""},null,{"$f":"IF(Eingabe!B239<>\"\",Eingabe!B239,\"\")","v":""},{"$f":"IF(Eingabe!C239<>\"\",Eingabe!C239,\"\")","v":""},{"$f":"IF(Eingabe!D239<>\"\",Eingabe!D239,\"\")","v":""},{"$f":"IF(Eingabe!E239<>\"\",Eingabe!E239,\"\")","v":""},{"$f":"IF(Eingabe!F239<>\"\",Eingabe!F239,\"\")","v":""},{"$f":"IF(Eingabe!G239<>\"\",Eingabe!G239,\"\")","v":""},null,{"$f":"IF(Eingabe!H239<>\"\",Eingabe!H239,\"\")","v":""},{"$f":"IF(Eingabe!I239<>\"\",Eingabe!I239,\"\")","v":""},{"$f":"IF(Eingabe!L239<>\"\",Eingabe!L239,\"\")","v":""},{"$f":"IF(Eingabe!J239<>\"\",Eingabe!J239,\"\")","v":""},{"$f":"IF(Eingabe!K239<>\"\",Eingabe!K239,\"\")","v":""},{"$f":"IF(Eingabe!R239<>\"\",Eingabe!R239,\"\")","v":""},{"$f":"IF(Eingabe!S239<>\"\",Eingabe!S239,\"\")","v":""},null,null,null,null,{"$f":"IF(Eingabe!V239<>\"\",Eingabe!V239,\"\")","v":""},{"$f":"IF(Eingabe!W239<>\"\",Eingabe!W239,\"\")","v":""}]
[{"$f":"IF(Eingabe!Q240<>\"\",Eingabe!Q240,\"\")","v":""},{"$f":"IF(Eingabe!U240<>\"\",Eingabe!U240,\"\")","v":""},null,{"$f":"IF(Eingabe!B240<>\"\",Eingabe!B240,\"\")","v":""},{"$f":"IF(Eingabe!C240<>\"\",Eingabe!C240,\"\")","v":""},{"$f":"IF(Eingabe!D240<>\"\",Eingabe!D240,\"\")","v":""},{"$f":"IF(Eingabe!E240<>\"\",Eingabe!E240,\"\")","v":""},{"$f":"IF(Eingabe!F240<>\"\",Eingabe!F240,\"\")","v":""},{"$f":"IF(Eingabe!G240<>\"\",Eingabe!G240,\"\")","v":""},null,{"$f":"IF(Eingabe!H240<>\"\",Eingabe!H240,\"\")","v":""},{"$f":"IF(Eingabe!I240<>\"\",Eingabe!I240,\"\")","v":""},{"$f":"IF(Eingabe!L240<>\"\",Eingabe!L240,\"\")","v":""},{"$f":"IF(Eingabe!J240<>\"\",Eingabe!J240,\"\")","v":""},{"$f":"IF(Eingabe!K240<>\"\",Eingabe!K240,\"\")","v":""},{"$f":"IF(Eingabe!R240<>\"\",Eingabe!R240,\"\")","v":""},{"$f":"IF(Eingabe!S240<>\"\",Eingabe!S240,\"\")","v":""},null,null,null,null,{"$f":"IF(Eingabe!V240<>\"\",Eingabe!V240,\"\")","v":""},{"$f":"IF(Eingabe!W240<>\"\",Eingabe!W240,\"\")","v":""}]
[{"$f":"IF(Eingabe!Q241<>\"\",Eingabe!Q241,\"\")","v":""},{"$f":"IF(Eingabe!U241<>\"\",Eingabe!U241,\"\")","v":""},null,{"$f":"IF(Eingabe!B241<>\"\",Eingabe!B241,\"\")","v":""},{"$f":"IF(Eingabe!C241<>\"\",Eingabe!C241,\"\")","v":""},{"$f":"IF(Eingabe!D241<>\"\",Eingabe!D241,\"\")","v":""},{"$f":"IF(Eingabe!E241<>\"\",Eingabe!E241,\"\")","v":""},{"$f":"IF(Eingabe!F241<>\"\",Eingabe!F241,\"\")","v":""},{"$f":"IF(Eingabe!G241<>\"\",Eingabe!G241,\"\")","v":""},null,{"$f":"IF(Eingabe!H241<>\"\",Eingabe!H241,\"\")","v":""},{"$f":"IF(Eingabe!I241<>\"\",Eingabe!I241,\"\")","v":""},{"$f":"IF(Eingabe!L241<>\"\",Eingabe!L241,\"\")","v":""},{"$f":"IF(Eingabe!J241<>\"\",Eingabe!J241,\"\")","v":""},{"$f":"IF(Eingabe!K241<>\"\",Eingabe!K241,\"\")","v":""},{"$f":"IF(Eingabe!R241<>\"\",Eingabe!R241,\"\")","v":""},{"$f":"IF(Eingabe!S241<>\"\",Eingabe!S241,\"\")","v":""},null,null,null,null,{"$f":"IF(Eingabe!V241<>\"\",Eingabe!V241,\"\")","v":""},{"$f":"IF(Eingabe!W241<>\"\",Eingabe!W241,\"\")","v":""}]
[{"$f":"IF(Eingabe!Q242<>\"\",Eingabe!Q242,\"\")","v":""},{"$f":"IF(Eingabe!U242<>\"\",Eingabe!U242,\"\")","v":""},null,{"$f":"IF(Eingabe!B242<>\"\",Eingabe!B242,\"\")","v":""},{"$f":"IF(Eingabe!C242<>\"\",Eingabe!C242,\"\")","v":""},{"$f":"IF(Eingabe!D242<>\"\",Eingabe!D242,\"\")","v":""},{"$f":"IF(Eingabe!E242<>\"\",Eingabe!E242,\"\")","v":""},{"$f":"IF(Eingabe!F242<>\"\",Eingabe!F242,\"\")","v":""},{"$f":"IF(Eingabe!G242<>\"\",Eingabe!G242,\"\")","v":""},null,{"$f":"IF(Eingabe!H242<>\"\",Eingabe!H242,\"\")","v":""},{"$f":"IF(Eingabe!I242<>\"\",Eingabe!I242,\"\")","v":""},{"$f":"IF(Eingabe!L242<>\"\",Eingabe!L242,\"\")","v":""},{"$f":"IF(Eingabe!J242<>\"\",Eingabe!J242,\"\")","v":""},{"$f":"IF(Eingabe!K242<>\"\",Eingabe!K242,\"\")","v":""},{"$f":"IF(Eingabe!R242<>\"\",Eingabe!R242,\"\")","v":""},{"$f":"IF(Eingabe!S242<>\"\",Eingabe!S242,\"\")","v":""},null,null,null,null,{"$f":"IF(Eingabe!V242<>\"\",Eingabe!V242,\"\")","v":""},{"$f":"IF(Eingabe!W242<>\"\",Eingabe!W242,\"\")","v":""}]
[{"$f":"IF(Eingabe!Q243<>\"\",Eingabe!Q243,\"\")","v":""},{"$f":"IF(Eingabe!U243<>\"\",Eingabe!U243,\"\")","v":""},null,{"$f":"IF(Eingabe!B243<>\"\",Eingabe!B243,\"\")","v":""},{"$f":"IF(Eingabe!C243<>\"\",Eingabe!C243,\"\")","v":""},{"$f":"IF(Eingabe!D243<>\"\",Eingabe!D243,\"\")","v":""},{"$f":"IF(Eingabe!E243<>\"\",Eingabe!E243,\"\")","v":""},{"$f":"IF(Eingabe!F243<>\"\",Eingabe!F243,\"\")","v":""},{"$f":"IF(Eingabe!G243<>\"\",Eingabe!G243,\"\")","v":""},null,{"$f":"IF(Eingabe!H243<>\"\",Eingabe!H243,\"\")","v":""},{"$f":"IF(Eingabe!I243<>\"\",Eingabe!I243,\"\")","v":""},{"$f":"IF(Eingabe!L243<>\"\",Eingabe!L243,\"\")","v":""},{"$f":"IF(Eingabe!J243<>\"\",Eingabe!J243,\"\")","v":""},{"$f":"IF(Eingabe!K243<>\"\",Eingabe!K243,\"\")","v":""},{"$f":"IF(Eingabe!R243<>\"\",Eingabe!R243,\"\")","v":""},{"$f":"IF(Eingabe!S243<>\"\",Eingabe!S243,\"\")","v":""},null,null,null,null,{"$f":"IF(Eingabe!V243<>\"\",Eingabe!V243,\"\")","v":""},{"$f":"IF(Eingabe!W243<>\"\",Eingabe!W243,\"\")","v":""}]
[{"$f":"IF(Eingabe!Q244<>\"\",Eingabe!Q244,\"\")","v":""},{"$f":"IF(Eingabe!U244<>\"\",Eingabe!U244,\"\")","v":""},null,{"$f":"IF(Eingabe!B244<>\"\",Eingabe!B244,\"\")","v":""},{"$f":"IF(Eingabe!C244<>\"\",Eingabe!C244,\"\")","v":""},{"$f":"IF(Eingabe!D244<>\"\",Eingabe!D244,\"\")","v":""},{"$f":"IF(Eingabe!E244<>\"\",Eingabe!E244,\"\")","v":""},{"$f":"IF(Eingabe!F244<>\"\",Eingabe!F244,\"\")","v":""},{"$f":"IF(Eingabe!G244<>\"\",Eingabe!G244,\"\")","v":""},null,{"$f":"IF(Eingabe!H244<>\"\",Eingabe!H244,\"\")","v":""},{"$f":"IF(Eingabe!I244<>\"\",Eingabe!I244,\"\")","v":""},{"$f":"IF(Eingabe!L244<>\"\",Eingabe!L244,\"\")","v":""},{"$f":"IF(Eingabe!J244<>\"\",Eingabe!J244,\"\")","v":""},{"$f":"IF(Eingabe!K244<>\"\",Eingabe!K244,\"\")","v":""},{"$f":"IF(Eingabe!R244<>\"\",Eingabe!R244,\"\")","v":""},{"$f":"IF(Eingabe!S244<>\"\",Eingabe!S244,\"\")","v":""},null,null,null,null,{"$f":"IF(Eingabe!V244<>\"\",Eingabe!V244,\"\")","v":""},{"$f":"IF(Eingabe!W244<>\"\",Eingabe!W244,\"\")","v":""}]
[{"$f":"IF(Eingabe!Q245<>\"\",Eingabe!Q245,\"\")","v":""},{"$f":"IF(Eingabe!U245<>\"\",Eingabe!U245,\"\")","v":""},null,{"$f":"IF(Eingabe!B245<>\"\",Eingabe!B245,\"\")","v":""},{"$f":"IF(Eingabe!C245<>\"\",Eingabe!C245,\"\")","v":""},{"$f":"IF(Eingabe!D245<>\"\",Eingabe!D245,\"\")","v":""},{"$f":"IF(Eingabe!E245<>\"\",Eingabe!E245,\"\")","v":""},{"$f":"IF(Eingabe!F245<>\"\",Eingabe!F245,\"\")","v":""},{"$f":"IF(Eingabe!G245<>\"\",Eingabe!G245,\"\")","v":""},null,{"$f":"IF(Eingabe!H245<>\"\",Eingabe!H245,\"\")","v":""},{"$f":"IF(Eingabe!I245<>\"\",Eingabe!I245,\"\")","v":""},{"$f":"IF(Eingabe!L245<>\"\",Eingabe!L245,\"\")","v":""},{"$f":"IF(Eingabe!J245<>\"\",Eingabe!J245,\"\")","v":""},{"$f":"IF(Eingabe!K245<>\"\",Eingabe!K245,\"\")","v":""},{"$f":"IF(Eingabe!R245<>\"\",Eingabe!R245,\"\")","v":""},{"$f":"IF(Eingabe!S245<>\"\",Eingabe!S245,\"\")","v":""},null,null,null,null,{"$f":"IF(Eingabe!V245<>\"\",Eingabe!V245,\"\")","v":""},{"$f":"IF(Eingabe!W245<>\"\",Eingabe!W245,\"\")","v":""}]
[{"$f":"IF(Eingabe!Q246<>\"\",Eingabe!Q246,\"\")","v":""},{"$f":"IF(Eingabe!U246<>\"\",Eingabe!U246,\"\")","v":""},null,{"$f":"IF(Eingabe!B246<>\"\",Eingabe!B246,\"\")","v":""},{"$f":"IF(Eingabe!C246<>\"\",Eingabe!C246,\"\")","v":""},{"$f":"IF(Eingabe!D246<>\"\",Eingabe!D246,\"\")","v":""},{"$f":"IF(Eingabe!E246<>\"\",Eingabe!E246,\"\")","v":""},{"$f":"IF(Eingabe!F246<>\"\",Eingabe!F246,\"\")","v":""},{"$f":"IF(Eingabe!G246<>\"\",Eingabe!G246,\"\")","v":""},null,{"$f":"IF(Eingabe!H246<>\"\",Eingabe!H246,\"\")","v":""},{"$f":"IF(Eingabe!I246<>\"\",Eingabe!I246,\"\")","v":""},{"$f":"IF(Eingabe!L246<>\"\",Eingabe!L246,\"\")","v":""},{"$f":"IF(Eingabe!J246<>\"\",Eingabe!J246,\"\")","v":""},{"$f":"IF(Eingabe!K246<>\"\",Eingabe!K246,\"\")","v":""},{"$f":"IF(Eingabe!R246<>\"\",Eingabe!R246,\"\")","v":""},{"$f":"IF(Eingabe!S246<>\"\",Eingabe!S246,\"\")","v":""},null,null,null,null,{"$f":"IF(Eingabe!V246<>\"\",Eingabe!V246,\"\")","v":""},{"$f":"IF(Eingabe!W246<>\"\",Eingabe!W246,\"\")","v":""}]
[{"$f":"IF(Eingabe!Q247<>\"\",Eingabe!Q247,\"\")","v":""},{"$f":"IF(Eingabe!U247<>\"\",Eingabe!U247,\"\")","v":""},null,{"$f":"IF(Eingabe!B247<>\"\",Eingabe!B247,\"\")","v":""},{"$f":"IF(Eingabe!C247<>\"\",Eingabe!C247,\"\")","v":""},{"$f":"IF(Eingabe!D247<>\"\",Eingabe!D247,\"\")","v":""},{"$f":"IF(Eingabe!E247<>\"\",Eingabe!E247,\"\")","v":""},{"$f":"IF(Eingabe!F247<>\"\",Eingabe!F247,\"\")","v":""},{"$f":"IF(Eingabe!G247<>\"\",Eingabe!G247,\"\")","v":""},null,{"$f":"IF(Eingabe!H247<>\"\",Eingabe!H247,\"\")","v":""},{"$f":"IF(Eingabe!I247<>\"\",Eingabe!I247,\"\")","v":""},{"$f":"IF(Eingabe!L247<>\"\",Eingabe!L247,\"\")","v":""},{"$f":"IF(Eingabe!J247<>\"\",Eingabe!J247,\"\")","v":""},{"$f":"IF(Eingabe!K247<>\"\",Eingabe!K247,\"\")","v":""},{"$f":"IF(Eingabe!R247<>\"\",Eingabe!R247,\"\")","v":""},{"$f":"IF(Eingabe!S247<>\"\",Eingabe!S247,\"\")","v":""},null,null,null,null,{"$f":"IF(Eingabe!V247<>\"\",Eingabe!V247,\"\")","v":""},{"$f":"IF(Eingabe!W247<>\"\",Eingabe!W247,\"\")","v":""}]
[{"$f":"IF(Eingabe!Q248<>\"\",Eingabe!Q248,\"\")","v":""},{"$f":"IF(Eingabe!U248<>\"\",Eingabe!U248,\"\")","v":""},null,{"$f":"IF(Eingabe!B248<>\"\",Eingabe!B248,\"\")","v":""},{"$f":"IF(Eingabe!C248<>\"\",Eingabe!C248,\"\")","v":""},{"$f":"IF(Eingabe!D248<>\"\",Eingabe!D248,\"\")","v":""},{"$f":"IF(Eingabe!E248<>\"\",Eingabe!E248,\"\")","v":""},{"$f":"IF(Eingabe!F248<>\"\",Eingabe!F248,\"\")","v":""},{"$f":"IF(Eingabe!G248<>\"\",Eingabe!G248,\"\")","v":""},null,{"$f":"IF(Eingabe!H248<>\"\",Eingabe!H248,\"\")","v":""},{"$f":"IF(Eingabe!I248<>\"\",Eingabe!I248,\"\")","v":""},{"$f":"IF(Eingabe!L248<>\"\",Eingabe!L248,\"\")","v":""},{"$f":"IF(Eingabe!J248<>\"\",Eingabe!J248,\"\")","v":""},{"$f":"IF(Eingabe!K248<>\"\",Eingabe!K248,\"\")","v":""},{"$f":"IF(Eingabe!R248<>\"\",Eingabe!R248,\"\")","v":""},{"$f":"IF(Eingabe!S248<>\"\",Eingabe!S248,\"\")","v":""},null,null,null,null,{"$f":"IF(Eingabe!V248<>\"\",Eingabe!V248,\"\")","v":""},{"$f":"IF(Eingabe!W248<>\"\",Eingabe!W248,\"\")","v":""}]
[{"$f":"IF(Eingabe!Q249<>\"\",Eingabe!Q249,\"\")","v":""},{"$f":"IF(Eingabe!U249<>\"\",Eingabe!U249,\"\")","v":""},null,{"$f":"IF(Eingabe!B249<>\"\",Eingabe!B249,\"\")","v":""},{"$f":"IF(Eingabe!C249<>\"\",Eingabe!C249,\"\")","v":""},{"$f":"IF(Eingabe!D249<>\"\",Eingabe!D249,\"\")","v":""},{"$f":"IF(Eingabe!E249<>\"\",Eingabe!E249,\"\")","v":""},{"$f":"IF(Eingabe!F249<>\"\",Eingabe!F249,\"\")","v":""},{"$f":"IF(Eingabe!G249<>\"\",Eingabe!G249,\"\")","v":""},null,{"$f":"IF(Eingabe!H249<>\"\",Eingabe!H249,\"\")","v":""},{"$f":"IF(Eingabe!I249<>\"\",Eingabe!I249,\"\")","v":""},{"$f":"IF(Eingabe!L249<>\"\",Eingabe!L249,\"\")","v":""},{"$f":"IF(Eingabe!J249<>\"\",Eingabe!J249,\"\")","v":""},{"$f":"IF(Eingabe!K249<>\"\",Eingabe!K249,\"\")","v":""},{"$f":"IF(Eingabe!R249<>\"\",Eingabe!R249,\"\")","v":""},{"$f":"IF(Eingabe!S249<>\"\",Eingabe!S249,\"\")","v":""},null,null,null,null,{"$f":"IF(Eingabe!V249<>\"\",Eingabe!V249,\"\")","v":""},{"$f":"IF(Eingabe!W249<>\"\",Eingabe!W249,\"\")","v":""}]
[{"$f":"IF(Eingabe!Q250<>\"\",Eingabe!Q250,\"\")","v":""},{"$f":"IF(Eingabe!U250<>\"\",Eingabe!U250,\"\")","v":""},null,{"$f":"IF(Eingabe!B250<>\"\",Eingabe!B250,\"\")","v":""},{"$f":"IF(Eingabe!C250<>\"\",Eingabe!C250,\"\")","v":""},{"$f":"IF(Eingabe!D250<>\"\",Eingabe!D250,\"\")","v":""},{"$f":"IF(Eingabe!E250<>\"\",Eingabe!E250,\"\")","v":""},{"$f":"IF(Eingabe!F250<>\"\",Eingabe!F250,\"\")","v":""},{"$f":"IF(Eingabe!G250<>\"\",Eingabe!G250,\"\")","v":""},null,{"$f":"IF(Eingabe!H250<>\"\",Eingabe!H250,\"\")","v":""},{"$f":"IF(Eingabe!I250<>\"\",Eingabe!I250,\"\")","v":""},{"$f":"IF(Eingabe!L250<>\"\",Eingabe!L250,\"\")","v":""},{"$f":"IF(Eingabe!J250<>\"\",Eingabe!J250,\"\")","v":""},{"$f":"IF(Eingabe!K250<>\"\",Eingabe!K250,\"\")","v":""},{"$f":"IF(Eingabe!R250<>\"\",Eingabe!R250,\"\")","v":""},{"$f":"IF(Eingabe!S250<>\"\",Eingabe!S250,\"\")","v":""},null,null,null,null,{"$f":"IF(Eingabe!V250<>\"\",Eingabe!V250,\"\")","v":""},{"$f":"IF(Eingabe!W250<>\"\",Eingabe!W250,\"\")","v":""}]
[{"$f":"IF(Eingabe!Q251<>\"\",Eingabe!Q251,\"\")","v":""},{"$f":"IF(Eingabe!U251<>\"\",Eingabe!U251,\"\")","v":""},null,{"$f":"IF(Eingabe!B251<>\"\",Eingabe!B251,\"\")","v":""},{"$f":"IF(Eingabe!C251<>\"\",Eingabe!C251,\"\")","v":""},{"$f":"IF(Eingabe!D251<>\"\",Eingabe!D251,\"\")","v":""},{"$f":"IF(Eingabe!E251<>\"\",Eingabe!E251,\"\")","v":""},{"$f":"IF(Eingabe!F251<>\"\",Eingabe!F251,\"\")","v":""},{"$f":"IF(Eingabe!G251<>\"\",Eingabe!G251,\"\")","v":""},null,{"$f":"IF(Eingabe!H251<>\"\",Eingabe!H251,\"\")","v":""},{"$f":"IF(Eingabe!I251<>\"\",Eingabe!I251,\"\")","v":""},{"$f":"IF(Eingabe!L251<>\"\",Eingabe!L251,\"\")","v":""},{"$f":"IF(Eingabe!J251<>\"\",Eingabe!J251,\"\")","v":""},{"$f":"IF(Eingabe!K251<>\"\",Eingabe!K251,\"\")","v":""},{"$f":"IF(Eingabe!R251<>\"\",Eingabe!R251,\"\")","v":""},{"$f":"IF(Eingabe!S251<>\"\",Eingabe!S251,\"\")","v":""},null,null,null,null,{"$f":"IF(Eingabe!V251<>\"\",Eingabe!V251,\"\")","v":""},{"$f":"IF(Eingabe!W251<>\"\",Eingabe!W251,\"\")","v":""}]
[{"$f":"IF(Eingabe!Q252<>\"\",Eingabe!Q252,\"\")","v":""},{"$f":"IF(Eingabe!U252<>\"\",Eingabe!U252,\"\")","v":""},null,{"$f":"IF(Eingabe!B252<>\"\",Eingabe!B252,\"\")","v":""},{"$f":"IF(Eingabe!C252<>\"\",Eingabe!C252,\"\")","v":""},{"$f":"IF(Eingabe!D252<>\"\",Eingabe!D252,\"\")","v":""},{"$f":"IF(Eingabe!E252<>\"\",Eingabe!E252,\"\")","v":""},{"$f":"IF(Eingabe!F252<>\"\",Eingabe!F252,\"\")","v":""},{"$f":"IF(Eingabe!G252<>\"\",Eingabe!G252,\"\")","v":""},null,{"$f":"IF(Eingabe!H252<>\"\",Eingabe!H252,\"\")","v":""},{"$f":"IF(Eingabe!I252<>\"\",Eingabe!I252,\"\")","v":""},{"$f":"IF(Eingabe!L252<>\"\",Eingabe!L252,\"\")","v":""},{"$f":"IF(Eingabe!J252<>\"\",Eingabe!J252,\"\")","v":""},{"$f":"IF(Eingabe!K252<>\"\",Eingabe!K252,\"\")","v":""},{"$f":"IF(Eingabe!R252<>\"\",Eingabe!R252,\"\")","v":""},{"$f":"IF(Eingabe!S252<>\"\",Eingabe!S252,\"\")","v":""},null,null,null,null,{"$f":"IF(Eingabe!V252<>\"\",Eingabe!V252,\"\")","v":""},{"$f":"IF(Eingabe!W252<>\"\",Eingabe!W252,\"\")","v":""}]
[{"$f":"IF(Eingabe!Q253<>\"\",Eingabe!Q253,\"\")","v":""},{"$f":"IF(Eingabe!U253<>\"\",Eingabe!U253,\"\")","v":""},null,{"$f":"IF(Eingabe!B253<>\"\",Eingabe!B253,\"\")","v":""},{"$f":"IF(Eingabe!C253<>\"\",Eingabe!C253,\"\")","v":""},{"$f":"IF(Eingabe!D253<>\"\",Eingabe!D253,\"\")","v":""},{"$f":"IF(Eingabe!E253<>\"\",Eingabe!E253,\"\")","v":""},{"$f":"IF(Eingabe!F253<>\"\",Eingabe!F253,\"\")","v":""},{"$f":"IF(Eingabe!G253<>\"\",Eingabe!G253,\"\")","v":""},null,{"$f":"IF(Eingabe!H253<>\"\",Eingabe!H253,\"\")","v":""},{"$f":"IF(Eingabe!I253<>\"\",Eingabe!I253,\"\")","v":""},{"$f":"IF(Eingabe!L253<>\"\",Eingabe!L253,\"\")","v":""},{"$f":"IF(Eingabe!J253<>\"\",Eingabe!J253,\"\")","v":""},{"$f":"IF(Eingabe!K253<>\"\",Eingabe!K253,\"\")","v":""},{"$f":"IF(Eingabe!R253<>\"\",Eingabe!R253,\"\")","v":""},{"$f":"IF(Eingabe!S253<>\"\",Eingabe!S253,\"\")","v":""},null,null,null,null,{"$f":"IF(Eingabe!V253<>\"\",Eingabe!V253,\"\")","v":""},{"$f":"IF(Eingabe!W253<>\"\",Eingabe!W253,\"\")","v":""}]
[{"$f":"IF(Eingabe!Q254<>\"\",Eingabe!Q254,\"\")","v":""},{"$f":"IF(Eingabe!U254<>\"\",Eingabe!U254,\"\")","v":""},null,{"$f":"IF(Eingabe!B254<>\"\",Eingabe!B254,\"\")","v":""},{"$f":"IF(Eingabe!C254<>\"\",Eingabe!C254,\"\")","v":""},{"$f":"IF(Eingabe!D254<>\"\",Eingabe!D254,\"\")","v":""},{"$f":"IF(Eingabe!E254<>\"\",Eingabe!E254,\"\")","v":""},{"$f":"IF(Eingabe!F254<>\"\",Eingabe!F254,\"\")","v":""},{"$f":"IF(Eingabe!G254<>\"\",Eingabe!G254,\"\")","v":""},null,{"$f":"IF(Eingabe!H254<>\"\",Eingabe!H254,\"\")","v":""},{"$f":"IF(Eingabe!I254<>\"\",Eingabe!I254,\"\")","v":""},{"$f":"IF(Eingabe!L254<>\"\",Eingabe!L254,\"\")","v":""},{"$f":"IF(Eingabe!J254<>\"\",Eingabe!J254,\"\")","v":""},{"$f":"IF(Eingabe!K254<>\"\",Eingabe!K254,\"\")","v":""},{"$f":"IF(Eingabe!R254<>\"\",Eingabe!R254,\"\")","v":""},{"$f":"IF(Eingabe!S254<>\"\",Eingabe!S254,\"\")","v":""},null,null,null,null,{"$f":"IF(Eingabe!V254<>\"\",Eingabe!V254,\"\")","v":""},{"$f":"IF(Eingabe!W254<>\"\",Eingabe!W254,\"\")","v":""}]
[{"$f":"IF(Eingabe!Q255<>\"\",Eingabe!Q255,\"\")","v":""},{"$f":"IF(Eingabe!U255<>\"\",Eingabe!U255,\"\")","v":""},null,{"$f":"IF(Eingabe!B255<>\"\",Eingabe!B255,\"\")","v":""},{"$f":"IF(Eingabe!C255<>\"\",Eingabe!C255,\"\")","v":""},{"$f":"IF(Eingabe!D255<>\"\",Eingabe!D255,\"\")","v":""},{"$f":"IF(Eingabe!E255<>\"\",Eingabe!E255,\"\")","v":""},{"$f":"IF(Eingabe!F255<>\"\",Eingabe!F255,\"\")","v":""},{"$f":"IF(Eingabe!G255<>\"\",Eingabe!G255,\"\")","v":""},null,{"$f":"IF(Eingabe!H255<>\"\",Eingabe!H255,\"\")","v":""},{"$f":"IF(Eingabe!I255<>\"\",Eingabe!I255,\"\")","v":""},{"$f":"IF(Eingabe!L255<>\"\",Eingabe!L255,\"\")","v":""},{"$f":"IF(Eingabe!J255<>\"\",Eingabe!J255,\"\")","v":""},{"$f":"IF(Eingabe!K255<>\"\",Eingabe!K255,\"\")","v":""},{"$f":"IF(Eingabe!R255<>\"\",Eingabe!R255,\"\")","v":""},{"$f":"IF(Eingabe!S255<>\"\",Eingabe!S255,\"\")","v":""},null,null,null,null,{"$f":"IF(Eingabe!V255<>\"\",Eingabe!V255,\"\")","v":""},{"$f":"IF(Eingabe!W255<>\"\",Eingabe!W255,\"\")","v":""}]
[{"$f":"IF(Eingabe!Q256<>\"\",Eingabe!Q256,\"\")","v":""},{"$f":"IF(Eingabe!U256<>\"\",Eingabe!U256,\"\")","v":""},null,{"$f":"IF(Eingabe!B256<>\"\",Eingabe!B256,\"\")","v":""},{"$f":"IF(Eingabe!C256<>\"\",Eingabe!C256,\"\")","v":""},{"$f":"IF(Eingabe!D256<>\"\",Eingabe!D256,\"\")","v":""},{"$f":"IF(Eingabe!E256<>\"\",Eingabe!E256,\"\")","v":""},{"$f":"IF(Eingabe!F256<>\"\",Eingabe!F256,\"\")","v":""},{"$f":"IF(Eingabe!G256<>\"\",Eingabe!G256,\"\")","v":""},null,{"$f":"IF(Eingabe!H256<>\"\",Eingabe!H256,\"\")","v":""},{"$f":"IF(Eingabe!I256<>\"\",Eingabe!I256,\"\")","v":""},{"$f":"IF(Eingabe!L256<>\"\",Eingabe!L256,\"\")","v":""},{"$f":"IF(Eingabe!J256<>\"\",Eingabe!J256,\"\")","v":""},{"$f":"IF(Eingabe!K256<>\"\",Eingabe!K256,\"\")","v":""},{"$f":"IF(Eingabe!R256<>\"\",Eingabe!R256,\"\")","v":""},{"$f":"IF(Eingabe!S256<>\"\",Eingabe!S256,\"\")","v":""},null,null,null,null,{"$f":"IF(Eingabe!V256<>\"\",Eingabe!V256,\"\")","v":""},{"$f":"IF(Eingabe!W256<>\"\",Eingabe!W256,\"\")","v":""}]
[{"$f":"IF(Eingabe!Q257<>\"\",Eingabe!Q257,\"\")","v":""},{"$f":"IF(Eingabe!U257<>\"\",Eingabe!U257,\"\")","v":""},null,{"$f":"IF(Eingabe!B257<>\"\",Eingabe!B257,\"\")","v":""},{"$f":"IF(Eingabe!C257<>\"\",Eingabe!C257,\"\")","v":""},{"$f":"IF(Eingabe!D257<>\"\",Eingabe!D257,\"\")","v":""},{"$f":"IF(Eingabe!E257<>\"\",Eingabe!E257,\"\")","v":""},{"$f":"IF(Eingabe!F257<>\"\",Eingabe!F257,\"\")","v":""},{"$f":"IF(Eingabe!G257<>\"\",Eingabe!G257,\"\")","v":""},null,{"$f":"IF(Eingabe!H257<>\"\",Eingabe!H257,\"\")","v":""},{"$f":"IF(Eingabe!I257<>\"\",Eingabe!I257,\"\")","v":""},{"$f":"IF(Eingabe!L257<>\"\",Eingabe!L257,\"\")","v":""},{"$f":"IF(Eingabe!J257<>\"\",Eingabe!J257,\"\")","v":""},{"$f":"IF(Eingabe!K257<>\"\",Eingabe!K257,\"\")","v":""},{"$f":"IF(Eingabe!R257<>\"\",Eingabe!R257,\"\")","v":""},{"$f":"IF(Eingabe!S257<>\"\",Eingabe!S257,\"\")","v":""},null,null,null,null,{"$f":"IF(Eingabe!V257<>\"\",Eingabe!V257,\"\")","v":""},{"$f":"IF(Eingabe!W257<>\"\",Eingabe!W257,\"\")","v":""}]
[{"$f":"IF(Eingabe!Q258<>\"\",Eingabe!Q258,\"\")","v":""},{"$f":"IF(Eingabe!U258<>\"\",Eingabe!U258,\"\")","v":""},null,{"$f":"IF(Eingabe!B258<>\"\",Eingabe!B258,\"\")","v":""},{"$f":"IF(Eingabe!C258<>\"\",Eingabe!C258,\"\")","v":""},{"$f":"IF(Eingabe!D258<>\"\",Eingabe!D258,\"\")","v":""},{"$f":"IF(Eingabe!E258<>\"\",Eingabe!E258,\"\")","v":""},{"$f":"IF(Eingabe!F258<>\"\",Eingabe!F258,\"\")","v":""},{"$f":"IF(Eingabe!G258<>\"\",Eingabe!G258,\"\")","v":""},null,{"$f":"IF(Eingabe!H258<>\"\",Eingabe!H258,\"\")","v":""},{"$f":"IF(Eingabe!I258<>\"\",Eingabe!I258,\"\")","v":""},{"$f":"IF(Eingabe!L258<>\"\",Eingabe!L258,\"\")","v":""},{"$f":"IF(Eingabe!J258<>\"\",Eingabe!J258,\"\")","v":""},{"$f":"IF(Eingabe!K258<>\"\",Eingabe!K258,\"\")","v":""},{"$f":"IF(Eingabe!R258<>\"\",Eingabe!R258,\"\")","v":""},{"$f":"IF(Eingabe!S258<>\"\",Eingabe!S258,\"\")","v":""},null,null,null,null,{"$f":"IF(Eingabe!V258<>\"\",Eingabe!V258,\"\")","v":""},{"$f":"IF(Eingabe!W258<>\"\",Eingabe!W258,\"\")","v":""}]
[{"$f":"IF(Eingabe!Q259<>\"\",Eingabe!Q259,\"\")","v":""},{"$f":"IF(Eingabe!U259<>\"\",Eingabe!U259,\"\")","v":""},null,{"$f":"IF(Eingabe!B259<>\"\",Eingabe!B259,\"\")","v":""},{"$f":"IF(Eingabe!C259<>\"\",Eingabe!C259,\"\")","v":""},{"$f":"IF(Eingabe!D259<>\"\",Eingabe!D259,\"\")","v":""},{"$f":"IF(Eingabe!E259<>\"\",Eingabe!E259,\"\")","v":""},{"$f":"IF(Eingabe!F259<>\"\",Eingabe!F259,\"\")","v":""},{"$f":"IF(Eingabe!G259<>\"\",Eingabe!G259,\"\")","v":""},null,{"$f":"IF(Eingabe!H259<>\"\",Eingabe!H259,\"\")","v":""},{"$f":"IF(Eingabe!I259<>\"\",Eingabe!I259,\"\")","v":""},{"$f":"IF(Eingabe!L259<>\"\",Eingabe!L259,\"\")","v":""},{"$f":"IF(Eingabe!J259<>\"\",Eingabe!J259,\"\")","v":""},{"$f":"IF(Eingabe!K259<>\"\",Eingabe!K259,\"\")","v":""},{"$f":"IF(Eingabe!R259<>\"\",Eingabe!R259,\"\")","v":""},{"$f":"IF(Eingabe!S259<>\"\",Eingabe!S259,\"\")","v":""},null,null,null,null,{"$f":"IF(Eingabe!V259<>\"\",Eingabe!V259,\"\")","v":""},{"$f":"IF(Eingabe!W259<>\"\",Eingabe!W259,\"\")","v":""}]
[{"$f":"IF(Eingabe!Q260<>\"\",Eingabe!Q260,\"\")","v":""},{"$f":"IF(Eingabe!U260<>\"\",Eingabe!U260,\"\")","v":""},null,{"$f":"IF(Eingabe!B260<>\"\",Eingabe!B260,\"\")","v":""},{"$f":"IF(Eingabe!C260<>\"\",Eingabe!C260,\"\")","v":""},{"$f":"IF(Eingabe!D260<>\"\",Eingabe!D260,\"\")","v":""},{"$f":"IF(Eingabe!E260<>\"\",Eingabe!E260,\"\")","v":""},{"$f":"IF(Eingabe!F260<>\"\",Eingabe!F260,\"\")","v":""},{"$f":"IF(Eingabe!G260<>\"\",Eingabe!G260,\"\")","v":""},null,{"$f":"IF(Eingabe!H260<>\"\",Eingabe!H260,\"\")","v":""},{"$f":"IF(Eingabe!I260<>\"\",Eingabe!I260,\"\")","v":""},{"$f":"IF(Eingabe!L260<>\"\",Eingabe!L260,\"\")","v":""},{"$f":"IF(Eingabe!J260<>\"\",Eingabe!J260,\"\")","v":""},{"$f":"IF(Eingabe!K260<>\"\",Eingabe!K260,\"\")","v":""},{"$f":"IF(Eingabe!R260<>\"\",Eingabe!R260,\"\")","v":""},{"$f":"IF(Eingabe!S260<>\"\",Eingabe!S260,\"\")","v":""},null,null,null,null,{"$f":"IF(Eingabe!V260<>\"\",Eingabe!V260,\"\")","v":""},{"$f":"IF(Eingabe!W260<>\"\",Eingabe!W260,\"\")","v":""}]
[{"$f":"IF(Eingabe!Q261<>\"\",Eingabe!Q261,\"\")","v":""},{"$f":"IF(Eingabe!U261<>\"\",Eingabe!U261,\"\")","v":""},null,{"$f":"IF(Eingabe!B261<>\"\",Eingabe!B261,\"\")","v":""},{"$f":"IF(Eingabe!C261<>\"\",Eingabe!C261,\"\")","v":""},{"$f":"IF(Eingabe!D261<>\"\",Eingabe!D261,\"\")","v":""},{"$f":"IF(Eingabe!E261<>\"\",Eingabe!E261,\"\")","v":""},{"$f":"IF(Eingabe!F261<>\"\",Eingabe!F261,\"\")","v":""},{"$f":"IF(Eingabe!G261<>\"\",Eingabe!G261,\"\")","v":""},null,{"$f":"IF(Eingabe!H261<>\"\",Eingabe!H261,\"\")","v":""},{"$f":"IF(Eingabe!I261<>\"\",Eingabe!I261,\"\")","v":""},{"$f":"IF(Eingabe!L261<>\"\",Eingabe!L261,\"\")","v":""},{"$f":"IF(Eingabe!J261<>\"\",Eingabe!J261,\"\")","v":""},{"$f":"IF(Eingabe!K261<>\"\",Eingabe!K261,\"\")","v":""},{"$f":"IF(Eingabe!R261<>\"\",Eingabe!R261,\"\")","v":""},{"$f":"IF(Eingabe!S261<>\"\",Eingabe!S261,\"\")","v":""},null,null,null,null,{"$f":"IF(Eingabe!V261<>\"\",Eingabe!V261,\"\")","v":""},{"$f":"IF(Eingabe!W261<>\"\",Eingabe!W261,\"\")","v":""}]
[{"$f":"IF(Eingabe!Q262<>\"\",Eingabe!Q262,\"\")","v":""},{"$f":"IF(Eingabe!U262<>\"\",Eingabe!U262,\"\")","v":""},null,{"$f":"IF(Eingabe!B262<>\"\",Eingabe!B262,\"\")","v":""},{"$f":"IF(Eingabe!C262<>\"\",Eingabe!C262,\"\")","v":""},{"$f":"IF(Eingabe!D262<>\"\",Eingabe!D262,\"\")","v":""},{"$f":"IF(Eingabe!E262<>\"\",Eingabe!E262,\"\")","v":""},{"$f":"IF(Eingabe!F262<>\"\",Eingabe!F262,\"\")","v":""},{"$f":"IF(Eingabe!G262<>\"\",Eingabe!G262,\"\")","v":""},null,{"$f":"IF(Eingabe!H262<>\"\",Eingabe!H262,\"\")","v":""},{"$f":"IF(Eingabe!I262<>\"\",Eingabe!I262,\"\")","v":""},{"$f":"IF(Eingabe!L262<>\"\",Eingabe!L262,\"\")","v":""},{"$f":"IF(Eingabe!J262<>\"\",Eingabe!J262,\"\")","v":""},{"$f":"IF(Eingabe!K262<>\"\",Eingabe!K262,\"\")","v":""},{"$f":"IF(Eingabe!R262<>\"\",Eingabe!R262,\"\")","v":""},{"$f":"IF(Eingabe!S262<>\"\",Eingabe!S262,\"\")","v":""},null,null,null,null,{"$f":"IF(Eingabe!V262<>\"\",Eingabe!V262,\"\")","v":""},{"$f":"IF(Eingabe!W262<>\"\",Eingabe!W262,\"\")","v":""}]
[{"$f":"IF(Eingabe!Q263<>\"\",Eingabe!Q263,\"\")","v":""},{"$f":"IF(Eingabe!U263<>\"\",Eingabe!U263,\"\")","v":""},null,{"$f":"IF(Eingabe!B263<>\"\",Eingabe!B263,\"\")","v":""},{"$f":"IF(Eingabe!C263<>\"\",Eingabe!C263,\"\")","v":""},{"$f":"IF(Eingabe!D263<>\"\",Eingabe!D263,\"\")","v":""},{"$f":"IF(Eingabe!E263<>\"\",Eingabe!E263,\"\")","v":""},{"$f":"IF(Eingabe!F263<>\"\",Eingabe!F263,\"\")","v":""},{"$f":"IF(Eingabe!G263<>\"\",Eingabe!G263,\"\")","v":""},null,{"$f":"IF(Eingabe!H263<>\"\",Eingabe!H263,\"\")","v":""},{"$f":"IF(Eingabe!I263<>\"\",Eingabe!I263,\"\")","v":""},{"$f":"IF(Eingabe!L263<>\"\",Eingabe!L263,\"\")","v":""},{"$f":"IF(Eingabe!J263<>\"\",Eingabe!J263,\"\")","v":""},{"$f":"IF(Eingabe!K263<>\"\",Eingabe!K263,\"\")","v":""},{"$f":"IF(Eingabe!R263<>\"\",Eingabe!R263,\"\")","v":""},{"$f":"IF(Eingabe!S263<>\"\",Eingabe!S263,\"\")","v":""},null,null,null,null,{"$f":"IF(Eingabe!V263<>\"\",Eingabe!V263,\"\")","v":""},{"$f":"IF(Eingabe!W263<>\"\",Eingabe!W263,\"\")","v":""}]
[{"$f":"IF(Eingabe!Q264<>\"\",Eingabe!Q264,\"\")","v":""},{"$f":"IF(Eingabe!U264<>\"\",Eingabe!U264,\"\")","v":""},null,{"$f":"IF(Eingabe!B264<>\"\",Eingabe!B264,\"\")","v":""},{"$f":"IF(Eingabe!C264<>\"\",Eingabe!C264,\"\")","v":""},{"$f":"IF(Eingabe!D264<>\"\",Eingabe!D264,\"\")","v":""},{"$f":"IF(Eingabe!E264<>\"\",Eingabe!E264,\"\")","v":""},{"$f":"IF(Eingabe!F264<>\"\",Eingabe!F264,\"\")","v":""},{"$f":"IF(Eingabe!G264<>\"\",Eingabe!G264,\"\")","v":""},null,{"$f":"IF(Eingabe!H264<>\"\",Eingabe!H264,\"\")","v":""},{"$f":"IF(Eingabe!I264<>\"\",Eingabe!I264,\"\")","v":""},{"$f":"IF(Eingabe!L264<>\"\",Eingabe!L264,\"\")","v":""},{"$f":"IF(Eingabe!J264<>\"\",Eingabe!J264,\"\")","v":""},{"$f":"IF(Eingabe!K264<>\"\",Eingabe!K264,\"\")","v":""},{"$f":"IF(Eingabe!R264<>\"\",Eingabe!R264,\"\")","v":""},{"$f":"IF(Eingabe!S264<>\"\",Eingabe!S264,\"\")","v":""},null,null,null,null,{"$f":"IF(Eingabe!V264<>\"\",Eingabe!V264,\"\")","v":""},{"$f":"IF(Eingabe!W264<>\"\",Eingabe!W264,\"\")","v":""}]
[{"$f":"IF(Eingabe!Q265<>\"\",Eingabe!Q265,\"\")","v":""},{"$f":"IF(Eingabe!U265<>\"\",Eingabe!U265,\"\")","v":""},null,{"$f":"IF(Eingabe!B265<>\"\",Eingabe!B265,\"\")","v":""},{"$f":"IF(Eingabe!C265<>\"\",Eingabe!C265,\"\")","v":""},{"$f":"IF(Eingabe!D265<>\"\",Eingabe!D265,\"\")","v":""},{"$f":"IF(Eingabe!E265<>\"\",Eingabe!E265,\"\")","v":""},{"$f":"IF(Eingabe!F265<>\"\",Eingabe!F265,\"\")","v":""},{"$f":"IF(Eingabe!G265<>\"\",Eingabe!G265,\"\")","v":""},null,{"$f":"IF(Eingabe!H265<>\"\",Eingabe!H265,\"\")","v":""},{"$f":"IF(Eingabe!I265<>\"\",Eingabe!I265,\"\")","v":""},{"$f":"IF(Eingabe!L265<>\"\",Eingabe!L265,\"\")","v":""},{"$f":"IF(Eingabe!J265<>\"\",Eingabe!J265,\"\")","v":""},{"$f":"IF(Eingabe!K265<>\"\",Eingabe!K265,\"\")","v":""},{"$f":"IF(Eingabe!R265<>\"\",Eingabe!R265,\"\")","v":""},{"$f":"IF(Eingabe!S265<>\"\",Eingabe!S265,\"\")","v":""},null,null,null,null,{"$f":"IF(Eingabe!V265<>\"\",Eingabe!V265,\"\")","v":""},{"$f":"IF(Eingabe!W265<>\"\",Eingabe!W265,\"\")","v":""}]
[{"$f":"IF(Eingabe!Q266<>\"\",Eingabe!Q266,\"\")","v":""},{"$f":"IF(Eingabe!U266<>\"\",Eingabe!U266,\"\")","v":""},null,{"$f":"IF(Eingabe!B266<>\"\",Eingabe!B266,\"\")","v":""},{"$f":"IF(Eingabe!C266<>\"\",Eingabe!C266,\"\")","v":""},{"$f":"IF(Eingabe!D266<>\"\",Eingabe!D266,\"\")","v":""},{"$f":"IF(Eingabe!E266<>\"\",Eingabe!E266,\"\")","v":""},{"$f":"IF(Eingabe!F266<>\"\",Eingabe!F266,\"\")","v":""},{"$f":"IF(Eingabe!G266<>\"\",Eingabe!G266,\"\")","v":""},null,{"$f":"IF(Eingabe!H266<>\"\",Eingabe!H266,\"\")","v":""},{"$f":"IF(Eingabe!I266<>\"\",Eingabe!I266,\"\")","v":""},{"$f":"IF(Eingabe!L266<>\"\",Eingabe!L266,\"\")","v":""},{"$f":"IF(Eingabe!J266<>\"\",Eingabe!J266,\"\")","v":""},{"$f":"IF(Eingabe!K266<>\"\",Eingabe!K266,\"\")","v":""},{"$f":"IF(Eingabe!R266<>\"\",Eingabe!R266,\"\")","v":""},{"$f":"IF(Eingabe!S266<>\"\",Eingabe!S266,\"\")","v":""},null,null,null,null,{"$f":"IF(Eingabe!V266<>\"\",Eingabe!V266,\"\")","v":""},{"$f":"IF(Eingabe!W266<>\"\",Eingabe!W266,\"\")","v":""}]
[{"$f":"IF(Eingabe!Q267<>\"\",Eingabe!Q267,\"\")","v":""},{"$f":"IF(Eingabe!U267<>\"\",Eingabe!U267,\"\")","v":""},null,{"$f":"IF(Eingabe!B267<>\"\",Eingabe!B267,\"\")","v":""},{"$f":"IF(Eingabe!C267<>\"\",Eingabe!C267,\"\")","v":""},{"$f":"IF(Eingabe!D267<>\"\",Eingabe!D267,\"\")","v":""},{"$f":"IF(Eingabe!E267<>\"\",Eingabe!E267,\"\")","v":""},{"$f":"IF(Eingabe!F267<>\"\",Eingabe!F267,\"\")","v":""},{"$f":"IF(Eingabe!G267<>\"\",Eingabe!G267,\"\")","v":""},null,{"$f":"IF(Eingabe!H267<>\"\",Eingabe!H267,\"\")","v":""},{"$f":"IF(Eingabe!I267<>\"\",Eingabe!I267,\"\")","v":""},{"$f":"IF(Eingabe!L267<>\"\",Eingabe!L267,\"\")","v":""},{"$f":"IF(Eingabe!J267<>\"\",Eingabe!J267,\"\")","v":""},{"$f":"IF(Eingabe!K267<>\"\",Eingabe!K267,\"\")","v":""},{"$f":"IF(Eingabe!R267<>\"\",Eingabe!R267,\"\")","v":""},{"$f":"IF(Eingabe!S267<>\"\",Eingabe!S267,\"\")","v":""},null,null,null,null,{"$f":"IF(Eingabe!V267<>\"\",Eingabe!V267,\"\")","v":""},{"$f":"IF(Eingabe!W267<>\"\",Eingabe!W267,\"\")","v":""}]
[{"$f":"IF(Eingabe!Q268<>\"\",Eingabe!Q268,\"\")","v":""},{"$f":"IF(Eingabe!U268<>\"\",Eingabe!U268,\"\")","v":""},null,{"$f":"IF(Eingabe!B268<>\"\",Eingabe!B268,\"\")","v":""},{"$f":"IF(Eingabe!C268<>\"\",Eingabe!C268,\"\")","v":""},{"$f":"IF(Eingabe!D268<>\"\",Eingabe!D268,\"\")","v":""},{"$f":"IF(Eingabe!E268<>\"\",Eingabe!E268,\"\")","v":""},{"$f":"IF(Eingabe!F268<>\"\",Eingabe!F268,\"\")","v":""},{"$f":"IF(Eingabe!G268<>\"\",Eingabe!G268,\"\")","v":""},null,{"$f":"IF(Eingabe!H268<>\"\",Eingabe!H268,\"\")","v":""},{"$f":"IF(Eingabe!I268<>\"\",Eingabe!I268,\"\")","v":""},{"$f":"IF(Eingabe!L268<>\"\",Eingabe!L268,\"\")","v":""},{"$f":"IF(Eingabe!J268<>\"\",Eingabe!J268,\"\")","v":""},{"$f":"IF(Eingabe!K268<>\"\",Eingabe!K268,\"\")","v":""},{"$f":"IF(Eingabe!R268<>\"\",Eingabe!R268,\"\")","v":""},{"$f":"IF(Eingabe!S268<>\"\",Eingabe!S268,\"\")","v":""},null,null,null,null,{"$f":"IF(Eingabe!V268<>\"\",Eingabe!V268,\"\")","v":""},{"$f":"IF(Eingabe!W268<>\"\",Eingabe!W268,\"\")","v":""}]
[{"$f":"IF(Eingabe!Q269<>\"\",Eingabe!Q269,\"\")","v":""},{"$f":"IF(Eingabe!U269<>\"\",Eingabe!U269,\"\")","v":""},null,{"$f":"IF(Eingabe!B269<>\"\",Eingabe!B269,\"\")","v":""},{"$f":"IF(Eingabe!C269<>\"\",Eingabe!C269,\"\")","v":""},{"$f":"IF(Eingabe!D269<>\"\",Eingabe!D269,\"\")","v":""},{"$f":"IF(Eingabe!E269<>\"\",Eingabe!E269,\"\")","v":""},{"$f":"IF(Eingabe!F269<>\"\",Eingabe!F269,\"\")","v":""},{"$f":"IF(Eingabe!G269<>\"\",Eingabe!G269,\"\")","v":""},null,{"$f":"IF(Eingabe!H269<>\"\",Eingabe!H269,\"\")","v":""},{"$f":"IF(Eingabe!I269<>\"\",Eingabe!I269,\"\")","v":""},{"$f":"IF(Eingabe!L269<>\"\",Eingabe!L269,\"\")","v":""},{"$f":"IF(Eingabe!J269<>\"\",Eingabe!J269,\"\")","v":""},{"$f":"IF(Eingabe!K269<>\"\",Eingabe!K269,\"\")","v":""},{"$f":"IF(Eingabe!R269<>\"\",Eingabe!R269,\"\")","v":""},{"$f":"IF(Eingabe!S269<>\"\",Eingabe!S269,\"\")","v":""},null,null,null,null,{"$f":"IF(Eingabe!V269<>\"\",Eingabe!V269,\"\")","v":""},{"$f":"IF(Eingabe!W269<>\"\",Eingabe!W269,\"\")","v":""}]
[{"$f":"IF(Eingabe!Q270<>\"\",Eingabe!Q270,\"\")","v":""},{"$f":"IF(Eingabe!U270<>\"\",Eingabe!U270,\"\")","v":""},null,{"$f":"IF(Eingabe!B270<>\"\",Eingabe!B270,\"\")","v":""},{"$f":"IF(Eingabe!C270<>\"\",Eingabe!C270,\"\")","v":""},{"$f":"IF(Eingabe!D270<>\"\",Eingabe!D270,\"\")","v":""},{"$f":"IF(Eingabe!E270<>\"\",Eingabe!E270,\"\")","v":""},{"$f":"IF(Eingabe!F270<>\"\",Eingabe!F270,\"\")","v":""},{"$f":"IF(Eingabe!G270<>\"\",Eingabe!G270,\"\")","v":""},null,{"$f":"IF(Eingabe!H270<>\"\",Eingabe!H270,\"\")","v":""},{"$f":"IF(Eingabe!I270<>\"\",Eingabe!I270,\"\")","v":""},{"$f":"IF(Eingabe!L270<>\"\",Eingabe!L270,\"\")","v":""},{"$f":"IF(Eingabe!J270<>\"\",Eingabe!J270,\"\")","v":""},{"$f":"IF(Eingabe!K270<>\"\",Eingabe!K270,\"\")","v":""},{"$f":"IF(Eingabe!R270<>\"\",Eingabe!R270,\"\")","v":""},{"$f":"IF(Eingabe!S270<>\"\",Eingabe!S270,\"\")","v":""},null,null,null,null,{"$f":"IF(Eingabe!V270<>\"\",Eingabe!V270,\"\")","v":""},{"$f":"IF(Eingabe!W270<>\"\",Eingabe!W270,\"\")","v":""}]
[{"$f":"IF(Eingabe!Q271<>\"\",Eingabe!Q271,\"\")","v":""},{"$f":"IF(Eingabe!U271<>\"\",Eingabe!U271,\"\")","v":""},null,{"$f":"IF(Eingabe!B271<>\"\",Eingabe!B271,\"\")","v":""},{"$f":"IF(Eingabe!C271<>\"\",Eingabe!C271,\"\")","v":""},{"$f":"IF(Eingabe!D271<>\"\",Eingabe!D271,\"\")","v":""},{"$f":"IF(Eingabe!E271<>\"\",Eingabe!E271,\"\")","v":""},{"$f":"IF(Eingabe!F271<>\"\",Eingabe!F271,\"\")","v":""},{"$f":"IF(Eingabe!G271<>\"\",Eingabe!G271,\"\")","v":""},null,{"$f":"IF(Eingabe!H271<>\"\",Eingabe!H271,\"\")","v":""},{"$f":"IF(Eingabe!I271<>\"\",Eingabe!I271,\"\")","v":""},{"$f":"IF(Eingabe!L271<>\"\",Eingabe!L271,\"\")","v":""},{"$f":"IF(Eingabe!J271<>\"\",Eingabe!J271,\"\")","v":""},{"$f":"IF(Eingabe!K271<>\"\",Eingabe!K271,\"\")","v":""},{"$f":"IF(Eingabe!R271<>\"\",Eingabe!R271,\"\")","v":""},{"$f":"IF(Eingabe!S271<>\"\",Eingabe!S271,\"\")","v":""},null,null,null,null,{"$f":"IF(Eingabe!V271<>\"\",Eingabe!V271,\"\")","v":""},{"$f":"IF(Eingabe!W271<>\"\",Eingabe!W271,\"\")","v":""}]
[{"$f":"IF(Eingabe!Q272<>\"\",Eingabe!Q272,\"\")","v":""},{"$f":"IF(Eingabe!U272<>\"\",Eingabe!U272,\"\")","v":""},null,{"$f":"IF(Eingabe!B272<>\"\",Eingabe!B272,\"\")","v":""},{"$f":"IF(Eingabe!C272<>\"\",Eingabe!C272,\"\")","v":""},{"$f":"IF(Eingabe!D272<>\"\",Eingabe!D272,\"\")","v":""},{"$f":"IF(Eingabe!E272<>\"\",Eingabe!E272,\"\")","v":""},{"$f":"IF(Eingabe!F272<>\"\",Eingabe!F272,\"\")","v":""},{"$f":"IF(Eingabe!G272<>\"\",Eingabe!G272,\"\")","v":""},null,{"$f":"IF(Eingabe!H272<>\"\",Eingabe!H272,\"\")","v":""},{"$f":"IF(Eingabe!I272<>\"\",Eingabe!I272,\"\")","v":""},{"$f":"IF(Eingabe!L272<>\"\",Eingabe!L272,\"\")","v":""},{"$f":"IF(Eingabe!J272<>\"\",Eingabe!J272,\"\")","v":""},{"$f":"IF(Eingabe!K272<>\"\",Eingabe!K272,\"\")","v":""},{"$f":"IF(Eingabe!R272<>\"\",Eingabe!R272,\"\")","v":""},{"$f":"IF(Eingabe!S272<>\"\",Eingabe!S272,\"\")","v":""},null,null,null,null,{"$f":"IF(Eingabe!V272<>\"\",Eingabe!V272,\"\")","v":""},{"$f":"IF(Eingabe!W272<>\"\",Eingabe!W272,\"\")","v":""}]
[{"$f":"IF(Eingabe!Q273<>\"\",Eingabe!Q273,\"\")","v":""},{"$f":"IF(Eingabe!U273<>\"\",Eingabe!U273,\"\")","v":""},null,{"$f":"IF(Eingabe!B273<>\"\",Eingabe!B273,\"\")","v":""},{"$f":"IF(Eingabe!C273<>\"\",Eingabe!C273,\"\")","v":""},{"$f":"IF(Eingabe!D273<>\"\",Eingabe!D273,\"\")","v":""},{"$f":"IF(Eingabe!E273<>\"\",Eingabe!E273,\"\")","v":""},{"$f":"IF(Eingabe!F273<>\"\",Eingabe!F273,\"\")","v":""},{"$f":"IF(Eingabe!G273<>\"\",Eingabe!G273,\"\")","v":""},null,{"$f":"IF(Eingabe!H273<>\"\",Eingabe!H273,\"\")","v":""},{"$f":"IF(Eingabe!I273<>\"\",Eingabe!I273,\"\")","v":""},{"$f":"IF(Eingabe!L273<>\"\",Eingabe!L273,\"\")","v":""},{"$f":"IF(Eingabe!J273<>\"\",Eingabe!J273,\"\")","v":""},{"$f":"IF(Eingabe!K273<>\"\",Eingabe!K273,\"\")","v":""},{"$f":"IF(Eingabe!R273<>\"\",Eingabe!R273,\"\")","v":""},{"$f":"IF(Eingabe!S273<>\"\",Eingabe!S273,\"\")","v":""},null,null,null,null,{"$f":"IF(Eingabe!V273<>\"\",Eingabe!V273,\"\")","v":""},{"$f":"IF(Eingabe!W273<>\"\",Eingabe!W273,\"\")","v":""}]
[{"$f":"IF(Eingabe!Q274<>\"\",Eingabe!Q274,\"\")","v":""},{"$f":"IF(Eingabe!U274<>\"\",Eingabe!U274,\"\")","v":""},null,{"$f":"IF(Eingabe!B274<>\"\",Eingabe!B274,\"\")","v":""},{"$f":"IF(Eingabe!C274<>\"\",Eingabe!C274,\"\")","v":""},{"$f":"IF(Eingabe!D274<>\"\",Eingabe!D274,\"\")","v":""},{"$f":"IF(Eingabe!E274<>\"\",Eingabe!E274,\"\")","v":""},{"$f":"IF(Eingabe!F274<>\"\",Eingabe!F274,\"\")","v":""},{"$f":"IF(Eingabe!G274<>\"\",Eingabe!G274,\"\")","v":""},null,{"$f":"IF(Eingabe!H274<>\"\",Eingabe!H274,\"\")","v":""},{"$f":"IF(Eingabe!I274<>\"\",Eingabe!I274,\"\")","v":""},{"$f":"IF(Eingabe!L274<>\"\",Eingabe!L274,\"\")","v":""},{"$f":"IF(Eingabe!J274<>\"\",Eingabe!J274,\"\")","v":""},{"$f":"IF(Eingabe!K274<>\"\",Eingabe!K274,\"\")","v":""},{"$f":"IF(Eingabe!R274<>\"\",Eingabe!R274,\"\")","v":""},{"$f":"IF(Eingabe!S274<>\"\",Eingabe!S274,\"\")","v":""},null,null,null,null,{"$f":"IF(Eingabe!V274<>\"\",Eingabe!V274,\"\")","v":""},{"$f":"IF(Eingabe!W274<>\"\",Eingabe!W274,\"\")","v":""}]
[{"$f":"IF(Eingabe!Q275<>\"\",Eingabe!Q275,\"\")","v":""},{"$f":"IF(Eingabe!U275<>\"\",Eingabe!U275,\"\")","v":""},null,{"$f":"IF(Eingabe!B275<>\"\",Eingabe!B275,\"\")","v":""},{"$f":"IF(Eingabe!C275<>\"\",Eingabe!C275,\"\")","v":""},{"$f":"IF(Eingabe!D275<>\"\",Eingabe!D275,\"\")","v":""},{"$f":"IF(Eingabe!E275<>\"\",Eingabe!E275,\"\")","v":""},{"$f":"IF(Eingabe!F275<>\"\",Eingabe!F275,\"\")","v":""},{"$f":"IF(Eingabe!G275<>\"\",Eingabe!G275,\"\")","v":""},null,{"$f":"IF(Eingabe!H275<>\"\",Eingabe!H275,\"\")","v":""},{"$f":"IF(Eingabe!I275<>\"\",Eingabe!I275,\"\")","v":""},{"$f":"IF(Eingabe!L275<>\"\",Eingabe!L275,\"\")","v":""},{"$f":"IF(Eingabe!J275<>\"\",Eingabe!J275,\"\")","v":""},{"$f":"IF(Eingabe!K275<>\"\",Eingabe!K275,\"\")","v":""},{"$f":"IF(Eingabe!R275<>\"\",Eingabe!R275,\"\")","v":""},{"$f":"IF(Eingabe!S275<>\"\",Eingabe!S275,\"\")","v":""},null,null,null,null,{"$f":"IF(Eingabe!V275<>\"\",Eingabe!V275,\"\")","v":""},{"$f":"IF(Eingabe!W275<>\"\",Eingabe!W275,\"\")","v":""}]
[{"$f":"IF(Eingabe!Q276<>\"\",Eingabe!Q276,\"\")","v":""},{"$f":"IF(Eingabe!U276<>\"\",Eingabe!U276,\"\")","v":""},null,{"$f":"IF(Eingabe!B276<>\"\",Eingabe!B276,\"\")","v":""},{"$f":"IF(Eingabe!C276<>\"\",Eingabe!C276,\"\")","v":""},{"$f":"IF(Eingabe!D276<>\"\",Eingabe!D276,\"\")","v":""},{"$f":"IF(Eingabe!E276<>\"\",Eingabe!E276,\"\")","v":""},{"$f":"IF(Eingabe!F276<>\"\",Eingabe!F276,\"\")","v":""},{"$f":"IF(Eingabe!G276<>\"\",Eingabe!G276,\"\")","v":""},null,{"$f":"IF(Eingabe!H276<>\"\",Eingabe!H276,\"\")","v":""},{"$f":"IF(Eingabe!I276<>\"\",Eingabe!I276,\"\")","v":""},{"$f":"IF(Eingabe!L276<>\"\",Eingabe!L276,\"\")","v":""},{"$f":"IF(Eingabe!J276<>\"\",Eingabe!J276,\"\")","v":""},{"$f":"IF(Eingabe!K276<>\"\",Eingabe!K276,\"\")","v":""},{"$f":"IF(Eingabe!R276<>\"\",Eingabe!R276,\"\")","v":""},{"$f":"IF(Eingabe!S276<>\"\",Eingabe!S276,\"\")","v":""},null,null,null,null,{"$f":"IF(Eingabe!V276<>\"\",Eingabe!V276,\"\")","v":""},{"$f":"IF(Eingabe!W276<>\"\",Eingabe!W276,\"\")","v":""}]
[{"$f":"IF(Eingabe!Q277<>\"\",Eingabe!Q277,\"\")","v":""},{"$f":"IF(Eingabe!U277<>\"\",Eingabe!U277,\"\")","v":""},null,{"$f":"IF(Eingabe!B277<>\"\",Eingabe!B277,\"\")","v":""},{"$f":"IF(Eingabe!C277<>\"\",Eingabe!C277,\"\")","v":""},{"$f":"IF(Eingabe!D277<>\"\",Eingabe!D277,\"\")","v":""},{"$f":"IF(Eingabe!E277<>\"\",Eingabe!E277,\"\")","v":""},{"$f":"IF(Eingabe!F277<>\"\",Eingabe!F277,\"\")","v":""},{"$f":"IF(Eingabe!G277<>\"\",Eingabe!G277,\"\")","v":""},null,{"$f":"IF(Eingabe!H277<>\"\",Eingabe!H277,\"\")","v":""},{"$f":"IF(Eingabe!I277<>\"\",Eingabe!I277,\"\")","v":""},{"$f":"IF(Eingabe!L277<>\"\",Eingabe!L277,\"\")","v":""},{"$f":"IF(Eingabe!J277<>\"\",Eingabe!J277,\"\")","v":""},{"$f":"IF(Eingabe!K277<>\"\",Eingabe!K277,\"\")","v":""},{"$f":"IF(Eingabe!R277<>\"\",Eingabe!R277,\"\")","v":""},{"$f":"IF(Eingabe!S277<>\"\",Eingabe!S277,\"\")","v":""},null,null,null,null,{"$f":"IF(Eingabe!V277<>\"\",Eingabe!V277,\"\")","v":""},{"$f":"IF(Eingabe!W277<>\"\",Eingabe!W277,\"\")","v":""}]
[{"$f":"IF(Eingabe!Q278<>\"\",Eingabe!Q278,\"\")","v":""},{"$f":"IF(Eingabe!U278<>\"\",Eingabe!U278,\"\")","v":""},null,{"$f":"IF(Eingabe!B278<>\"\",Eingabe!B278,\"\")","v":""},{"$f":"IF(Eingabe!C278<>\"\",Eingabe!C278,\"\")","v":""},{"$f":"IF(Eingabe!D278<>\"\",Eingabe!D278,\"\")","v":""},{"$f":"IF(Eingabe!E278<>\"\",Eingabe!E278,\"\")","v":""},{"$f":"IF(Eingabe!F278<>\"\",Eingabe!F278,\"\")","v":""},{"$f":"IF(Eingabe!G278<>\"\",Eingabe!G278,\"\")","v":""},null,{"$f":"IF(Eingabe!H278<>\"\",Eingabe!H278,\"\")","v":""},{"$f":"IF(Eingabe!I278<>\"\",Eingabe!I278,\"\")","v":""},{"$f":"IF(Eingabe!L278<>\"\",Eingabe!L278,\"\")","v":""},{"$f":"IF(Eingabe!J278<>\"\",Eingabe!J278,\"\")","v":""},{"$f":"IF(Eingabe!K278<>\"\",Eingabe!K278,\"\")","v":""},{"$f":"IF(Eingabe!R278<>\"\",Eingabe!R278,\"\")","v":""},{"$f":"IF(Eingabe!S278<>\"\",Eingabe!S278,\"\")","v":""},null,null,null,null,{"$f":"IF(Eingabe!V278<>\"\",Eingabe!V278,\"\")","v":""},{"$f":"IF(Eingabe!W278<>\"\",Eingabe!W278,\"\")","v":""}]
[{"$f":"IF(Eingabe!Q279<>\"\",Eingabe!Q279,\"\")","v":""},{"$f":"IF(Eingabe!U279<>\"\",Eingabe!U279,\"\")","v":""},null,{"$f":"IF(Eingabe!B279<>\"\",Eingabe!B279,\"\")","v":""},{"$f":"IF(Eingabe!C279<>\"\",Eingabe!C279,\"\")","v":""},{"$f":"IF(Eingabe!D279<>\"\",Eingabe!D279,\"\")","v":""},{"$f":"IF(Eingabe!E279<>\"\",Eingabe!E279,\"\")","v":""},{"$f":"IF(Eingabe!F279<>\"\",Eingabe!F279,\"\")","v":""},{"$f":"IF(Eingabe!G279<>\"\",Eingabe!G279,\"\")","v":""},null,{"$f":"IF(Eingabe!H279<>\"\",Eingabe!H279,\"\")","v":""},{"$f":"IF(Eingabe!I279<>\"\",Eingabe!I279,\"\")","v":""},{"$f":"IF(Eingabe!L279<>\"\",Eingabe!L279,\"\")","v":""},{"$f":"IF(Eingabe!J279<>\"\",Eingabe!J279,\"\")","v":""},{"$f":"IF(Eingabe!K279<>\"\",Eingabe!K279,\"\")","v":""},{"$f":"IF(Eingabe!R279<>\"\",Eingabe!R279,\"\")","v":""},{"$f":"IF(Eingabe!S279<>\"\",Eingabe!S279,\"\")","v":""},null,null,null,null,{"$f":"IF(Eingabe!V279<>\"\",Eingabe!V279,\"\")","v":""},{"$f":"IF(Eingabe!W279<>\"\",Eingabe!W279,\"\")","v":""}]
[{"$f":"IF(Eingabe!Q280<>\"\",Eingabe!Q280,\"\")","v":""},{"$f":"IF(Eingabe!U280<>\"\",Eingabe!U280,\"\")","v":""},null,{"$f":"IF(Eingabe!B280<>\"\",Eingabe!B280,\"\")","v":""},{"$f":"IF(Eingabe!C280<>\"\",Eingabe!C280,\"\")","v":""},{"$f":"IF(Eingabe!D280<>\"\",Eingabe!D280,\"\")","v":""},{"$f":"IF(Eingabe!E280<>\"\",Eingabe!E280,\"\")","v":""},{"$f":"IF(Eingabe!F280<>\"\",Eingabe!F280,\"\")","v":""},{"$f":"IF(Eingabe!G280<>\"\",Eingabe!G280,\"\")","v":""},null,{"$f":"IF(Eingabe!H280<>\"\",Eingabe!H280,\"\")","v":""},{"$f":"IF(Eingabe!I280<>\"\",Eingabe!I280,\"\")","v":""},{"$f":"IF(Eingabe!L280<>\"\",Eingabe!L280,\"\")","v":""},{"$f":"IF(Eingabe!J280<>\"\",Eingabe!J280,\"\")","v":""},{"$f":"IF(Eingabe!K280<>\"\",Eingabe!K280,\"\")","v":""},{"$f":"IF(Eingabe!R280<>\"\",Eingabe!R280,\"\")","v":""},{"$f":"IF(Eingabe!S280<>\"\",Eingabe!S280,\"\")","v":""},null,null,null,null,{"$f":"IF(Eingabe!V280<>\"\",Eingabe!V280,\"\")","v":""},{"$f":"IF(Eingabe!W280<>\"\",Eingabe!W280,\"\")","v":""}]
[{"$f":"IF(Eingabe!Q281<>\"\",Eingabe!Q281,\"\")","v":""},{"$f":"IF(Eingabe!U281<>\"\",Eingabe!U281,\"\")","v":""},null,{"$f":"IF(Eingabe!B281<>\"\",Eingabe!B281,\"\")","v":""},{"$f":"IF(Eingabe!C281<>\"\",Eingabe!C281,\"\")","v":""},{"$f":"IF(Eingabe!D281<>\"\",Eingabe!D281,\"\")","v":""},{"$f":"IF(Eingabe!E281<>\"\",Eingabe!E281,\"\")","v":""},{"$f":"IF(Eingabe!F281<>\"\",Eingabe!F281,\"\")","v":""},{"$f":"IF(Eingabe!G281<>\"\",Eingabe!G281,\"\")","v":""},null,{"$f":"IF(Eingabe!H281<>\"\",Eingabe!H281,\"\")","v":""},{"$f":"IF(Eingabe!I281<>\"\",Eingabe!I281,\"\")","v":""},{"$f":"IF(Eingabe!L281<>\"\",Eingabe!L281,\"\")","v":""},{"$f":"IF(Eingabe!J281<>\"\",Eingabe!J281,\"\")","v":""},{"$f":"IF(Eingabe!K281<>\"\",Eingabe!K281,\"\")","v":""},{"$f":"IF(Eingabe!R281<>\"\",Eingabe!R281,\"\")","v":""},{"$f":"IF(Eingabe!S281<>\"\",Eingabe!S281,\"\")","v":""},null,null,null,null,{"$f":"IF(Eingabe!V281<>\"\",Eingabe!V281,\"\")","v":""},{"$f":"IF(Eingabe!W281<>\"\",Eingabe!W281,\"\")","v":""}]
[{"$f":"IF(Eingabe!Q282<>\"\",Eingabe!Q282,\"\")","v":""},{"$f":"IF(Eingabe!U282<>\"\",Eingabe!U282,\"\")","v":""},null,{"$f":"IF(Eingabe!B282<>\"\",Eingabe!B282,\"\")","v":""},{"$f":"IF(Eingabe!C282<>\"\",Eingabe!C282,\"\")","v":""},{"$f":"IF(Eingabe!D282<>\"\",Eingabe!D282,\"\")","v":""},{"$f":"IF(Eingabe!E282<>\"\",Eingabe!E282,\"\")","v":""},{"$f":"IF(Eingabe!F282<>\"\",Eingabe!F282,\"\")","v":""},{"$f":"IF(Eingabe!G282<>\"\",Eingabe!G282,\"\")","v":""},null,{"$f":"IF(Eingabe!H282<>\"\",Eingabe!H282,\"\")","v":""},{"$f":"IF(Eingabe!I282<>\"\",Eingabe!I282,\"\")","v":""},{"$f":"IF(Eingabe!L282<>\"\",Eingabe!L282,\"\")","v":""},{"$f":"IF(Eingabe!J282<>\"\",Eingabe!J282,\"\")","v":""},{"$f":"IF(Eingabe!K282<>\"\",Eingabe!K282,\"\")","v":""},{"$f":"IF(Eingabe!R282<>\"\",Eingabe!R282,\"\")","v":""},{"$f":"IF(Eingabe!S282<>\"\",Eingabe!S282,\"\")","v":""},null,null,null,null,{"$f":"IF(Eingabe!V282<>\"\",Eingabe!V282,\"\")","v":""},{"$f":"IF(Eingabe!W282<>\"\",Eingabe!W282,\"\")","v":""}]
[{"$f":"IF(Eingabe!Q283<>\"\",Eingabe!Q283,\"\")","v":""},{"$f":"IF(Eingabe!U283<>\"\",Eingabe!U283,\"\")","v":""},null,{"$f":"IF(Eingabe!B283<>\"\",Eingabe!B283,\"\")","v":""},{"$f":"IF(Eingabe!C283<>\"\",Eingabe!C283,\"\")","v":""},{"$f":"IF(Eingabe!D283<>\"\",Eingabe!D283,\"\")","v":""},{"$f":"IF(Eingabe!E283<>\"\",Eingabe!E283,\"\")","v":""},{"$f":"IF(Eingabe!F283<>\"\",Eingabe!F283,\"\")","v":""},{"$f":"IF(Eingabe!G283<>\"\",Eingabe!G283,\"\")","v":""},null,{"$f":"IF(Eingabe!H283<>\"\",Eingabe!H283,\"\")","v":""},{"$f":"IF(Eingabe!I283<>\"\",Eingabe!I283,\"\")","v":""},{"$f":"IF(Eingabe!L283<>\"\",Eingabe!L283,\"\")","v":""},{"$f":"IF(Eingabe!J283<>\"\",Eingabe!J283,\"\")","v":""},{"$f":"IF(Eingabe!K283<>\"\",Eingabe!K283,\"\")","v":""},{"$f":"IF(Eingabe!R283<>\"\",Eingabe!R283,\"\")","v":""},{"$f":"IF(Eingabe!S283<>\"\",Eingabe!S283,\"\")","v":""},null,null,null,null,{"$f":"IF(Eingabe!V283<>\"\",Eingabe!V283,\"\")","v":""},{"$f":"IF(Eingabe!W283<>\"\",Eingabe!W283,\"\")","v":""}]
[{"$f":"IF(Eingabe!Q284<>\"\",Eingabe!Q284,\"\")","v":""},{"$f":"IF(Eingabe!U284<>\"\",Eingabe!U284,\"\")","v":""},null,{"$f":"IF(Eingabe!B284<>\"\",Eingabe!B284,\"\")","v":""},{"$f":"IF(Eingabe!C284<>\"\",Eingabe!C284,\"\")","v":""},{"$f":"IF(Eingabe!D284<>\"\",Eingabe!D284,\"\")","v":""},{"$f":"IF(Eingabe!E284<>\"\",Eingabe!E284,\"\")","v":""},{"$f":"IF(Eingabe!F284<>\"\",Eingabe!F284,\"\")","v":""},{"$f":"IF(Eingabe!G284<>\"\",Eingabe!G284,\"\")","v":""},null,{"$f":"IF(Eingabe!H284<>\"\",Eingabe!H284,\"\")","v":""},{"$f":"IF(Eingabe!I284<>\"\",Eingabe!I284,\"\")","v":""},{"$f":"IF(Eingabe!L284<>\"\",Eingabe!L284,\"\")","v":""},{"$f":"IF(Eingabe!J284<>\"\",Eingabe!J284,\"\")","v":""},{"$f":"IF(Eingabe!K284<>\"\",Eingabe!K284,\"\")","v":""},{"$f":"IF(Eingabe!R284<>\"\",Eingabe!R284,\"\")","v":""},{"$f":"IF(Eingabe!S284<>\"\",Eingabe!S284,\"\")","v":""},null,null,null,null,{"$f":"IF(Eingabe!V284<>\"\",Eingabe!V284,\"\")","v":""},{"$f":"IF(Eingabe!W284<>\"\",Eingabe!W284,\"\")","v":""}]
[{"$f":"IF(Eingabe!Q285<>\"\",Eingabe!Q285,\"\")","v":""},{"$f":"IF(Eingabe!U285<>\"\",Eingabe!U285,\"\")","v":""},null,{"$f":"IF(Eingabe!B285<>\"\",Eingabe!B285,\"\")","v":""},{"$f":"IF(Eingabe!C285<>\"\",Eingabe!C285,\"\")","v":""},{"$f":"IF(Eingabe!D285<>\"\",Eingabe!D285,\"\")","v":""},{"$f":"IF(Eingabe!E285<>\"\",Eingabe!E285,\"\")","v":""},{"$f":"IF(Eingabe!F285<>\"\",Eingabe!F285,\"\")","v":""},{"$f":"IF(Eingabe!G285<>\"\",Eingabe!G285,\"\")","v":""},null,{"$f":"IF(Eingabe!H285<>\"\",Eingabe!H285,\"\")","v":""},{"$f":"IF(Eingabe!I285<>\"\",Eingabe!I285,\"\")","v":""},{"$f":"IF(Eingabe!L285<>\"\",Eingabe!L285,\"\")","v":""},{"$f":"IF(Eingabe!J285<>\"\",Eingabe!J285,\"\")","v":""},{"$f":"IF(Eingabe!K285<>\"\",Eingabe!K285,\"\")","v":""},{"$f":"IF(Eingabe!R285<>\"\",Eingabe!R285,\"\")","v":""},{"$f":"IF(Eingabe!S285<>\"\",Eingabe!S285,\"\")","v":""},null,null,null,null,{"$f":"IF(Eingabe!V285<>\"\",Eingabe!V285,\"\")","v":""},{"$f":"IF(Eingabe!W285<>\"\",Eingabe!W285,\"\")","v":""}]
[{"$f":"IF(Eingabe!Q286<>\"\",Eingabe!Q286,\"\")","v":""},{"$f":"IF(Eingabe!U286<>\"\",Eingabe!U286,\"\")","v":""},null,{"$f":"IF(Eingabe!B286<>\"\",Eingabe!B286,\"\")","v":""},{"$f":"IF(Eingabe!C286<>\"\",Eingabe!C286,\"\")","v":""},{"$f":"IF(Eingabe!D286<>\"\",Eingabe!D286,\"\")","v":""},{"$f":"IF(Eingabe!E286<>\"\",Eingabe!E286,\"\")","v":""},{"$f":"IF(Eingabe!F286<>\"\",Eingabe!F286,\"\")","v":""},{"$f":"IF(Eingabe!G286<>\"\",Eingabe!G286,\"\")","v":""},null,{"$f":"IF(Eingabe!H286<>\"\",Eingabe!H286,\"\")","v":""},{"$f":"IF(Eingabe!I286<>\"\",Eingabe!I286,\"\")","v":""},{"$f":"IF(Eingabe!L286<>\"\",Eingabe!L286,\"\")","v":""},{"$f":"IF(Eingabe!J286<>\"\",Eingabe!J286,\"\")","v":""},{"$f":"IF(Eingabe!K286<>\"\",Eingabe!K286,\"\")","v":""},{"$f":"IF(Eingabe!R286<>\"\",Eingabe!R286,\"\")","v":""},{"$f":"IF(Eingabe!S286<>\"\",Eingabe!S286,\"\")","v":""},null,null,null,null,{"$f":"IF(Eingabe!V286<>\"\",Eingabe!V286,\"\")","v":""},{"$f":"IF(Eingabe!W286<>\"\",Eingabe!W286,\"\")","v":""}]
[{"$f":"IF(Eingabe!Q287<>\"\",Eingabe!Q287,\"\")","v":""},{"$f":"IF(Eingabe!U287<>\"\",Eingabe!U287,\"\")","v":""},null,{"$f":"IF(Eingabe!B287<>\"\",Eingabe!B287,\"\")","v":""},{"$f":"IF(Eingabe!C287<>\"\",Eingabe!C287,\"\")","v":""},{"$f":"IF(Eingabe!D287<>\"\",Eingabe!D287,\"\")","v":""},{"$f":"IF(Eingabe!E287<>\"\",Eingabe!E287,\"\")","v":""},{"$f":"IF(Eingabe!F287<>\"\",Eingabe!F287,\"\")","v":""},{"$f":"IF(Eingabe!G287<>\"\",Eingabe!G287,\"\")","v":""},null,{"$f":"IF(Eingabe!H287<>\"\",Eingabe!H287,\"\")","v":""},{"$f":"IF(Eingabe!I287<>\"\",Eingabe!I287,\"\")","v":""},{"$f":"IF(Eingabe!L287<>\"\",Eingabe!L287,\"\")","v":""},{"$f":"IF(Eingabe!J287<>\"\",Eingabe!J287,\"\")","v":""},{"$f":"IF(Eingabe!K287<>\"\",Eingabe!K287,\"\")","v":""},{"$f":"IF(Eingabe!R287<>\"\",Eingabe!R287,\"\")","v":""},{"$f":"IF(Eingabe!S287<>\"\",Eingabe!S287,\"\")","v":""},null,null,null,null,{"$f":"IF(Eingabe!V287<>\"\",Eingabe!V287,\"\")","v":""},{"$f":"IF(Eingabe!W287<>\"\",Eingabe!W287,\"\")","v":""}]
[{"$f":"IF(Eingabe!Q288<>\"\",Eingabe!Q288,\"\")","v":""},{"$f":"IF(Eingabe!U288<>\"\",Eingabe!U288,\"\")","v":""},null,{"$f":"IF(Eingabe!B288<>\"\",Eingabe!B288,\"\")","v":""},{"$f":"IF(Eingabe!C288<>\"\",Eingabe!C288,\"\")","v":""},{"$f":"IF(Eingabe!D288<>\"\",Eingabe!D288,\"\")","v":""},{"$f":"IF(Eingabe!E288<>\"\",Eingabe!E288,\"\")","v":""},{"$f":"IF(Eingabe!F288<>\"\",Eingabe!F288,\"\")","v":""},{"$f":"IF(Eingabe!G288<>\"\",Eingabe!G288,\"\")","v":""},null,{"$f":"IF(Eingabe!H288<>\"\",Eingabe!H288,\"\")","v":""},{"$f":"IF(Eingabe!I288<>\"\",Eingabe!I288,\"\")","v":""},{"$f":"IF(Eingabe!L288<>\"\",Eingabe!L288,\"\")","v":""},{"$f":"IF(Eingabe!J288<>\"\",Eingabe!J288,\"\")","v":""},{"$f":"IF(Eingabe!K288<>\"\",Eingabe!K288,\"\")","v":""},{"$f":"IF(Eingabe!R288<>\"\",Eingabe!R288,\"\")","v":""},{"$f":"IF(Eingabe!S288<>\"\",Eingabe!S288,\"\")","v":""},null,null,null,null,{"$f":"IF(Eingabe!V288<>\"\",Eingabe!V288,\"\")","v":""},{"$f":"IF(Eingabe!W288<>\"\",Eingabe!W288,\"\")","v":""}]
[{"$f":"IF(Eingabe!Q289<>\"\",Eingabe!Q289,\"\")","v":""},{"$f":"IF(Eingabe!U289<>\"\",Eingabe!U289,\"\")","v":""},null,{"$f":"IF(Eingabe!B289<>\"\",Eingabe!B289,\"\")","v":""},{"$f":"IF(Eingabe!C289<>\"\",Eingabe!C289,\"\")","v":""},{"$f":"IF(Eingabe!D289<>\"\",Eingabe!D289,\"\")","v":""},{"$f":"IF(Eingabe!E289<>\"\",Eingabe!E289,\"\")","v":""},{"$f":"IF(Eingabe!F289<>\"\",Eingabe!F289,\"\")","v":""},{"$f":"IF(Eingabe!G289<>\"\",Eingabe!G289,\"\")","v":""},null,{"$f":"IF(Eingabe!H289<>\"\",Eingabe!H289,\"\")","v":""},{"$f":"IF(Eingabe!I289<>\"\",Eingabe!I289,\"\")","v":""},{"$f":"IF(Eingabe!L289<>\"\",Eingabe!L289,\"\")","v":""},{"$f":"IF(Eingabe!J289<>\"\",Eingabe!J289,\"\")","v":""},{"$f":"IF(Eingabe!K289<>\"\",Eingabe!K289,\"\")","v":""},{"$f":"IF(Eingabe!R289<>\"\",Eingabe!R289,\"\")","v":""},{"$f":"IF(Eingabe!S289<>\"\",Eingabe!S289,\"\")","v":""},null,null,null,null,{"$f":"IF(Eingabe!V289<>\"\",Eingabe!V289,\"\")","v":""},{"$f":"IF(Eingabe!W289<>\"\",Eingabe!W289,\"\")","v":""}]
[{"$f":"IF(Eingabe!Q290<>\"\",Eingabe!Q290,\"\")","v":""},{"$f":"IF(Eingabe!U290<>\"\",Eingabe!U290,\"\")","v":""},null,{"$f":"IF(Eingabe!B290<>\"\",Eingabe!B290,\"\")","v":""},{"$f":"IF(Eingabe!C290<>\"\",Eingabe!C290,\"\")","v":""},{"$f":"IF(Eingabe!D290<>\"\",Eingabe!D290,\"\")","v":""},{"$f":"IF(Eingabe!E290<>\"\",Eingabe!E290,\"\")","v":""},{"$f":"IF(Eingabe!F290<>\"\",Eingabe!F290,\"\")","v":""},{"$f":"IF(Eingabe!G290<>\"\",Eingabe!G290,\"\")","v":""},null,{"$f":"IF(Eingabe!H290<>\"\",Eingabe!H290,\"\")","v":""},{"$f":"IF(Eingabe!I290<>\"\",Eingabe!I290,\"\")","v":""},{"$f":"IF(Eingabe!L290<>\"\",Eingabe!L290,\"\")","v":""},{"$f":"IF(Eingabe!J290<>\"\",Eingabe!J290,\"\")","v":""},{"$f":"IF(Eingabe!K290<>\"\",Eingabe!K290,\"\")","v":""},{"$f":"IF(Eingabe!R290<>\"\",Eingabe!R290,\"\")","v":""},{"$f":"IF(Eingabe!S290<>\"\",Eingabe!S290,\"\")","v":""},null,null,null,null,{"$f":"IF(Eingabe!V290<>\"\",Eingabe!V290,\"\")","v":""},{"$f":"IF(Eingabe!W290<>\"\",Eingabe!W290,\"\")","v":""}]
[{"$f":"IF(Eingabe!Q291<>\"\",Eingabe!Q291,\"\")","v":""},{"$f":"IF(Eingabe!U291<>\"\",Eingabe!U291,\"\")","v":""},null,{"$f":"IF(Eingabe!B291<>\"\",Eingabe!B291,\"\")","v":""},{"$f":"IF(Eingabe!C291<>\"\",Eingabe!C291,\"\")","v":""},{"$f":"IF(Eingabe!D291<>\"\",Eingabe!D291,\"\")","v":""},{"$f":"IF(Eingabe!E291<>\"\",Eingabe!E291,\"\")","v":""},{"$f":"IF(Eingabe!F291<>\"\",Eingabe!F291,\"\")","v":""},{"$f":"IF(Eingabe!G291<>\"\",Eingabe!G291,\"\")","v":""},null,{"$f":"IF(Eingabe!H291<>\"\",Eingabe!H291,\"\")","v":""},{"$f":"IF(Eingabe!I291<>\"\",Eingabe!I291,\"\")","v":""},{"$f":"IF(Eingabe!L291<>\"\",Eingabe!L291,\"\")","v":""},{"$f":"IF(Eingabe!J291<>\"\",Eingabe!J291,\"\")","v":""},{"$f":"IF(Eingabe!K291<>\"\",Eingabe!K291,\"\")","v":""},{"$f":"IF(Eingabe!R291<>\"\",Eingabe!R291,\"\")","v":""},{"$f":"IF(Eingabe!S291<>\"\",Eingabe!S291,\"\")","v":""},null,null,null,null,{"$f":"IF(Eingabe!V291<>\"\",Eingabe!V291,\"\")","v":""},{"$f":"IF(Eingabe!W291<>\"\",Eingabe!W291,\"\")","v":""}]
[{"$f":"IF(Eingabe!Q292<>\"\",Eingabe!Q292,\"\")","v":""},{"$f":"IF(Eingabe!U292<>\"\",Eingabe!U292,\"\")","v":""},null,{"$f":"IF(Eingabe!B292<>\"\",Eingabe!B292,\"\")","v":""},{"$f":"IF(Eingabe!C292<>\"\",Eingabe!C292,\"\")","v":""},{"$f":"IF(Eingabe!D292<>\"\",Eingabe!D292,\"\")","v":""},{"$f":"IF(Eingabe!E292<>\"\",Eingabe!E292,\"\")","v":""},{"$f":"IF(Eingabe!F292<>\"\",Eingabe!F292,\"\")","v":""},{"$f":"IF(Eingabe!G292<>\"\",Eingabe!G292,\"\")","v":""},null,{"$f":"IF(Eingabe!H292<>\"\",Eingabe!H292,\"\")","v":""},{"$f":"IF(Eingabe!I292<>\"\",Eingabe!I292,\"\")","v":""},{"$f":"IF(Eingabe!L292<>\"\",Eingabe!L292,\"\")","v":""},{"$f":"IF(Eingabe!J292<>\"\",Eingabe!J292,\"\")","v":""},{"$f":"IF(Eingabe!K292<>\"\",Eingabe!K292,\"\")","v":""},{"$f":"IF(Eingabe!R292<>\"\",Eingabe!R292,\"\")","v":""},{"$f":"IF(Eingabe!S292<>\"\",Eingabe!S292,\"\")","v":""},null,null,null,null,{"$f":"IF(Eingabe!V292<>\"\",Eingabe!V292,\"\")","v":""},{"$f":"IF(Eingabe!W292<>\"\",Eingabe!W292,\"\")","v":""}]
[{"$f":"IF(Eingabe!Q293<>\"\",Eingabe!Q293,\"\")","v":""},{"$f":"IF(Eingabe!U293<>\"\",Eingabe!U293,\"\")","v":""},null,{"$f":"IF(Eingabe!B293<>\"\",Eingabe!B293,\"\")","v":""},{"$f":"IF(Eingabe!C293<>\"\",Eingabe!C293,\"\")","v":""},{"$f":"IF(Eingabe!D293<>\"\",Eingabe!D293,\"\")","v":""},{"$f":"IF(Eingabe!E293<>\"\",Eingabe!E293,\"\")","v":""},{"$f":"IF(Eingabe!F293<>\"\",Eingabe!F293,\"\")","v":""},{"$f":"IF(Eingabe!G293<>\"\",Eingabe!G293,\"\")","v":""},null,{"$f":"IF(Eingabe!H293<>\"\",Eingabe!H293,\"\")","v":""},{"$f":"IF(Eingabe!I293<>\"\",Eingabe!I293,\"\")","v":""},{"$f":"IF(Eingabe!L293<>\"\",Eingabe!L293,\"\")","v":""},{"$f":"IF(Eingabe!J293<>\"\",Eingabe!J293,\"\")","v":""},{"$f":"IF(Eingabe!K293<>\"\",Eingabe!K293,\"\")","v":""},{"$f":"IF(Eingabe!R293<>\"\",Eingabe!R293,\"\")","v":""},{"$f":"IF(Eingabe!S293<>\"\",Eingabe!S293,\"\")","v":""},null,null,null,null,{"$f":"IF(Eingabe!V293<>\"\",Eingabe!V293,\"\")","v":""},{"$f":"IF(Eingabe!W293<>\"\",Eingabe!W293,\"\")","v":""}]
[{"$f":"IF(Eingabe!Q294<>\"\",Eingabe!Q294,\"\")","v":""},{"$f":"IF(Eingabe!U294<>\"\",Eingabe!U294,\"\")","v":""},null,{"$f":"IF(Eingabe!B294<>\"\",Eingabe!B294,\"\")","v":""},{"$f":"IF(Eingabe!C294<>\"\",Eingabe!C294,\"\")","v":""},{"$f":"IF(Eingabe!D294<>\"\",Eingabe!D294,\"\")","v":""},{"$f":"IF(Eingabe!E294<>\"\",Eingabe!E294,\"\")","v":""},{"$f":"IF(Eingabe!F294<>\"\",Eingabe!F294,\"\")","v":""},{"$f":"IF(Eingabe!G294<>\"\",Eingabe!G294,\"\")","v":""},null,{"$f":"IF(Eingabe!H294<>\"\",Eingabe!H294,\"\")","v":""},{"$f":"IF(Eingabe!I294<>\"\",Eingabe!I294,\"\")","v":""},{"$f":"IF(Eingabe!L294<>\"\",Eingabe!L294,\"\")","v":""},{"$f":"IF(Eingabe!J294<>\"\",Eingabe!J294,\"\")","v":""},{"$f":"IF(Eingabe!K294<>\"\",Eingabe!K294,\"\")","v":""},{"$f":"IF(Eingabe!R294<>\"\",Eingabe!R294,\"\")","v":""},{"$f":"IF(Eingabe!S294<>\"\",Eingabe!S294,\"\")","v":""},null,null,null,null,{"$f":"IF(Eingabe!V294<>\"\",Eingabe!V294,\"\")","v":""},{"$f":"IF(Eingabe!W294<>\"\",Eingabe!W294,\"\")","v":""}]
[{"$f":"IF(Eingabe!Q295<>\"\",Eingabe!Q295,\"\")","v":""},{"$f":"IF(Eingabe!U295<>\"\",Eingabe!U295,\"\")","v":""},null,{"$f":"IF(Eingabe!B295<>\"\",Eingabe!B295,\"\")","v":""},{"$f":"IF(Eingabe!C295<>\"\",Eingabe!C295,\"\")","v":""},{"$f":"IF(Eingabe!D295<>\"\",Eingabe!D295,\"\")","v":""},{"$f":"IF(Eingabe!E295<>\"\",Eingabe!E295,\"\")","v":""},{"$f":"IF(Eingabe!F295<>\"\",Eingabe!F295,\"\")","v":""},{"$f":"IF(Eingabe!G295<>\"\",Eingabe!G295,\"\")","v":""},null,{"$f":"IF(Eingabe!H295<>\"\",Eingabe!H295,\"\")","v":""},{"$f":"IF(Eingabe!I295<>\"\",Eingabe!I295,\"\")","v":""},{"$f":"IF(Eingabe!L295<>\"\",Eingabe!L295,\"\")","v":""},{"$f":"IF(Eingabe!J295<>\"\",Eingabe!J295,\"\")","v":""},{"$f":"IF(Eingabe!K295<>\"\",Eingabe!K295,\"\")","v":""},{"$f":"IF(Eingabe!R295<>\"\",Eingabe!R295,\"\")","v":""},{"$f":"IF(Eingabe!S295<>\"\",Eingabe!S295,\"\")","v":""},null,null,null,null,{"$f":"IF(Eingabe!V295<>\"\",Eingabe!V295,\"\")","v":""},{"$f":"IF(Eingabe!W295<>\"\",Eingabe!W295,\"\")","v":""}]
[{"$f":"IF(Eingabe!Q296<>\"\",Eingabe!Q296,\"\")","v":""},{"$f":"IF(Eingabe!U296<>\"\",Eingabe!U296,\"\")","v":""},null,{"$f":"IF(Eingabe!B296<>\"\",Eingabe!B296,\"\")","v":""},{"$f":"IF(Eingabe!C296<>\"\",Eingabe!C296,\"\")","v":""},{"$f":"IF(Eingabe!D296<>\"\",Eingabe!D296,\"\")","v":""},{"$f":"IF(Eingabe!E296<>\"\",Eingabe!E296,\"\")","v":""},{"$f":"IF(Eingabe!F296<>\"\",Eingabe!F296,\"\")","v":""},{"$f":"IF(Eingabe!G296<>\"\",Eingabe!G296,\"\")","v":""},null,{"$f":"IF(Eingabe!H296<>\"\",Eingabe!H296,\"\")","v":""},{"$f":"IF(Eingabe!I296<>\"\",Eingabe!I296,\"\")","v":""},{"$f":"IF(Eingabe!L296<>\"\",Eingabe!L296,\"\")","v":""},{"$f":"IF(Eingabe!J296<>\"\",Eingabe!J296,\"\")","v":""},{"$f":"IF(Eingabe!K296<>\"\",Eingabe!K296,\"\")","v":""},{"$f":"IF(Eingabe!R296<>\"\",Eingabe!R296,\"\")","v":""},{"$f":"IF(Eingabe!S296<>\"\",Eingabe!S296,\"\")","v":""},null,null,null,null,{"$f":"IF(Eingabe!V296<>\"\",Eingabe!V296,\"\")","v":""},{"$f":"IF(Eingabe!W296<>\"\",Eingabe!W296,\"\")","v":""}]
[{"$f":"IF(Eingabe!Q297<>\"\",Eingabe!Q297,\"\")","v":""},{"$f":"IF(Eingabe!U297<>\"\",Eingabe!U297,\"\")","v":""},null,{"$f":"IF(Eingabe!B297<>\"\",Eingabe!B297,\"\")","v":""},{"$f":"IF(Eingabe!C297<>\"\",Eingabe!C297,\"\")","v":""},{"$f":"IF(Eingabe!D297<>\"\",Eingabe!D297,\"\")","v":""},{"$f":"IF(Eingabe!E297<>\"\",Eingabe!E297,\"\")","v":""},{"$f":"IF(Eingabe!F297<>\"\",Eingabe!F297,\"\")","v":""},{"$f":"IF(Eingabe!G297<>\"\",Eingabe!G297,\"\")","v":""},null,{"$f":"IF(Eingabe!H297<>\"\",Eingabe!H297,\"\")","v":""},{"$f":"IF(Eingabe!I297<>\"\",Eingabe!I297,\"\")","v":""},{"$f":"IF(Eingabe!L297<>\"\",Eingabe!L297,\"\")","v":""},{"$f":"IF(Eingabe!J297<>\"\",Eingabe!J297,\"\")","v":""},{"$f":"IF(Eingabe!K297<>\"\",Eingabe!K297,\"\")","v":""},{"$f":"IF(Eingabe!R297<>\"\",Eingabe!R297,\"\")","v":""},{"$f":"IF(Eingabe!S297<>\"\",Eingabe!S297,\"\")","v":""},null,null,null,null,{"$f":"IF(Eingabe!V297<>\"\",Eingabe!V297,\"\")","v":""},{"$f":"IF(Eingabe!W297<>\"\",Eingabe!W297,\"\")","v":""}]
[{"$f":"IF(Eingabe!Q298<>\"\",Eingabe!Q298,\"\")","v":""},{"$f":"IF(Eingabe!U298<>\"\",Eingabe!U298,\"\")","v":""},null,{"$f":"IF(Eingabe!B298<>\"\",Eingabe!B298,\"\")","v":""},{"$f":"IF(Eingabe!C298<>\"\",Eingabe!C298,\"\")","v":""},{"$f":"IF(Eingabe!D298<>\"\",Eingabe!D298,\"\")","v":""},{"$f":"IF(Eingabe!E298<>\"\",Eingabe!E298,\"\")","v":""},{"$f":"IF(Eingabe!F298<>\"\",Eingabe!F298,\"\")","v":""},{"$f":"IF(Eingabe!G298<>\"\",Eingabe!G298,\"\")","v":""},null,{"$f":"IF(Eingabe!H298<>\"\",Eingabe!H298,\"\")","v":""},{"$f":"IF(Eingabe!I298<>\"\",Eingabe!I298,\"\")","v":""},{"$f":"IF(Eingabe!L298<>\"\",Eingabe!L298,\"\")","v":""},{"$f":"IF(Eingabe!J298<>\"\",Eingabe!J298,\"\")","v":""},{"$f":"IF(Eingabe!K298<>\"\",Eingabe!K298,\"\")","v":""},{"$f":"IF(Eingabe!R298<>\"\",Eingabe!R298,\"\")","v":""},{"$f":"IF(Eingabe!S298<>\"\",Eingabe!S298,\"\")","v":""},null,null,null,null,{"$f":"IF(Eingabe!V298<>\"\",Eingabe!V298,\"\")","v":""},{"$f":"IF(Eingabe!W298<>\"\",Eingabe!W298,\"\")","v":""}]
[{"$f":"IF(Eingabe!Q299<>\"\",Eingabe!Q299,\"\")","v":""},{"$f":"IF(Eingabe!U299<>\"\",Eingabe!U299,\"\")","v":""},null,{"$f":"IF(Eingabe!B299<>\"\",Eingabe!B299,\"\")","v":""},{"$f":"IF(Eingabe!C299<>\"\",Eingabe!C299,\"\")","v":""},{"$f":"IF(Eingabe!D299<>\"\",Eingabe!D299,\"\")","v":""},{"$f":"IF(Eingabe!E299<>\"\",Eingabe!E299,\"\")","v":""},{"$f":"IF(Eingabe!F299<>\"\",Eingabe!F299,\"\")","v":""},{"$f":"IF(Eingabe!G299<>\"\",Eingabe!G299,\"\")","v":""},null,{"$f":"IF(Eingabe!H299<>\"\",Eingabe!H299,\"\")","v":""},{"$f":"IF(Eingabe!I299<>\"\",Eingabe!I299,\"\")","v":""},{"$f":"IF(Eingabe!L299<>\"\",Eingabe!L299,\"\")","v":""},{"$f":"IF(Eingabe!J299<>\"\",Eingabe!J299,\"\")","v":""},{"$f":"IF(Eingabe!K299<>\"\",Eingabe!K299,\"\")","v":""},{"$f":"IF(Eingabe!R299<>\"\",Eingabe!R299,\"\")","v":""},{"$f":"IF(Eingabe!S299<>\"\",Eingabe!S299,\"\")","v":""},null,null,null,null,{"$f":"IF(Eingabe!V299<>\"\",Eingabe!V299,\"\")","v":""},{"$f":"IF(Eingabe!W299<>\"\",Eingabe!W299,\"\")","v":""}]
[{"$f":"IF(Eingabe!Q300<>\"\",Eingabe!Q300,\"\")","v":""},{"$f":"IF(Eingabe!U300<>\"\",Eingabe!U300,\"\")","v":""},null,{"$f":"IF(Eingabe!B300<>\"\",Eingabe!B300,\"\")","v":""},{"$f":"IF(Eingabe!C300<>\"\",Eingabe!C300,\"\")","v":""},{"$f":"IF(Eingabe!D300<>\"\",Eingabe!D300,\"\")","v":""},{"$f":"IF(Eingabe!E300<>\"\",Eingabe!E300,\"\")","v":""},{"$f":"IF(Eingabe!F300<>\"\",Eingabe!F300,\"\")","v":""},{"$f":"IF(Eingabe!G300<>\"\",Eingabe!G300,\"\")","v":""},null,{"$f":"IF(Eingabe!H300<>\"\",Eingabe!H300,\"\")","v":""},{"$f":"IF(Eingabe!I300<>\"\",Eingabe!I300,\"\")","v":""},{"$f":"IF(Eingabe!L300<>\"\",Eingabe!L300,\"\")","v":""},{"$f":"IF(Eingabe!J300<>\"\",Eingabe!J300,\"\")","v":""},{"$f":"IF(Eingabe!K300<>\"\",Eingabe!K300,\"\")","v":""},{"$f":"IF(Eingabe!R300<>\"\",Eingabe!R300,\"\")","v":""},{"$f":"IF(Eingabe!S300<>\"\",Eingabe!S300,\"\")","v":""},null,null,null,null,{"$f":"IF(Eingabe!V300<>\"\",Eingabe!V300,\"\")","v":""},{"$f":"IF(Eingabe!W300<>\"\",Eingabe!W300,\"\")","v":""}]
[{"$f":"IF(Eingabe!Q301<>\"\",Eingabe!Q301,\"\")","v":""},{"$f":"IF(Eingabe!U301<>\"\",Eingabe!U301,\"\")","v":""},null,{"$f":"IF(Eingabe!B301<>\"\",Eingabe!B301,\"\")","v":""},{"$f":"IF(Eingabe!C301<>\"\",Eingabe!C301,\"\")","v":""},{"$f":"IF(Eingabe!D301<>\"\",Eingabe!D301,\"\")","v":""},{"$f":"IF(Eingabe!E301<>\"\",Eingabe!E301,\"\")","v":""},{"$f":"IF(Eingabe!F301<>\"\",Eingabe!F301,\"\")","v":""},{"$f":"IF(Eingabe!G301<>\"\",Eingabe!G301,\"\")","v":""},null,{"$f":"IF(Eingabe!H301<>\"\",Eingabe!H301,\"\")","v":""},{"$f":"IF(Eingabe!I301<>\"\",Eingabe!I301,\"\")","v":""},{"$f":"IF(Eingabe!L301<>\"\",Eingabe!L301,\"\")","v":""},{"$f":"IF(Eingabe!J301<>\"\",Eingabe!J301,\"\")","v":""},{"$f":"IF(Eingabe!K301<>\"\",Eingabe!K301,\"\")","v":""},{"$f":"IF(Eingabe!R301<>\"\",Eingabe!R301,\"\")","v":""},{"$f":"IF(Eingabe!S301<>\"\",Eingabe!S301,\"\")","v":""},null,null,null,null,{"$f":"IF(Eingabe!V301<>\"\",Eingabe!V301,\"\")","v":""},{"$f":"IF(Eingabe!W301<>\"\",Eingabe!W301,\"\")","v":""}]
[{"$f":"IF(Eingabe!Q302<>\"\",Eingabe!Q302,\"\")","v":""},{"$f":"IF(Eingabe!U302<>\"\",Eingabe!U302,\"\")","v":""},null,{"$f":"IF(Eingabe!B302<>\"\",Eingabe!B302,\"\")","v":""},{"$f":"IF(Eingabe!C302<>\"\",Eingabe!C302,\"\")","v":""},{"$f":"IF(Eingabe!D302<>\"\",Eingabe!D302,\"\")","v":""},{"$f":"IF(Eingabe!E302<>\"\",Eingabe!E302,\"\")","v":""},{"$f":"IF(Eingabe!F302<>\"\",Eingabe!F302,\"\")","v":""},{"$f":"IF(Eingabe!G302<>\"\",Eingabe!G302,\"\")","v":""},null,{"$f":"IF(Eingabe!H302<>\"\",Eingabe!H302,\"\")","v":""},{"$f":"IF(Eingabe!I302<>\"\",Eingabe!I302,\"\")","v":""},{"$f":"IF(Eingabe!L302<>\"\",Eingabe!L302,\"\")","v":""},{"$f":"IF(Eingabe!J302<>\"\",Eingabe!J302,\"\")","v":""},{"$f":"IF(Eingabe!K302<>\"\",Eingabe!K302,\"\")","v":""},{"$f":"IF(Eingabe!R302<>\"\",Eingabe!R302,\"\")","v":""},{"$f":"IF(Eingabe!S302<>\"\",Eingabe!S302,\"\")","v":""},null,null,null,null,{"$f":"IF(Eingabe!V302<>\"\",Eingabe!V302,\"\")","v":""},{"$f":"IF(Eingabe!W302<>\"\",Eingabe!W302,\"\")","v":""}]
[{"$f":"IF(Eingabe!Q303<>\"\",Eingabe!Q303,\"\")","v":""},{"$f":"IF(Eingabe!U303<>\"\",Eingabe!U303,\"\")","v":""},null,{"$f":"IF(Eingabe!B303<>\"\",Eingabe!B303,\"\")","v":""},{"$f":"IF(Eingabe!C303<>\"\",Eingabe!C303,\"\")","v":""},{"$f":"IF(Eingabe!D303<>\"\",Eingabe!D303,\"\")","v":""},{"$f":"IF(Eingabe!E303<>\"\",Eingabe!E303,\"\")","v":""},{"$f":"IF(Eingabe!F303<>\"\",Eingabe!F303,\"\")","v":""},{"$f":"IF(Eingabe!G303<>\"\",Eingabe!G303,\"\")","v":""},null,{"$f":"IF(Eingabe!H303<>\"\",Eingabe!H303,\"\")","v":""},{"$f":"IF(Eingabe!I303<>\"\",Eingabe!I303,\"\")","v":""},{"$f":"IF(Eingabe!L303<>\"\",Eingabe!L303,\"\")","v":""},{"$f":"IF(Eingabe!J303<>\"\",Eingabe!J303,\"\")","v":""},{"$f":"IF(Eingabe!K303<>\"\",Eingabe!K303,\"\")","v":""},{"$f":"IF(Eingabe!R303<>\"\",Eingabe!R303,\"\")","v":""},{"$f":"IF(Eingabe!S303<>\"\",Eingabe!S303,\"\")","v":""},null,null,null,null,{"$f":"IF(Eingabe!V303<>\"\",Eingabe!V303,\"\")","v":""},{"$f":"IF(Eingabe!W303<>\"\",Eingabe!W303,\"\")","v":""}]

{"sheet":"AMIS-ALMS","index":5,"n_rows":71,"n_cols":51,"rows_kept":71,"cut":false,"hidden":false,"merged":[]}
["Pflichtfelder","Name","Vorname","Titel","PLZ","Ort","Strasse","Telefon","Personalnummer","Geburtsdatum","Geschlecht","Firmeneintritt","Jahresgehalt_Brutto","Bundesland_Arbeitsort","Bundesland_Wohnort","KV-Art","SozV-Pflicht","Steuerklasse","Kirchensteuer","Tarifierungsgruppe","Geburtsdatum_des_Ehepartners","Name_des_Ehepartners","Vorname_des_Ehepartners","Titel_des_Ehepartners","Geschlecht_des_Ehepartners","Berechnungsgrundlage_individueller_Beitrag","individueller_AN-Beitrag","individueller_AG-Beitrag","individueller_AN-VL-Beitrag","individueller_AG-VL-Beitrag","Name_Kind1","Vorname_Kind1","Geburtsdatum_Kind1","Geschlecht_Kind1","Name_Kind2","Vorname_Kind2","Geburtsdatum_Kind2","Geschlecht_Kind2","Name_Kind3","Vorname_Kind3","Geburtsdatum_Kind3","Geschlecht_Kind3","Name_Kind4","Vorname_Kind4","Geburtsdatum_Kind4","Geschlecht_Kind4","Name_Kind5","Vorname_Kind5","Geburtsdatum_Kind5","Geschlecht_Kind5","Anzahl_Kinderfreib"]
[null,{"$f":"IF(Eingabe!F5<>\"\",Eingabe!F5,\"\")","v":"Musterperson"},{"$f":"IF(Eingabe!E5<>\"\",Eingabe!E5,\"\")","v":"Maxmilian"},{"$f":"IF(Eingabe!D5<>\"\",Eingabe!D5,\"\")","v":"Dr."},{"$f":"IF(Eingabe!J5<>\"\",Eingabe!J5,\"\")","v":70178},{"$f":"IF(Eingabe!K5<>\"\",Eingabe!K5,\"\")","v":"Stuttgart"},{"$f":"Eingabe!H5&\" \"&Eingabe!I5","v":"Reinsburgstr. 19"},null,{"$f":"IF(Eingabe!B5<>\"\",Eingabe!B5,\"\")","v":1337},{"$f":"IF(Eingabe!G5<>\"\",Eingabe!G5,\"\")","v":"1988-05-23"},{"$f":"IF(Eingabe!C5=\"\",\"\",IF(Eingabe!C5=\"Herr\",\"m\",\"w\"))","v":"m"},{"$f":"IF(Eingabe!R5<>\"\",Eingabe!R5,\"\")","v":"2005-01-01"}]
[null,{"$f":"IF(Eingabe!F6<>\"\",Eingabe!F6,\"\")","v":"Musterfrau"},{"$f":"IF(Eingabe!E6<>\"\",Eingabe!E6,\"\")","v":"Edeltraud"},{"$f":"IF(Eingabe!D6<>\"\",Eingabe!D6,\"\")","v":""},{"$f":"IF(Eingabe!J6<>\"\",Eingabe!J6,\"\")","v":70174},{"$f":"IF(Eingabe!K6<>\"\",Eingabe!K6,\"\")","v":"Stuttgart"},{"$f":"Eingabe!H6&\" \"&Eingabe!I6","v":"Königstr. 113"},null,{"$f":"IF(Eingabe!B6<>\"\",Eingabe!B6,\"\")","v":1338},{"$f":"IF(Eingabe!G6<>\"\",Eingabe!G6,\"\")","v":"1999-02-01"},{"$f":"IF(Eingabe!C6=\"\",\"\",IF(Eingabe!C6=\"Herr\",\"m\",\"w\"))","v":"w"},{"$f":"IF(Eingabe!R6<>\"\",Eingabe!R6,\"\")","v":"2005-01-01"}]
[null,{"$f":"IF(Eingabe!F7<>\"\",Eingabe!F7,\"\")","v":"Muster"},{"$f":"IF(Eingabe!E7<>\"\",Eingabe!E7,\"\")","v":"Friedbert"},{"$f":"IF(Eingabe!D7<>\"\",Eingabe!D7,\"\")","v":""},{"$f":"IF(Eingabe!J7<>\"\",Eingabe!J7,\"\")","v":70178},{"$f":"IF(Eingabe!K7<>\"\",Eingabe!K7,\"\")","v":"Stuttgart"},{"$f":"Eingabe!H7&\" \"&Eingabe!I7","v":"Silberburgstr. 55"},null,{"$f":"IF(Eingabe!B7<>\"\",Eingabe!B7,\"\")","v":1339},{"$f":"IF(Eingabe!G7<>\"\",Eingabe!G7,\"\")","v":"1977-11-11"},{"$f":"IF(Eingabe!C7=\"\",\"\",IF(Eingabe!C7=\"Herr\",\"m\",\"w\"))","v":"m"},{"$f":"IF(Eingabe!R7<>\"\",Eingabe!R7,\"\")","v":""}]
[null,{"$f":"IF(Eingabe!F8<>\"\",Eingabe!F8,\"\")","v":""},{"$f":"IF(Eingabe!E8<>\"\",Eingabe!E8,\"\")","v":""},{"$f":"IF(Eingabe!D8<>\"\",Eingabe!D8,\"\")","v":""},{"$f":"IF(Eingabe!J8<>\"\",Eingabe!J8,\"\")","v":""},{"$f":"IF(Eingabe!K8<>\"\",Eingabe!K8,\"\")","v":""},{"$f":"Eingabe!H8&\" \"&Eingabe!I8","v":" "},null,{"$f":"IF(Eingabe!B8<>\"\",Eingabe!B8,\"\")","v":""},{"$f":"IF(Eingabe!G8<>\"\",Eingabe!G8,\"\")","v":""},{"$f":"IF(Eingabe!C8=\"\",\"\",IF(Eingabe!C8=\"Herr\",\"m\",\"w\"))","v":""},{"$f":"IF(Eingabe!R8<>\"\",Eingabe!R8,\"\")","v":""}]
[null,{"$f":"IF(Eingabe!F9<>\"\",Eingabe!F9,\"\")","v":""},{"$f":"IF(Eingabe!E9<>\"\",Eingabe!E9,\"\")","v":""},{"$f":"IF(Eingabe!D9<>\"\",Eingabe!D9,\"\")","v":""},{"$f":"IF(Eingabe!J9<>\"\",Eingabe!J9,\"\")","v":""},{"$f":"IF(Eingabe!K9<>\"\",Eingabe!K9,\"\")","v":""},{"$f":"Eingabe!H9&\" \"&Eingabe!I9","v":" "},null,{"$f":"IF(Eingabe!B9<>\"\",Eingabe!B9,\"\")","v":""},{"$f":"IF(Eingabe!G9<>\"\",Eingabe!G9,\"\")","v":""},{"$f":"IF(Eingabe!C9=\"\",\"\",IF(Eingabe!C9=\"Herr\",\"m\",\"w\"))","v":""},{"$f":"IF(Eingabe!R9<>\"\",Eingabe!R9,\"\")","v":""}]
[null,{"$f":"IF(Eingabe!F10<>\"\",Eingabe!F10,\"\")","v":""},{"$f":"IF(Eingabe!E10<>\"\",Eingabe!E10,\"\")","v":""},{"$f":"IF(Eingabe!D10<>\"\",Eingabe!D10,\"\")","v":""},{"$f":"IF(Eingabe!J10<>\"\",Eingabe!J10,\"\")","v":""},{"$f":"IF(Eingabe!K10<>\"\",Eingabe!K10,\"\")","v":""},{"$f":"Eingabe!H10&\" \"&Eingabe!I10","v":" "},null,{"$f":"IF(Eingabe!B10<>\"\",Eingabe!B10,\"\")","v":""},{"$f":"IF(Eingabe!G10<>\"\",Eingabe!G10,\"\")","v":""},{"$f":"IF(Eingabe!C10=\"\",\"\",IF(Eingabe!C10=\"Herr\",\"m\",\"w\"))","v":""},{"$f":"IF(Eingabe!R10<>\"\",Eingabe!R10,\"\")","v":""}]
[null,{"$f":"IF(Eingabe!F11<>\"\",Eingabe!F11,\"\")","v":""},{"$f":"IF(Eingabe!E11<>\"\",Eingabe!E11,\"\")","v":""},{"$f":"IF(Eingabe!D11<>\"\",Eingabe!D11,\"\")","v":""},{"$f":"IF(Eingabe!J11<>\"\",Eingabe!J11,\"\")","v":""},{"$f":"IF(Eingabe!K11<>\"\",Eingabe!K11,\"\")","v":""},{"$f":"Eingabe!H11&\" \"&Eingabe!I11","v":" "},null,{"$f":"IF(Eingabe!B11<>\"\",Eingabe!B11,\"\")","v":""},{"$f":"IF(Eingabe!G11<>\"\",Eingabe!G11,\"\")","v":""},{"$f":"IF(Eingabe!C11=\"\",\"\",IF(Eingabe!C11=\"Herr\",\"m\",\"w\"))","v":""},{"$f":"IF(Eingabe!R11<>\"\",Eingabe!R11,\"\")","v":""}]
[null,{"$f":"IF(Eingabe!F12<>\"\",Eingabe!F12,\"\")","v":""},{"$f":"IF(Eingabe!E12<>\"\",Eingabe!E12,\"\")","v":""},{"$f":"IF(Eingabe!D12<>\"\",Eingabe!D12,\"\")","v":""},{"$f":"IF(Eingabe!J12<>\"\",Eingabe!J12,\"\")","v":""},{"$f":"IF(Eingabe!K12<>\"\",Eingabe!K12,\"\")","v":""},{"$f":"Eingabe!H12&\" \"&Eingabe!I12","v":" "},null,{"$f":"IF(Eingabe!B12<>\"\",Eingabe!B12,\"\")","v":""},{"$f":"IF(Eingabe!G12<>\"\",Eingabe!G12,\"\")","v":""},{"$f":"IF(Eingabe!C12=\"\",\"\",IF(Eingabe!C12=\"Herr\",\"m\",\"w\"))","v":""},{"$f":"IF(Eingabe!R12<>\"\",Eingabe!R12,\"\")","v":""}]
[null,{"$f":"IF(Eingabe!F13<>\"\",Eingabe!F13,\"\")","v":""},{"$f":"IF(Eingabe!E13<>\"\",Eingabe!E13,\"\")","v":""},{"$f":"IF(Eingabe!D13<>\"\",Eingabe!D13,\"\")","v":""},{"$f":"IF(Eingabe!J13<>\"\",Eingabe!J13,\"\")","v":""},{"$f":"IF(Eingabe!K13<>\"\",Eingabe!K13,\"\")","v":""},{"$f":"Eingabe!H13&\" \"&Eingabe!I13","v":" "},null,{"$f":"IF(Eingabe!B13<>\"\",Eingabe!B13,\"\")","v":""},{"$f":"IF(Eingabe!G13<>\"\",Eingabe!G13,\"\")","v":""},{"$f":"IF(Eingabe!C13=\"\",\"\",IF(Eingabe!C13=\"Herr\",\"m\",\"w\"))","v":""},{"$f":"IF(Eingabe!R13<>\"\",Eingabe!R13,\"\")","v":""}]
[null,{"$f":"IF(Eingabe!F14<>\"\",Eingabe!F14,\"\")","v":""},{"$f":"IF(Eingabe!E14<>\"\",Eingabe!E14,\"\")","v":""},{"$f":"IF(Eingabe!D14<>\"\",Eingabe!D14,\"\")","v":""},{"$f":"IF(Eingabe!J14<>\"\",Eingabe!J14,\"\")","v":""},{"$f":"IF(Eingabe!K14<>\"\",Eingabe!K14,\"\")","v":""},{"$f":"Eingabe!H14&\" \"&Eingabe!I14","v":" "},null,{"$f":"IF(Eingabe!B14<>\"\",Eingabe!B14,\"\")","v":""},{"$f":"IF(Eingabe!G14<>\"\",Eingabe!G14,\"\")","v":""},{"$f":"IF(Eingabe!C14=\"\",\"\",IF(Eingabe!C14=\"Herr\",\"m\",\"w\"))","v":""},{"$f":"IF(Eingabe!R14<>\"\",Eingabe!R14,\"\")","v":""}]
[null,{"$f":"IF(Eingabe!F15<>\"\",Eingabe!F15,\"\")","v":""},{"$f":"IF(Eingabe!E15<>\"\",Eingabe!E15,\"\")","v":""},{"$f":"IF(Eingabe!D15<>\"\",Eingabe!D15,\"\")","v":""},{"$f":"IF(Eingabe!J15<>\"\",Eingabe!J15,\"\")","v":""},{"$f":"IF(Eingabe!K15<>\"\",Eingabe!K15,\"\")","v":""},{"$f":"Eingabe!H15&\" \"&Eingabe!I15","v":" "},null,{"$f":"IF(Eingabe!B15<>\"\",Eingabe!B15,\"\")","v":""},{"$f":"IF(Eingabe!G15<>\"\",Eingabe!G15,\"\")","v":""},{"$f":"IF(Eingabe!C15=\"\",\"\",IF(Eingabe!C15=\"Herr\",\"m\",\"w\"))","v":""},{"$f":"IF(Eingabe!R15<>\"\",Eingabe!R15,\"\")","v":""}]
[null,{"$f":"IF(Eingabe!F16<>\"\",Eingabe!F16,\"\")","v":""},{"$f":"IF(Eingabe!E16<>\"\",Eingabe!E16,\"\")","v":""},{"$f":"IF(Eingabe!D16<>\"\",Eingabe!D16,\"\")","v":""},{"$f":"IF(Eingabe!J16<>\"\",Eingabe!J16,\"\")","v":""},{"$f":"IF(Eingabe!K16<>\"\",Eingabe!K16,\"\")","v":""},{"$f":"Eingabe!H16&\" \"&Eingabe!I16","v":" "},null,{"$f":"IF(Eingabe!B16<>\"\",Eingabe!B16,\"\")","v":""},{"$f":"IF(Eingabe!G16<>\"\",Eingabe!G16,\"\")","v":""},{"$f":"IF(Eingabe!C16=\"\",\"\",IF(Eingabe!C16=\"Herr\",\"m\",\"w\"))","v":""},{"$f":"IF(Eingabe!R16<>\"\",Eingabe!R16,\"\")","v":""}]
[null,{"$f":"IF(Eingabe!F17<>\"\",Eingabe!F17,\"\")","v":""},{"$f":"IF(Eingabe!E17<>\"\",Eingabe!E17,\"\")","v":""},{"$f":"IF(Eingabe!D17<>\"\",Eingabe!D17,\"\")","v":""},{"$f":"IF(Eingabe!J17<>\"\",Eingabe!J17,\"\")","v":""},{"$f":"IF(Eingabe!K17<>\"\",Eingabe!K17,\"\")","v":""},{"$f":"Eingabe!H17&\" \"&Eingabe!I17","v":" "},null,{"$f":"IF(Eingabe!B17<>\"\",Eingabe!B17,\"\")","v":""},{"$f":"IF(Eingabe!G17<>\"\",Eingabe!G17,\"\")","v":""},{"$f":"IF(Eingabe!C17=\"\",\"\",IF(Eingabe!C17=\"Herr\",\"m\",\"w\"))","v":""},{"$f":"IF(Eingabe!R17<>\"\",Eingabe!R17,\"\")","v":""}]
[null,{"$f":"IF(Eingabe!F18<>\"\",Eingabe!F18,\"\")","v":""},{"$f":"IF(Eingabe!E18<>\"\",Eingabe!E18,\"\")","v":""},{"$f":"IF(Eingabe!D18<>\"\",Eingabe!D18,\"\")","v":""},{"$f":"IF(Eingabe!J18<>\"\",Eingabe!J18,\"\")","v":""},{"$f":"IF(Eingabe!K18<>\"\",Eingabe!K18,\"\")","v":""},{"$f":"Eingabe!H18&\" \"&Eingabe!I18","v":" "},null,{"$f":"IF(Eingabe!B18<>\"\",Eingabe!B18,\"\")","v":""},{"$f":"IF(Eingabe!G18<>\"\",Eingabe!G18,\"\")","v":""},{"$f":"IF(Eingabe!C18=\"\",\"\",IF(Eingabe!C18=\"Herr\",\"m\",\"w\"))","v":""},{"$f":"IF(Eingabe!R18<>\"\",Eingabe!R18,\"\")","v":""}]
[null,{"$f":"IF(Eingabe!F19<>\"\",Eingabe!F19,\"\")","v":""},{"$f":"IF(Eingabe!E19<>\"\",Eingabe!E19,\"\")","v":""},{"$f":"IF(Eingabe!D19<>\"\",Eingabe!D19,\"\")","v":""},{"$f":"IF(Eingabe!J19<>\"\",Eingabe!J19,\"\")","v":""},{"$f":"IF(Eingabe!K19<>\"\",Eingabe!K19,\"\")","v":""},{"$f":"Eingabe!H19&\" \"&Eingabe!I19","v":" "},null,{"$f":"IF(Eingabe!B19<>\"\",Eingabe!B19,\"\")","v":""},{"$f":"IF(Eingabe!G19<>\"\",Eingabe!G19,\"\")","v":""},{"$f":"IF(Eingabe!C19=\"\",\"\",IF(Eingabe!C19=\"Herr\",\"m\",\"w\"))","v":""},{"$f":"IF(Eingabe!R19<>\"\",Eingabe!R19,\"\")","v":""}]
[null,{"$f":"IF(Eingabe!F20<>\"\",Eingabe!F20,\"\")","v":""},{"$f":"IF(Eingabe!E20<>\"\",Eingabe!E20,\"\")","v":""},{"$f":"IF(Eingabe!D20<>\"\",Eingabe!D20,\"\")","v":""},{"$f":"IF(Eingabe!J20<>\"\",Eingabe!J20,\"\")","v":""},{"$f":"IF(Eingabe!K20<>\"\",Eingabe!K20,\"\")","v":""},{"$f":"Eingabe!H20&\" \"&Eingabe!I20","v":" "},null,{"$f":"IF(Eingabe!B20<>\"\",Eingabe!B20,\"\")","v":""},{"$f":"IF(Eingabe!G20<>\"\",Eingabe!G20,\"\")","v":""},{"$f":"IF(Eingabe!C20=\"\",\"\",IF(Eingabe!C20=\"Herr\",\"m\",\"w\"))","v":""},{"$f":"IF(Eingabe!R20<>\"\",Eingabe!R20,\"\")","v":""}]
[null,{"$f":"IF(Eingabe!F21<>\"\",Eingabe!F21,\"\")","v":""},{"$f":"IF(Eingabe!E21<>\"\",Eingabe!E21,\"\")","v":""},{"$f":"IF(Eingabe!D21<>\"\",Eingabe!D21,\"\")","v":""},{"$f":"IF(Eingabe!J21<>\"\",Eingabe!J21,\"\")","v":""},{"$f":"IF(Eingabe!K21<>\"\",Eingabe!K21,\"\")","v":""},{"$f":"Eingabe!H21&\" \"&Eingabe!I21","v":" "},null,{"$f":"IF(Eingabe!B21<>\"\",Eingabe!B21,\"\")","v":""},{"$f":"IF(Eingabe!G21<>\"\",Eingabe!G21,\"\")","v":""},{"$f":"IF(Eingabe!C21=\"\",\"\",IF(Eingabe!C21=\"Herr\",\"m\",\"w\"))","v":""},{"$f":"IF(Eingabe!R21<>\"\",Eingabe!R21,\"\")","v":""}]
[null,{"$f":"IF(Eingabe!F22<>\"\",Eingabe!F22,\"\")","v":""},{"$f":"IF(Eingabe!E22<>\"\",Eingabe!E22,\"\")","v":""},{"$f":"IF(Eingabe!D22<>\"\",Eingabe!D22,\"\")","v":""},{"$f":"IF(Eingabe!J22<>\"\",Eingabe!J22,\"\")","v":""},{"$f":"IF(Eingabe!K22<>\"\",Eingabe!K22,\"\")","v":""},{"$f":"Eingabe!H22&\" \"&Eingabe!I22","v":" "},null,{"$f":"IF(Eingabe!B22<>\"\",Eingabe!B22,\"\")","v":""},{"$f":"IF(Eingabe!G22<>\"\",Eingabe!G22,\"\")","v":""},{"$f":"IF(Eingabe!C22=\"\",\"\",IF(Eingabe!C22=\"Herr\",\"m\",\"w\"))","v":""},{"$f":"IF(Eingabe!R22<>\"\",Eingabe!R22,\"\")","v":""}]
[null,{"$f":"IF(Eingabe!F23<>\"\",Eingabe!F23,\"\")","v":""},{"$f":"IF(Eingabe!E23<>\"\",Eingabe!E23,\"\")","v":""},{"$f":"IF(Eingabe!D23<>\"\",Eingabe!D23,\"\")","v":""},{"$f":"IF(Eingabe!J23<>\"\",Eingabe!J23,\"\")","v":""},{"$f":"IF(Eingabe!K23<>\"\",Eingabe!K23,\"\")","v":""},{"$f":"Eingabe!H23&\" \"&Eingabe!I23","v":" "},null,{"$f":"IF(Eingabe!B23<>\"\",Eingabe!B23,\"\")","v":""},{"$f":"IF(Eingabe!G23<>\"\",Eingabe!G23,\"\")","v":""},{"$f":"IF(Eingabe!C23=\"\",\"\",IF(Eingabe!C23=\"Herr\",\"m\",\"w\"))","v":""},{"$f":"IF(Eingabe!R23<>\"\",Eingabe!R23,\"\")","v":""}]
[null,{"$f":"IF(Eingabe!F24<>\"\",Eingabe!F24,\"\")","v":""},{"$f":"IF(Eingabe!E24<>\"\",Eingabe!E24,\"\")","v":""},{"$f":"IF(Eingabe!D24<>\"\",Eingabe!D24,\"\")","v":""},{"$f":"IF(Eingabe!J24<>\"\",Eingabe!J24,\"\")","v":""},{"$f":"IF(Eingabe!K24<>\"\",Eingabe!K24,\"\")","v":""},{"$f":"Eingabe!H24&\" \"&Eingabe!I24","v":" "},null,{"$f":"IF(Eingabe!B24<>\"\",Eingabe!B24,\"\")","v":""},{"$f":"IF(Eingabe!G24<>\"\",Eingabe!G24,\"\")","v":""},{"$f":"IF(Eingabe!C24=\"\",\"\",IF(Eingabe!C24=\"Herr\",\"m\",\"w\"))","v":""},{"$f":"IF(Eingabe!R24<>\"\",Eingabe!R24,\"\")","v":""}]
[null,{"$f":"IF(Eingabe!F25<>\"\",Eingabe!F25,\"\")","v":""},{"$f":"IF(Eingabe!E25<>\"\",Eingabe!E25,\"\")","v":""},{"$f":"IF(Eingabe!D25<>\"\",Eingabe!D25,\"\")","v":""},{"$f":"IF(Eingabe!J25<>\"\",Eingabe!J25,\"\")","v":""},{"$f":"IF(Eingabe!K25<>\"\",Eingabe!K25,\"\")","v":""},{"$f":"Eingabe!H25&\" \"&Eingabe!I25","v":" "},null,{"$f":"IF(Eingabe!B25<>\"\",Eingabe!B25,\"\")","v":""},{"$f":"IF(Eingabe!G25<>\"\",Eingabe!G25,\"\")","v":""},{"$f":"IF(Eingabe!C25=\"\",\"\",IF(Eingabe!C25=\"Herr\",\"m\",\"w\"))","v":""},{"$f":"IF(Eingabe!R25<>\"\",Eingabe!R25,\"\")","v":""}]
[null,{"$f":"IF(Eingabe!F26<>\"\",Eingabe!F26,\"\")","v":""},{"$f":"IF(Eingabe!E26<>\"\",Eingabe!E26,\"\")","v":""},{"$f":"IF(Eingabe!D26<>\"\",Eingabe!D26,\"\")","v":""},{"$f":"IF(Eingabe!J26<>\"\",Eingabe!J26,\"\")","v":""},{"$f":"IF(Eingabe!K26<>\"\",Eingabe!K26,\"\")","v":""},{"$f":"Eingabe!H26&\" \"&Eingabe!I26","v":" "},null,{"$f":"IF(Eingabe!B26<>\"\",Eingabe!B26,\"\")","v":""},{"$f":"IF(Eingabe!G26<>\"\",Eingabe!G26,\"\")","v":""},{"$f":"IF(Eingabe!C26=\"\",\"\",IF(Eingabe!C26=\"Herr\",\"m\",\"w\"))","v":""},{"$f":"IF(Eingabe!R26<>\"\",Eingabe!R26,\"\")","v":""}]
[null,{"$f":"IF(Eingabe!F27<>\"\",Eingabe!F27,\"\")","v":""},{"$f":"IF(Eingabe!E27<>\"\",Eingabe!E27,\"\")","v":""},{"$f":"IF(Eingabe!D27<>\"\",Eingabe!D27,\"\")","v":""},{"$f":"IF(Eingabe!J27<>\"\",Eingabe!J27,\"\")","v":""},{"$f":"IF(Eingabe!K27<>\"\",Eingabe!K27,\"\")","v":""},{"$f":"Eingabe!H27&\" \"&Eingabe!I27","v":" "},null,{"$f":"IF(Eingabe!B27<>\"\",Eingabe!B27,\"\")","v":""},{"$f":"IF(Eingabe!G27<>\"\",Eingabe!G27,\"\")","v":""},{"$f":"IF(Eingabe!C27=\"\",\"\",IF(Eingabe!C27=\"Herr\",\"m\",\"w\"))","v":""},{"$f":"IF(Eingabe!R27<>\"\",Eingabe!R27,\"\")","v":""}]
[null,{"$f":"IF(Eingabe!F28<>\"\",Eingabe!F28,\"\")","v":""},{"$f":"IF(Eingabe!E28<>\"\",Eingabe!E28,\"\")","v":""},{"$f":"IF(Eingabe!D28<>\"\",Eingabe!D28,\"\")","v":""},{"$f":"IF(Eingabe!J28<>\"\",Eingabe!J28,\"\")","v":""},{"$f":"IF(Eingabe!K28<>\"\",Eingabe!K28,\"\")","v":""},{"$f":"Eingabe!H28&\" \"&Eingabe!I28","v":" "},null,{"$f":"IF(Eingabe!B28<>\"\",Eingabe!B28,\"\")","v":""},{"$f":"IF(Eingabe!G28<>\"\",Eingabe!G28,\"\")","v":""},{"$f":"IF(Eingabe!C28=\"\",\"\",IF(Eingabe!C28=\"Herr\",\"m\",\"w\"))","v":""},{"$f":"IF(Eingabe!R28<>\"\",Eingabe!R28,\"\")","v":""}]
[null,{"$f":"IF(Eingabe!F29<>\"\",Eingabe!F29,\"\")","v":""},{"$f":"IF(Eingabe!E29<>\"\",Eingabe!E29,\"\")","v":""},{"$f":"IF(Eingabe!D29<>\"\",Eingabe!D29,\"\")","v":""},{"$f":"IF(Eingabe!J29<>\"\",Eingabe!J29,\"\")","v":""},{"$f":"IF(Eingabe!K29<>\"\",Eingabe!K29,\"\")","v":""},{"$f":"Eingabe!H29&\" \"&Eingabe!I29","v":" "},null,{"$f":"IF(Eingabe!B29<>\"\",Eingabe!B29,\"\")","v":""},{"$f":"IF(Eingabe!G29<>\"\",Eingabe!G29,\"\")","v":""},{"$f":"IF(Eingabe!C29=\"\",\"\",IF(Eingabe!C29=\"Herr\",\"m\",\"w\"))","v":""},{"$f":"IF(Eingabe!R29<>\"\",Eingabe!R29,\"\")","v":""}]
[null,{"$f":"IF(Eingabe!F30<>\"\",Eingabe!F30,\"\")","v":""},{"$f":"IF(Eingabe!E30<>\"\",Eingabe!E30,\"\")","v":""},{"$f":"IF(Eingabe!D30<>\"\",Eingabe!D30,\"\")","v":""},{"$f":"IF(Eingabe!J30<>\"\",Eingabe!J30,\"\")","v":""},{"$f":"IF(Eingabe!K30<>\"\",Eingabe!K30,\"\")","v":""},{"$f":"Eingabe!H30&\" \"&Eingabe!I30","v":" "},null,{"$f":"IF(Eingabe!B30<>\"\",Eingabe!B30,\"\")","v":""},{"$f":"IF(Eingabe!G30<>\"\",Eingabe!G30,\"\")","v":""},{"$f":"IF(Eingabe!C30=\"\",\"\",IF(Eingabe!C30=\"Herr\",\"m\",\"w\"))","v":""},{"$f":"IF(Eingabe!R30<>\"\",Eingabe!R30,\"\")","v":""}]
[null,{"$f":"IF(Eingabe!F31<>\"\",Eingabe!F31,\"\")","v":""},{"$f":"IF(Eingabe!E31<>\"\",Eingabe!E31,\"\")","v":""},{"$f":"IF(Eingabe!D31<>\"\",Eingabe!D31,\"\")","v":""},{"$f":"IF(Eingabe!J31<>\"\",Eingabe!J31,\"\")","v":""},{"$f":"IF(Eingabe!K31<>\"\",Eingabe!K31,\"\")","v":""},{"$f":"Eingabe!H31&\" \"&Eingabe!I31","v":" "},null,{"$f":"IF(Eingabe!B31<>\"\",Eingabe!B31,\"\")","v":""},{"$f":"IF(Eingabe!G31<>\"\",Eingabe!G31,\"\")","v":""},{"$f":"IF(Eingabe!C31=\"\",\"\",IF(Eingabe!C31=\"Herr\",\"m\",\"w\"))","v":""},{"$f":"IF(Eingabe!R31<>\"\",Eingabe!R31,\"\")","v":""}]
[null,{"$f":"IF(Eingabe!F32<>\"\",Eingabe!F32,\"\")","v":""},{"$f":"IF(Eingabe!E32<>\"\",Eingabe!E32,\"\")","v":""},{"$f":"IF(Eingabe!D32<>\"\",Eingabe!D32,\"\")","v":""},{"$f":"IF(Eingabe!J32<>\"\",Eingabe!J32,\"\")","v":""},{"$f":"IF(Eingabe!K32<>\"\",Eingabe!K32,\"\")","v":""},{"$f":"Eingabe!H32&\" \"&Eingabe!I32","v":" "},null,{"$f":"IF(Eingabe!B32<>\"\",Eingabe!B32,\"\")","v":""},{"$f":"IF(Eingabe!G32<>\"\",Eingabe!G32,\"\")","v":""},{"$f":"IF(Eingabe!C32=\"\",\"\",IF(Eingabe!C32=\"Herr\",\"m\",\"w\"))","v":""},{"$f":"IF(Eingabe!R32<>\"\",Eingabe!R32,\"\")","v":""}]
[null,{"$f":"IF(Eingabe!F33<>\"\",Eingabe!F33,\"\")","v":""},{"$f":"IF(Eingabe!E33<>\"\",Eingabe!E33,\"\")","v":""},{"$f":"IF(Eingabe!D33<>\"\",Eingabe!D33,\"\")","v":""},{"$f":"IF(Eingabe!J33<>\"\",Eingabe!J33,\"\")","v":""},{"$f":"IF(Eingabe!K33<>\"\",Eingabe!K33,\"\")","v":""},{"$f":"Eingabe!H33&\" \"&Eingabe!I33","v":" "},null,{"$f":"IF(Eingabe!B33<>\"\",Eingabe!B33,\"\")","v":""},{"$f":"IF(Eingabe!G33<>\"\",Eingabe!G33,\"\")","v":""},{"$f":"IF(Eingabe!C33=\"\",\"\",IF(Eingabe!C33=\"Herr\",\"m\",\"w\"))","v":""},{"$f":"IF(Eingabe!R33<>\"\",Eingabe!R33,\"\")","v":""}]
[null,{"$f":"IF(Eingabe!F34<>\"\",Eingabe!F34,\"\")","v":""},{"$f":"IF(Eingabe!E34<>\"\",Eingabe!E34,\"\")","v":""},{"$f":"IF(Eingabe!D34<>\"\",Eingabe!D34,\"\")","v":""},{"$f":"IF(Eingabe!J34<>\"\",Eingabe!J34,\"\")","v":""},{"$f":"IF(Eingabe!K34<>\"\",Eingabe!K34,\"\")","v":""},{"$f":"Eingabe!H34&\" \"&Eingabe!I34","v":" "},null,{"$f":"IF(Eingabe!B34<>\"\",Eingabe!B34,\"\")","v":""},{"$f":"IF(Eingabe!G34<>\"\",Eingabe!G34,\"\")","v":""},{"$f":"IF(Eingabe!C34=\"\",\"\",IF(Eingabe!C34=\"Herr\",\"m\",\"w\"))","v":""},{"$f":"IF(Eingabe!R34<>\"\",Eingabe!R34,\"\")","v":""}]
[null,{"$f":"IF(Eingabe!F35<>\"\",Eingabe!F35,\"\")","v":""},{"$f":"IF(Eingabe!E35<>\"\",Eingabe!E35,\"\")","v":""},{"$f":"IF(Eingabe!D35<>\"\",Eingabe!D35,\"\")","v":""},{"$f":"IF(Eingabe!J35<>\"\",Eingabe!J35,\"\")","v":""},{"$f":"IF(Eingabe!K35<>\"\",Eingabe!K35,\"\")","v":""},{"$f":"Eingabe!H35&\" \"&Eingabe!I35","v":" "},null,{"$f":"IF(Eingabe!B35<>\"\",Eingabe!B35,\"\")","v":""},{"$f":"IF(Eingabe!G35<>\"\",Eingabe!G35,\"\")","v":""},{"$f":"IF(Eingabe!C35=\"\",\"\",IF(Eingabe!C35=\"Herr\",\"m\",\"w\"))","v":""},{"$f":"IF(Eingabe!R35<>\"\",Eingabe!R35,\"\")","v":""}]
[null,{"$f":"IF(Eingabe!F36<>\"\",Eingabe!F36,\"\")","v":""},{"$f":"IF(Eingabe!E36<>\"\",Eingabe!E36,\"\")","v":""},{"$f":"IF(Eingabe!D36<>\"\",Eingabe!D36,\"\")","v":""},{"$f":"IF(Eingabe!J36<>\"\",Eingabe!J36,\"\")","v":""},{"$f":"IF(Eingabe!K36<>\"\",Eingabe!K36,\"\")","v":""},{"$f":"Eingabe!H36&\" \"&Eingabe!I36","v":" "},null,{"$f":"IF(Eingabe!B36<>\"\",Eingabe!B36,\"\")","v":""},{"$f":"IF(Eingabe!G36<>\"\",Eingabe!G36,\"\")","v":""},{"$f":"IF(Eingabe!C36=\"\",\"\",IF(Eingabe!C36=\"Herr\",\"m\",\"w\"))","v":""},{"$f":"IF(Eingabe!R36<>\"\",Eingabe!R36,\"\")","v":""}]
[null,{"$f":"IF(Eingabe!F37<>\"\",Eingabe!F37,\"\")","v":""},{"$f":"IF(Eingabe!E37<>\"\",Eingabe!E37,\"\")","v":""},{"$f":"IF(Eingabe!D37<>\"\",Eingabe!D37,\"\")","v":""},{"$f":"IF(Eingabe!J37<>\"\",Eingabe!J37,\"\")","v":""},{"$f":"IF(Eingabe!K37<>\"\",Eingabe!K37,\"\")","v":""},{"$f":"Eingabe!H37&\" \"&Eingabe!I37","v":" "},null,{"$f":"IF(Eingabe!B37<>\"\",Eingabe!B37,\"\")","v":""},{"$f":"IF(Eingabe!G37<>\"\",Eingabe!G37,\"\")","v":""},{"$f":"IF(Eingabe!C37=\"\",\"\",IF(Eingabe!C37=\"Herr\",\"m\",\"w\"))","v":""},{"$f":"IF(Eingabe!R37<>\"\",Eingabe!R37,\"\")","v":""}]
[null,{"$f":"IF(Eingabe!F38<>\"\",Eingabe!F38,\"\")","v":""},{"$f":"IF(Eingabe!E38<>\"\",Eingabe!E38,\"\")","v":""},{"$f":"IF(Eingabe!D38<>\"\",Eingabe!D38,\"\")","v":""},{"$f":"IF(Eingabe!J38<>\"\",Eingabe!J38,\"\")","v":""},{"$f":"IF(Eingabe!K38<>\"\",Eingabe!K38,\"\")","v":""},{"$f":"Eingabe!H38&\" \"&Eingabe!I38","v":" "},null,{"$f":"IF(Eingabe!B38<>\"\",Eingabe!B38,\"\")","v":""},{"$f":"IF(Eingabe!G38<>\"\",Eingabe!G38,\"\")","v":""},{"$f":"IF(Eingabe!C38=\"\",\"\",IF(Eingabe!C38=\"Herr\",\"m\",\"w\"))","v":""},{"$f":"IF(Eingabe!R38<>\"\",Eingabe!R38,\"\")","v":""}]
[null,{"$f":"IF(Eingabe!F39<>\"\",Eingabe!F39,\"\")","v":""},{"$f":"IF(Eingabe!E39<>\"\",Eingabe!E39,\"\")","v":""},{"$f":"IF(Eingabe!D39<>\"\",Eingabe!D39,\"\")","v":""},{"$f":"IF(Eingabe!J39<>\"\",Eingabe!J39,\"\")","v":""},{"$f":"IF(Eingabe!K39<>\"\",Eingabe!K39,\"\")","v":""},{"$f":"Eingabe!H39&\" \"&Eingabe!I39","v":" "},null,{"$f":"IF(Eingabe!B39<>\"\",Eingabe!B39,\"\")","v":""},{"$f":"IF(Eingabe!G39<>\"\",Eingabe!G39,\"\")","v":""},{"$f":"IF(Eingabe!C39=\"\",\"\",IF(Eingabe!C39=\"Herr\",\"m\",\"w\"))","v":""},{"$f":"IF(Eingabe!R39<>\"\",Eingabe!R39,\"\")","v":""}]
[null,{"$f":"IF(Eingabe!F40<>\"\",Eingabe!F40,\"\")","v":""},{"$f":"IF(Eingabe!E40<>\"\",Eingabe!E40,\"\")","v":""},{"$f":"IF(Eingabe!D40<>\"\",Eingabe!D40,\"\")","v":""},{"$f":"IF(Eingabe!J40<>\"\",Eingabe!J40,\"\")","v":""},{"$f":"IF(Eingabe!K40<>\"\",Eingabe!K40,\"\")","v":""},{"$f":"Eingabe!H40&\" \"&Eingabe!I40","v":" "},null,{"$f":"IF(Eingabe!B40<>\"\",Eingabe!B40,\"\")","v":""},{"$f":"IF(Eingabe!G40<>\"\",Eingabe!G40,\"\")","v":""},{"$f":"IF(Eingabe!C40=\"\",\"\",IF(Eingabe!C40=\"Herr\",\"m\",\"w\"))","v":""},{"$f":"IF(Eingabe!R40<>\"\",Eingabe!R40,\"\")","v":""}]
[null,{"$f":"IF(Eingabe!F41<>\"\",Eingabe!F41,\"\")","v":""},{"$f":"IF(Eingabe!E41<>\"\",Eingabe!E41,\"\")","v":""},{"$f":"IF(Eingabe!D41<>\"\",Eingabe!D41,\"\")","v":""},{"$f":"IF(Eingabe!J41<>\"\",Eingabe!J41,\"\")","v":""},{"$f":"IF(Eingabe!K41<>\"\",Eingabe!K41,\"\")","v":""},{"$f":"Eingabe!H41&\" \"&Eingabe!I41","v":" "},null,{"$f":"IF(Eingabe!B41<>\"\",Eingabe!B41,\"\")","v":""},{"$f":"IF(Eingabe!G41<>\"\",Eingabe!G41,\"\")","v":""},{"$f":"IF(Eingabe!C41=\"\",\"\",IF(Eingabe!C41=\"Herr\",\"m\",\"w\"))","v":""},{"$f":"IF(Eingabe!R41<>\"\",Eingabe!R41,\"\")","v":""}]
[null,{"$f":"IF(Eingabe!F42<>\"\",Eingabe!F42,\"\")","v":""},{"$f":"IF(Eingabe!E42<>\"\",Eingabe!E42,\"\")","v":""},{"$f":"IF(Eingabe!D42<>\"\",Eingabe!D42,\"\")","v":""},{"$f":"IF(Eingabe!J42<>\"\",Eingabe!J42,\"\")","v":""},{"$f":"IF(Eingabe!K42<>\"\",Eingabe!K42,\"\")","v":""},{"$f":"Eingabe!H42&\" \"&Eingabe!I42","v":" "},null,{"$f":"IF(Eingabe!B42<>\"\",Eingabe!B42,\"\")","v":""},{"$f":"IF(Eingabe!G42<>\"\",Eingabe!G42,\"\")","v":""},{"$f":"IF(Eingabe!C42=\"\",\"\",IF(Eingabe!C42=\"Herr\",\"m\",\"w\"))","v":""},{"$f":"IF(Eingabe!R42<>\"\",Eingabe!R42,\"\")","v":""}]
[null,{"$f":"IF(Eingabe!F43<>\"\",Eingabe!F43,\"\")","v":""},{"$f":"IF(Eingabe!E43<>\"\",Eingabe!E43,\"\")","v":""},{"$f":"IF(Eingabe!D43<>\"\",Eingabe!D43,\"\")","v":""},{"$f":"IF(Eingabe!J43<>\"\",Eingabe!J43,\"\")","v":""},{"$f":"IF(Eingabe!K43<>\"\",Eingabe!K43,\"\")","v":""},{"$f":"Eingabe!H43&\" \"&Eingabe!I43","v":" "},null,{"$f":"IF(Eingabe!B43<>\"\",Eingabe!B43,\"\")","v":""},{"$f":"IF(Eingabe!G43<>\"\",Eingabe!G43,\"\")","v":""},{"$f":"IF(Eingabe!C43=\"\",\"\",IF(Eingabe!C43=\"Herr\",\"m\",\"w\"))","v":""},{"$f":"IF(Eingabe!R43<>\"\",Eingabe!R43,\"\")","v":""}]
[null,{"$f":"IF(Eingabe!F44<>\"\",Eingabe!F44,\"\")","v":""},{"$f":"IF(Eingabe!E44<>\"\",Eingabe!E44,\"\")","v":""},{"$f":"IF(Eingabe!D44<>\"\",Eingabe!D44,\"\")","v":""},{"$f":"IF(Eingabe!J44<>\"\",Eingabe!J44,\"\")","v":""},{"$f":"IF(Eingabe!K44<>\"\",Eingabe!K44,\"\")","v":""},{"$f":"Eingabe!H44&\" \"&Eingabe!I44","v":" "},null,{"$f":"IF(Eingabe!B44<>\"\",Eingabe!B44,\"\")","v":""},{"$f":"IF(Eingabe!G44<>\"\",Eingabe!G44,\"\")","v":""},{"$f":"IF(Eingabe!C44=\"\",\"\",IF(Eingabe!C44=\"Herr\",\"m\",\"w\"))","v":""},{"$f":"IF(Eingabe!R44<>\"\",Eingabe!R44,\"\")","v":""}]
[null,{"$f":"IF(Eingabe!F45<>\"\",Eingabe!F45,\"\")","v":""},{"$f":"IF(Eingabe!E45<>\"\",Eingabe!E45,\"\")","v":""},{"$f":"IF(Eingabe!D45<>\"\",Eingabe!D45,\"\")","v":""},{"$f":"IF(Eingabe!J45<>\"\",Eingabe!J45,\"\")","v":""},{"$f":"IF(Eingabe!K45<>\"\",Eingabe!K45,\"\")","v":""},{"$f":"Eingabe!H45&\" \"&Eingabe!I45","v":" "},null,{"$f":"IF(Eingabe!B45<>\"\",Eingabe!B45,\"\")","v":""},{"$f":"IF(Eingabe!G45<>\"\",Eingabe!G45,\"\")","v":""},{"$f":"IF(Eingabe!C45=\"\",\"\",IF(Eingabe!C45=\"Herr\",\"m\",\"w\"))","v":""},{"$f":"IF(Eingabe!R45<>\"\",Eingabe!R45,\"\")","v":""}]
[null,{"$f":"IF(Eingabe!F46<>\"\",Eingabe!F46,\"\")","v":""},{"$f":"IF(Eingabe!E46<>\"\",Eingabe!E46,\"\")","v":""},{"$f":"IF(Eingabe!D46<>\"\",Eingabe!D46,\"\")","v":""},{"$f":"IF(Eingabe!J46<>\"\",Eingabe!J46,\"\")","v":""},{"$f":"IF(Eingabe!K46<>\"\",Eingabe!K46,\"\")","v":""},{"$f":"Eingabe!H46&\" \"&Eingabe!I46","v":" "},null,{"$f":"IF(Eingabe!B46<>\"\",Eingabe!B46,\"\")","v":""},{"$f":"IF(Eingabe!G46<>\"\",Eingabe!G46,\"\")","v":""},{"$f":"IF(Eingabe!C46=\"\",\"\",IF(Eingabe!C46=\"Herr\",\"m\",\"w\"))","v":""},{"$f":"IF(Eingabe!R46<>\"\",Eingabe!R46,\"\")","v":""}]
[null,{"$f":"IF(Eingabe!F47<>\"\",Eingabe!F47,\"\")","v":""},{"$f":"IF(Eingabe!E47<>\"\",Eingabe!E47,\"\")","v":""},{"$f":"IF(Eingabe!D47<>\"\",Eingabe!D47,\"\")","v":""},{"$f":"IF(Eingabe!J47<>\"\",Eingabe!J47,\"\")","v":""},{"$f":"IF(Eingabe!K47<>\"\",Eingabe!K47,\"\")","v":""},{"$f":"Eingabe!H47&\" \"&Eingabe!I47","v":" "},null,{"$f":"IF(Eingabe!B47<>\"\",Eingabe!B47,\"\")","v":""},{"$f":"IF(Eingabe!G47<>\"\",Eingabe!G47,\"\")","v":""},{"$f":"IF(Eingabe!C47=\"\",\"\",IF(Eingabe!C47=\"Herr\",\"m\",\"w\"))","v":""},{"$f":"IF(Eingabe!R47<>\"\",Eingabe!R47,\"\")","v":""}]
[null,{"$f":"IF(Eingabe!F48<>\"\",Eingabe!F48,\"\")","v":""},{"$f":"IF(Eingabe!E48<>\"\",Eingabe!E48,\"\")","v":""},{"$f":"IF(Eingabe!D48<>\"\",Eingabe!D48,\"\")","v":""},{"$f":"IF(Eingabe!J48<>\"\",Eingabe!J48,\"\")","v":""},{"$f":"IF(Eingabe!K48<>\"\",Eingabe!K48,\"\")","v":""},{"$f":"Eingabe!H48&\" \"&Eingabe!I48","v":" "},null,{"$f":"IF(Eingabe!B48<>\"\",Eingabe!B48,\"\")","v":""},{"$f":"IF(Eingabe!G48<>\"\",Eingabe!G48,\"\")","v":""},{"$f":"IF(Eingabe!C48=\"\",\"\",IF(Eingabe!C48=\"Herr\",\"m\",\"w\"))","v":""},{"$f":"IF(Eingabe!R48<>\"\",Eingabe!R48,\"\")","v":""}]
[null,{"$f":"IF(Eingabe!F49<>\"\",Eingabe!F49,\"\")","v":""},{"$f":"IF(Eingabe!E49<>\"\",Eingabe!E49,\"\")","v":""},{"$f":"IF(Eingabe!D49<>\"\",Eingabe!D49,\"\")","v":""},{"$f":"IF(Eingabe!J49<>\"\",Eingabe!J49,\"\")","v":""},{"$f":"IF(Eingabe!K49<>\"\",Eingabe!K49,\"\")","v":""},{"$f":"Eingabe!H49&\" \"&Eingabe!I49","v":" "},null,{"$f":"IF(Eingabe!B49<>\"\",Eingabe!B49,\"\")","v":""},{"$f":"IF(Eingabe!G49<>\"\",Eingabe!G49,\"\")","v":""},{"$f":"IF(Eingabe!C49=\"\",\"\",IF(Eingabe!C49=\"Herr\",\"m\",\"w\"))","v":""},{"$f":"IF(Eingabe!R49<>\"\",Eingabe!R49,\"\")","v":""}]
[null,{"$f":"IF(Eingabe!F50<>\"\",Eingabe!F50,\"\")","v":""},{"$f":"IF(Eingabe!E50<>\"\",Eingabe!E50,\"\")","v":""},{"$f":"IF(Eingabe!D50<>\"\",Eingabe!D50,\"\")","v":""},{"$f":"IF(Eingabe!J50<>\"\",Eingabe!J50,\"\")","v":""},{"$f":"IF(Eingabe!K50<>\"\",Eingabe!K50,\"\")","v":""},{"$f":"Eingabe!H50&\" \"&Eingabe!I50","v":" "},null,{"$f":"IF(Eingabe!B50<>\"\",Eingabe!B50,\"\")","v":""},{"$f":"IF(Eingabe!G50<>\"\",Eingabe!G50,\"\")","v":""},{"$f":"IF(Eingabe!C50=\"\",\"\",IF(Eingabe!C50=\"Herr\",\"m\",\"w\"))","v":""},{"$f":"IF(Eingabe!R50<>\"\",Eingabe!R50,\"\")","v":""}]
[null,{"$f":"IF(Eingabe!F51<>\"\",Eingabe!F51,\"\")","v":""},{"$f":"IF(Eingabe!E51<>\"\",Eingabe!E51,\"\")","v":""},{"$f":"IF(Eingabe!D51<>\"\",Eingabe!D51,\"\")","v":""},{"$f":"IF(Eingabe!J51<>\"\",Eingabe!J51,\"\")","v":""},{"$f":"IF(Eingabe!K51<>\"\",Eingabe!K51,\"\")","v":""},{"$f":"Eingabe!H51&\" \"&Eingabe!I51","v":" "},null,{"$f":"IF(Eingabe!B51<>\"\",Eingabe!B51,\"\")","v":""},{"$f":"IF(Eingabe!G51<>\"\",Eingabe!G51,\"\")","v":""},{"$f":"IF(Eingabe!C51=\"\",\"\",IF(Eingabe!C51=\"Herr\",\"m\",\"w\"))","v":""},{"$f":"IF(Eingabe!R51<>\"\",Eingabe!R51,\"\")","v":""}]
[null,{"$f":"IF(Eingabe!F52<>\"\",Eingabe!F52,\"\")","v":""},{"$f":"IF(Eingabe!E52<>\"\",Eingabe!E52,\"\")","v":""},{"$f":"IF(Eingabe!D52<>\"\",Eingabe!D52,\"\")","v":""},{"$f":"IF(Eingabe!J52<>\"\",Eingabe!J52,\"\")","v":""},{"$f":"IF(Eingabe!K52<>\"\",Eingabe!K52,\"\")","v":""},{"$f":"Eingabe!H52&\" \"&Eingabe!I52","v":" "},null,{"$f":"IF(Eingabe!B52<>\"\",Eingabe!B52,\"\")","v":""},{"$f":"IF(Eingabe!G52<>\"\",Eingabe!G52,\"\")","v":""},{"$f":"IF(Eingabe!C52=\"\",\"\",IF(Eingabe!C52=\"Herr\",\"m\",\"w\"))","v":""},{"$f":"IF(Eingabe!R52<>\"\",Eingabe!R52,\"\")","v":""}]
[null,{"$f":"IF(Eingabe!F53<>\"\",Eingabe!F53,\"\")","v":""},{"$f":"IF(Eingabe!E53<>\"\",Eingabe!E53,\"\")","v":""},{"$f":"IF(Eingabe!D53<>\"\",Eingabe!D53,\"\")","v":""},{"$f":"IF(Eingabe!J53<>\"\",Eingabe!J53,\"\")","v":""},{"$f":"IF(Eingabe!K53<>\"\",Eingabe!K53,\"\")","v":""},{"$f":"Eingabe!H53&\" \"&Eingabe!I53","v":" "},null,{"$f":"IF(Eingabe!B53<>\"\",Eingabe!B53,\"\")","v":""},{"$f":"IF(Eingabe!G53<>\"\",Eingabe!G53,\"\")","v":""},{"$f":"IF(Eingabe!C53=\"\",\"\",IF(Eingabe!C53=\"Herr\",\"m\",\"w\"))","v":""},{"$f":"IF(Eingabe!R53<>\"\",Eingabe!R53,\"\")","v":""}]
[null,{"$f":"IF(Eingabe!F54<>\"\",Eingabe!F54,\"\")","v":""},{"$f":"IF(Eingabe!E54<>\"\",Eingabe!E54,\"\")","v":""},{"$f":"IF(Eingabe!D54<>\"\",Eingabe!D54,\"\")","v":""},{"$f":"IF(Eingabe!J54<>\"\",Eingabe!J54,\"\")","v":""},{"$f":"IF(Eingabe!K54<>\"\",Eingabe!K54,\"\")","v":""},{"$f":"Eingabe!H54&\" \"&Eingabe!I54","v":" "},null,{"$f":"IF(Eingabe!B54<>\"\",Eingabe!B54,\"\")","v":""},{"$f":"IF(Eingabe!G54<>\"\",Eingabe!G54,\"\")","v":""},{"$f":"IF(Eingabe!C54=\"\",\"\",IF(Eingabe!C54=\"Herr\",\"m\",\"w\"))","v":""},{"$f":"IF(Eingabe!R54<>\"\",Eingabe!R54,\"\")","v":""}]
[null,{"$f":"IF(Eingabe!F55<>\"\",Eingabe!F55,\"\")","v":""},{"$f":"IF(Eingabe!E55<>\"\",Eingabe!E55,\"\")","v":""},{"$f":"IF(Eingabe!D55<>\"\",Eingabe!D55,\"\")","v":""},{"$f":"IF(Eingabe!J55<>\"\",Eingabe!J55,\"\")","v":""},{"$f":"IF(Eingabe!K55<>\"\",Eingabe!K55,\"\")","v":""},{"$f":"Eingabe!H55&\" \"&Eingabe!I55","v":" "},null,{"$f":"IF(Eingabe!B55<>\"\",Eingabe!B55,\"\")","v":""},{"$f":"IF(Eingabe!G55<>\"\",Eingabe!G55,\"\")","v":""},{"$f":"IF(Eingabe!C55=\"\",\"\",IF(Eingabe!C55=\"Herr\",\"m\",\"w\"))","v":""},{"$f":"IF(Eingabe!R55<>\"\",Eingabe!R55,\"\")","v":""}]
[null,{"$f":"IF(Eingabe!F56<>\"\",Eingabe!F56,\"\")","v":""},{"$f":"IF(Eingabe!E56<>\"\",Eingabe!E56,\"\")","v":""},{"$f":"IF(Eingabe!D56<>\"\",Eingabe!D56,\"\")","v":""},{"$f":"IF(Eingabe!J56<>\"\",Eingabe!J56,\"\")","v":""},{"$f":"IF(Eingabe!K56<>\"\",Eingabe!K56,\"\")","v":""},{"$f":"Eingabe!H56&\" \"&Eingabe!I56","v":" "},null,{"$f":"IF(Eingabe!B56<>\"\",Eingabe!B56,\"\")","v":""},{"$f":"IF(Eingabe!G56<>\"\",Eingabe!G56,\"\")","v":""},{"$f":"IF(Eingabe!C56=\"\",\"\",IF(Eingabe!C56=\"Herr\",\"m\",\"w\"))","v":""},{"$f":"IF(Eingabe!R56<>\"\",Eingabe!R56,\"\")","v":""}]
[null,{"$f":"IF(Eingabe!F57<>\"\",Eingabe!F57,\"\")","v":""},{"$f":"IF(Eingabe!E57<>\"\",Eingabe!E57,\"\")","v":""},{"$f":"IF(Eingabe!D57<>\"\",Eingabe!D57,\"\")","v":""},{"$f":"IF(Eingabe!J57<>\"\",Eingabe!J57,\"\")","v":""},{"$f":"IF(Eingabe!K57<>\"\",Eingabe!K57,\"\")","v":""},{"$f":"Eingabe!H57&\" \"&Eingabe!I57","v":" "},null,{"$f":"IF(Eingabe!B57<>\"\",Eingabe!B57,\"\")","v":""},{"$f":"IF(Eingabe!G57<>\"\",Eingabe!G57,\"\")","v":""},{"$f":"IF(Eingabe!C57=\"\",\"\",IF(Eingabe!C57=\"Herr\",\"m\",\"w\"))","v":""},{"$f":"IF(Eingabe!R57<>\"\",Eingabe!R57,\"\")","v":""}]
[null,{"$f":"IF(Eingabe!F58<>\"\",Eingabe!F58,\"\")","v":""},{"$f":"IF(Eingabe!E58<>\"\",Eingabe!E58,\"\")","v":""},{"$f":"IF(Eingabe!D58<>\"\",Eingabe!D58,\"\")","v":""},{"$f":"IF(Eingabe!J58<>\"\",Eingabe!J58,\"\")","v":""},{"$f":"IF(Eingabe!K58<>\"\",Eingabe!K58,\"\")","v":""},{"$f":"Eingabe!H58&\" \"&Eingabe!I58","v":" "},null,{"$f":"IF(Eingabe!B58<>\"\",Eingabe!B58,\"\")","v":""},{"$f":"IF(Eingabe!G58<>\"\",Eingabe!G58,\"\")","v":""},{"$f":"IF(Eingabe!C58=\"\",\"\",IF(Eingabe!C58=\"Herr\",\"m\",\"w\"))","v":""},{"$f":"IF(Eingabe!R58<>\"\",Eingabe!R58,\"\")","v":""}]
[null,{"$f":"IF(Eingabe!F59<>\"\",Eingabe!F59,\"\")","v":""},{"$f":"IF(Eingabe!E59<>\"\",Eingabe!E59,\"\")","v":""},{"$f":"IF(Eingabe!D59<>\"\",Eingabe!D59,\"\")","v":""},{"$f":"IF(Eingabe!J59<>\"\",Eingabe!J59,\"\")","v":""},{"$f":"IF(Eingabe!K59<>\"\",Eingabe!K59,\"\")","v":""},{"$f":"Eingabe!H59&\" \"&Eingabe!I59","v":" "},null,{"$f":"IF(Eingabe!B59<>\"\",Eingabe!B59,\"\")","v":""},{"$f":"IF(Eingabe!G59<>\"\",Eingabe!G59,\"\")","v":""},{"$f":"IF(Eingabe!C59=\"\",\"\",IF(Eingabe!C59=\"Herr\",\"m\",\"w\"))","v":""},{"$f":"IF(Eingabe!R59<>\"\",Eingabe!R59,\"\")","v":""}]
[null,{"$f":"IF(Eingabe!F60<>\"\",Eingabe!F60,\"\")","v":""},{"$f":"IF(Eingabe!E60<>\"\",Eingabe!E60,\"\")","v":""},{"$f":"IF(Eingabe!D60<>\"\",Eingabe!D60,\"\")","v":""},{"$f":"IF(Eingabe!J60<>\"\",Eingabe!J60,\"\")","v":""},{"$f":"IF(Eingabe!K60<>\"\",Eingabe!K60,\"\")","v":""},{"$f":"Eingabe!H60&\" \"&Eingabe!I60","v":" "},null,{"$f":"IF(Eingabe!B60<>\"\",Eingabe!B60,\"\")","v":""},{"$f":"IF(Eingabe!G60<>\"\",Eingabe!G60,\"\")","v":""},{"$f":"IF(Eingabe!C60=\"\",\"\",IF(Eingabe!C60=\"Herr\",\"m\",\"w\"))","v":""},{"$f":"IF(Eingabe!R60<>\"\",Eingabe!R60,\"\")","v":""}]
[null,{"$f":"IF(Eingabe!F61<>\"\",Eingabe!F61,\"\")","v":""},{"$f":"IF(Eingabe!E61<>\"\",Eingabe!E61,\"\")","v":""},{"$f":"IF(Eingabe!D61<>\"\",Eingabe!D61,\"\")","v":""},{"$f":"IF(Eingabe!J61<>\"\",Eingabe!J61,\"\")","v":""},{"$f":"IF(Eingabe!K61<>\"\",Eingabe!K61,\"\")","v":""},{"$f":"Eingabe!H61&\" \"&Eingabe!I61","v":" "},null,{"$f":"IF(Eingabe!B61<>\"\",Eingabe!B61,\"\")","v":""},{"$f":"IF(Eingabe!G61<>\"\",Eingabe!G61,\"\")","v":""},{"$f":"IF(Eingabe!C61=\"\",\"\",IF(Eingabe!C61=\"Herr\",\"m\",\"w\"))","v":""},{"$f":"IF(Eingabe!R61<>\"\",Eingabe!R61,\"\")","v":""}]
[null,{"$f":"IF(Eingabe!F62<>\"\",Eingabe!F62,\"\")","v":""},{"$f":"IF(Eingabe!E62<>\"\",Eingabe!E62,\"\")","v":""},{"$f":"IF(Eingabe!D62<>\"\",Eingabe!D62,\"\")","v":""},{"$f":"IF(Eingabe!J62<>\"\",Eingabe!J62,\"\")","v":""},{"$f":"IF(Eingabe!K62<>\"\",Eingabe!K62,\"\")","v":""},{"$f":"Eingabe!H62&\" \"&Eingabe!I62","v":" "},null,{"$f":"IF(Eingabe!B62<>\"\",Eingabe!B62,\"\")","v":""},{"$f":"IF(Eingabe!G62<>\"\",Eingabe!G62,\"\")","v":""},{"$f":"IF(Eingabe!C62=\"\",\"\",IF(Eingabe!C62=\"Herr\",\"m\",\"w\"))","v":""},{"$f":"IF(Eingabe!R62<>\"\",Eingabe!R62,\"\")","v":""}]
[null,{"$f":"IF(Eingabe!F63<>\"\",Eingabe!F63,\"\")","v":""},{"$f":"IF(Eingabe!E63<>\"\",Eingabe!E63,\"\")","v":""},{"$f":"IF(Eingabe!D63<>\"\",Eingabe!D63,\"\")","v":""},{"$f":"IF(Eingabe!J63<>\"\",Eingabe!J63,\"\")","v":""},{"$f":"IF(Eingabe!K63<>\"\",Eingabe!K63,\"\")","v":""},{"$f":"Eingabe!H63&\" \"&Eingabe!I63","v":" "},null,{"$f":"IF(Eingabe!B63<>\"\",Eingabe!B63,\"\")","v":""},{"$f":"IF(Eingabe!G63<>\"\",Eingabe!G63,\"\")","v":""},{"$f":"IF(Eingabe!C63=\"\",\"\",IF(Eingabe!C63=\"Herr\",\"m\",\"w\"))","v":""},{"$f":"IF(Eingabe!R63<>\"\",Eingabe!R63,\"\")","v":""}]
[null,{"$f":"IF(Eingabe!F64<>\"\",Eingabe!F64,\"\")","v":""},{"$f":"IF(Eingabe!E64<>\"\",Eingabe!E64,\"\")","v":""},{"$f":"IF(Eingabe!D64<>\"\",Eingabe!D64,\"\")","v":""},{"$f":"IF(Eingabe!J64<>\"\",Eingabe!J64,\"\")","v":""},{"$f":"IF(Eingabe!K64<>\"\",Eingabe!K64,\"\")","v":""},{"$f":"Eingabe!H64&\" \"&Eingabe!I64","v":" "},null,{"$f":"IF(Eingabe!B64<>\"\",Eingabe!B64,\"\")","v":""},{"$f":"IF(Eingabe!G64<>\"\",Eingabe!G64,\"\")","v":""},{"$f":"IF(Eingabe!C64=\"\",\"\",IF(Eingabe!C64=\"Herr\",\"m\",\"w\"))","v":""},{"$f":"IF(Eingabe!R64<>\"\",Eingabe!R64,\"\")","v":""}]
[null,{"$f":"IF(Eingabe!F65<>\"\",Eingabe!F65,\"\")","v":""},{"$f":"IF(Eingabe!E65<>\"\",Eingabe!E65,\"\")","v":""},{"$f":"IF(Eingabe!D65<>\"\",Eingabe!D65,\"\")","v":""},{"$f":"IF(Eingabe!J65<>\"\",Eingabe!J65,\"\")","v":""},{"$f":"IF(Eingabe!K65<>\"\",Eingabe!K65,\"\")","v":""},{"$f":"Eingabe!H65&\" \"&Eingabe!I65","v":" "},null,{"$f":"IF(Eingabe!B65<>\"\",Eingabe!B65,\"\")","v":""},{"$f":"IF(Eingabe!G65<>\"\",Eingabe!G65,\"\")","v":""},{"$f":"IF(Eingabe!C65=\"\",\"\",IF(Eingabe!C65=\"Herr\",\"m\",\"w\"))","v":""},{"$f":"IF(Eingabe!R65<>\"\",Eingabe!R65,\"\")","v":""}]
[null,{"$f":"IF(Eingabe!F66<>\"\",Eingabe!F66,\"\")","v":""},{"$f":"IF(Eingabe!E66<>\"\",Eingabe!E66,\"\")","v":""},{"$f":"IF(Eingabe!D66<>\"\",Eingabe!D66,\"\")","v":""},{"$f":"IF(Eingabe!J66<>\"\",Eingabe!J66,\"\")","v":""},{"$f":"IF(Eingabe!K66<>\"\",Eingabe!K66,\"\")","v":""},{"$f":"Eingabe!H66&\" \"&Eingabe!I66","v":" "},null,{"$f":"IF(Eingabe!B66<>\"\",Eingabe!B66,\"\")","v":""},{"$f":"IF(Eingabe!G66<>\"\",Eingabe!G66,\"\")","v":""},{"$f":"IF(Eingabe!C66=\"\",\"\",IF(Eingabe!C66=\"Herr\",\"m\",\"w\"))","v":""},{"$f":"IF(Eingabe!R66<>\"\",Eingabe!R66,\"\")","v":""}]
[null,{"$f":"IF(Eingabe!F67<>\"\",Eingabe!F67,\"\")","v":""},{"$f":"IF(Eingabe!E67<>\"\",Eingabe!E67,\"\")","v":""},{"$f":"IF(Eingabe!D67<>\"\",Eingabe!D67,\"\")","v":""},{"$f":"IF(Eingabe!J67<>\"\",Eingabe!J67,\"\")","v":""},{"$f":"IF(Eingabe!K67<>\"\",Eingabe!K67,\"\")","v":""},{"$f":"Eingabe!H67&\" \"&Eingabe!I67","v":" "},null,{"$f":"IF(Eingabe!B67<>\"\",Eingabe!B67,\"\")","v":""},{"$f":"IF(Eingabe!G67<>\"\",Eingabe!G67,\"\")","v":""},{"$f":"IF(Eingabe!C67=\"\",\"\",IF(Eingabe!C67=\"Herr\",\"m\",\"w\"))","v":""},{"$f":"IF(Eingabe!R67<>\"\",Eingabe!R67,\"\")","v":""}]
[null,{"$f":"IF(Eingabe!F68<>\"\",Eingabe!F68,\"\")","v":""},{"$f":"IF(Eingabe!E68<>\"\",Eingabe!E68,\"\")","v":""},{"$f":"IF(Eingabe!D68<>\"\",Eingabe!D68,\"\")","v":""},{"$f":"IF(Eingabe!J68<>\"\",Eingabe!J68,\"\")","v":""},{"$f":"IF(Eingabe!K68<>\"\",Eingabe!K68,\"\")","v":""},{"$f":"Eingabe!H68&\" \"&Eingabe!I68","v":" "},null,{"$f":"IF(Eingabe!B68<>\"\",Eingabe!B68,\"\")","v":""},{"$f":"IF(Eingabe!G68<>\"\",Eingabe!G68,\"\")","v":""},{"$f":"IF(Eingabe!C68=\"\",\"\",IF(Eingabe!C68=\"Herr\",\"m\",\"w\"))","v":""},{"$f":"IF(Eingabe!R68<>\"\",Eingabe!R68,\"\")","v":""}]
[null,{"$f":"IF(Eingabe!F69<>\"\",Eingabe!F69,\"\")","v":""},{"$f":"IF(Eingabe!E69<>\"\",Eingabe!E69,\"\")","v":""},{"$f":"IF(Eingabe!D69<>\"\",Eingabe!D69,\"\")","v":""},{"$f":"IF(Eingabe!J69<>\"\",Eingabe!J69,\"\")","v":""},{"$f":"IF(Eingabe!K69<>\"\",Eingabe!K69,\"\")","v":""},{"$f":"Eingabe!H69&\" \"&Eingabe!I69","v":" "},null,{"$f":"IF(Eingabe!B69<>\"\",Eingabe!B69,\"\")","v":""},{"$f":"IF(Eingabe!G69<>\"\",Eingabe!G69,\"\")","v":""},{"$f":"IF(Eingabe!C69=\"\",\"\",IF(Eingabe!C69=\"Herr\",\"m\",\"w\"))","v":""},{"$f":"IF(Eingabe!R69<>\"\",Eingabe!R69,\"\")","v":""}]
[null,{"$f":"IF(Eingabe!F70<>\"\",Eingabe!F70,\"\")","v":""},{"$f":"IF(Eingabe!E70<>\"\",Eingabe!E70,\"\")","v":""},{"$f":"IF(Eingabe!D70<>\"\",Eingabe!D70,\"\")","v":""},{"$f":"IF(Eingabe!J70<>\"\",Eingabe!J70,\"\")","v":""},{"$f":"IF(Eingabe!K70<>\"\",Eingabe!K70,\"\")","v":""},{"$f":"Eingabe!H70&\" \"&Eingabe!I70","v":" "},null,{"$f":"IF(Eingabe!B70<>\"\",Eingabe!B70,\"\")","v":""},{"$f":"IF(Eingabe!G70<>\"\",Eingabe!G70,\"\")","v":""},{"$f":"IF(Eingabe!C70=\"\",\"\",IF(Eingabe!C70=\"Herr\",\"m\",\"w\"))","v":""},{"$f":"IF(Eingabe!R70<>\"\",Eingabe!R70,\"\")","v":""}]
[null,{"$f":"IF(Eingabe!F71<>\"\",Eingabe!F71,\"\")","v":""},{"$f":"IF(Eingabe!E71<>\"\",Eingabe!E71,\"\")","v":""},{"$f":"IF(Eingabe!D71<>\"\",Eingabe!D71,\"\")","v":""},{"$f":"IF(Eingabe!J71<>\"\",Eingabe!J71,\"\")","v":""},{"$f":"IF(Eingabe!K71<>\"\",Eingabe!K71,\"\")","v":""},{"$f":"Eingabe!H71&\" \"&Eingabe!I71","v":" "},null,{"$f":"IF(Eingabe!B71<>\"\",Eingabe!B71,\"\")","v":""},{"$f":"IF(Eingabe!G71<>\"\",Eingabe!G71,\"\")","v":""},{"$f":"IF(Eingabe!C71=\"\",\"\",IF(Eingabe!C71=\"Herr\",\"m\",\"w\"))","v":""},{"$f":"IF(Eingabe!R71<>\"\",Eingabe!R71,\"\")","v":""}]
[null,{"$f":"IF(Eingabe!F72<>\"\",Eingabe!F72,\"\")","v":""},{"$f":"IF(Eingabe!E72<>\"\",Eingabe!E72,\"\")","v":""},{"$f":"IF(Eingabe!D72<>\"\",Eingabe!D72,\"\")","v":""},{"$f":"IF(Eingabe!J72<>\"\",Eingabe!J72,\"\")","v":""},{"$f":"IF(Eingabe!K72<>\"\",Eingabe!K72,\"\")","v":""},{"$f":"Eingabe!H72&\" \"&Eingabe!I72","v":" "},null,{"$f":"IF(Eingabe!B72<>\"\",Eingabe!B72,\"\")","v":""},{"$f":"IF(Eingabe!G72<>\"\",Eingabe!G72,\"\")","v":""},{"$f":"IF(Eingabe!C72=\"\",\"\",IF(Eingabe!C72=\"Herr\",\"m\",\"w\"))","v":""},{"$f":"IF(Eingabe!R72<>\"\",Eingabe!R72,\"\")","v":""}]
[null,{"$f":"IF(Eingabe!F73<>\"\",Eingabe!F73,\"\")","v":""},{"$f":"IF(Eingabe!E73<>\"\",Eingabe!E73,\"\")","v":""},{"$f":"IF(Eingabe!D73<>\"\",Eingabe!D73,\"\")","v":""},{"$f":"IF(Eingabe!J73<>\"\",Eingabe!J73,\"\")","v":""},{"$f":"IF(Eingabe!K73<>\"\",Eingabe!K73,\"\")","v":""},{"$f":"Eingabe!H73&\" \"&Eingabe!I73","v":" "},null,{"$f":"IF(Eingabe!B73<>\"\",Eingabe!B73,\"\")","v":""},{"$f":"IF(Eingabe!G73<>\"\",Eingabe!G73,\"\")","v":""},{"$f":"IF(Eingabe!C73=\"\",\"\",IF(Eingabe!C73=\"Herr\",\"m\",\"w\"))","v":""},{"$f":"IF(Eingabe!R73<>\"\",Eingabe!R73,\"\")","v":""}]
[null,{"$f":"IF(Eingabe!F74<>\"\",Eingabe!F74,\"\")","v":""},{"$f":"IF(Eingabe!E74<>\"\",Eingabe!E74,\"\")","v":""},{"$f":"IF(Eingabe!D74<>\"\",Eingabe!D74,\"\")","v":""},{"$f":"IF(Eingabe!J74<>\"\",Eingabe!J74,\"\")","v":""},{"$f":"IF(Eingabe!K74<>\"\",Eingabe!K74,\"\")","v":""},{"$f":"Eingabe!H74&\" \"&Eingabe!I74","v":" "},null,{"$f":"IF(Eingabe!B74<>\"\",Eingabe!B74,\"\")","v":""},{"$f":"IF(Eingabe!G74<>\"\",Eingabe!G74,\"\")","v":""},{"$f":"IF(Eingabe!C74=\"\",\"\",IF(Eingabe!C74=\"Herr\",\"m\",\"w\"))","v":""},{"$f":"IF(Eingabe!R74<>\"\",Eingabe!R74,\"\")","v":""}]